Text-WideChar-Util v0.172 Perl 5 v5.41.11 amd64-freebsd

Status
Pass
From
Carlos Guevara
Dist
Text-WideChar-Util v0.172
Platform
Perl 5 v5.41.11 amd64-freebsd
Date
2025-04-05 04:51:51
ID
b0766bd6-11d9-11f0-a9ea-b0c7c47ebac8
This distribution has been tested as part of the CPAN Testers
project, supporting the Perl programming language.  See
http://wiki.cpantesters.org/ for more information or email
questions to cpan-testers-discuss@perl.org


--
Dear perlancar,

This is a computer-generated report for Text-WideChar-Util-0.172
on perl 5.41.11, created by CPAN-Reporter-1.2020.

Thank you for uploading your work to CPAN.  Congratulations!
All tests were successful.

Sections of this report:

    * Tester comments
    * Program output
    * Prerequisites
    * Environment and other context

------------------------------
TESTER COMMENTS
------------------------------

Additional comments from tester:

this report is from an automated smoke testing program
and was not reviewed by a human for accuracy

------------------------------
PROGRAM OUTPUT
------------------------------

Output from '/usr/bin/make test':

PERL_DL_NONLAZY=1 "/home/cpan/bin/perl/bin/perl5.41.11" "-MExtUtils::Command::MM" "-MTest::Harness" "-e" "undef *Test::Harness::Switches; test_harness(0, 'blib/lib', 'blib/arch')" t/*.t
t/00-compile.t ........... ok
t/01-basics.t ............ skipped: Chinese locale not supported on this system
t/author-critic.t ........ skipped: these tests are for testing by the author
t/author-pod-coverage.t .. skipped: these tests are for testing by the author
t/author-pod-syntax.t .... skipped: these tests are for testing by the author
Wide character (U+5B58) in pattern match (m//) at /home/cpan/.cpan/build/Text-WideChar-Util-0.172-0/blib/lib/Text/WideChar/Util.pm line 167.
Wide character (U+5B58) in pattern match (m//) at /home/cpan/.cpan/build/Text-WideChar-Util-0.172-0/blib/lib/Text/WideChar/Util.pm line 199.
Wide character (U+50A8) in pattern match (m//) at /home/cpan/.cpan/build/Text-WideChar-Util-0.172-0/blib/lib/Text/WideChar/Util.pm line 199.
Wide character (U+548C) in pattern match (m//) at /home/cpan/.cpan/build/Text-WideChar-Util-0.172-0/blib/lib/Text/WideChar/Util.pm line 199.
Wide character (U+4FE1) in pattern match (m//) at /home/cpan/.cpan/build/Text-WideChar-Util-0.172-0/blib/lib/Text/WideChar/Util.pm line 199.
Wide character (U+606F) in pattern match (m//) at /home/cpan/.cpan/build/Text-WideChar-Util-0.172-0/blib/lib/Text/WideChar/Util.pm line 199.
Wide character (U+7BA1) in pattern match (m//) at /home/cpan/.cpan/build/Text-WideChar-Util-0.172-0/blib/lib/Text/WideChar/Util.pm line 199.
Wide character (U+7406) in pattern match (m//) at /home/cpan/.cpan/build/Text-WideChar-Util-0.172-0/blib/lib/Text/WideChar/Util.pm line 199.
Wide character (U+516C) in pattern match (m//) at /home/cpan/.cpan/build/Text-WideChar-Util-0.172-0/blib/lib/Text/WideChar/Util.pm line 199.
Wide character (U+53F8) in pattern match (m//) at /home/cpan/.cpan/build/Text-WideChar-Util-0.172-0/blib/lib/Text/WideChar/Util.pm line 199.
Wide character (U+4F4D) in pattern match (m//) at /home/cpan/.cpan/build/Text-WideChar-Util-0.172-0/blib/lib/Text/WideChar/Util.pm line 201.
Wide character (U+4E8E) in pattern match (m//) at /home/cpan/.cpan/build/Text-WideChar-Util-0.172-0/blib/lib/Text/WideChar/Util.pm line 201.
Wide character (U+963F) in pattern match (m//) at /home/cpan/.cpan/build/Text-WideChar-Util-0.172-0/blib/lib/Text/WideChar/Util.pm line 201.
Wide character (U+6839) in pattern match (m//) at /home/cpan/.cpan/build/Text-WideChar-Util-0.172-0/blib/lib/Text/WideChar/Util.pm line 201.
Wide character (U+5EF7) in pattern match (m//) at /home/cpan/.cpan/build/Text-WideChar-Util-0.172-0/blib/lib/Text/WideChar/Util.pm line 201.
Wide character (U+9996) in pattern match (m//) at /home/cpan/.cpan/build/Text-WideChar-Util-0.172-0/blib/lib/Text/WideChar/Util.pm line 201.
Wide character (U+90FD) in pattern match (m//) at /home/cpan/.cpan/build/Text-WideChar-Util-0.172-0/blib/lib/Text/WideChar/Util.pm line 201.
Wide character (U+5E03) in pattern match (m//) at /home/cpan/.cpan/build/Text-WideChar-Util-0.172-0/blib/lib/Text/WideChar/Util.pm line 201.
Wide character (U+5B9C) in pattern match (m//) at /home/cpan/.cpan/build/Text-WideChar-Util-0.172-0/blib/lib/Text/WideChar/Util.pm line 201.
Wide character (U+8BFA) in pattern match (m//) at /home/cpan/.cpan/build/Text-WideChar-Util-0.172-0/blib/lib/Text/WideChar/Util.pm line 201.
Wide character (U+65AF) in pattern match (m//) at /home/cpan/.cpan/build/Text-WideChar-Util-0.172-0/blib/lib/Text/WideChar/Util.pm line 201.
Wide character (U+827E) in pattern match (m//) at /home/cpan/.cpan/build/Text-WideChar-Util-0.172-0/blib/lib/Text/WideChar/Util.pm line 201.
Wide character (U+5229) in pattern match (m//) at /home/cpan/.cpan/build/Text-WideChar-Util-0.172-0/blib/lib/Text/WideChar/Util.pm line 201.
Wide character (U+65AF) in pattern match (m//) at /home/cpan/.cpan/build/Text-WideChar-Util-0.172-0/blib/lib/Text/WideChar/Util.pm line 201.
Wide character (U+7684) in pattern match (m//) at /home/cpan/.cpan/build/Text-WideChar-Util-0.172-0/blib/lib/Text/WideChar/Util.pm line 201.
Wide character (U+4E00) in pattern match (m//) at /home/cpan/.cpan/build/Text-WideChar-Util-0.172-0/blib/lib/Text/WideChar/Util.pm line 201.
Wide character (U+4E2A) in pattern match (m//) at /home/cpan/.cpan/build/Text-WideChar-Util-0.172-0/blib/lib/Text/WideChar/Util.pm line 201.
Wide character (U+5927) in pattern match (m//) at /home/cpan/.cpan/build/Text-WideChar-Util-0.172-0/blib/lib/Text/WideChar/Util.pm line 201.
Wide character (U+6570) in pattern match (m//) at /home/cpan/.cpan/build/Text-WideChar-Util-0.172-0/blib/lib/Text/WideChar/Util.pm line 201.
Wide character (U+636E) in pattern match (m//) at /home/cpan/.cpan/build/Text-WideChar-Util-0.172-0/blib/lib/Text/WideChar/Util.pm line 201.
Wide character (U+4E2D) in pattern match (m//) at /home/cpan/.cpan/build/Text-WideChar-Util-0.172-0/blib/lib/Text/WideChar/Util.pm line 201.
Wide character (U+5FC3) in pattern match (m//) at /home/cpan/.cpan/build/Text-WideChar-Util-0.172-0/blib/lib/Text/WideChar/Util.pm line 201.
Wide character (U+5468) in pattern match (m//) at /home/cpan/.cpan/build/Text-WideChar-Util-0.172-0/blib/lib/Text/WideChar/Util.pm line 201.
Wide character (U+4E09) in pattern match (m//) at /home/cpan/.cpan/build/Text-WideChar-Util-0.172-0/blib/lib/Text/WideChar/Util.pm line 201.
Wide character (U+906D) in pattern match (m//) at /home/cpan/.cpan/build/Text-WideChar-Util-0.172-0/blib/lib/Text/WideChar/Util.pm line 201.
Wide character (U+5927) in pattern match (m//) at /home/cpan/.cpan/build/Text-WideChar-Util-0.172-0/blib/lib/Text/WideChar/Util.pm line 201.
Wide character (U+706B) in pattern match (m//) at /home/cpan/.cpan/build/Text-WideChar-Util-0.172-0/blib/lib/Text/WideChar/Util.pm line 201.
Wide character (U+70E7) in pattern match (m//) at /home/cpan/.cpan/build/Text-WideChar-Util-0.172-0/blib/lib/Text/WideChar/Util.pm line 201.
Wide character (U+6BC1) in pattern match (m//) at /home/cpan/.cpan/build/Text-WideChar-Util-0.172-0/blib/lib/Text/WideChar/Util.pm line 201.
Wide character (U+FF0C) in pattern match (m//) at /home/cpan/.cpan/build/Text-WideChar-Util-0.172-0/blib/lib/Text/WideChar/Util.pm line 201.
Wide character (U+4E5D) in pattern match (m//) at /home/cpan/.cpan/build/Text-WideChar-Util-0.172-0/blib/lib/Text/WideChar/Util.pm line 201.
Wide character (U+540D) in pattern match (m//) at /home/cpan/.cpan/build/Text-WideChar-Util-0.172-0/blib/lib/Text/WideChar/Util.pm line 201.
Wide character (U+6D88) in pattern match (m//) at /home/cpan/.cpan/build/Text-WideChar-Util-0.172-0/blib/lib/Text/WideChar/Util.pm line 201.
Wide character (U+9632) in pattern match (m//) at /home/cpan/.cpan/build/Text-WideChar-Util-0.172-0/blib/lib/Text/WideChar/Util.pm line 201.
Wide character (U+5458) in pattern match (m//) at /home/cpan/.cpan/build/Text-WideChar-Util-0.172-0/blib/lib/Text/WideChar/Util.pm line 201.
Wide character (U+5728) in pattern match (m//) at /home/cpan/.cpan/build/Text-WideChar-Util-0.172-0/blib/lib/Text/WideChar/Util.pm line 201.
Wide character (U+6551) in pattern match (m//) at /home/cpan/.cpan/build/Text-WideChar-Util-0.172-0/blib/lib/Text/WideChar/Util.pm line 201.
Wide character (U+706B) in pattern match (m//) at /home/cpan/.cpan/build/Text-WideChar-Util-0.172-0/blib/lib/Text/WideChar/Util.pm line 201.
Wide character (U+4E2D) in pattern match (m//) at /home/cpan/.cpan/build/Text-WideChar-Util-0.172-0/blib/lib/Text/WideChar/Util.pm line 201.
Wide character (U+4E27) in pattern match (m//) at /home/cpan/.cpan/build/Text-WideChar-Util-0.172-0/blib/lib/Text/WideChar/Util.pm line 201.
Wide character (U+751F) in pattern match (m//) at /home/cpan/.cpan/build/Text-WideChar-Util-0.172-0/blib/lib/Text/WideChar/Util.pm line 201.
Wide character (U+FF0C) in pattern match (m//) at /home/cpan/.cpan/build/Text-WideChar-Util-0.172-0/blib/lib/Text/WideChar/Util.pm line 201.
Wide character (U+4EBA) in pattern match (m//) at /home/cpan/.cpan/build/Text-WideChar-Util-0.172-0/blib/lib/Text/WideChar/Util.pm line 201.
Wide character (U+5931) in pattern match (m//) at /home/cpan/.cpan/build/Text-WideChar-Util-0.172-0/blib/lib/Text/WideChar/Util.pm line 201.
Wide character (U+8E2A) in pattern match (m//) at /home/cpan/.cpan/build/Text-WideChar-Util-0.172-0/blib/lib/Text/WideChar/Util.pm line 201.
Wide character (U+FF0C) in pattern match (m//) at /home/cpan/.cpan/build/Text-WideChar-Util-0.172-0/blib/lib/Text/WideChar/Util.pm line 201.
Wide character (U+4EBA) in pattern match (m//) at /home/cpan/.cpan/build/Text-WideChar-Util-0.172-0/blib/lib/Text/WideChar/Util.pm line 201.
Wide character (U+53D7) in pattern match (m//) at /home/cpan/.cpan/build/Text-WideChar-Util-0.172-0/blib/lib/Text/WideChar/Util.pm line 201.
Wide character (U+4F24) in pattern match (m//) at /home/cpan/.cpan/build/Text-WideChar-Util-0.172-0/blib/lib/Text/WideChar/Util.pm line 201.
Wide character (U+3002) in pattern match (m//) at /home/cpan/.cpan/build/Text-WideChar-Util-0.172-0/blib/lib/Text/WideChar/Util.pm line 201.
Wide character (U+6570) in pattern match (m//) at /home/cpan/.cpan/build/Text-WideChar-Util-0.172-0/blib/lib/Text/WideChar/Util.pm line 201.
Wide character (U+636E) in pattern match (m//) at /home/cpan/.cpan/build/Text-WideChar-Util-0.172-0/blib/lib/Text/WideChar/Util.pm line 201.
Wide character (U+4E2D) in pattern match (m//) at /home/cpan/.cpan/build/Text-WideChar-Util-0.172-0/blib/lib/Text/WideChar/Util.pm line 201.
Wide character (U+5FC3) in pattern match (m//) at /home/cpan/.cpan/build/Text-WideChar-Util-0.172-0/blib/lib/Text/WideChar/Util.pm line 201.
Wide character (U+50A8) in pattern match (m//) at /home/cpan/.cpan/build/Text-WideChar-Util-0.172-0/blib/lib/Text/WideChar/Util.pm line 201.
Wide character (U+5B58) in pattern match (m//) at /home/cpan/.cpan/build/Text-WideChar-Util-0.172-0/blib/lib/Text/WideChar/Util.pm line 201.
Wide character (U+4E86) in pattern match (m//) at /home/cpan/.cpan/build/Text-WideChar-Util-0.172-0/blib/lib/Text/WideChar/Util.pm line 201.
Wide character (U+963F) in pattern match (m//) at /home/cpan/.cpan/build/Text-WideChar-Util-0.172-0/blib/lib/Text/WideChar/Util.pm line 201.
Wide character (U+6839) in pattern match (m//) at /home/cpan/.cpan/build/Text-WideChar-Util-0.172-0/blib/lib/Text/WideChar/Util.pm line 201.
Wide character (U+5EF7) in pattern match (m//) at /home/cpan/.cpan/build/Text-WideChar-Util-0.172-0/blib/lib/Text/WideChar/Util.pm line 201.
Wide character (U+592E) in pattern match (m//) at /home/cpan/.cpan/build/Text-WideChar-Util-0.172-0/blib/lib/Text/WideChar/Util.pm line 201.
Wide character (U+884C) in pattern match (m//) at /home/cpan/.cpan/build/Text-WideChar-Util-0.172-0/blib/lib/Text/WideChar/Util.pm line 201.
Wide character (U+548C) in pattern match (m//) at /home/cpan/.cpan/build/Text-WideChar-Util-0.172-0/blib/lib/Text/WideChar/Util.pm line 201.
Wide character (U+4F01) in pattern match (m//) at /home/cpan/.cpan/build/Text-WideChar-Util-0.172-0/blib/lib/Text/WideChar/Util.pm line 201.
Wide character (U+4E1A) in pattern match (m//) at /home/cpan/.cpan/build/Text-WideChar-Util-0.172-0/blib/lib/Text/WideChar/Util.pm line 201.
Wide character (U+6863) in pattern match (m//) at /home/cpan/.cpan/build/Text-WideChar-Util-0.172-0/blib/lib/Text/WideChar/Util.pm line 201.
Wide character (U+6848) in pattern match (m//) at /home/cpan/.cpan/build/Text-WideChar-Util-0.172-0/blib/lib/Text/WideChar/Util.pm line 201.
Wide character (U+FF0C) in pattern match (m//) at /home/cpan/.cpan/build/Text-WideChar-Util-0.172-0/blib/lib/Text/WideChar/Util.pm line 201.
Wide character (U+56E0) in pattern match (m//) at /home/cpan/.cpan/build/Text-WideChar-Util-0.172-0/blib/lib/Text/WideChar/Util.pm line 201.
Wide character (U+6B64) in pattern match (m//) at /home/cpan/.cpan/build/Text-WideChar-Util-0.172-0/blib/lib/Text/WideChar/Util.pm line 201.
Wide character (U+635F) in pattern match (m//) at /home/cpan/.cpan/build/Text-WideChar-Util-0.172-0/blib/lib/Text/WideChar/Util.pm line 201.
Wide character (U+5931) in pattern match (m//) at /home/cpan/.cpan/build/Text-WideChar-Util-0.172-0/blib/lib/Text/WideChar/Util.pm line 201.
Wide character (U+53EF) in pattern match (m//) at /home/cpan/.cpan/build/Text-WideChar-Util-0.172-0/blib/lib/Text/WideChar/Util.pm line 201.
Wide character (U+80FD) in pattern match (m//) at /home/cpan/.cpan/build/Text-WideChar-Util-0.172-0/blib/lib/Text/WideChar/Util.pm line 201.
Wide character (U+975E) in pattern match (m//) at /home/cpan/.cpan/build/Text-WideChar-Util-0.172-0/blib/lib/Text/WideChar/Util.pm line 201.
Wide character (U+5E38) in pattern match (m//) at /home/cpan/.cpan/build/Text-WideChar-Util-0.172-0/blib/lib/Text/WideChar/Util.pm line 201.
Wide character (U+5DE8) in pattern match (m//) at /home/cpan/.cpan/build/Text-WideChar-Util-0.172-0/blib/lib/Text/WideChar/Util.pm line 201.
Wide character (U+5927) in pattern match (m//) at /home/cpan/.cpan/build/Text-WideChar-Util-0.172-0/blib/lib/Text/WideChar/Util.pm line 201.
Wide character (U+3002) in pattern match (m//) at /home/cpan/.cpan/build/Text-WideChar-Util-0.172-0/blib/lib/Text/WideChar/Util.pm line 201.
Wide character (U+8FD9) in pattern match (m//) at /home/cpan/.cpan/build/Text-WideChar-Util-0.172-0/blib/lib/Text/WideChar/Util.pm line 201.
Wide character (U+4E2A) in pattern match (m//) at /home/cpan/.cpan/build/Text-WideChar-Util-0.172-0/blib/lib/Text/WideChar/Util.pm line 201.
Wide character (U+6570) in pattern match (m//) at /home/cpan/.cpan/build/Text-WideChar-Util-0.172-0/blib/lib/Text/WideChar/Util.pm line 201.
Wide character (U+636E) in pattern match (m//) at /home/cpan/.cpan/build/Text-WideChar-Util-0.172-0/blib/lib/Text/WideChar/Util.pm line 201.
Wide character (U+4E2D) in pattern match (m//) at /home/cpan/.cpan/build/Text-WideChar-Util-0.172-0/blib/lib/Text/WideChar/Util.pm line 201.
Wide character (U+5FC3) in pattern match (m//) at /home/cpan/.cpan/build/Text-WideChar-Util-0.172-0/blib/lib/Text/WideChar/Util.pm line 201.
Wide character (U+914D) in pattern match (m//) at /home/cpan/.cpan/build/Text-WideChar-Util-0.172-0/blib/lib/Text/WideChar/Util.pm line 201.
Wide character (U+5907) in pattern match (m//) at /home/cpan/.cpan/build/Text-WideChar-Util-0.172-0/blib/lib/Text/WideChar/Util.pm line 201.
Wide character (U+4E86) in pattern match (m//) at /home/cpan/.cpan/build/Text-WideChar-Util-0.172-0/blib/lib/Text/WideChar/Util.pm line 201.
Wide character (U+79C1) in pattern match (m//) at /home/cpan/.cpan/build/Text-WideChar-Util-0.172-0/blib/lib/Text/WideChar/Util.pm line 201.
Wide character (U+4EBA) in pattern match (m//) at /home/cpan/.cpan/build/Text-WideChar-Util-0.172-0/blib/lib/Text/WideChar/Util.pm line 201.
Wide character (U+7684) in pattern match (m//) at /home/cpan/.cpan/build/Text-WideChar-Util-0.172-0/blib/lib/Text/WideChar/Util.pm line 201.
Wide character (U+6551) in pattern match (m//) at /home/cpan/.cpan/build/Text-WideChar-Util-0.172-0/blib/lib/Text/WideChar/Util.pm line 201.
Wide character (U+706B) in pattern match (m//) at /home/cpan/.cpan/build/Text-WideChar-Util-0.172-0/blib/lib/Text/WideChar/Util.pm line 201.
Wide character (U+961F) in pattern match (m//) at /home/cpan/.cpan/build/Text-WideChar-Util-0.172-0/blib/lib/Text/WideChar/Util.pm line 201.
Wide character (U+FF0C) in pattern match (m//) at /home/cpan/.cpan/build/Text-WideChar-Util-0.172-0/blib/lib/Text/WideChar/Util.pm line 201.
Wide character (U+81EA) in pattern match (m//) at /home/cpan/.cpan/build/Text-WideChar-Util-0.172-0/blib/lib/Text/WideChar/Util.pm line 201.
Wide character (U+52A8) in pattern match (m//) at /home/cpan/.cpan/build/Text-WideChar-Util-0.172-0/blib/lib/Text/WideChar/Util.pm line 201.
Wide character (U+55B7) in pattern match (m//) at /home/cpan/.cpan/build/Text-WideChar-Util-0.172-0/blib/lib/Text/WideChar/Util.pm line 201.
Wide character (U+6C34) in pattern match (m//) at /home/cpan/.cpan/build/Text-WideChar-Util-0.172-0/blib/lib/Text/WideChar/Util.pm line 201.
Wide character (U+706D) in pattern match (m//) at /home/cpan/.cpan/build/Text-WideChar-Util-0.172-0/blib/lib/Text/WideChar/Util.pm line 201.
Wide character (U+706B) in pattern match (m//) at /home/cpan/.cpan/build/Text-WideChar-Util-0.172-0/blib/lib/Text/WideChar/Util.pm line 201.
Wide character (U+7CFB) in pattern match (m//) at /home/cpan/.cpan/build/Text-WideChar-Util-0.172-0/blib/lib/Text/WideChar/Util.pm line 201.
Wide character (U+7EDF) in pattern match (m//) at /home/cpan/.cpan/build/Text-WideChar-Util-0.172-0/blib/lib/Text/WideChar/Util.pm line 201.
Wide character (U+FF0C) in pattern match (m//) at /home/cpan/.cpan/build/Text-WideChar-Util-0.172-0/blib/lib/Text/WideChar/Util.pm line 201.
Wide character (U+706B) in pattern match (m//) at /home/cpan/.cpan/build/Text-WideChar-Util-0.172-0/blib/lib/Text/WideChar/Util.pm line 201.
Wide character (U+707E) in pattern match (m//) at /home/cpan/.cpan/build/Text-WideChar-Util-0.172-0/blib/lib/Text/WideChar/Util.pm line 201.
Wide character (U+63A7) in pattern match (m//) at /home/cpan/.cpan/build/Text-WideChar-Util-0.172-0/blib/lib/Text/WideChar/Util.pm line 201.
Wide character (U+5236) in pattern match (m//) at /home/cpan/.cpan/build/Text-WideChar-Util-0.172-0/blib/lib/Text/WideChar/Util.pm line 201.
Wide character (U+7CFB) in pattern match (m//) at /home/cpan/.cpan/build/Text-WideChar-Util-0.172-0/blib/lib/Text/WideChar/Util.pm line 201.
Wide character (U+7EDF) in pattern match (m//) at /home/cpan/.cpan/build/Text-WideChar-Util-0.172-0/blib/lib/Text/WideChar/Util.pm line 201.
Wide character (U+4EE5) in pattern match (m//) at /home/cpan/.cpan/build/Text-WideChar-Util-0.172-0/blib/lib/Text/WideChar/Util.pm line 201.
Wide character (U+53CA) in pattern match (m//) at /home/cpan/.cpan/build/Text-WideChar-Util-0.172-0/blib/lib/Text/WideChar/Util.pm line 201.
Wide character (U+5176) in pattern match (m//) at /home/cpan/.cpan/build/Text-WideChar-Util-0.172-0/blib/lib/Text/WideChar/Util.pm line 201.
Wide character (U+5B83) in pattern match (m//) at /home/cpan/.cpan/build/Text-WideChar-Util-0.172-0/blib/lib/Text/WideChar/Util.pm line 201.
Wide character (U+706B) in pattern match (m//) at /home/cpan/.cpan/build/Text-WideChar-Util-0.172-0/blib/lib/Text/WideChar/Util.pm line 201.
Wide character (U+707E) in pattern match (m//) at /home/cpan/.cpan/build/Text-WideChar-Util-0.172-0/blib/lib/Text/WideChar/Util.pm line 201.
Wide character (U+9884) in pattern match (m//) at /home/cpan/.cpan/build/Text-WideChar-Util-0.172-0/blib/lib/Text/WideChar/Util.pm line 201.
Wide character (U+9632) in pattern match (m//) at /home/cpan/.cpan/build/Text-WideChar-Util-0.172-0/blib/lib/Text/WideChar/Util.pm line 201.
Wide character (U+7684) in pattern match (m//) at /home/cpan/.cpan/build/Text-WideChar-Util-0.172-0/blib/lib/Text/WideChar/Util.pm line 201.
Wide character (U+63AA) in pattern match (m//) at /home/cpan/.cpan/build/Text-WideChar-Util-0.172-0/blib/lib/Text/WideChar/Util.pm line 201.
Wide character (U+65BD) in pattern match (m//) at /home/cpan/.cpan/build/Text-WideChar-Util-0.172-0/blib/lib/Text/WideChar/Util.pm line 201.
Wide character (U+3002) in pattern match (m//) at /home/cpan/.cpan/build/Text-WideChar-Util-0.172-0/blib/lib/Text/WideChar/Util.pm line 201.
Wide character (U+4F46) in pattern match (m//) at /home/cpan/.cpan/build/Text-WideChar-Util-0.172-0/blib/lib/Text/WideChar/Util.pm line 201.
Wide character (U+5373) in pattern match (m//) at /home/cpan/.cpan/build/Text-WideChar-Util-0.172-0/blib/lib/Text/WideChar/Util.pm line 201.
Wide character (U+4FBF) in pattern match (m//) at /home/cpan/.cpan/build/Text-WideChar-Util-0.172-0/blib/lib/Text/WideChar/Util.pm line 201.
Wide character (U+5982) in pattern match (m//) at /home/cpan/.cpan/build/Text-WideChar-Util-0.172-0/blib/lib/Text/WideChar/Util.pm line 201.
Wide character (U+6B64) in pattern match (m//) at /home/cpan/.cpan/build/Text-WideChar-Util-0.172-0/blib/lib/Text/WideChar/Util.pm line 201.
Wide character (U+FF0C) in pattern match (m//) at /home/cpan/.cpan/build/Text-WideChar-Util-0.172-0/blib/lib/Text/WideChar/Util.pm line 201.
Wide character (U+4ECD) in pattern match (m//) at /home/cpan/.cpan/build/Text-WideChar-Util-0.172-0/blib/lib/Text/WideChar/Util.pm line 201.
Wide character (U+7136) in pattern match (m//) at /home/cpan/.cpan/build/Text-WideChar-Util-0.172-0/blib/lib/Text/WideChar/Util.pm line 201.
Wide character (U+6CA1) in pattern match (m//) at /home/cpan/.cpan/build/Text-WideChar-Util-0.172-0/blib/lib/Text/WideChar/Util.pm line 201.
Wide character (U+6709) in pattern match (m//) at /home/cpan/.cpan/build/Text-WideChar-Util-0.172-0/blib/lib/Text/WideChar/Util.pm line 201.
Wide character (U+9884) in pattern match (m//) at /home/cpan/.cpan/build/Text-WideChar-Util-0.172-0/blib/lib/Text/WideChar/Util.pm line 201.
Wide character (U+9632) in pattern match (m//) at /home/cpan/.cpan/build/Text-WideChar-Util-0.172-0/blib/lib/Text/WideChar/Util.pm line 201.
Wide character (U+707E) in pattern match (m//) at /home/cpan/.cpan/build/Text-WideChar-Util-0.172-0/blib/lib/Text/WideChar/Util.pm line 201.
Wide character (U+96BE) in pattern match (m//) at /home/cpan/.cpan/build/Text-WideChar-Util-0.172-0/blib/lib/Text/WideChar/Util.pm line 201.
Wide character (U+7684) in pattern match (m//) at /home/cpan/.cpan/build/Text-WideChar-Util-0.172-0/blib/lib/Text/WideChar/Util.pm line 201.
Wide character (U+53D1) in pattern match (m//) at /home/cpan/.cpan/build/Text-WideChar-Util-0.172-0/blib/lib/Text/WideChar/Util.pm line 201.
Wide character (U+751F) in pattern match (m//) at /home/cpan/.cpan/build/Text-WideChar-Util-0.172-0/blib/lib/Text/WideChar/Util.pm line 201.
Wide character (U+3002) in pattern match (m//) at /home/cpan/.cpan/build/Text-WideChar-Util-0.172-0/blib/lib/Text/WideChar/Util.pm line 201.
Wide character (U+76EE) in pattern match (m//) at /home/cpan/.cpan/build/Text-WideChar-Util-0.172-0/blib/lib/Text/WideChar/Util.pm line 201.
Wide character (U+524D) in pattern match (m//) at /home/cpan/.cpan/build/Text-WideChar-Util-0.172-0/blib/lib/Text/WideChar/Util.pm line 201.
Wide character (U+8FD8) in pattern match (m//) at /home/cpan/.cpan/build/Text-WideChar-Util-0.172-0/blib/lib/Text/WideChar/Util.pm line 201.
Wide character (U+4E0D) in pattern match (m//) at /home/cpan/.cpan/build/Text-WideChar-Util-0.172-0/blib/lib/Text/WideChar/Util.pm line 201.
Wide character (U+6E05) in pattern match (m//) at /home/cpan/.cpan/build/Text-WideChar-Util-0.172-0/blib/lib/Text/WideChar/Util.pm line 201.
Wide character (U+695A) in pattern match (m//) at /home/cpan/.cpan/build/Text-WideChar-Util-0.172-0/blib/lib/Text/WideChar/Util.pm line 201.
Wide character (U+6570) in pattern match (m//) at /home/cpan/.cpan/build/Text-WideChar-Util-0.172-0/blib/lib/Text/WideChar/Util.pm line 201.
Wide character (U+636E) in pattern match (m//) at /home/cpan/.cpan/build/Text-WideChar-Util-0.172-0/blib/lib/Text/WideChar/Util.pm line 201.
Wide character (U+4E2D) in pattern match (m//) at /home/cpan/.cpan/build/Text-WideChar-Util-0.172-0/blib/lib/Text/WideChar/Util.pm line 201.
Wide character (U+5FC3) in pattern match (m//) at /home/cpan/.cpan/build/Text-WideChar-Util-0.172-0/blib/lib/Text/WideChar/Util.pm line 201.
Wide character (U+8D77) in pattern match (m//) at /home/cpan/.cpan/build/Text-WideChar-Util-0.172-0/blib/lib/Text/WideChar/Util.pm line 201.
Wide character (U+706B) in pattern match (m//) at /home/cpan/.cpan/build/Text-WideChar-Util-0.172-0/blib/lib/Text/WideChar/Util.pm line 201.
Wide character (U+7684) in pattern match (m//) at /home/cpan/.cpan/build/Text-WideChar-Util-0.172-0/blib/lib/Text/WideChar/Util.pm line 201.
Wide character (U+539F) in pattern match (m//) at /home/cpan/.cpan/build/Text-WideChar-Util-0.172-0/blib/lib/Text/WideChar/Util.pm line 201.
Wide character (U+56E0) in pattern match (m//) at /home/cpan/.cpan/build/Text-WideChar-Util-0.172-0/blib/lib/Text/WideChar/Util.pm line 201.
Wide character (U+3002) in pattern match (m//) at /home/cpan/.cpan/build/Text-WideChar-Util-0.172-0/blib/lib/Text/WideChar/Util.pm line 201.
Wide character (U+4F4D) in pattern match (m//) at /home/cpan/.cpan/build/Text-WideChar-Util-0.172-0/blib/lib/Text/WideChar/Util.pm line 205.
Wide character (U+4F4D) in pattern match (m//) at /home/cpan/.cpan/build/Text-WideChar-Util-0.172-0/blib/lib/Text/WideChar/Util.pm line 207.
Wide character (U+4E8E) in pattern match (m//) at /home/cpan/.cpan/build/Text-WideChar-Util-0.172-0/blib/lib/Text/WideChar/Util.pm line 207.
Wide character (U+963F) in pattern match (m//) at /home/cpan/.cpan/build/Text-WideChar-Util-0.172-0/blib/lib/Text/WideChar/Util.pm line 207.
Wide character (U+6839) in pattern match (m//) at /home/cpan/.cpan/build/Text-WideChar-Util-0.172-0/blib/lib/Text/WideChar/Util.pm line 207.
Wide character (U+5EF7) in pattern match (m//) at /home/cpan/.cpan/build/Text-WideChar-Util-0.172-0/blib/lib/Text/WideChar/Util.pm line 207.
Wide character (U+9996) in pattern match (m//) at /home/cpan/.cpan/build/Text-WideChar-Util-0.172-0/blib/lib/Text/WideChar/Util.pm line 207.
Wide character (U+90FD) in pattern match (m//) at /home/cpan/.cpan/build/Text-WideChar-Util-0.172-0/blib/lib/Text/WideChar/Util.pm line 207.
Wide character (U+5E03) in pattern match (m//) at /home/cpan/.cpan/build/Text-WideChar-Util-0.172-0/blib/lib/Text/WideChar/Util.pm line 207.
Wide character (U+5B9C) in pattern match (m//) at /home/cpan/.cpan/build/Text-WideChar-Util-0.172-0/blib/lib/Text/WideChar/Util.pm line 207.
Wide character (U+8BFA) in pattern match (m//) at /home/cpan/.cpan/build/Text-WideChar-Util-0.172-0/blib/lib/Text/WideChar/Util.pm line 207.
Wide character (U+65AF) in pattern match (m//) at /home/cpan/.cpan/build/Text-WideChar-Util-0.172-0/blib/lib/Text/WideChar/Util.pm line 207.
Wide character (U+827E) in pattern match (m//) at /home/cpan/.cpan/build/Text-WideChar-Util-0.172-0/blib/lib/Text/WideChar/Util.pm line 207.
Wide character (U+5229) in pattern match (m//) at /home/cpan/.cpan/build/Text-WideChar-Util-0.172-0/blib/lib/Text/WideChar/Util.pm line 207.
Wide character (U+65AF) in pattern match (m//) at /home/cpan/.cpan/build/Text-WideChar-Util-0.172-0/blib/lib/Text/WideChar/Util.pm line 207.
Wide character (U+7684) in pattern match (m//) at /home/cpan/.cpan/build/Text-WideChar-Util-0.172-0/blib/lib/Text/WideChar/Util.pm line 207.
Wide character (U+4E00) in pattern match (m//) at /home/cpan/.cpan/build/Text-WideChar-Util-0.172-0/blib/lib/Text/WideChar/Util.pm line 207.
Wide character (U+4E2A) in pattern match (m//) at /home/cpan/.cpan/build/Text-WideChar-Util-0.172-0/blib/lib/Text/WideChar/Util.pm line 207.
Wide character (U+5927) in pattern match (m//) at /home/cpan/.cpan/build/Text-WideChar-Util-0.172-0/blib/lib/Text/WideChar/Util.pm line 207.
Wide character (U+6570) in pattern match (m//) at /home/cpan/.cpan/build/Text-WideChar-Util-0.172-0/blib/lib/Text/WideChar/Util.pm line 207.
Wide character (U+636E) in pattern match (m//) at /home/cpan/.cpan/build/Text-WideChar-Util-0.172-0/blib/lib/Text/WideChar/Util.pm line 207.
Wide character (U+4E2D) in pattern match (m//) at /home/cpan/.cpan/build/Text-WideChar-Util-0.172-0/blib/lib/Text/WideChar/Util.pm line 207.
Wide character (U+5FC3) in pattern match (m//) at /home/cpan/.cpan/build/Text-WideChar-Util-0.172-0/blib/lib/Text/WideChar/Util.pm line 207.
Wide character (U+5468) in pattern match (m//) at /home/cpan/.cpan/build/Text-WideChar-Util-0.172-0/blib/lib/Text/WideChar/Util.pm line 207.
Wide character (U+4E09) in pattern match (m//) at /home/cpan/.cpan/build/Text-WideChar-Util-0.172-0/blib/lib/Text/WideChar/Util.pm line 207.
Wide character (U+906D) in pattern match (m//) at /home/cpan/.cpan/build/Text-WideChar-Util-0.172-0/blib/lib/Text/WideChar/Util.pm line 207.
Wide character (U+5927) in pattern match (m//) at /home/cpan/.cpan/build/Text-WideChar-Util-0.172-0/blib/lib/Text/WideChar/Util.pm line 207.
Wide character (U+706B) in pattern match (m//) at /home/cpan/.cpan/build/Text-WideChar-Util-0.172-0/blib/lib/Text/WideChar/Util.pm line 207.
Wide character (U+70E7) in pattern match (m//) at /home/cpan/.cpan/build/Text-WideChar-Util-0.172-0/blib/lib/Text/WideChar/Util.pm line 207.
Wide character (U+6BC1) in pattern match (m//) at /home/cpan/.cpan/build/Text-WideChar-Util-0.172-0/blib/lib/Text/WideChar/Util.pm line 207.
Wide character (U+FF0C) in pattern match (m//) at /home/cpan/.cpan/build/Text-WideChar-Util-0.172-0/blib/lib/Text/WideChar/Util.pm line 207.
Wide character (U+4E5D) in pattern match (m//) at /home/cpan/.cpan/build/Text-WideChar-Util-0.172-0/blib/lib/Text/WideChar/Util.pm line 207.
Wide character (U+540D) in pattern match (m//) at /home/cpan/.cpan/build/Text-WideChar-Util-0.172-0/blib/lib/Text/WideChar/Util.pm line 207.
Wide character (U+6D88) in pattern match (m//) at /home/cpan/.cpan/build/Text-WideChar-Util-0.172-0/blib/lib/Text/WideChar/Util.pm line 207.
Wide character (U+9632) in pattern match (m//) at /home/cpan/.cpan/build/Text-WideChar-Util-0.172-0/blib/lib/Text/WideChar/Util.pm line 207.
Wide character (U+5458) in pattern match (m//) at /home/cpan/.cpan/build/Text-WideChar-Util-0.172-0/blib/lib/Text/WideChar/Util.pm line 207.
Wide character (U+5728) in pattern match (m//) at /home/cpan/.cpan/build/Text-WideChar-Util-0.172-0/blib/lib/Text/WideChar/Util.pm line 207.
Wide character (U+6551) in pattern match (m//) at /home/cpan/.cpan/build/Text-WideChar-Util-0.172-0/blib/lib/Text/WideChar/Util.pm line 207.
Wide character (U+706B) in pattern match (m//) at /home/cpan/.cpan/build/Text-WideChar-Util-0.172-0/blib/lib/Text/WideChar/Util.pm line 207.
Wide character (U+4E2D) in pattern match (m//) at /home/cpan/.cpan/build/Text-WideChar-Util-0.172-0/blib/lib/Text/WideChar/Util.pm line 207.
Wide character (U+4E27) in pattern match (m//) at /home/cpan/.cpan/build/Text-WideChar-Util-0.172-0/blib/lib/Text/WideChar/Util.pm line 207.
Wide character (U+751F) in pattern match (m//) at /home/cpan/.cpan/build/Text-WideChar-Util-0.172-0/blib/lib/Text/WideChar/Util.pm line 207.
Wide character (U+FF0C) in pattern match (m//) at /home/cpan/.cpan/build/Text-WideChar-Util-0.172-0/blib/lib/Text/WideChar/Util.pm line 207.
Wide character (U+4EBA) in pattern match (m//) at /home/cpan/.cpan/build/Text-WideChar-Util-0.172-0/blib/lib/Text/WideChar/Util.pm line 207.
Wide character (U+4EBA) in pattern match (m//) at /home/cpan/.cpan/build/Text-WideChar-Util-0.172-0/blib/lib/Text/WideChar/Util.pm line 207.
Wide character (U+5931) in pattern match (m//) at /home/cpan/.cpan/build/Text-WideChar-Util-0.172-0/blib/lib/Text/WideChar/Util.pm line 207.
Wide character (U+8E2A) in pattern match (m//) at /home/cpan/.cpan/build/Text-WideChar-Util-0.172-0/blib/lib/Text/WideChar/Util.pm line 207.
Wide character (U+FF0C) in pattern match (m//) at /home/cpan/.cpan/build/Text-WideChar-Util-0.172-0/blib/lib/Text/WideChar/Util.pm line 207.
Wide character (U+4EBA) in pattern match (m//) at /home/cpan/.cpan/build/Text-WideChar-Util-0.172-0/blib/lib/Text/WideChar/Util.pm line 207.
Wide character (U+4EBA) in pattern match (m//) at /home/cpan/.cpan/build/Text-WideChar-Util-0.172-0/blib/lib/Text/WideChar/Util.pm line 207.
Wide character (U+53D7) in pattern match (m//) at /home/cpan/.cpan/build/Text-WideChar-Util-0.172-0/blib/lib/Text/WideChar/Util.pm line 207.
Wide character (U+4F24) in pattern match (m//) at /home/cpan/.cpan/build/Text-WideChar-Util-0.172-0/blib/lib/Text/WideChar/Util.pm line 207.
Wide character (U+3002) in pattern match (m//) at /home/cpan/.cpan/build/Text-WideChar-Util-0.172-0/blib/lib/Text/WideChar/Util.pm line 207.
Wide character (U+6570) in pattern match (m//) at /home/cpan/.cpan/build/Text-WideChar-Util-0.172-0/blib/lib/Text/WideChar/Util.pm line 207.
Wide character (U+636E) in pattern match (m//) at /home/cpan/.cpan/build/Text-WideChar-Util-0.172-0/blib/lib/Text/WideChar/Util.pm line 207.
Wide character (U+4E2D) in pattern match (m//) at /home/cpan/.cpan/build/Text-WideChar-Util-0.172-0/blib/lib/Text/WideChar/Util.pm line 207.
Wide character (U+5FC3) in pattern match (m//) at /home/cpan/.cpan/build/Text-WideChar-Util-0.172-0/blib/lib/Text/WideChar/Util.pm line 207.
Wide character (U+50A8) in pattern match (m//) at /home/cpan/.cpan/build/Text-WideChar-Util-0.172-0/blib/lib/Text/WideChar/Util.pm line 207.
Wide character (U+5B58) in pattern match (m//) at /home/cpan/.cpan/build/Text-WideChar-Util-0.172-0/blib/lib/Text/WideChar/Util.pm line 207.
Wide character (U+4E86) in pattern match (m//) at /home/cpan/.cpan/build/Text-WideChar-Util-0.172-0/blib/lib/Text/WideChar/Util.pm line 207.
Wide character (U+963F) in pattern match (m//) at /home/cpan/.cpan/build/Text-WideChar-Util-0.172-0/blib/lib/Text/WideChar/Util.pm line 207.
Wide character (U+6839) in pattern match (m//) at /home/cpan/.cpan/build/Text-WideChar-Util-0.172-0/blib/lib/Text/WideChar/Util.pm line 207.
Wide character (U+5EF7) in pattern match (m//) at /home/cpan/.cpan/build/Text-WideChar-Util-0.172-0/blib/lib/Text/WideChar/Util.pm line 207.
Wide character (U+592E) in pattern match (m//) at /home/cpan/.cpan/build/Text-WideChar-Util-0.172-0/blib/lib/Text/WideChar/Util.pm line 207.
Wide character (U+884C) in pattern match (m//) at /home/cpan/.cpan/build/Text-WideChar-Util-0.172-0/blib/lib/Text/WideChar/Util.pm line 207.
Wide character (U+548C) in pattern match (m//) at /home/cpan/.cpan/build/Text-WideChar-Util-0.172-0/blib/lib/Text/WideChar/Util.pm line 207.
Wide character (U+4F01) in pattern match (m//) at /home/cpan/.cpan/build/Text-WideChar-Util-0.172-0/blib/lib/Text/WideChar/Util.pm line 207.
Wide character (U+4E1A) in pattern match (m//) at /home/cpan/.cpan/build/Text-WideChar-Util-0.172-0/blib/lib/Text/WideChar/Util.pm line 207.
Wide character (U+6863) in pattern match (m//) at /home/cpan/.cpan/build/Text-WideChar-Util-0.172-0/blib/lib/Text/WideChar/Util.pm line 207.
Wide character (U+6848) in pattern match (m//) at /home/cpan/.cpan/build/Text-WideChar-Util-0.172-0/blib/lib/Text/WideChar/Util.pm line 207.
Wide character (U+FF0C) in pattern match (m//) at /home/cpan/.cpan/build/Text-WideChar-Util-0.172-0/blib/lib/Text/WideChar/Util.pm line 207.
Wide character (U+56E0) in pattern match (m//) at /home/cpan/.cpan/build/Text-WideChar-Util-0.172-0/blib/lib/Text/WideChar/Util.pm line 207.
Wide character (U+6B64) in pattern match (m//) at /home/cpan/.cpan/build/Text-WideChar-Util-0.172-0/blib/lib/Text/WideChar/Util.pm line 207.
Wide character (U+635F) in pattern match (m//) at /home/cpan/.cpan/build/Text-WideChar-Util-0.172-0/blib/lib/Text/WideChar/Util.pm line 207.
Wide character (U+5931) in pattern match (m//) at /home/cpan/.cpan/build/Text-WideChar-Util-0.172-0/blib/lib/Text/WideChar/Util.pm line 207.
Wide character (U+53EF) in pattern match (m//) at /home/cpan/.cpan/build/Text-WideChar-Util-0.172-0/blib/lib/Text/WideChar/Util.pm line 207.
Wide character (U+80FD) in pattern match (m//) at /home/cpan/.cpan/build/Text-WideChar-Util-0.172-0/blib/lib/Text/WideChar/Util.pm line 207.
Wide character (U+975E) in pattern match (m//) at /home/cpan/.cpan/build/Text-WideChar-Util-0.172-0/blib/lib/Text/WideChar/Util.pm line 207.
Wide character (U+5E38) in pattern match (m//) at /home/cpan/.cpan/build/Text-WideChar-Util-0.172-0/blib/lib/Text/WideChar/Util.pm line 207.
Wide character (U+5DE8) in pattern match (m//) at /home/cpan/.cpan/build/Text-WideChar-Util-0.172-0/blib/lib/Text/WideChar/Util.pm line 207.
Wide character (U+5927) in pattern match (m//) at /home/cpan/.cpan/build/Text-WideChar-Util-0.172-0/blib/lib/Text/WideChar/Util.pm line 207.
Wide character (U+3002) in pattern match (m//) at /home/cpan/.cpan/build/Text-WideChar-Util-0.172-0/blib/lib/Text/WideChar/Util.pm line 207.
Wide character (U+8FD9) in pattern match (m//) at /home/cpan/.cpan/build/Text-WideChar-Util-0.172-0/blib/lib/Text/WideChar/Util.pm line 207.
Wide character (U+4E2A) in pattern match (m//) at /home/cpan/.cpan/build/Text-WideChar-Util-0.172-0/blib/lib/Text/WideChar/Util.pm line 207.
Wide character (U+6570) in pattern match (m//) at /home/cpan/.cpan/build/Text-WideChar-Util-0.172-0/blib/lib/Text/WideChar/Util.pm line 207.
Wide character (U+636E) in pattern match (m//) at /home/cpan/.cpan/build/Text-WideChar-Util-0.172-0/blib/lib/Text/WideChar/Util.pm line 207.
Wide character (U+4E2D) in pattern match (m//) at /home/cpan/.cpan/build/Text-WideChar-Util-0.172-0/blib/lib/Text/WideChar/Util.pm line 207.
Wide character (U+5FC3) in pattern match (m//) at /home/cpan/.cpan/build/Text-WideChar-Util-0.172-0/blib/lib/Text/WideChar/Util.pm line 207.
Wide character (U+914D) in pattern match (m//) at /home/cpan/.cpan/build/Text-WideChar-Util-0.172-0/blib/lib/Text/WideChar/Util.pm line 207.
Wide character (U+5907) in pattern match (m//) at /home/cpan/.cpan/build/Text-WideChar-Util-0.172-0/blib/lib/Text/WideChar/Util.pm line 207.
Wide character (U+4E86) in pattern match (m//) at /home/cpan/.cpan/build/Text-WideChar-Util-0.172-0/blib/lib/Text/WideChar/Util.pm line 207.
Wide character (U+79C1) in pattern match (m//) at /home/cpan/.cpan/build/Text-WideChar-Util-0.172-0/blib/lib/Text/WideChar/Util.pm line 207.
Wide character (U+4EBA) in pattern match (m//) at /home/cpan/.cpan/build/Text-WideChar-Util-0.172-0/blib/lib/Text/WideChar/Util.pm line 207.
Wide character (U+7684) in pattern match (m//) at /home/cpan/.cpan/build/Text-WideChar-Util-0.172-0/blib/lib/Text/WideChar/Util.pm line 207.
Wide character (U+6551) in pattern match (m//) at /home/cpan/.cpan/build/Text-WideChar-Util-0.172-0/blib/lib/Text/WideChar/Util.pm line 207.
Wide character (U+706B) in pattern match (m//) at /home/cpan/.cpan/build/Text-WideChar-Util-0.172-0/blib/lib/Text/WideChar/Util.pm line 207.
Wide character (U+961F) in pattern match (m//) at /home/cpan/.cpan/build/Text-WideChar-Util-0.172-0/blib/lib/Text/WideChar/Util.pm line 207.
Wide character (U+FF0C) in pattern match (m//) at /home/cpan/.cpan/build/Text-WideChar-Util-0.172-0/blib/lib/Text/WideChar/Util.pm line 207.
Wide character (U+81EA) in pattern match (m//) at /home/cpan/.cpan/build/Text-WideChar-Util-0.172-0/blib/lib/Text/WideChar/Util.pm line 207.
Wide character (U+52A8) in pattern match (m//) at /home/cpan/.cpan/build/Text-WideChar-Util-0.172-0/blib/lib/Text/WideChar/Util.pm line 207.
Wide character (U+55B7) in pattern match (m//) at /home/cpan/.cpan/build/Text-WideChar-Util-0.172-0/blib/lib/Text/WideChar/Util.pm line 207.
Wide character (U+6C34) in pattern match (m//) at /home/cpan/.cpan/build/Text-WideChar-Util-0.172-0/blib/lib/Text/WideChar/Util.pm line 207.
Wide character (U+706D) in pattern match (m//) at /home/cpan/.cpan/build/Text-WideChar-Util-0.172-0/blib/lib/Text/WideChar/Util.pm line 207.
Wide character (U+706B) in pattern match (m//) at /home/cpan/.cpan/build/Text-WideChar-Util-0.172-0/blib/lib/Text/WideChar/Util.pm line 207.
Wide character (U+7CFB) in pattern match (m//) at /home/cpan/.cpan/build/Text-WideChar-Util-0.172-0/blib/lib/Text/WideChar/Util.pm line 207.
Wide character (U+7EDF) in pattern match (m//) at /home/cpan/.cpan/build/Text-WideChar-Util-0.172-0/blib/lib/Text/WideChar/Util.pm line 207.
Wide character (U+FF0C) in pattern match (m//) at /home/cpan/.cpan/build/Text-WideChar-Util-0.172-0/blib/lib/Text/WideChar/Util.pm line 207.
Wide character (U+706B) in pattern match (m//) at /home/cpan/.cpan/build/Text-WideChar-Util-0.172-0/blib/lib/Text/WideChar/Util.pm line 207.
Wide character (U+707E) in pattern match (m//) at /home/cpan/.cpan/build/Text-WideChar-Util-0.172-0/blib/lib/Text/WideChar/Util.pm line 207.
Wide character (U+63A7) in pattern match (m//) at /home/cpan/.cpan/build/Text-WideChar-Util-0.172-0/blib/lib/Text/WideChar/Util.pm line 207.
Wide character (U+5236) in pattern match (m//) at /home/cpan/.cpan/build/Text-WideChar-Util-0.172-0/blib/lib/Text/WideChar/Util.pm line 207.
Wide character (U+7CFB) in pattern match (m//) at /home/cpan/.cpan/build/Text-WideChar-Util-0.172-0/blib/lib/Text/WideChar/Util.pm line 207.
Wide character (U+7EDF) in pattern match (m//) at /home/cpan/.cpan/build/Text-WideChar-Util-0.172-0/blib/lib/Text/WideChar/Util.pm line 207.
Wide character (U+4EE5) in pattern match (m//) at /home/cpan/.cpan/build/Text-WideChar-Util-0.172-0/blib/lib/Text/WideChar/Util.pm line 207.
Wide character (U+53CA) in pattern match (m//) at /home/cpan/.cpan/build/Text-WideChar-Util-0.172-0/blib/lib/Text/WideChar/Util.pm line 207.
Wide character (U+5176) in pattern match (m//) at /home/cpan/.cpan/build/Text-WideChar-Util-0.172-0/blib/lib/Text/WideChar/Util.pm line 207.
Wide character (U+5B83) in pattern match (m//) at /home/cpan/.cpan/build/Text-WideChar-Util-0.172-0/blib/lib/Text/WideChar/Util.pm line 207.
Wide character (U+706B) in pattern match (m//) at /home/cpan/.cpan/build/Text-WideChar-Util-0.172-0/blib/lib/Text/WideChar/Util.pm line 207.
Wide character (U+707E) in pattern match (m//) at /home/cpan/.cpan/build/Text-WideChar-Util-0.172-0/blib/lib/Text/WideChar/Util.pm line 207.
Wide character (U+9884) in pattern match (m//) at /home/cpan/.cpan/build/Text-WideChar-Util-0.172-0/blib/lib/Text/WideChar/Util.pm line 207.
Wide character (U+9632) in pattern match (m//) at /home/cpan/.cpan/build/Text-WideChar-Util-0.172-0/blib/lib/Text/WideChar/Util.pm line 207.
Wide character (U+7684) in pattern match (m//) at /home/cpan/.cpan/build/Text-WideChar-Util-0.172-0/blib/lib/Text/WideChar/Util.pm line 207.
Wide character (U+63AA) in pattern match (m//) at /home/cpan/.cpan/build/Text-WideChar-Util-0.172-0/blib/lib/Text/WideChar/Util.pm line 207.
Wide character (U+65BD) in pattern match (m//) at /home/cpan/.cpan/build/Text-WideChar-Util-0.172-0/blib/lib/Text/WideChar/Util.pm line 207.
Wide character (U+3002) in pattern match (m//) at /home/cpan/.cpan/build/Text-WideChar-Util-0.172-0/blib/lib/Text/WideChar/Util.pm line 207.
Wide character (U+4F46) in pattern match (m//) at /home/cpan/.cpan/build/Text-WideChar-Util-0.172-0/blib/lib/Text/WideChar/Util.pm line 207.
Wide character (U+5373) in pattern match (m//) at /home/cpan/.cpan/build/Text-WideChar-Util-0.172-0/blib/lib/Text/WideChar/Util.pm line 207.
Wide character (U+4FBF) in pattern match (m//) at /home/cpan/.cpan/build/Text-WideChar-Util-0.172-0/blib/lib/Text/WideChar/Util.pm line 207.
Wide character (U+5982) in pattern match (m//) at /home/cpan/.cpan/build/Text-WideChar-Util-0.172-0/blib/lib/Text/WideChar/Util.pm line 207.
Wide character (U+6B64) in pattern match (m//) at /home/cpan/.cpan/build/Text-WideChar-Util-0.172-0/blib/lib/Text/WideChar/Util.pm line 207.
Wide character (U+FF0C) in pattern match (m//) at /home/cpan/.cpan/build/Text-WideChar-Util-0.172-0/blib/lib/Text/WideChar/Util.pm line 207.
Wide character (U+4ECD) in pattern match (m//) at /home/cpan/.cpan/build/Text-WideChar-Util-0.172-0/blib/lib/Text/WideChar/Util.pm line 207.
Wide character (U+7136) in pattern match (m//) at /home/cpan/.cpan/build/Text-WideChar-Util-0.172-0/blib/lib/Text/WideChar/Util.pm line 207.
Wide character (U+6CA1) in pattern match (m//) at /home/cpan/.cpan/build/Text-WideChar-Util-0.172-0/blib/lib/Text/WideChar/Util.pm line 207.
Wide character (U+6709) in pattern match (m//) at /home/cpan/.cpan/build/Text-WideChar-Util-0.172-0/blib/lib/Text/WideChar/Util.pm line 207.
Wide character (U+9884) in pattern match (m//) at /home/cpan/.cpan/build/Text-WideChar-Util-0.172-0/blib/lib/Text/WideChar/Util.pm line 207.
Wide character (U+9632) in pattern match (m//) at /home/cpan/.cpan/build/Text-WideChar-Util-0.172-0/blib/lib/Text/WideChar/Util.pm line 207.
Wide character (U+707E) in pattern match (m//) at /home/cpan/.cpan/build/Text-WideChar-Util-0.172-0/blib/lib/Text/WideChar/Util.pm line 207.
Wide character (U+96BE) in pattern match (m//) at /home/cpan/.cpan/build/Text-WideChar-Util-0.172-0/blib/lib/Text/WideChar/Util.pm line 207.
Wide character (U+7684) in pattern match (m//) at /home/cpan/.cpan/build/Text-WideChar-Util-0.172-0/blib/lib/Text/WideChar/Util.pm line 207.
Wide character (U+53D1) in pattern match (m//) at /home/cpan/.cpan/build/Text-WideChar-Util-0.172-0/blib/lib/Text/WideChar/Util.pm line 207.
Wide character (U+751F) in pattern match (m//) at /home/cpan/.cpan/build/Text-WideChar-Util-0.172-0/blib/lib/Text/WideChar/Util.pm line 207.
Wide character (U+3002) in pattern match (m//) at /home/cpan/.cpan/build/Text-WideChar-Util-0.172-0/blib/lib/Text/WideChar/Util.pm line 207.
Wide character (U+76EE) in pattern match (m//) at /home/cpan/.cpan/build/Text-WideChar-Util-0.172-0/blib/lib/Text/WideChar/Util.pm line 207.
Wide character (U+524D) in pattern match (m//) at /home/cpan/.cpan/build/Text-WideChar-Util-0.172-0/blib/lib/Text/WideChar/Util.pm line 207.
Wide character (U+8FD8) in pattern match (m//) at /home/cpan/.cpan/build/Text-WideChar-Util-0.172-0/blib/lib/Text/WideChar/Util.pm line 207.
Wide character (U+4E0D) in pattern match (m//) at /home/cpan/.cpan/build/Text-WideChar-Util-0.172-0/blib/lib/Text/WideChar/Util.pm line 207.
Wide character (U+6E05) in pattern match (m//) at /home/cpan/.cpan/build/Text-WideChar-Util-0.172-0/blib/lib/Text/WideChar/Util.pm line 207.
Wide character (U+695A) in pattern match (m//) at /home/cpan/.cpan/build/Text-WideChar-Util-0.172-0/blib/lib/Text/WideChar/Util.pm line 207.
Wide character (U+6570) in pattern match (m//) at /home/cpan/.cpan/build/Text-WideChar-Util-0.172-0/blib/lib/Text/WideChar/Util.pm line 207.
Wide character (U+636E) in pattern match (m//) at /home/cpan/.cpan/build/Text-WideChar-Util-0.172-0/blib/lib/Text/WideChar/Util.pm line 207.
Wide character (U+4E2D) in pattern match (m//) at /home/cpan/.cpan/build/Text-WideChar-Util-0.172-0/blib/lib/Text/WideChar/Util.pm line 207.
Wide character (U+5FC3) in pattern match (m//) at /home/cpan/.cpan/build/Text-WideChar-Util-0.172-0/blib/lib/Text/WideChar/Util.pm line 207.
Wide character (U+8D77) in pattern match (m//) at /home/cpan/.cpan/build/Text-WideChar-Util-0.172-0/blib/lib/Text/WideChar/Util.pm line 207.
Wide character (U+706B) in pattern match (m//) at /home/cpan/.cpan/build/Text-WideChar-Util-0.172-0/blib/lib/Text/WideChar/Util.pm line 207.
Wide character (U+7684) in pattern match (m//) at /home/cpan/.cpan/build/Text-WideChar-Util-0.172-0/blib/lib/Text/WideChar/Util.pm line 207.
Wide character (U+539F) in pattern match (m//) at /home/cpan/.cpan/build/Text-WideChar-Util-0.172-0/blib/lib/Text/WideChar/Util.pm line 207.
Wide character (U+56E0) in pattern match (m//) at /home/cpan/.cpan/build/Text-WideChar-Util-0.172-0/blib/lib/Text/WideChar/Util.pm line 207.
Wide character (U+3002) in pattern match (m//) at /home/cpan/.cpan/build/Text-WideChar-Util-0.172-0/blib/lib/Text/WideChar/Util.pm line 207.
Wide character (U+5403) in pattern match (m//) at /home/cpan/.cpan/build/Text-WideChar-Util-0.172-0/blib/lib/Text/WideChar/Util.pm line 201.
Wide character (U+5403) in pattern match (m//) at /home/cpan/.cpan/build/Text-WideChar-Util-0.172-0/blib/lib/Text/WideChar/Util.pm line 201.
Wide character (U+996D) in pattern match (m//) at /home/cpan/.cpan/build/Text-WideChar-Util-0.172-0/blib/lib/Text/WideChar/Util.pm line 201.
Wide character (U+5403) in pattern match (m//) at /home/cpan/.cpan/build/Text-WideChar-Util-0.172-0/blib/lib/Text/WideChar/Util.pm line 201.
Wide character (U+996D) in pattern match (m//) at /home/cpan/.cpan/build/Text-WideChar-Util-0.172-0/blib/lib/Text/WideChar/Util.pm line 201.
Wide character (U+5403) in pattern match (m//) at /home/cpan/.cpan/build/Text-WideChar-Util-0.172-0/blib/lib/Text/WideChar/Util.pm line 201.
Wide character (U+996D) in pattern match (m//) at /home/cpan/.cpan/build/Text-WideChar-Util-0.172-0/blib/lib/Text/WideChar/Util.pm line 201.
Wide character (U+5403) in pattern match (m//) at /home/cpan/.cpan/build/Text-WideChar-Util-0.172-0/blib/lib/Text/WideChar/Util.pm line 201.
Wide character (U+996D) in pattern match (m//) at /home/cpan/.cpan/build/Text-WideChar-Util-0.172-0/blib/lib/Text/WideChar/Util.pm line 201.
Wide character (U+5403) in pattern match (m//) at /home/cpan/.cpan/build/Text-WideChar-Util-0.172-0/blib/lib/Text/WideChar/Util.pm line 201.
Wide character (U+5403) in pattern match (m//) at /home/cpan/.cpan/build/Text-WideChar-Util-0.172-0/blib/lib/Text/WideChar/Util.pm line 201.
Wide character (U+996D) in pattern match (m//) at /home/cpan/.cpan/build/Text-WideChar-Util-0.172-0/blib/lib/Text/WideChar/Util.pm line 201.
Wide character (U+5403) in pattern match (m//) at /home/cpan/.cpan/build/Text-WideChar-Util-0.172-0/blib/lib/Text/WideChar/Util.pm line 201.
Wide character (U+996D) in pattern match (m//) at /home/cpan/.cpan/build/Text-WideChar-Util-0.172-0/blib/lib/Text/WideChar/Util.pm line 201.
Wide character (U+5403) in pattern match (m//) at /home/cpan/.cpan/build/Text-WideChar-Util-0.172-0/blib/lib/Text/WideChar/Util.pm line 201.
Wide character (U+996D) in pattern match (m//) at /home/cpan/.cpan/build/Text-WideChar-Util-0.172-0/blib/lib/Text/WideChar/Util.pm line 201.
Wide character (U+5403) in pattern match (m//) at /home/cpan/.cpan/build/Text-WideChar-Util-0.172-0/blib/lib/Text/WideChar/Util.pm line 201.
Wide character (U+996D) in pattern match (m//) at /home/cpan/.cpan/build/Text-WideChar-Util-0.172-0/blib/lib/Text/WideChar/Util.pm line 201.
t/wrap.t ................. ok
All tests successful.
Files=6, Tests=14,  0 wallclock secs ( 0.02 usr  0.01 sys +  0.13 cusr  0.02 csys =  0.19 CPU)
Result: PASS

------------------------------
PREREQUISITES
------------------------------

Prerequisite modules loaded:

requires:

    Module              Need     Have    
    ------------------- -------- --------
    Exporter            5.57     5.79    
    locale              0        1.13    
    perl                5.010001 5.041011
    strict              0        1.13    
    Unicode::GCString   0        2013.10 
    utf8                0        1.27    
    warnings            0        1.74    

build_requires:

    Module              Need     Have    
    ------------------- -------- --------
    constant            0        1.33    
    ExtUtils::MakeMaker 0        7.72    
    File::Spec          0        3.94    
    IO::Handle          0        1.55    
    IPC::Open3          0        1.24    
    POSIX               0        2.23    
    Test::More          0.98     1.302210

configure_requires:

    Module              Need     Have    
    ------------------- -------- --------
    ExtUtils::MakeMaker 0        7.72    


------------------------------
ENVIRONMENT AND OTHER CONTEXT
------------------------------

Environment variables:

    AUTOMATED_TESTING = 1
    DATE_MANIP_TEST_DM5 = 1
    LANG = C.UTF-8
    LC_ALL = C
    NONINTERACTIVE_TESTING = 1
    NO_NETWORK_TESTING = 1
    PATH = /home/cpan/bin/perl/bin:/home/cpan/bin:/sbin:/bin:/usr/sbin:/usr/bin:/usr/local/sbin:/usr/local/bin:/home/cpan/bin
    PERL5LIB = 
    PERL5OPT = 
    PERL5_CPANPLUS_IS_RUNNING = 25347
    PERL5_CPAN_IS_RUNNING = 25347
    PERL_MM_USE_DEFAULT = 1
    PERL_USE_UNSAFE_INC = 1
    SHELL = /usr/local/bin/bash
    TERM = screen
    TMPDIR = /home/cpan/tmp

Perl special variables (and OS-specific diagnostics, for MSWin32):

    $^X = /home/cpan/bin/perl/bin/perl5.41.11
    $UID/$EUID = 1002 / 1002
    $GID = 1002 1002
    $EGID = 1002 1002

Perl module toolchain versions installed:

    Module              Have    
    ------------------- --------
    CPAN                2.38    
    CPAN::Meta          2.150010
    Cwd                 3.94    
    ExtUtils::CBuilder  0.280240
    ExtUtils::Command   7.72    
    ExtUtils::Install   2.22    
    ExtUtils::MakeMaker 7.72    
    ExtUtils::Manifest  1.75    
    ExtUtils::ParseXS   3.57    
    File::Spec          3.94    
    JSON                4.10    
    JSON::PP            4.16    
    Module::Build       0.4234  
    Module::Signature   n/a     
    Parse::CPAN::Meta   2.150010
    Test2               1.302210
    Test::Harness       3.50    
    Test::More          1.302210
    YAML                1.31    
    YAML::Syck          n/a     
    version             0.9933  


--

Summary of my perl5 (revision 5 version 41 subversion 11) configuration:
  Commit id: aed235e3259a92e37aea06ad8802a5f18abfc2f6
  Platform:
    osname=freebsd
    osvers=14.2-release-p1
    archname=amd64-freebsd
    uname='freebsd cjg-freebsd14 14.2-release-p1 freebsd 14.2-release-p1 generic amd64 '
    config_args='-des -Dprefix=/home/cpan/bin/perl -Dscriptdir=/home/cpan/bin/perl/bin -Dusedevel -Duse64bitall'
    hint=recommended
    useposix=true
    d_sigaction=define
    useithreads=undef
    usemultiplicity=undef
    use64bitint=define
    use64bitall=define
    uselongdouble=undef
    usemymalloc=n
    default_inc_excludes_dot=define
  Compiler:
    cc='cc'
    ccflags ='-DHAS_FPSETMASK -DHAS_FLOATINGPOINT_H -DNO_POSIX_2008_LOCALE -fno-strict-aliasing -pipe -fstack-protector-strong -I/usr/local/include'
    optimize='-O2'
    cppflags='-DHAS_FPSETMASK -DHAS_FLOATINGPOINT_H -DNO_POSIX_2008_LOCALE -fno-strict-aliasing -pipe -fstack-protector-strong -I/usr/local/include'
    ccversion=''
    gccversion='FreeBSD Clang 18.1.6 (https://github.com/llvm/llvm-project.git llvmorg-18.1.6-0-g1118c2e05e67)'
    gccosandvers=''
    intsize=4
    longsize=8
    ptrsize=8
    doublesize=8
    byteorder=12345678
    doublekind=3
    d_longlong=define
    longlongsize=8
    d_longdbl=define
    longdblsize=16
    longdblkind=3
    ivtype='long'
    ivsize=8
    nvtype='double'
    nvsize=8
    Off_t='off_t'
    lseeksize=8
    alignbytes=8
    prototype=define
  Linker and Libraries:
    ld='cc'
    ldflags ='-Wl,-E  -fstack-protector-strong -L/usr/local/lib'
    libpth=/usr/lib /usr/local/lib /usr/lib/clang/18/lib
    libs=-lpthread -lgdbm -ldl -lm -lcrypt -lutil -lc
    perllibs=-lpthread -ldl -lm -lcrypt -lutil -lc
    libc=
    so=so
    useshrplib=false
    libperl=libperl.a
    gnulibc_version=''
  Dynamic Linking:
    dlsrc=dl_dlopen.xs
    dlext=so
    d_dlsymun=undef
    ccdlflags=' '
    cccdlflags='-DPIC -fPIC'
    lddlflags='-shared  -L/usr/local/lib -fstack-protector-strong'


Characteristics of this binary (from libperl): 
  Compile-time options:
    HAS_LONG_DOUBLE
    HAS_STRTOLD
    HAS_TIMES
    PERLIO_LAYERS
    PERL_COPY_ON_WRITE
    PERL_DONT_CREATE_GVSV
    PERL_HASH_FUNC_SIPHASH13
    PERL_HASH_USE_SBOX32
    PERL_MALLOC_WRAP
    PERL_OP_PARENT
    PERL_PRESERVE_IVUV
    PERL_USE_DEVEL
    PERL_USE_SAFE_PUTENV
    USE_64_BIT_ALL
    USE_64_BIT_INT
    USE_LARGE_FILES
    USE_LOCALE
    USE_LOCALE_COLLATE
    USE_LOCALE_CTYPE
    USE_LOCALE_NUMERIC
    USE_LOCALE_TIME
    USE_PERLIO
    USE_PERL_ATOF
  Built under freebsd
  Compiled at Apr  4 2025 23:56:11
  %ENV:
    PERL5LIB=""
    PERL5OPT=""
    PERL5_CPANPLUS_IS_RUNNING="25347"
    PERL5_CPAN_IS_RUNNING="25347"
    PERL_MM_USE_DEFAULT="1"
    PERL_USE_UNSAFE_INC="1"
  @INC:
    /home/cpan/bin/perl/lib/site_perl/5.41.11/amd64-freebsd
    /home/cpan/bin/perl/lib/site_perl/5.41.11
    /home/cpan/bin/perl/lib/5.41.11/amd64-freebsd
    /home/cpan/bin/perl/lib/5.41.11
    .