Report for IO-Iron-0.11

Back
From: metabase:user:30f4dfbe-2aae-11df-837a-5e0a49663a4f
Subject: PASS IO-Iron-0.11 v5.16.2 Mac OS X
Date: 2014-10-13T18:49:40Z

This distribution has been tested as part of the CPAN Testers
project, supporting the Perl programming language.  See
http://wiki.cpantesters.org/ for more information or email
questions to cpan-testers-discuss@perl.org


--
Dear Mikko Koivunalho,

This is a computer-generated report for IO-Iron-0.11
on perl 5.16.2, created by CPAN-Reporter-1.2011.

Thank you for uploading your work to CPAN.  Congratulations!
All tests were successful.

Sections of this report:

    * Tester comments
    * Program output
    * Prerequisites
    * Environment and other context

------------------------------
TESTER COMMENTS
------------------------------

Additional comments from tester:

this report is from an automated smoke testing program
and was not reviewed by a human for accuracy

------------------------------
PROGRAM OUTPUT
------------------------------

Output from '/sw/bin/make test':

PERL_DL_NONLAZY=1 /Users/hornenj/perl5/perlbrew/perls/perl-5.16.2/bin/perl "-MExtUtils::Command::MM" "-MTest::Harness" "-e" "undef *Test::Harness::Switches; test_harness(0, 'blib/lib', 'blib/arch')" t/Iron/*.t t/IronCache/*.t t/IronMQ/*.t t/IronWorker/*.t
# Testing IO::Iron::IronMQ 0.11, Perl 5.016002, /Users/hornenj/perl5/perlbrew/perls/perl-5.16.2/bin/perl
# test ReadIronMQConfig
# Current dir config filename: ./iron.json
# Extra config filename: t/.IronMQTestConfig.json
t/Iron/client_readconfig.t ... ok
# Testing IO::Iron 0.11, Perl 5.016002, /Users/hornenj/perl5/perlbrew/perls/perl-5.16.2/bin/perl
t/Iron/load.t ................ ok
# Testing IO::Iron::IronCache::Client with policies, Perl 5.016002, /Users/hornenj/perl5/perlbrew/perls/perl-5.16.2/bin/perl
t/IronCache/cache_policy.t ... ok
# Testing IO::Iron::IronCache::Client with policies, Perl 5.016002, /Users/hornenj/perl5/perlbrew/perls/perl-5.16.2/bin/perl
t/IronCache/cache_policy2.t .. ok
# Testing IO::Iron::IronCache, Perl 5.016002, /Users/hornenj/perl5/perlbrew/perls/perl-5.16.2/bin/perl
t/IronCache/load.t ........... ok
# Testing IO::Iron::IronMQ 0.11, Perl 5.016002, /Users/hornenj/perl5/perlbrew/perls/perl-5.16.2/bin/perl
t/IronMQ/load.t .............. ok
# Testing IO::Iron::IronWorker 0.11, Perl 5.016002, /Users/hornenj/perl5/perlbrew/perls/perl-5.16.2/bin/perl
t/IronWorker/load.t .......... ok
All tests successful.
Files=7, Tests=92,  1 wallclock secs ( 0.03 usr  0.01 sys +  0.61 cusr  0.07 csys =  0.72 CPU)
Result: PASS

------------------------------
PREREQUISITES
------------------------------

Prerequisite modules loaded:

requires:

    Module             Need Have    
    ------------------ ---- --------
    Carp               0    1.3301  
    Carp::Assert       0    0.20    
    Carp::Assert::More 0    1.14    
    constant           0    1.27    
    Data::Dumper       0    2.151   
    Data::UUID         0    1.219   
    English            0    1.05    
    Exception::Class   0    1.37    
    Exporter           0    5.68    
    File::HomeDir      0    1.00    
    File::Slurp        0    9999.19 
    File::Spec         0    3.47    
    Hash::Util         0.06 0.11    
    JSON::MaybeXS      0    1.002003
    Log::Any           0    0.15    
    Params::Validate   0    1.08    
    parent             0    0.228   
    REST::Client       0    271     
    Scalar::Util       0    1.38    
    strict             0    1.07    
    Try::Tiny          0    0.19    
    URI::Escape        0    3.31    
    warnings           0    1.13    

build_requires:

    Module             Need Have    
    ------------------ ---- --------
    File::Copy         0    2.23    
    File::Remove       0    1.52    
    lib                0    0.63    
    Log::Any::Test     0    0.15    
    Test::Exception    0    0.32    
    Test::More         0    1.001003


------------------------------
ENVIRONMENT AND OTHER CONTEXT
------------------------------

Environment variables:

    AUTOMATED_TESTING = 1
    LANG = en_GB.UTF-8
    PATH = /Users/hornenj/perl5/perlbrew/bin:/Users/hornenj/perl5/perlbrew/perls/perl-5.16.2/bin:/Users/hornenj/perl5/perlbrew/bin:/Users/hornenj/perl5/perlbrew/perls/perl-5.16.0/bin:/Users/hornenj/bin:/usr/bin:/bin:/usr/local/bin:/opt/X11/bin:/usr/local/ncbi/blast/bin
    PERL5LIB = /Users/hornenj/.cpan/build/REST-Client-271-mjvOpl/blib/arch:/Users/hornenj/.cpan/build/REST-Client-271-mjvOpl/blib/lib:/Users/hornenj/.cpan/build/JSON-MaybeXS-1.002003-rU1XYP/blib/arch:/Users/hornenj/.cpan/build/JSON-MaybeXS-1.002003-rU1XYP/blib/lib:/Users/hornenj/.cpan/build/Test-Without-Module-0.18-tObQg4/blib/arch:/Users/hornenj/.cpan/build/Test-Without-Module-0.18-tObQg4/blib/lib
    PERL5OPT = 
    PERL5_CPANPLUS_IS_RUNNING = 79183
    PERL5_CPAN_IS_RUNNING = 79183
    PERL5_MINISMOKEBOX = 0.58
    PERLBREW_BASHRC_VERSION = 0.69
    PERLBREW_HOME = /Users/hornenj/.perlbrew
    PERLBREW_MANPATH = /Users/hornenj/perl5/perlbrew/perls/perl-5.16.2/man
    PERLBREW_PATH = /Users/hornenj/perl5/perlbrew/bin:/Users/hornenj/perl5/perlbrew/perls/perl-5.16.2/bin
    PERLBREW_PERL = perl-5.16.2
    PERLBREW_ROOT = /Users/hornenj/perl5/perlbrew
    PERLBREW_VERSION = 0.69
    PERL_EXTUTILS_AUTOINSTALL = --defaultdeps
    PERL_MM_USE_DEFAULT = 1
    SHELL = /bin/bash
    TERM = xterm-256color
    TMPDIR = /var/folders/pz/pd7y1qjs6s3cbk170cw50fjc000c61/T/
    VERSIONER_PERL_PREFER_32_BIT = no
    VERSIONER_PERL_VERSION = 5.16

Perl special variables (and OS-specific diagnostics, for MSWin32):

    $^X = /Users/hornenj/perl5/perlbrew/perls/perl-5.16.2/bin/perl
    $UID/$EUID = 12481 / 12481
    $GID = 14 14 5344 527 241
    $EGID = 14 14 5344 527 241

Perl module toolchain versions installed:

    Module              Have    
    ------------------- --------
    CPAN                2.05    
    CPAN::Meta          2.141170
    Cwd                 3.47    
    ExtUtils::CBuilder  0.280216
    ExtUtils::Command   1.17    
    ExtUtils::Install   1.58    
    ExtUtils::MakeMaker 6.98    
    ExtUtils::Manifest  1.61    
    ExtUtils::ParseXS   3.21    
    File::Spec          3.47    
    JSON                2.90    
    JSON::PP            2.27203 
    Module::Build       0.4205  
    Module::Signature   n/a     
    Parse::CPAN::Meta   1.4414  
    Test::Harness       3.33    
    Test::More          1.001003
    YAML                0.95    
    YAML::Syck          1.27    
    version             0.9903  


--

Summary of my perl5 (revision 5 version 16 subversion 2) configuration:
   
  Platform:
    osname=darwin, osvers=12.2.1, archname=darwin-2level
    uname='darwin ncbimac2008.ncbi.nlm.nih.gov 12.2.1 darwin kernel version 12.2.1: thu oct 18 12:13:47 pdt 2012; root:xnu-2050.20.9~1release_x86_64 x86_64 '
    config_args='-de -Dprefix=/Users/hornenj/perl5/perlbrew/perls/perl-5.16.2'
    hint=previous, useposix=true, d_sigaction=define
    useithreads=undef, usemultiplicity=undef
    useperlio=define, d_sfio=undef, uselargefiles=define, usesocks=undef
    use64bitint=define, use64bitall=define, uselongdouble=undef
    usemymalloc=n, bincompat5005=undef
  Compiler:
    cc='cc', ccflags ='-fno-common -DPERL_DARWIN -fno-strict-aliasing -pipe -fstack-protector',
    optimize='-O3',
    cppflags='-fno-common -DPERL_DARWIN -fno-strict-aliasing -pipe -fstack-protector -fno-common -DPERL_DARWIN -fno-strict-aliasing -pipe -fstack-protector'
    ccversion='', gccversion='4.2.1 Compatible Apple LLVM 4.2 (clang-425.0.24)', gccosandvers=''
    intsize=4, longsize=8, ptrsize=8, doublesize=8, byteorder=12345678
    d_longlong=define, longlongsize=8, d_longdbl=define, longdblsize=16
    ivtype='long', ivsize=8, nvtype='double', nvsize=8, Off_t='off_t', lseeksize=8
    alignbytes=8, prototype=define
  Linker and Libraries:
    ld='env MACOSX_DEPLOYMENT_TARGET=10.3 cc', ldflags =' -fstack-protector'
    libpth=/usr/lib
    libs=-ldbm -ldl -lm -lutil -lc
    perllibs=-ldl -lm -lutil -lc
    libc=, so=dylib, useshrplib=false, libperl=libperl.a
    gnulibc_version=''
  Dynamic Linking:
    dlsrc=dl_dlopen.xs, dlext=bundle, d_dlsymun=undef, ccdlflags=' '
    cccdlflags=' ', lddlflags=' -bundle -undefined dynamic_lookup -fstack-protector'


Characteristics of this binary (from libperl): 
  Compile-time options: HAS_TIMES PERLIO_LAYERS PERL_DONT_CREATE_GVSV
                        PERL_MALLOC_WRAP PERL_PRESERVE_IVUV USE_64_BIT_ALL
                        USE_64_BIT_INT USE_LARGE_FILES USE_LOCALE
                        USE_LOCALE_COLLATE USE_LOCALE_CTYPE
                        USE_LOCALE_NUMERIC USE_PERLIO USE_PERL_ATOF
  Built under darwin
  Compiled at Mar  4 2013 16:03:07
  %ENV:
    PERL5LIB="/Users/hornenj/.cpan/build/REST-Client-271-mjvOpl/blib/arch:/Users/hornenj/.cpan/build/REST-Client-271-mjvOpl/blib/lib:/Users/hornenj/.cpan/build/JSON-MaybeXS-1.002003-rU1XYP/blib/arch:/Users/hornenj/.cpan/build/JSON-MaybeXS-1.002003-rU1XYP/blib/lib:/Users/hornenj/.cpan/build/Test-Without-Module-0.18-tObQg4/blib/arch:/Users/hornenj/.cpan/build/Test-Without-Module-0.18-tObQg4/blib/lib"
    PERL5OPT=""
    PERL5_CPANPLUS_IS_RUNNING="79183"
    PERL5_CPAN_IS_RUNNING="79183"
    PERL5_MINISMOKEBOX="0.58"
    PERLBREW_BASHRC_VERSION="0.69"
    PERLBREW_HOME="/Users/hornenj/.perlbrew"
    PERLBREW_MANPATH="/Users/hornenj/perl5/perlbrew/perls/perl-5.16.2/man"
    PERLBREW_PATH="/Users/hornenj/perl5/perlbrew/bin:/Users/hornenj/perl5/perlbrew/perls/perl-5.16.2/bin"
    PERLBREW_PERL="perl-5.16.2"
    PERLBREW_ROOT="/Users/hornenj/perl5/perlbrew"
    PERLBREW_VERSION="0.69"
    PERL_EXTUTILS_AUTOINSTALL="--defaultdeps"
    PERL_MM_USE_DEFAULT="1"
  @INC:
    /Users/hornenj/.cpan/build/REST-Client-271-mjvOpl/blib/arch
    /Users/hornenj/.cpan/build/REST-Client-271-mjvOpl/blib/lib
    /Users/hornenj/.cpan/build/JSON-MaybeXS-1.002003-rU1XYP/blib/arch
    /Users/hornenj/.cpan/build/JSON-MaybeXS-1.002003-rU1XYP/blib/lib
    /Users/hornenj/.cpan/build/Test-Without-Module-0.18-tObQg4/blib/arch
    /Users/hornenj/.cpan/build/Test-Without-Module-0.18-tObQg4/blib/lib
    /Users/hornenj/perl5/perlbrew/perls/perl-5.16.2/lib/site_perl/5.16.2/darwin-2level
    /Users/hornenj/perl5/perlbrew/perls/perl-5.16.2/lib/site_perl/5.16.2
    /Users/hornenj/perl5/perlbrew/perls/perl-5.16.2/lib/5.16.2/darwin-2level
    /Users/hornenj/perl5/perlbrew/perls/perl-5.16.2/lib/5.16.2
    .