Mail-Mbox-MessageParser v1.5111 Perl 5 v5.18.3 i386-freebsd-thread-multi
- Status
- Pass
- From
- Chris Williams (BINGOS)
- Dist
-
Mail-Mbox-MessageParser v1.5111
- Platform
- Perl 5 v5.18.3 i386-freebsd-thread-multi
- Date
- 2018-07-15 13:26:32
- ID
- b06d6e4c-8832-11e8-bed3-aefc88cf513b
This distribution has been tested as part of the CPAN Testers
project, supporting the Perl programming language. See
http://wiki.cpantesters.org/ for more information or email
questions to cpan-testers-discuss@perl.org
--
Dear David Coppit,
This is a computer-generated error report created automatically by
CPANPLUS, version 0.9176. Testers personal comments may appear
at the end of this report.
Thank you for uploading your work to CPAN. Congratulations!
All tests were successful.
TEST RESULTS:
Below is the error stack from stage 'make test':
PERL_DL_NONLAZY=1 "/usr/home/cpan/pit/thr/perl-5.18.3/bin/perl" "-MExtUtils::Command::MM" "-MTest::Harness" "-e" "undef *Test::Harness::Switches; test_harness(1, 'blib/lib', 'blib/arch')" t/*.t
t/000_standard__compile.t .......
1..6
ok 1 - Compile test for blib/lib/Mail/Mbox/MessageParser.pm
ok 2 - Compile test for blib/lib/Mail/Mbox/MessageParser/Grep.pm
ok 3 - Compile test for blib/lib/Mail/Mbox/MessageParser/Config.pm
ok 4 - Compile test for blib/lib/Mail/Mbox/MessageParser/MetaInfo.pm
ok 5 - Compile test for blib/lib/Mail/Mbox/MessageParser/Cache.pm
ok 6 - Compile test for blib/lib/Mail/Mbox/MessageParser/Perl.pm
ok
t/000_standard__perl_critic.t ... skipped: Author test. Set $ENV{TEST_AUTHOR} to a true value to run.
t/000_standard__pod.t ........... skipped: Test::Pod required for testing POD
t/000_standard__pod_coverage.t .. skipped: Test::Pod::Coverage required for testing POD coverage
t/appended_mailbox.t ............
1..6
Testing modified mailbox with Perl implementation
Comparing /tmp/GUqjDaNYUC to t/mailboxes/mailarc-1.txt
Output /tmp/GUqjDaNYUC looks good.
ok 1 - Computing differences
Testing modified mailbox with Cache implementation
Comparing /tmp/XpHr0UZCMq to t/mailboxes/mailarc-1.txt
Output /tmp/XpHr0UZCMq looks good.
ok 2 - Computing differences
Testing modified mailbox with Grep implementation
ok 3 # skip GNU grep not available
Testing modified mailbox with Perl implementation
Comparing /tmp/0LxH49YzyI to t/mailboxes/mailarc-1.txt
Output /tmp/0LxH49YzyI looks good.
ok 4 - Computing differences
Testing modified mailbox with Cache implementation
Comparing /tmp/PfMnaeD2PH to t/mailboxes/mailarc-1.txt
Output /tmp/PfMnaeD2PH looks good.
ok 5 - Computing differences
Testing modified mailbox with Grep implementation
ok 6 # skip GNU grep not available
ok
t/bzip2.t .......................
1..1
Running test:
"/bin/cat" "t/mailboxes/mailarc-2.txt.bz2" | "/usr/bin/bzip2" -cd
Comparing /tmp/xq54gx5MOc to t/results/mailarc-2.txt
Output /tmp/xq54gx5MOc looks good.
Comparing /tmp/Pc1XqodIIX to t/results/none
Output /tmp/Pc1XqodIIX looks good.
ok 1 - Computing differences
ok
t/endline.t .....................
1..8
Testing filename: t/mailboxes/mailarc-1-dos.txt
ok 1 - Dos endline expected
ok 2 - Dos endline expected
ok 3 - Dos endline expected
ok 4 # skip GNU grep not available
Testing filename: t/mailboxes/mailarc-1.txt
ok 5 - Unix endline expected
ok 6 - Unix endline expected
ok 7 - Unix endline expected
ok 8 # skip GNU grep not available
ok
t/filehandle_compressed.t .......
1..16
Testing filename: t/mailboxes/mailarc-2.txt.bz2
Comparing /tmp/POACWkxfuL to t/mailboxes/mailarc-2.txt
Output /tmp/POACWkxfuL looks good.
ok 1 - Computing differences
Comparing /tmp/QyAAGXR4pD to t/mailboxes/mailarc-2.txt
Output /tmp/QyAAGXR4pD looks good.
ok 2 - Computing differences
Comparing /tmp/mdZzRnurZV to t/mailboxes/mailarc-2.txt
Output /tmp/mdZzRnurZV looks good.
ok 3 - Computing differences
ok 4 # skip GNU grep not available
Testing filename: t/mailboxes/mailarc-2.txt.gz
Comparing /tmp/IpwKDtnU5I to t/mailboxes/mailarc-2.txt
Output /tmp/IpwKDtnU5I looks good.
ok 5 - Computing differences
Comparing /tmp/xlEhr4TN_N to t/mailboxes/mailarc-2.txt
Output /tmp/xlEhr4TN_N looks good.
ok 6 - Computing differences
Comparing /tmp/4SoU_DiKLz to t/mailboxes/mailarc-2.txt
Output /tmp/4SoU_DiKLz looks good.
ok 7 - Computing differences
ok 8 # skip GNU grep not available
Testing filename: t/mailboxes/mailarc-2.txt.lz
ok 9 # skip lzip not available
ok 10 # skip lzip not available
ok 11 # skip lzip not available
ok 12 # skip lzip not available
Testing filename: t/mailboxes/mailarc-2.txt.xz
Comparing /tmp/w5J9zijjNz to t/mailboxes/mailarc-2.txt
Output /tmp/w5J9zijjNz looks good.
ok 13 - Computing differences
Comparing /tmp/CwssqIL1Bx to t/mailboxes/mailarc-2.txt
Output /tmp/CwssqIL1Bx looks good.
ok 14 - Computing differences
Comparing /tmp/4zv9glms8y to t/mailboxes/mailarc-2.txt
Output /tmp/4zv9glms8y looks good.
ok 15 - Computing differences
ok 16 # skip GNU grep not available
ok
t/filehandle_noncompressed.t ....
1..44
Testing filename: t/mailboxes/binary_body.txt
Comparing /tmp/QbFbc8JXhj to t/mailboxes/binary_body.txt
Output /tmp/QbFbc8JXhj looks good.
ok 1 - Computing differences
Comparing /tmp/nGarW53Ru8 to t/mailboxes/binary_body.txt
Output /tmp/nGarW53Ru8 looks good.
ok 2 - Computing differences
Comparing /tmp/7yzvole9ut to t/mailboxes/binary_body.txt
Output /tmp/7yzvole9ut looks good.
ok 3 - Computing differences
ok 4 # skip GNU grep not available
Testing filename: t/mailboxes/hessbug.txt
Comparing /tmp/oc7ix4VEGY to t/mailboxes/hessbug.txt
Output /tmp/oc7ix4VEGY looks good.
ok 5 - Computing differences
Comparing /tmp/XkpZn3beyz to t/mailboxes/hessbug.txt
Output /tmp/XkpZn3beyz looks good.
ok 6 - Computing differences
Comparing /tmp/flrEhXaeV4 to t/mailboxes/hessbug.txt
Output /tmp/flrEhXaeV4 looks good.
ok 7 - Computing differences
ok 8 # skip GNU grep not available
Testing filename: t/mailboxes/invalid-boundaries.txt
Comparing /tmp/wahtxPi8S5 to t/mailboxes/invalid-boundaries.txt
Output /tmp/wahtxPi8S5 looks good.
ok 9 - Computing differences
Comparing /tmp/VoerUhqdVd to t/mailboxes/invalid-boundaries.txt
Output /tmp/VoerUhqdVd looks good.
ok 10 - Computing differences
Comparing /tmp/J_QVvD6e0n to t/mailboxes/invalid-boundaries.txt
Output /tmp/J_QVvD6e0n looks good.
ok 11 - Computing differences
ok 12 # skip GNU grep not available
Testing filename: t/mailboxes/mailarc-1-dos.txt
Comparing /tmp/ivsREzabZu to t/mailboxes/mailarc-1-dos.txt
Output /tmp/ivsREzabZu looks good.
ok 13 - Computing differences
Comparing /tmp/hebCyzFbj1 to t/mailboxes/mailarc-1-dos.txt
Output /tmp/hebCyzFbj1 looks good.
ok 14 - Computing differences
Comparing /tmp/Q4y9xdafEW to t/mailboxes/mailarc-1-dos.txt
Output /tmp/Q4y9xdafEW looks good.
ok 15 - Computing differences
ok 16 # skip GNU grep not available
Testing filename: t/mailboxes/mailarc-1.txt
Comparing /tmp/FckuKwRVc7 to t/mailboxes/mailarc-1.txt
Output /tmp/FckuKwRVc7 looks good.
ok 17 - Computing differences
Comparing /tmp/hg43tf26eU to t/mailboxes/mailarc-1.txt
Output /tmp/hg43tf26eU looks good.
ok 18 - Computing differences
Comparing /tmp/r2rl24dqMm to t/mailboxes/mailarc-1.txt
Output /tmp/r2rl24dqMm looks good.
ok 19 - Computing differences
ok 20 # skip GNU grep not available
Testing filename: t/mailboxes/mailarc-2.txt
Comparing /tmp/Isjei00VLy to t/mailboxes/mailarc-2.txt
Output /tmp/Isjei00VLy looks good.
ok 21 - Computing differences
Comparing /tmp/arm4YHPPuv to t/mailboxes/mailarc-2.txt
Output /tmp/arm4YHPPuv looks good.
ok 22 - Computing differences
Comparing /tmp/mzYRpdcHlr to t/mailboxes/mailarc-2.txt
Output /tmp/mzYRpdcHlr looks good.
ok 23 - Computing differences
ok 24 # skip GNU grep not available
Testing filename: t/mailboxes/mailarc-3.txt
Comparing /tmp/OdRRoKZVfS to t/mailboxes/mailarc-3.txt
Output /tmp/OdRRoKZVfS looks good.
ok 25 - Computing differences
Comparing /tmp/saQTTSab9p to t/mailboxes/mailarc-3.txt
Output /tmp/saQTTSab9p looks good.
ok 26 - Computing differences
Comparing /tmp/RZw6gL1PZM to t/mailboxes/mailarc-3.txt
Output /tmp/RZw6gL1PZM looks good.
ok 27 - Computing differences
ok 28 # skip GNU grep not available
Testing filename: t/mailboxes/mailseparators.txt
Comparing /tmp/LaKM_Rrcqy to t/mailboxes/mailseparators.txt
Output /tmp/LaKM_Rrcqy looks good.
ok 29 - Computing differences
Comparing /tmp/OVl4GvC2J5 to t/mailboxes/mailseparators.txt
Output /tmp/OVl4GvC2J5 looks good.
ok 30 - Computing differences
Comparing /tmp/Bbq3XLQhV3 to t/mailboxes/mailseparators.txt
Output /tmp/Bbq3XLQhV3 looks good.
ok 31 - Computing differences
ok 32 # skip GNU grep not available
Testing filename: t/mailboxes/malformed.txt
Comparing /tmp/3pXQy3YFF9 to t/mailboxes/malformed.txt
Output /tmp/3pXQy3YFF9 looks good.
ok 33 - Computing differences
Comparing /tmp/Ib3KhTPC0s to t/mailboxes/malformed.txt
Output /tmp/Ib3KhTPC0s looks good.
ok 34 - Computing differences
Comparing /tmp/de7mw5KPz_ to t/mailboxes/malformed.txt
Output /tmp/de7mw5KPz_ looks good.
ok 35 - Computing differences
ok 36 # skip GNU grep not available
Testing filename: t/mailboxes/newlines_at_beginning.txt
Comparing /tmp/itYvVPPRhk to t/mailboxes/newlines_at_beginning.txt
Output /tmp/itYvVPPRhk looks good.
ok 37 - Computing differences
Comparing /tmp/SUsidAMMyD to t/mailboxes/newlines_at_beginning.txt
Output /tmp/SUsidAMMyD looks good.
ok 38 - Computing differences
Comparing /tmp/fOY5YkU_NR to t/mailboxes/newlines_at_beginning.txt
Output /tmp/fOY5YkU_NR looks good.
ok 39 - Computing differences
ok 40 # skip GNU grep not available
Testing filename: t/mailboxes/vm-emacs.txt
Comparing /tmp/b3icNYw7KD to t/mailboxes/vm-emacs.txt
Output /tmp/b3icNYw7KD looks good.
ok 41 - Computing differences
Comparing /tmp/khzOwIaONB to t/mailboxes/vm-emacs.txt
Output /tmp/khzOwIaONB looks good.
ok 42 - Computing differences
Comparing /tmp/0_ErjfoNO1 to t/mailboxes/vm-emacs.txt
Output /tmp/0_ErjfoNO1 looks good.
ok 43 - Computing differences
ok 44 # skip GNU grep not available
ok
t/filename_compressed.t .........
1..4
Testing filename: t/mailboxes/mailarc-2.txt.bz2
Comparing /tmp/7w1Y5fdaGU to t/mailboxes/mailarc-2.txt
Output /tmp/7w1Y5fdaGU looks good.
ok 1 - Computing differences
Testing filename: t/mailboxes/mailarc-2.txt.gz
Comparing /tmp/ZEauGXu_Zs to t/mailboxes/mailarc-2.txt
Output /tmp/ZEauGXu_Zs looks good.
ok 2 - Computing differences
Testing filename: t/mailboxes/mailarc-2.txt.lz
ok 3 # skip lzip not available
Testing filename: t/mailboxes/mailarc-2.txt.xz
Comparing /tmp/YiQ46F330l to t/mailboxes/mailarc-2.txt
Output /tmp/YiQ46F330l looks good.
ok 4 - Computing differences
ok
t/filename_noncompressed.t ......
1..11
Testing filename: t/mailboxes/binary_body.txt
Comparing /tmp/j4UO_X0X03 to t/mailboxes/binary_body.txt
Output /tmp/j4UO_X0X03 looks good.
ok 1 - Computing differences
Testing filename: t/mailboxes/hessbug.txt
Comparing /tmp/6z21XjKoHA to t/mailboxes/hessbug.txt
Output /tmp/6z21XjKoHA looks good.
ok 2 - Computing differences
Testing filename: t/mailboxes/invalid-boundaries.txt
Comparing /tmp/c0vgD9uUZD to t/mailboxes/invalid-boundaries.txt
Output /tmp/c0vgD9uUZD looks good.
ok 3 - Computing differences
Testing filename: t/mailboxes/mailarc-1-dos.txt
Comparing /tmp/KrxiP71cpg to t/mailboxes/mailarc-1-dos.txt
Output /tmp/KrxiP71cpg looks good.
ok 4 - Computing differences
Testing filename: t/mailboxes/mailarc-1.txt
Comparing /tmp/AksjXKuhEq to t/mailboxes/mailarc-1.txt
Output /tmp/AksjXKuhEq looks good.
ok 5 - Computing differences
Testing filename: t/mailboxes/mailarc-2.txt
Comparing /tmp/Gaxyh2kYrg to t/mailboxes/mailarc-2.txt
Output /tmp/Gaxyh2kYrg looks good.
ok 6 - Computing differences
Testing filename: t/mailboxes/mailarc-3.txt
Comparing /tmp/TylhDNMsw5 to t/mailboxes/mailarc-3.txt
Output /tmp/TylhDNMsw5 looks good.
ok 7 - Computing differences
Testing filename: t/mailboxes/mailseparators.txt
Comparing /tmp/V5ZA72Tuws to t/mailboxes/mailseparators.txt
Output /tmp/V5ZA72Tuws looks good.
ok 8 - Computing differences
Testing filename: t/mailboxes/malformed.txt
Comparing /tmp/dT7jadYvEc to t/mailboxes/malformed.txt
Output /tmp/dT7jadYvEc looks good.
ok 9 - Computing differences
Testing filename: t/mailboxes/newlines_at_beginning.txt
Comparing /tmp/c447sfDi5P to t/mailboxes/newlines_at_beginning.txt
Output /tmp/c447sfDi5P looks good.
ok 10 - Computing differences
Testing filename: t/mailboxes/vm-emacs.txt
Comparing /tmp/o4EEKxSWhp to t/mailboxes/vm-emacs.txt
Output /tmp/o4EEKxSWhp looks good.
ok 11 - Computing differences
ok
t/grep.t ........................
1..4
Running test:
unset LC_ALL LC_COLLATE LANG LC_CTYPE LC_MESSAGES; grep --extended-regexp --line-number --byte-offset --binary-files=text "^From [^:]+(:[0-9][0-9]){1,2}( *([A-Z]{2,6}|[+-]?[0-9]{4})){1,3}( remote from .*)?
?$" t/mailboxes/mailarc-1.txt
ok 1 # skip 1
Running test:
unset LC_ALL LC_COLLATE LANG LC_CTYPE LC_MESSAGES; grep --extended-regexp --line-number --byte-offset --binary-files=text "^From [^:]+(:[0-9][0-9]){1,2}( *([A-Z]{2,6}|[+-]?[0-9]{4})){1,3}( remote from .*)?
?$" t/mailboxes/mailarc-2.txt
ok 2 # skip 1
Running test:
unset LC_ALL LC_COLLATE LANG LC_CTYPE LC_MESSAGES; grep --extended-regexp --line-number --byte-offset --binary-files=text "^From [^:]+(:[0-9][0-9]){1,2}( *([A-Z]{2,6}|[+-]?[0-9]{4})){1,3}( remote from .*)?
?$" t/mailboxes/mailarc-3.txt
ok 3 # skip 1
Running test:
unset LC_ALL LC_COLLATE LANG LC_CTYPE LC_MESSAGES; grep --extended-regexp --line-number --byte-offset --binary-files=text "^From [^:]+(:[0-9][0-9]){1,2}( *([A-Z]{2,6}|[+-]?[0-9]{4})){1,3}( remote from .*)?
?$" t/mailboxes/mailseparators.txt
ok 4 # skip 1
ok
t/gzip.t ........................
1..1
Running test:
"/bin/cat" "t/mailboxes/mailarc-2.txt.gz" | "/usr/bin/gzip" -cd
Comparing /tmp/heLnL0sLre to t/results/mailarc-2.txt
Output /tmp/heLnL0sLre looks good.
Comparing /tmp/NaJsdG9Q3M to t/results/none
Output /tmp/NaJsdG9Q3M looks good.
ok 1 - Computing differences
ok
t/length.t ......................
1..30
Testing filename: t/mailboxes/binary_body.txt
Comparing /tmp/CWsiIgy1Zd to t/results/length_binary_body.stdout
Output /tmp/CWsiIgy1Zd looks good.
ok 1 - Computing differences
Comparing /tmp/V3_Z8shRFo to t/results/length_binary_body.stdout
Output /tmp/V3_Z8shRFo looks good.
ok 2 - Computing differences
ok 3 # skip GNU grep not available
Testing filename: t/mailboxes/hessbug.txt
Comparing /tmp/7yOeAm010y to t/results/length_hessbug.stdout
Output /tmp/7yOeAm010y looks good.
ok 4 - Computing differences
Comparing /tmp/XlW4cG6SWB to t/results/length_hessbug.stdout
Output /tmp/XlW4cG6SWB looks good.
ok 5 - Computing differences
ok 6 # skip GNU grep not available
Testing filename: t/mailboxes/invalid-boundaries.txt
Comparing /tmp/Klq9tTFeW3 to t/results/length_invalid-boundaries.stdout
Output /tmp/Klq9tTFeW3 looks good.
ok 7 - Computing differences
Comparing /tmp/6X0_os3jo3 to t/results/length_invalid-boundaries.stdout
Output /tmp/6X0_os3jo3 looks good.
ok 8 - Computing differences
ok 9 # skip GNU grep not available
Testing filename: t/mailboxes/mailarc-1-dos.txt
Comparing /tmp/YZclabldjA to t/results/length_mailarc-1-dos.stdout
Output /tmp/YZclabldjA looks good.
ok 10 - Computing differences
Comparing /tmp/gVXh_sf619 to t/results/length_mailarc-1-dos.stdout
Output /tmp/gVXh_sf619 looks good.
ok 11 - Computing differences
ok 12 # skip GNU grep not available
Testing filename: t/mailboxes/mailarc-1.txt
Comparing /tmp/aDZQ_Ot4Z_ to t/results/length_mailarc-1.stdout
Output /tmp/aDZQ_Ot4Z_ looks good.
ok 13 - Computing differences
Comparing /tmp/5TekFEUs6d to t/results/length_mailarc-1.stdout
Output /tmp/5TekFEUs6d looks good.
ok 14 - Computing differences
ok 15 # skip GNU grep not available
Testing filename: t/mailboxes/mailarc-2.txt
Comparing /tmp/wyJsjXWMV9 to t/results/length_mailarc-2.stdout
Output /tmp/wyJsjXWMV9 looks good.
ok 16 - Computing differences
Comparing /tmp/P4ZT8hYXjs to t/results/length_mailarc-2.stdout
Output /tmp/P4ZT8hYXjs looks good.
ok 17 - Computing differences
ok 18 # skip GNU grep not available
Testing filename: t/mailboxes/mailarc-3.txt
Comparing /tmp/sQKPStqAv0 to t/results/length_mailarc-3.stdout
Output /tmp/sQKPStqAv0 looks good.
ok 19 - Computing differences
Comparing /tmp/F2xPrUtaud to t/results/length_mailarc-3.stdout
Output /tmp/F2xPrUtaud looks good.
ok 20 - Computing differences
ok 21 # skip GNU grep not available
Testing filename: t/mailboxes/mailseparators.txt
Comparing /tmp/xkc_xqzGFj to t/results/length_mailseparators.stdout
Output /tmp/xkc_xqzGFj looks good.
ok 22 - Computing differences
Comparing /tmp/hJlQcTzi9B to t/results/length_mailseparators.stdout
Output /tmp/hJlQcTzi9B looks good.
ok 23 - Computing differences
ok 24 # skip GNU grep not available
Testing filename: t/mailboxes/malformed.txt
Comparing /tmp/rmL9vGzL84 to t/results/length_malformed.stdout
Output /tmp/rmL9vGzL84 looks good.
ok 25 - Computing differences
Comparing /tmp/gmQSvctBXB to t/results/length_malformed.stdout
Output /tmp/gmQSvctBXB looks good.
ok 26 - Computing differences
ok 27 # skip GNU grep not available
Testing filename: t/mailboxes/newlines_at_beginning.txt
Comparing /tmp/WQnDH9Y2KK to t/results/length_newlines_at_beginning.stdout
Output /tmp/WQnDH9Y2KK looks good.
ok 28 - Computing differences
Comparing /tmp/8Xk76GADmH to t/results/length_newlines_at_beginning.stdout
Output /tmp/8Xk76GADmH looks good.
ok 29 - Computing differences
ok 30 # skip GNU grep not available
ok
t/line_number.t .................
1..30
Testing filename: t/mailboxes/binary_body.txt
Comparing /tmp/lBWCHW6Kye to t/results/line_number_binary_body.stdout
Output /tmp/lBWCHW6Kye looks good.
ok 1 - Computing differences
Comparing /tmp/HhJ7RODVEn to t/results/line_number_binary_body.stdout
Output /tmp/HhJ7RODVEn looks good.
ok 2 - Computing differences
ok 3 # skip GNU grep not available
Testing filename: t/mailboxes/hessbug.txt
Comparing /tmp/mPWL2VHY59 to t/results/line_number_hessbug.stdout
Output /tmp/mPWL2VHY59 looks good.
ok 4 - Computing differences
Comparing /tmp/029YhzkR__ to t/results/line_number_hessbug.stdout
Output /tmp/029YhzkR__ looks good.
ok 5 - Computing differences
ok 6 # skip GNU grep not available
Testing filename: t/mailboxes/invalid-boundaries.txt
Comparing /tmp/GtPxSUMPe5 to t/results/line_number_invalid-boundaries.stdout
Output /tmp/GtPxSUMPe5 looks good.
ok 7 - Computing differences
Comparing /tmp/YzrXNmS2Yl to t/results/line_number_invalid-boundaries.stdout
Output /tmp/YzrXNmS2Yl looks good.
ok 8 - Computing differences
ok 9 # skip GNU grep not available
Testing filename: t/mailboxes/mailarc-1-dos.txt
Comparing /tmp/px8uEtHwzp to t/results/line_number_mailarc-1-dos.stdout
Output /tmp/px8uEtHwzp looks good.
ok 10 - Computing differences
Comparing /tmp/WX9UBGUjIX to t/results/line_number_mailarc-1-dos.stdout
Output /tmp/WX9UBGUjIX looks good.
ok 11 - Computing differences
ok 12 # skip GNU grep not available
Testing filename: t/mailboxes/mailarc-1.txt
Comparing /tmp/4YmB9nuxpg to t/results/line_number_mailarc-1.stdout
Output /tmp/4YmB9nuxpg looks good.
ok 13 - Computing differences
Comparing /tmp/x6VFlOtydt to t/results/line_number_mailarc-1.stdout
Output /tmp/x6VFlOtydt looks good.
ok 14 - Computing differences
ok 15 # skip GNU grep not available
Testing filename: t/mailboxes/mailarc-2.txt
Comparing /tmp/ezHh0m8ikx to t/results/line_number_mailarc-2.stdout
Output /tmp/ezHh0m8ikx looks good.
ok 16 - Computing differences
Comparing /tmp/VwADfD_UdZ to t/results/line_number_mailarc-2.stdout
Output /tmp/VwADfD_UdZ looks good.
ok 17 - Computing differences
ok 18 # skip GNU grep not available
Testing filename: t/mailboxes/mailarc-3.txt
Comparing /tmp/nzRAdDjHkG to t/results/line_number_mailarc-3.stdout
Output /tmp/nzRAdDjHkG looks good.
ok 19 - Computing differences
Comparing /tmp/CY0dbA0f9p to t/results/line_number_mailarc-3.stdout
Output /tmp/CY0dbA0f9p looks good.
ok 20 - Computing differences
ok 21 # skip GNU grep not available
Testing filename: t/mailboxes/mailseparators.txt
Comparing /tmp/ivLMD6Wo4i to t/results/line_number_mailseparators.stdout
Output /tmp/ivLMD6Wo4i looks good.
ok 22 - Computing differences
Comparing /tmp/sfeRmPofAt to t/results/line_number_mailseparators.stdout
Output /tmp/sfeRmPofAt looks good.
ok 23 - Computing differences
ok 24 # skip GNU grep not available
Testing filename: t/mailboxes/malformed.txt
Comparing /tmp/LhSjcsfLvu to t/results/line_number_malformed.stdout
Output /tmp/LhSjcsfLvu looks good.
ok 25 - Computing differences
Comparing /tmp/jNQLFAQy0K to t/results/line_number_malformed.stdout
Output /tmp/jNQLFAQy0K looks good.
ok 26 - Computing differences
ok 27 # skip GNU grep not available
Testing filename: t/mailboxes/newlines_at_beginning.txt
Comparing /tmp/1UrlxzbTl4 to t/results/line_number_newlines_at_beginning.stdout
Output /tmp/1UrlxzbTl4 looks good.
ok 28 - Computing differences
Comparing /tmp/N4xr7ng8em to t/results/line_number_newlines_at_beginning.stdout
Output /tmp/N4xr7ng8em looks good.
ok 29 - Computing differences
ok 30 # skip GNU grep not available
ok
t/lzip.t ........................
1..1
Running test:
"/bin/cat" "t/mailboxes/mailarc-2.txt.lz" | "lzip" -cd
ok 1 # skip lzip not available
ok
t/number.t ......................
1..30
Testing filename: t/mailboxes/binary_body.txt
Comparing /tmp/anKoSt7dgg to t/results/number_binary_body.stdout
Output /tmp/anKoSt7dgg looks good.
ok 1 - Computing differences
Comparing /tmp/U0IHIUk2FZ to t/results/number_binary_body.stdout
Output /tmp/U0IHIUk2FZ looks good.
ok 2 - Computing differences
ok 3 # skip GNU grep not available
Testing filename: t/mailboxes/hessbug.txt
Comparing /tmp/ZUhtEeM8bQ to t/results/number_hessbug.stdout
Output /tmp/ZUhtEeM8bQ looks good.
ok 4 - Computing differences
Comparing /tmp/3MCpjeQ3Zy to t/results/number_hessbug.stdout
Output /tmp/3MCpjeQ3Zy looks good.
ok 5 - Computing differences
ok 6 # skip GNU grep not available
Testing filename: t/mailboxes/invalid-boundaries.txt
Comparing /tmp/lu7KpjQtNd to t/results/number_invalid-boundaries.stdout
Output /tmp/lu7KpjQtNd looks good.
ok 7 - Computing differences
Comparing /tmp/0bID3Ufihk to t/results/number_invalid-boundaries.stdout
Output /tmp/0bID3Ufihk looks good.
ok 8 - Computing differences
ok 9 # skip GNU grep not available
Testing filename: t/mailboxes/mailarc-1-dos.txt
Comparing /tmp/8ygfv2fbDC to t/results/number_mailarc-1-dos.stdout
Output /tmp/8ygfv2fbDC looks good.
ok 10 - Computing differences
Comparing /tmp/vzGots8ZaY to t/results/number_mailarc-1-dos.stdout
Output /tmp/vzGots8ZaY looks good.
ok 11 - Computing differences
ok 12 # skip GNU grep not available
Testing filename: t/mailboxes/mailarc-1.txt
Comparing /tmp/HpZHS5lvPV to t/results/number_mailarc-1.stdout
Output /tmp/HpZHS5lvPV looks good.
ok 13 - Computing differences
Comparing /tmp/_C2ZVaFylS to t/results/number_mailarc-1.stdout
Output /tmp/_C2ZVaFylS looks good.
ok 14 - Computing differences
ok 15 # skip GNU grep not available
Testing filename: t/mailboxes/mailarc-2.txt
Comparing /tmp/cQfGZ1uGkQ to t/results/number_mailarc-2.stdout
Output /tmp/cQfGZ1uGkQ looks good.
ok 16 - Computing differences
Comparing /tmp/hrZPk9rIiy to t/results/number_mailarc-2.stdout
Output /tmp/hrZPk9rIiy looks good.
ok 17 - Computing differences
ok 18 # skip GNU grep not available
Testing filename: t/mailboxes/mailarc-3.txt
Comparing /tmp/emfNakS96j to t/results/number_mailarc-3.stdout
Output /tmp/emfNakS96j looks good.
ok 19 - Computing differences
Comparing /tmp/_pzKDttMq6 to t/results/number_mailarc-3.stdout
Output /tmp/_pzKDttMq6 looks good.
ok 20 - Computing differences
ok 21 # skip GNU grep not available
Testing filename: t/mailboxes/mailseparators.txt
Comparing /tmp/ayO6HpHPCA to t/results/number_mailseparators.stdout
Output /tmp/ayO6HpHPCA looks good.
ok 22 - Computing differences
Comparing /tmp/1CWGmRoctt to t/results/number_mailseparators.stdout
Output /tmp/1CWGmRoctt looks good.
ok 23 - Computing differences
ok 24 # skip GNU grep not available
Testing filename: t/mailboxes/malformed.txt
Comparing /tmp/2C4RLK17Va to t/results/number_malformed.stdout
Output /tmp/2C4RLK17Va looks good.
ok 25 - Computing differences
Comparing /tmp/LYWEf4YU1j to t/results/number_malformed.stdout
Output /tmp/LYWEf4YU1j looks good.
ok 26 - Computing differences
ok 27 # skip GNU grep not available
Testing filename: t/mailboxes/newlines_at_beginning.txt
Comparing /tmp/aSICpNx8Gr to t/results/number_newlines_at_beginning.stdout
Output /tmp/aSICpNx8Gr looks good.
ok 28 - Computing differences
Comparing /tmp/of1MuesOH9 to t/results/number_newlines_at_beginning.stdout
Output /tmp/of1MuesOH9 looks good.
ok 29 - Computing differences
ok 30 # skip GNU grep not available
ok
t/offset.t ......................
1..30
Testing filename: t/mailboxes/binary_body.txt
Comparing /tmp/naaotB5kon to t/results/offset_binary_body.stdout
Output /tmp/naaotB5kon looks good.
ok 1 - Computing differences
Comparing /tmp/Uh4LOkFCln to t/results/offset_binary_body.stdout
Output /tmp/Uh4LOkFCln looks good.
ok 2 - Computing differences
ok 3 # skip GNU grep not available
Testing filename: t/mailboxes/hessbug.txt
Comparing /tmp/ypJnC2Hp6i to t/results/offset_hessbug.stdout
Output /tmp/ypJnC2Hp6i looks good.
ok 4 - Computing differences
Comparing /tmp/rxjPG_FGa6 to t/results/offset_hessbug.stdout
Output /tmp/rxjPG_FGa6 looks good.
ok 5 - Computing differences
ok 6 # skip GNU grep not available
Testing filename: t/mailboxes/invalid-boundaries.txt
Comparing /tmp/MgAdj9xNMH to t/results/offset_invalid-boundaries.stdout
Output /tmp/MgAdj9xNMH looks good.
ok 7 - Computing differences
Comparing /tmp/4gY3fO6Uxj to t/results/offset_invalid-boundaries.stdout
Output /tmp/4gY3fO6Uxj looks good.
ok 8 - Computing differences
ok 9 # skip GNU grep not available
Testing filename: t/mailboxes/mailarc-1-dos.txt
Comparing /tmp/timlMYMvl2 to t/results/offset_mailarc-1-dos.stdout
Output /tmp/timlMYMvl2 looks good.
ok 10 - Computing differences
Comparing /tmp/sCtCAI4po4 to t/results/offset_mailarc-1-dos.stdout
Output /tmp/sCtCAI4po4 looks good.
ok 11 - Computing differences
ok 12 # skip GNU grep not available
Testing filename: t/mailboxes/mailarc-1.txt
Comparing /tmp/vajDcfyOVW to t/results/offset_mailarc-1.stdout
Output /tmp/vajDcfyOVW looks good.
ok 13 - Computing differences
Comparing /tmp/xnLUANJS9n to t/results/offset_mailarc-1.stdout
Output /tmp/xnLUANJS9n looks good.
ok 14 - Computing differences
ok 15 # skip GNU grep not available
Testing filename: t/mailboxes/mailarc-2.txt
Comparing /tmp/yblv7hC6Eg to t/results/offset_mailarc-2.stdout
Output /tmp/yblv7hC6Eg looks good.
ok 16 - Computing differences
Comparing /tmp/9NezIGaP2H to t/results/offset_mailarc-2.stdout
Output /tmp/9NezIGaP2H looks good.
ok 17 - Computing differences
ok 18 # skip GNU grep not available
Testing filename: t/mailboxes/mailarc-3.txt
Comparing /tmp/5CQWhs5QfU to t/results/offset_mailarc-3.stdout
Output /tmp/5CQWhs5QfU looks good.
ok 19 - Computing differences
Comparing /tmp/o73PCsSRHF to t/results/offset_mailarc-3.stdout
Output /tmp/o73PCsSRHF looks good.
ok 20 - Computing differences
ok 21 # skip GNU grep not available
Testing filename: t/mailboxes/mailseparators.txt
Comparing /tmp/MSUS3DMmt0 to t/results/offset_mailseparators.stdout
Output /tmp/MSUS3DMmt0 looks good.
ok 22 - Computing differences
Comparing /tmp/15r9pyO0uB to t/results/offset_mailseparators.stdout
Output /tmp/15r9pyO0uB looks good.
ok 23 - Computing differences
ok 24 # skip GNU grep not available
Testing filename: t/mailboxes/malformed.txt
Comparing /tmp/BoC6PuMLfC to t/results/offset_malformed.stdout
Output /tmp/BoC6PuMLfC looks good.
ok 25 - Computing differences
Comparing /tmp/5EGgq6dhKg to t/results/offset_malformed.stdout
Output /tmp/5EGgq6dhKg looks good.
ok 26 - Computing differences
ok 27 # skip GNU grep not available
Testing filename: t/mailboxes/newlines_at_beginning.txt
Comparing /tmp/Nk1SzKItZT to t/results/offset_newlines_at_beginning.stdout
Output /tmp/Nk1SzKItZT looks good.
ok 28 - Computing differences
Comparing /tmp/vO2QIFlVba to t/results/offset_newlines_at_beginning.stdout
Output /tmp/vO2QIFlVba looks good.
ok 29 - Computing differences
ok 30 # skip GNU grep not available
ok
t/prologue.t ....................
1..33
Testing filename: t/mailboxes/binary_body.txt
Comparing /tmp/9jSbeEdvy4 to t/mailboxes/binary_body.txt
Output /tmp/9jSbeEdvy4 looks good.
ok 1 - Computing differences
Comparing /tmp/67XIVenatI to t/mailboxes/binary_body.txt
Output /tmp/67XIVenatI looks good.
ok 2 - Computing differences
ok 3 # skip GNU grep not available
Testing filename: t/mailboxes/hessbug.txt
Comparing /tmp/dWlG9EXcIf to t/mailboxes/hessbug.txt
Output /tmp/dWlG9EXcIf looks good.
ok 4 - Computing differences
Comparing /tmp/tUBhv4S5e1 to t/mailboxes/hessbug.txt
Output /tmp/tUBhv4S5e1 looks good.
ok 5 - Computing differences
ok 6 # skip GNU grep not available
Testing filename: t/mailboxes/invalid-boundaries.txt
Comparing /tmp/mc_Ny2yxYF to t/mailboxes/invalid-boundaries.txt
Output /tmp/mc_Ny2yxYF looks good.
ok 7 - Computing differences
Comparing /tmp/0TZCNvtWoG to t/mailboxes/invalid-boundaries.txt
Output /tmp/0TZCNvtWoG looks good.
ok 8 - Computing differences
ok 9 # skip GNU grep not available
Testing filename: t/mailboxes/mailarc-1-dos.txt
Comparing /tmp/nbfsYAIeCu to t/mailboxes/mailarc-1-dos.txt
Output /tmp/nbfsYAIeCu looks good.
ok 10 - Computing differences
Comparing /tmp/2C3em2gMFa to t/mailboxes/mailarc-1-dos.txt
Output /tmp/2C3em2gMFa looks good.
ok 11 - Computing differences
ok 12 # skip GNU grep not available
Testing filename: t/mailboxes/mailarc-1.txt
Comparing /tmp/r4EWSHbRSH to t/mailboxes/mailarc-1.txt
Output /tmp/r4EWSHbRSH looks good.
ok 13 - Computing differences
Comparing /tmp/Km2GjgXMuS to t/mailboxes/mailarc-1.txt
Output /tmp/Km2GjgXMuS looks good.
ok 14 - Computing differences
ok 15 # skip GNU grep not available
Testing filename: t/mailboxes/mailarc-2.txt
Comparing /tmp/QHQLYj2zC2 to t/mailboxes/mailarc-2.txt
Output /tmp/QHQLYj2zC2 looks good.
ok 16 - Computing differences
Comparing /tmp/p1KgZDgIHm to t/mailboxes/mailarc-2.txt
Output /tmp/p1KgZDgIHm looks good.
ok 17 - Computing differences
ok 18 # skip GNU grep not available
Testing filename: t/mailboxes/mailarc-3.txt
Comparing /tmp/EqqWpmytHk to t/mailboxes/mailarc-3.txt
Output /tmp/EqqWpmytHk looks good.
ok 19 - Computing differences
Comparing /tmp/6HHAnKi1ue to t/mailboxes/mailarc-3.txt
Output /tmp/6HHAnKi1ue looks good.
ok 20 - Computing differences
ok 21 # skip GNU grep not available
Testing filename: t/mailboxes/mailseparators.txt
Comparing /tmp/SH2aNgzZMu to t/mailboxes/mailseparators.txt
Output /tmp/SH2aNgzZMu looks good.
ok 22 - Computing differences
Comparing /tmp/39tmxhHXDw to t/mailboxes/mailseparators.txt
Output /tmp/39tmxhHXDw looks good.
ok 23 - Computing differences
ok 24 # skip GNU grep not available
Testing filename: t/mailboxes/malformed.txt
Comparing /tmp/XvTh547K07 to t/mailboxes/malformed.txt
Output /tmp/XvTh547K07 looks good.
ok 25 - Computing differences
Comparing /tmp/AaG0f8Zcci to t/mailboxes/malformed.txt
Output /tmp/AaG0f8Zcci looks good.
ok 26 - Computing differences
ok 27 # skip GNU grep not available
Testing filename: t/mailboxes/newlines_at_beginning.txt
Comparing /tmp/0grYQ8u_FQ to t/mailboxes/newlines_at_beginning.txt
Output /tmp/0grYQ8u_FQ looks good.
ok 28 - Computing differences
Comparing /tmp/X5sZ0FX56Y to t/mailboxes/newlines_at_beginning.txt
Output /tmp/X5sZ0FX56Y looks good.
ok 29 - Computing differences
ok 30 # skip GNU grep not available
Testing filename: t/mailboxes/vm-emacs.txt
Comparing /tmp/amCRE2_IiC to t/mailboxes/vm-emacs.txt
Output /tmp/amCRE2_IiC looks good.
ok 31 - Computing differences
Comparing /tmp/Egk05EZkRc to t/mailboxes/vm-emacs.txt
Output /tmp/Egk05EZkRc looks good.
ok 32 - Computing differences
ok 33 # skip GNU grep not available
ok
t/reset.t .......................
1..60
Testing filename: t/mailboxes/binary_body.txt
Testing partial mailbox reset with Perl implementation
Comparing /tmp/n2eMDNUc5O to t/results/reset_binary_body.stdout
Output /tmp/n2eMDNUc5O looks good.
ok 1 - Computing differences
Testing partial mailbox reset with Cache implementation
Comparing /tmp/wkX1CYPUQ_ to t/results/reset_binary_body.stdout
Output /tmp/wkX1CYPUQ_ looks good.
ok 2 - Computing differences
Testing partial mailbox reset with Grep implementation
ok 3 # skip GNU grep not available
Testing full mailbox reset with Perl implementation
Comparing /tmp/naCCYJXwtb to t/results/reset_binary_body.stdout
Output /tmp/naCCYJXwtb looks good.
ok 4 - Computing differences
Testing full mailbox reset with Cache implementation
Comparing /tmp/fyE0VOltE3 to t/results/reset_binary_body.stdout
Output /tmp/fyE0VOltE3 looks good.
ok 5 - Computing differences
Testing full mailbox reset with Grep implementation
ok 6 # skip GNU grep not available
Testing filename: t/mailboxes/hessbug.txt
Testing partial mailbox reset with Perl implementation
Comparing /tmp/LGxaB6kWbg to t/results/reset_hessbug.stdout
Output /tmp/LGxaB6kWbg looks good.
ok 7 - Computing differences
Testing partial mailbox reset with Cache implementation
Comparing /tmp/l7NuUYBgmz to t/results/reset_hessbug.stdout
Output /tmp/l7NuUYBgmz looks good.
ok 8 - Computing differences
Testing partial mailbox reset with Grep implementation
ok 9 # skip GNU grep not available
Testing full mailbox reset with Perl implementation
Comparing /tmp/5zNsJDsUQe to t/results/reset_hessbug.stdout
Output /tmp/5zNsJDsUQe looks good.
ok 10 - Computing differences
Testing full mailbox reset with Cache implementation
Comparing /tmp/Mq_9JO3Wek to t/results/reset_hessbug.stdout
Output /tmp/Mq_9JO3Wek looks good.
ok 11 - Computing differences
Testing full mailbox reset with Grep implementation
ok 12 # skip GNU grep not available
Testing filename: t/mailboxes/invalid-boundaries.txt
Testing partial mailbox reset with Perl implementation
Comparing /tmp/J5gOehg6gG to t/results/reset_invalid-boundaries.stdout
Output /tmp/J5gOehg6gG looks good.
ok 13 - Computing differences
Testing partial mailbox reset with Cache implementation
Comparing /tmp/qOwinbPwH9 to t/results/reset_invalid-boundaries.stdout
Output /tmp/qOwinbPwH9 looks good.
ok 14 - Computing differences
Testing partial mailbox reset with Grep implementation
ok 15 # skip GNU grep not available
Testing full mailbox reset with Perl implementation
Comparing /tmp/JFbl8QDOty to t/results/reset_invalid-boundaries.stdout
Output /tmp/JFbl8QDOty looks good.
ok 16 - Computing differences
Testing full mailbox reset with Cache implementation
Comparing /tmp/__XleK2WVa to t/results/reset_invalid-boundaries.stdout
Output /tmp/__XleK2WVa looks good.
ok 17 - Computing differences
Testing full mailbox reset with Grep implementation
ok 18 # skip GNU grep not available
Testing filename: t/mailboxes/mailarc-1-dos.txt
Testing partial mailbox reset with Perl implementation
Comparing /tmp/GeQCboJPvt to t/results/reset_mailarc-1-dos.stdout
Output /tmp/GeQCboJPvt looks good.
ok 19 - Computing differences
Testing partial mailbox reset with Cache implementation
Comparing /tmp/rli9eYInKr to t/results/reset_mailarc-1-dos.stdout
Output /tmp/rli9eYInKr looks good.
ok 20 - Computing differences
Testing partial mailbox reset with Grep implementation
ok 21 # skip GNU grep not available
Testing full mailbox reset with Perl implementation
Comparing /tmp/SW0iTSNf2K to t/results/reset_mailarc-1-dos.stdout
Output /tmp/SW0iTSNf2K looks good.
ok 22 - Computing differences
Testing full mailbox reset with Cache implementation
Comparing /tmp/Eb75oHcr1q to t/results/reset_mailarc-1-dos.stdout
Output /tmp/Eb75oHcr1q looks good.
ok 23 - Computing differences
Testing full mailbox reset with Grep implementation
ok 24 # skip GNU grep not available
Testing filename: t/mailboxes/mailarc-1.txt
Testing partial mailbox reset with Perl implementation
Comparing /tmp/3gPjAz6Qa4 to t/results/reset_mailarc-1.stdout
Output /tmp/3gPjAz6Qa4 looks good.
ok 25 - Computing differences
Testing partial mailbox reset with Cache implementation
Comparing /tmp/eH597fsiQo to t/results/reset_mailarc-1.stdout
Output /tmp/eH597fsiQo looks good.
ok 26 - Computing differences
Testing partial mailbox reset with Grep implementation
ok 27 # skip GNU grep not available
Testing full mailbox reset with Perl implementation
Comparing /tmp/sFFucyC_5E to t/results/reset_mailarc-1.stdout
Output /tmp/sFFucyC_5E looks good.
ok 28 - Computing differences
Testing full mailbox reset with Cache implementation
Comparing /tmp/tXrZ4MNEn4 to t/results/reset_mailarc-1.stdout
Output /tmp/tXrZ4MNEn4 looks good.
ok 29 - Computing differences
Testing full mailbox reset with Grep implementation
ok 30 # skip GNU grep not available
Testing filename: t/mailboxes/mailarc-2.txt
Testing partial mailbox reset with Perl implementation
Comparing /tmp/d3QfpflKjC to t/results/reset_mailarc-2.stdout
Output /tmp/d3QfpflKjC looks good.
ok 31 - Computing differences
Testing partial mailbox reset with Cache implementation
Comparing /tmp/ia1786anIf to t/results/reset_mailarc-2.stdout
Output /tmp/ia1786anIf looks good.
ok 32 - Computing differences
Testing partial mailbox reset with Grep implementation
ok 33 # skip GNU grep not available
Testing full mailbox reset with Perl implementation
Comparing /tmp/jEyVFnNo9e to t/results/reset_mailarc-2.stdout
Output /tmp/jEyVFnNo9e looks good.
ok 34 - Computing differences
Testing full mailbox reset with Cache implementation
Comparing /tmp/XwH3UYYrhp to t/results/reset_mailarc-2.stdout
Output /tmp/XwH3UYYrhp looks good.
ok 35 - Computing differences
Testing full mailbox reset with Grep implementation
ok 36 # skip GNU grep not available
Testing filename: t/mailboxes/mailarc-3.txt
Testing partial mailbox reset with Perl implementation
Comparing /tmp/Bz01ZrE8DX to t/results/reset_mailarc-3.stdout
Output /tmp/Bz01ZrE8DX looks good.
ok 37 - Computing differences
Testing partial mailbox reset with Cache implementation
Comparing /tmp/Jxk6yvdpzw to t/results/reset_mailarc-3.stdout
Output /tmp/Jxk6yvdpzw looks good.
ok 38 - Computing differences
Testing partial mailbox reset with Grep implementation
ok 39 # skip GNU grep not available
Testing full mailbox reset with Perl implementation
Comparing /tmp/BytqVVS9cD to t/results/reset_mailarc-3.stdout
Output /tmp/BytqVVS9cD looks good.
ok 40 - Computing differences
Testing full mailbox reset with Cache implementation
Comparing /tmp/fcbDYG3mTX to t/results/reset_mailarc-3.stdout
Output /tmp/fcbDYG3mTX looks good.
ok 41 - Computing differences
Testing full mailbox reset with Grep implementation
ok 42 # skip GNU grep not available
Testing filename: t/mailboxes/mailseparators.txt
Testing partial mailbox reset with Perl implementation
Comparing /tmp/QCIdfpvRyi to t/results/reset_mailseparators.stdout
Output /tmp/QCIdfpvRyi looks good.
ok 43 - Computing differences
Testing partial mailbox reset with Cache implementation
Comparing /tmp/lD03bexTIX to t/results/reset_mailseparators.stdout
Output /tmp/lD03bexTIX looks good.
ok 44 - Computing differences
Testing partial mailbox reset with Grep implementation
ok 45 # skip GNU grep not available
Testing full mailbox reset with Perl implementation
Comparing /tmp/Odhg4R5rva to t/results/reset_mailseparators.stdout
Output /tmp/Odhg4R5rva looks good.
ok 46 - Computing differences
Testing full mailbox reset with Cache implementation
Comparing /tmp/riW4MTZeUA to t/results/reset_mailseparators.stdout
Output /tmp/riW4MTZeUA looks good.
ok 47 - Computing differences
Testing full mailbox reset with Grep implementation
ok 48 # skip GNU grep not available
Testing filename: t/mailboxes/malformed.txt
Testing partial mailbox reset with Perl implementation
Comparing /tmp/rjq889chve to t/results/reset_malformed.stdout
Output /tmp/rjq889chve looks good.
ok 49 - Computing differences
Testing partial mailbox reset with Cache implementation
Comparing /tmp/e25if865yu to t/results/reset_malformed.stdout
Output /tmp/e25if865yu looks good.
ok 50 - Computing differences
Testing partial mailbox reset with Grep implementation
ok 51 # skip GNU grep not available
Testing full mailbox reset with Perl implementation
Comparing /tmp/7jKrkDJ9Cl to t/results/reset_malformed.stdout
Output /tmp/7jKrkDJ9Cl looks good.
ok 52 - Computing differences
Testing full mailbox reset with Cache implementation
Comparing /tmp/SxUZNdJfzm to t/results/reset_malformed.stdout
Output /tmp/SxUZNdJfzm looks good.
ok 53 - Computing differences
Testing full mailbox reset with Grep implementation
ok 54 # skip GNU grep not available
Testing filename: t/mailboxes/newlines_at_beginning.txt
Testing partial mailbox reset with Perl implementation
Comparing /tmp/Tzjyqz55ed to t/results/reset_newlines_at_beginning.stdout
Output /tmp/Tzjyqz55ed looks good.
ok 55 - Computing differences
Testing partial mailbox reset with Cache implementation
Comparing /tmp/3W8j9wa83h to t/results/reset_newlines_at_beginning.stdout
Output /tmp/3W8j9wa83h looks good.
ok 56 - Computing differences
Testing partial mailbox reset with Grep implementation
ok 57 # skip GNU grep not available
Testing full mailbox reset with Perl implementation
Comparing /tmp/Pp7HmsR91X to t/results/reset_newlines_at_beginning.stdout
Output /tmp/Pp7HmsR91X looks good.
ok 58 - Computing differences
Testing full mailbox reset with Cache implementation
Comparing /tmp/KuEqwWenl0 to t/results/reset_newlines_at_beginning.stdout
Output /tmp/KuEqwWenl0 looks good.
ok 59 - Computing differences
Testing full mailbox reset with Grep implementation
ok 60 # skip GNU grep not available
ok
t/separators.t ..................
1..6
Testing filename: t/mailboxes/separators2.sep
ok 1 - Number of emails in t/mailboxes/separators2.sep
ok 2 - Number of emails in t/mailboxes/separators2.sep
ok 3 # skip GNU grep not available
Testing filename: t/mailboxes/separators1.sep
ok 4 - Number of emails in t/mailboxes/separators1.sep
ok 5 - Number of emails in t/mailboxes/separators1.sep
ok 6 # skip GNU grep not available
ok
t/stdin_compressed.t ............
1..4
Testing filename: t/mailboxes/mailarc-2.txt.bz2
Comparing /tmp/81TKXexWN_ to t/mailboxes/mailarc-2.txt
Output /tmp/81TKXexWN_ looks good.
ok 1 - Computing differences
Testing filename: t/mailboxes/mailarc-2.txt.gz
Comparing /tmp/2Nvf1_T6_a to t/mailboxes/mailarc-2.txt
Output /tmp/2Nvf1_T6_a looks good.
ok 2 - Computing differences
Testing filename: t/mailboxes/mailarc-2.txt.lz
ok 3 # skip lzip not available
Testing filename: t/mailboxes/mailarc-2.txt.xz
Comparing /tmp/eRfJyxIOka to t/mailboxes/mailarc-2.txt
Output /tmp/eRfJyxIOka looks good.
ok 4 - Computing differences
ok
t/stdin_uncompressed.t ..........
1..11
Testing filename: t/mailboxes/binary_body.txt
Comparing /tmp/00QJns31YK to t/mailboxes/binary_body.txt
Output /tmp/00QJns31YK looks good.
ok 1 - Computing differences
Testing filename: t/mailboxes/hessbug.txt
Comparing /tmp/_fOQzdsVZR to t/mailboxes/hessbug.txt
Output /tmp/_fOQzdsVZR looks good.
ok 2 - Computing differences
Testing filename: t/mailboxes/invalid-boundaries.txt
Comparing /tmp/5HdzcVIM58 to t/mailboxes/invalid-boundaries.txt
Output /tmp/5HdzcVIM58 looks good.
ok 3 - Computing differences
Testing filename: t/mailboxes/mailarc-1-dos.txt
Comparing /tmp/X8WDhUKt9N to t/mailboxes/mailarc-1-dos.txt
Output /tmp/X8WDhUKt9N looks good.
ok 4 - Computing differences
Testing filename: t/mailboxes/mailarc-1.txt
Comparing /tmp/Vp9hFQupfz to t/mailboxes/mailarc-1.txt
Output /tmp/Vp9hFQupfz looks good.
ok 5 - Computing differences
Testing filename: t/mailboxes/mailarc-2.txt
Comparing /tmp/mwaIQPLXMD to t/mailboxes/mailarc-2.txt
Output /tmp/mwaIQPLXMD looks good.
ok 6 - Computing differences
Testing filename: t/mailboxes/mailarc-3.txt
Comparing /tmp/s5IwyqvD80 to t/mailboxes/mailarc-3.txt
Output /tmp/s5IwyqvD80 looks good.
ok 7 - Computing differences
Testing filename: t/mailboxes/mailseparators.txt
Comparing /tmp/ZQ9qhWwK94 to t/mailboxes/mailseparators.txt
Output /tmp/ZQ9qhWwK94 looks good.
ok 8 - Computing differences
Testing filename: t/mailboxes/malformed.txt
Comparing /tmp/oTdoQVgXD0 to t/mailboxes/malformed.txt
Output /tmp/oTdoQVgXD0 looks good.
ok 9 - Computing differences
Testing filename: t/mailboxes/newlines_at_beginning.txt
Comparing /tmp/5fy9tJt7e_ to t/mailboxes/newlines_at_beginning.txt
Output /tmp/5fy9tJt7e_ looks good.
ok 10 - Computing differences
Testing filename: t/mailboxes/vm-emacs.txt
Comparing /tmp/IrCKJH7vD6 to t/mailboxes/vm-emacs.txt
Output /tmp/IrCKJH7vD6 looks good.
ok 11 - Computing differences
ok
t/undef_return_value.t ..........
1..33
Testing Perl
Comparing /tmp/FRExZXUsRC to t/mailboxes/binary_body.txt
Output /tmp/FRExZXUsRC looks good.
ok 1 - Computing differences
Testing Cache implementation
Comparing /tmp/PcJFQHvryI to t/mailboxes/binary_body.txt
Output /tmp/PcJFQHvryI looks good.
ok 2 - Computing differences
ok 3 # skip GNU grep not available
Testing Perl
Comparing /tmp/OCCiGhiiwp to t/mailboxes/hessbug.txt
Output /tmp/OCCiGhiiwp looks good.
ok 4 - Computing differences
Testing Cache implementation
Comparing /tmp/zNE_wKh9xX to t/mailboxes/hessbug.txt
Output /tmp/zNE_wKh9xX looks good.
ok 5 - Computing differences
ok 6 # skip GNU grep not available
Testing Perl
Comparing /tmp/PdzBrHRTBA to t/mailboxes/invalid-boundaries.txt
Output /tmp/PdzBrHRTBA looks good.
ok 7 - Computing differences
Testing Cache implementation
Comparing /tmp/fSQAH9ls4f to t/mailboxes/invalid-boundaries.txt
Output /tmp/fSQAH9ls4f looks good.
ok 8 - Computing differences
ok 9 # skip GNU grep not available
Testing Perl
Comparing /tmp/gayN5jRVaU to t/mailboxes/mailarc-1-dos.txt
Output /tmp/gayN5jRVaU looks good.
ok 10 - Computing differences
Testing Cache implementation
Comparing /tmp/OA1w2l7kbA to t/mailboxes/mailarc-1-dos.txt
Output /tmp/OA1w2l7kbA looks good.
ok 11 - Computing differences
ok 12 # skip GNU grep not available
Testing Perl
Comparing /tmp/jsbGNOeDDM to t/mailboxes/mailarc-1.txt
Output /tmp/jsbGNOeDDM looks good.
ok 13 - Computing differences
Testing Cache implementation
Comparing /tmp/sA72tvHFka to t/mailboxes/mailarc-1.txt
Output /tmp/sA72tvHFka looks good.
ok 14 - Computing differences
ok 15 # skip GNU grep not available
Testing Perl
Comparing /tmp/Npu3u1PkXr to t/mailboxes/mailarc-2.txt
Output /tmp/Npu3u1PkXr looks good.
ok 16 - Computing differences
Testing Cache implementation
Comparing /tmp/Hw7jUQT7rk to t/mailboxes/mailarc-2.txt
Output /tmp/Hw7jUQT7rk looks good.
ok 17 - Computing differences
ok 18 # skip GNU grep not available
Testing Perl
Comparing /tmp/NUVhuaFjOA to t/mailboxes/mailarc-3.txt
Output /tmp/NUVhuaFjOA looks good.
ok 19 - Computing differences
Testing Cache implementation
Comparing /tmp/zKL0c760bG to t/mailboxes/mailarc-3.txt
Output /tmp/zKL0c760bG looks good.
ok 20 - Computing differences
ok 21 # skip GNU grep not available
Testing Perl
Comparing /tmp/RAQ4hBlylS to t/mailboxes/mailseparators.txt
Output /tmp/RAQ4hBlylS looks good.
ok 22 - Computing differences
Testing Cache implementation
Comparing /tmp/24_QnOJTix to t/mailboxes/mailseparators.txt
Output /tmp/24_QnOJTix looks good.
ok 23 - Computing differences
ok 24 # skip GNU grep not available
Testing Perl
Comparing /tmp/gunjt_P6Lf to t/mailboxes/malformed.txt
Output /tmp/gunjt_P6Lf looks good.
ok 25 - Computing differences
Testing Cache implementation
Comparing /tmp/_f0Y6zDEeu to t/mailboxes/malformed.txt
Output /tmp/_f0Y6zDEeu looks good.
ok 26 - Computing differences
ok 27 # skip GNU grep not available
Testing Perl
Comparing /tmp/M5lm12XKAj to t/mailboxes/newlines_at_beginning.txt
Output /tmp/M5lm12XKAj looks good.
ok 28 - Computing differences
Testing Cache implementation
Comparing /tmp/TASVCRpE8b to t/mailboxes/newlines_at_beginning.txt
Output /tmp/TASVCRpE8b looks good.
ok 29 - Computing differences
ok 30 # skip GNU grep not available
Testing Perl
Comparing /tmp/ZsXX5ghgB9 to t/mailboxes/vm-emacs.txt
Output /tmp/ZsXX5ghgB9 looks good.
ok 31 - Computing differences
Testing Cache implementation
Comparing /tmp/kCBBuYSMwh to t/mailboxes/vm-emacs.txt
Output /tmp/kCBBuYSMwh looks good.
ok 32 - Computing differences
ok 33 # skip GNU grep not available
ok
t/xz.t ..........................
1..1
Running test:
"/bin/cat" "t/mailboxes/mailarc-2.txt.xz" | "/usr/bin/xz" -cd
Comparing /tmp/iaKpzAmSPi to t/results/mailarc-2.txt
Output /tmp/iaKpzAmSPi looks good.
Comparing /tmp/uQnq0uuDXU to t/results/none
Output /tmp/uQnq0uuDXU looks good.
ok 1 - Computing differences
ok
All tests successful.
Files=25, Tests=370, 10 wallclock secs ( 0.19 usr 0.04 sys + 5.59 cusr 3.14 csys = 8.95 CPU)
Result: PASS
PREREQUISITES:
Here is a list of prerequisites you specified and versions we
managed to load:
Module Name Have Want
ExtUtils::MakeMaker 7.34 6.36
File::Path 2.15 2.08
File::Slurper 0.012 0
FileHandle::Unget 0.1634 0
Storable 3.11 0
Test::Compile v1.3.0 0
Test::More 1.302136 0
Text::Diff 1.45 0
UNIVERSAL::require 0.18 0
URI::Escape 3.31 0
Perl module toolchain versions installed:
Module Name Have
CPANPLUS 0.9176
CPANPLUS::Dist::Build 0.90
Cwd 3.74
ExtUtils::CBuilder 0.280230
ExtUtils::Command 7.34
ExtUtils::Install 2.14
ExtUtils::MakeMaker 7.34
ExtUtils::Manifest 1.71
ExtUtils::ParseXS 3.35
File::Spec 3.74
Module::Build 0.4224
Pod::Parser 1.60
Pod::Simple 3.28
Test2 1.302136
Test::Harness 3.42
Test::More 1.302136
version 0.9924
******************************** NOTE ********************************
The comments above are created mechanically, possibly without manual
checking by the sender. As there are many people performing automatic
tests on each upload to CPAN, it is likely that you will receive
identical messages about the same problem.
If you believe that the message is mistaken, please reply to the first
one with correction and/or additional informations, and do not take
it personally. We appreciate your patience. :)
**********************************************************************
Additional comments:
This report was machine-generated by CPANPLUS::Dist::YACSmoke 1.02.
Powered by minismokebox version 0.68
------------------------------
ENVIRONMENT AND OTHER CONTEXT
------------------------------
Environment variables:
AUTOMATED_TESTING = 1
NONINTERACTIVE_TESTING = 1
PATH = /sbin:/bin:/usr/sbin:/usr/bin:/usr/games:/usr/local/sbin:/usr/local/bin:/home/cpan/bin
PERL5LIB = :/usr/home/cpan/pit/thr/conf/perl-5.18.3/.cpanplus/5.18.3/build/4rgCqzanHq/File-Slurp-9999.19/blib/lib:/usr/home/cpan/pit/thr/conf/perl-5.18.3/.cpanplus/5.18.3/build/4rgCqzanHq/File-Slurp-9999.19/blib/arch:/usr/home/cpan/pit/thr/conf/perl-5.18.3/.cpanplus/5.18.3/build/R_Vev_9uhH/Test-Needs-0.002005/blib/lib:/usr/home/cpan/pit/thr/conf/perl-5.18.3/.cpanplus/5.18.3/build/R_Vev_9uhH/Test-Needs-0.002005/blib/arch:/usr/home/cpan/pit/thr/conf/perl-5.18.3/.cpanplus/5.18.3/build/DY7Z4wnbpR/URI-1.74/blib/lib:/usr/home/cpan/pit/thr/conf/perl-5.18.3/.cpanplus/5.18.3/build/DY7Z4wnbpR/URI-1.74/blib/arch:/usr/home/cpan/pit/thr/conf/perl-5.18.3/.cpanplus/5.18.3/build/R1E2ZIvH6R/TimeDate-2.30/blib/lib:/usr/home/cpan/pit/thr/conf/perl-5.18.3/.cpanplus/5.18.3/build/R1E2ZIvH6R/TimeDate-2.30/blib/arch:/usr/home/cpan/pit/thr/conf/perl-5.18.3/.cpanplus/5.18.3/build/mxSHDDJtq3/Test-Warnings-0.026/blib/lib:/usr/home/cpan/pit/thr/conf/perl-5.18.3/.cpanplus/5.18.3/build/mxSHDDJtq3/Test-Warnings-0.026/blib/arch:/usr/home/cpan/pit/thr/conf/perl-5.18.3/.cpanplus/5.18.3/build/9y0JMdNs6y/File-Slurper-0.012/blib/lib:/usr/home/cpan/pit/thr/conf/perl-5.18.3/.cpanplus/5.18.3/build/9y0JMdNs6y/File-Slurper-0.012/blib/arch:/usr/home/cpan/pit/thr/conf/perl-5.18.3/.cpanplus/5.18.3/build/lOkeEEGjnv/UNIVERSAL-require-0.18/blib/lib:/usr/home/cpan/pit/thr/conf/perl-5.18.3/.cpanplus/5.18.3/build/lOkeEEGjnv/UNIVERSAL-require-0.18/blib/arch:/usr/home/cpan/pit/thr/conf/perl-5.18.3/.cpanplus/5.18.3/build/0_thAlu3Si/Test-Compile-v1.3.0/blib/lib:/usr/home/cpan/pit/thr/conf/perl-5.18.3/.cpanplus/5.18.3/build/0_thAlu3Si/Test-Compile-v1.3.0/blib/arch:/usr/home/cpan/pit/thr/conf/perl-5.18.3/.cpanplus/5.18.3/build/lAFmmKyaqM/FileHandle-Unget-0.1634/blib/lib:/usr/home/cpan/pit/thr/conf/perl-5.18.3/.cpanplus/5.18.3/build/lAFmmKyaqM/FileHandle-Unget-0.1634/blib/arch:/usr/home/cpan/pit/thr/conf/perl-5.18.3/.cpanplus/5.18.3/build/gaC59tAMMS/Algorithm-Diff-1.1903/blib/lib:/usr/home/cpan/pit/thr/conf/perl-5.18.3/.cpanplus/5.18.3/build/gaC59tAMMS/Algorithm-Diff-1.1903/blib/arch:/usr/home/cpan/pit/thr/conf/perl-5.18.3/.cpanplus/5.18.3/build/umFGFC5fLT/Text-Diff-1.45/blib/lib:/usr/home/cpan/pit/thr/conf/perl-5.18.3/.cpanplus/5.18.3/build/umFGFC5fLT/Text-Diff-1.45/blib/arch:/usr/home/cpan/pit/thr/conf/perl-5.18.3/.cpanplus/5.18.3/build/YxNOsjYMmC/Mail-Mbox-MessageParser-1.5111/blib/lib:/usr/home/cpan/pit/thr/conf/perl-5.18.3/.cpanplus/5.18.3/build/YxNOsjYMmC/Mail-Mbox-MessageParser-1.5111/blib/arch
PERL5_CPANPLUS_IS_RUNNING = 73031
PERL5_CPANPLUS_IS_VERSION = 0.9176
PERL5_MINISMOKEBOX = 0.68
PERL5_YACSMOKE_BASE = /usr/home/cpan/pit/thr/conf/perl-5.18.3
PERL_EXTUTILS_AUTOINSTALL = --defaultdeps
PERL_MM_USE_DEFAULT = 1
PERL_USE_UNSAFE_INC = 1
SHELL = /usr/local/bin/bash
TERM = screen
Perl special variables (and OS-specific diagnostics, for MSWin32):
Perl: $^X = /usr/home/cpan/pit/thr/perl-5.18.3/bin/perl
UID: $< = 1002
EUID: $> = 1002
GID: $( = 1002 1002
EGID: $) = 1002 1002
-------------------------------
--
Summary of my perl5 (revision 5 version 18 subversion 3) configuration:
Platform:
osname=freebsd, osvers=10.3-release-p2, archname=i386-freebsd-thread-multi
uname='freebsd froggle 10.3-release-p2 freebsd 10.3-release-p2 #0: wed may 4 14:06:02 utc 2016 root@amd64-builder.daemonology.net:usrobjusrsrcsysgeneric i386 '
config_args='-des -Dprefix=/usr/home/cpan/pit/thr/perl-5.18.3 -Dusethreads'
hint=recommended, useposix=true, d_sigaction=define
useithreads=define, usemultiplicity=define
useperlio=define, d_sfio=undef, uselargefiles=define, usesocks=undef
use64bitint=undef, use64bitall=undef, uselongdouble=undef
usemymalloc=n, bincompat5005=undef
Compiler:
cc='cc', ccflags ='-DHAS_FPSETMASK -DHAS_FLOATINGPOINT_H -fno-strict-aliasing -pipe -fstack-protector -I/usr/local/include',
optimize='-O',
cppflags='-DHAS_FPSETMASK -DHAS_FLOATINGPOINT_H -fno-strict-aliasing -pipe -fstack-protector -I/usr/local/include'
ccversion='', gccversion='4.2.1 Compatible FreeBSD Clang 3.4.1 (tags/RELEASE_34/dot1-final 208032)', gccosandvers=''
intsize=4, longsize=4, ptrsize=4, doublesize=8, byteorder=1234
d_longlong=define, longlongsize=8, d_longdbl=define, longdblsize=12
ivtype='long', ivsize=4, nvtype='double', nvsize=8, Off_t='off_t', lseeksize=8
alignbytes=4, prototype=define
Linker and Libraries:
ld='cc', ldflags ='-pthread -Wl,-E -fstack-protector -L/usr/local/lib'
libpth=/usr/lib /usr/local/lib
libs=-lgdbm -lm -lcrypt -lutil
perllibs=-lm -lcrypt -lutil
libc=, so=so, useshrplib=false, libperl=libperl.a
gnulibc_version=''
Dynamic Linking:
dlsrc=dl_dlopen.xs, dlext=so, d_dlsymun=undef, ccdlflags=' '
cccdlflags='-DPIC -fPIC', lddlflags='-shared -L/usr/local/lib -fstack-protector'
Characteristics of this binary (from libperl):
Compile-time options: HAS_TIMES MULTIPLICITY PERLIO_LAYERS
PERL_DONT_CREATE_GVSV
PERL_HASH_FUNC_ONE_AT_A_TIME_HARD
PERL_IMPLICIT_CONTEXT PERL_MALLOC_WRAP
PERL_PRESERVE_IVUV PERL_SAWAMPERSAND USE_ITHREADS
USE_LARGE_FILES USE_LOCALE USE_LOCALE_COLLATE
USE_LOCALE_CTYPE USE_LOCALE_NUMERIC USE_PERLIO
USE_PERL_ATOF USE_REENTRANT_API
Locally applied patches:
Devel::PatchPerl 1.42
Built under freebsd
Compiled at May 8 2016 08:42:57
%ENV:
PERL5LIB=":/usr/home/cpan/pit/thr/conf/perl-5.18.3/.cpanplus/5.18.3/build/4rgCqzanHq/File-Slurp-9999.19/blib/lib:/usr/home/cpan/pit/thr/conf/perl-5.18.3/.cpanplus/5.18.3/build/4rgCqzanHq/File-Slurp-9999.19/blib/arch:/usr/home/cpan/pit/thr/conf/perl-5.18.3/.cpanplus/5.18.3/build/R_Vev_9uhH/Test-Needs-0.002005/blib/lib:/usr/home/cpan/pit/thr/conf/perl-5.18.3/.cpanplus/5.18.3/build/R_Vev_9uhH/Test-Needs-0.002005/blib/arch:/usr/home/cpan/pit/thr/conf/perl-5.18.3/.cpanplus/5.18.3/build/DY7Z4wnbpR/URI-1.74/blib/lib:/usr/home/cpan/pit/thr/conf/perl-5.18.3/.cpanplus/5.18.3/build/DY7Z4wnbpR/URI-1.74/blib/arch:/usr/home/cpan/pit/thr/conf/perl-5.18.3/.cpanplus/5.18.3/build/R1E2ZIvH6R/TimeDate-2.30/blib/lib:/usr/home/cpan/pit/thr/conf/perl-5.18.3/.cpanplus/5.18.3/build/R1E2ZIvH6R/TimeDate-2.30/blib/arch:/usr/home/cpan/pit/thr/conf/perl-5.18.3/.cpanplus/5.18.3/build/mxSHDDJtq3/Test-Warnings-0.026/blib/lib:/usr/home/cpan/pit/thr/conf/perl-5.18.3/.cpanplus/5.18.3/build/mxSHDDJtq3/Test-Warnings-0.026/blib/arch:/usr/home/cpan/pit/thr/conf/perl-5.18.3/.cpanplus/5.18.3/build/9y0JMdNs6y/File-Slurper-0.012/blib/lib:/usr/home/cpan/pit/thr/conf/perl-5.18.3/.cpanplus/5.18.3/build/9y0JMdNs6y/File-Slurper-0.012/blib/arch:/usr/home/cpan/pit/thr/conf/perl-5.18.3/.cpanplus/5.18.3/build/lOkeEEGjnv/UNIVERSAL-require-0.18/blib/lib:/usr/home/cpan/pit/thr/conf/perl-5.18.3/.cpanplus/5.18.3/build/lOkeEEGjnv/UNIVERSAL-require-0.18/blib/arch:/usr/home/cpan/pit/thr/conf/perl-5.18.3/.cpanplus/5.18.3/build/0_thAlu3Si/Test-Compile-v1.3.0/blib/lib:/usr/home/cpan/pit/thr/conf/perl-5.18.3/.cpanplus/5.18.3/build/0_thAlu3Si/Test-Compile-v1.3.0/blib/arch:/usr/home/cpan/pit/thr/conf/perl-5.18.3/.cpanplus/5.18.3/build/lAFmmKyaqM/FileHandle-Unget-0.1634/blib/lib:/usr/home/cpan/pit/thr/conf/perl-5.18.3/.cpanplus/5.18.3/build/lAFmmKyaqM/FileHandle-Unget-0.1634/blib/arch:/usr/home/cpan/pit/thr/conf/perl-5.18.3/.cpanplus/5.18.3/build/gaC59tAMMS/Algorithm-Diff-1.1903/blib/lib:/usr/home/cpan/pit/thr/conf/perl-5.18.3/.cpanplus/5.18.3/build/gaC59tAMMS/Algorithm-Diff-1.1903/blib/arch:/usr/home/cpan/pit/thr/conf/perl-5.18.3/.cpanplus/5.18.3/build/umFGFC5fLT/Text-Diff-1.45/blib/lib:/usr/home/cpan/pit/thr/conf/perl-5.18.3/.cpanplus/5.18.3/build/umFGFC5fLT/Text-Diff-1.45/blib/arch:/usr/home/cpan/pit/thr/conf/perl-5.18.3/.cpanplus/5.18.3/build/YxNOsjYMmC/Mail-Mbox-MessageParser-1.5111/blib/lib:/usr/home/cpan/pit/thr/conf/perl-5.18.3/.cpanplus/5.18.3/build/YxNOsjYMmC/Mail-Mbox-MessageParser-1.5111/blib/arch"
PERL5_CPANPLUS_IS_RUNNING="73031"
PERL5_CPANPLUS_IS_VERSION="0.9176"
PERL5_MINISMOKEBOX="0.68"
PERL5_YACSMOKE_BASE="/usr/home/cpan/pit/thr/conf/perl-5.18.3"
PERL_EXTUTILS_AUTOINSTALL="--defaultdeps"
PERL_MM_USE_DEFAULT="1"
PERL_USE_UNSAFE_INC="1"
@INC:
/usr/home/cpan/pit/thr/conf/perl-5.18.3/.cpanplus/5.18.3/build/4rgCqzanHq/File-Slurp-9999.19/blib/lib
/usr/home/cpan/pit/thr/conf/perl-5.18.3/.cpanplus/5.18.3/build/4rgCqzanHq/File-Slurp-9999.19/blib/arch
/usr/home/cpan/pit/thr/conf/perl-5.18.3/.cpanplus/5.18.3/build/R_Vev_9uhH/Test-Needs-0.002005/blib/lib
/usr/home/cpan/pit/thr/conf/perl-5.18.3/.cpanplus/5.18.3/build/R_Vev_9uhH/Test-Needs-0.002005/blib/arch
/usr/home/cpan/pit/thr/conf/perl-5.18.3/.cpanplus/5.18.3/build/DY7Z4wnbpR/URI-1.74/blib/lib
/usr/home/cpan/pit/thr/conf/perl-5.18.3/.cpanplus/5.18.3/build/DY7Z4wnbpR/URI-1.74/blib/arch
/usr/home/cpan/pit/thr/conf/perl-5.18.3/.cpanplus/5.18.3/build/R1E2ZIvH6R/TimeDate-2.30/blib/lib
/usr/home/cpan/pit/thr/conf/perl-5.18.3/.cpanplus/5.18.3/build/R1E2ZIvH6R/TimeDate-2.30/blib/arch
/usr/home/cpan/pit/thr/conf/perl-5.18.3/.cpanplus/5.18.3/build/mxSHDDJtq3/Test-Warnings-0.026/blib/lib
/usr/home/cpan/pit/thr/conf/perl-5.18.3/.cpanplus/5.18.3/build/mxSHDDJtq3/Test-Warnings-0.026/blib/arch
/usr/home/cpan/pit/thr/conf/perl-5.18.3/.cpanplus/5.18.3/build/9y0JMdNs6y/File-Slurper-0.012/blib/lib
/usr/home/cpan/pit/thr/conf/perl-5.18.3/.cpanplus/5.18.3/build/9y0JMdNs6y/File-Slurper-0.012/blib/arch
/usr/home/cpan/pit/thr/conf/perl-5.18.3/.cpanplus/5.18.3/build/lOkeEEGjnv/UNIVERSAL-require-0.18/blib/lib
/usr/home/cpan/pit/thr/conf/perl-5.18.3/.cpanplus/5.18.3/build/lOkeEEGjnv/UNIVERSAL-require-0.18/blib/arch
/usr/home/cpan/pit/thr/conf/perl-5.18.3/.cpanplus/5.18.3/build/0_thAlu3Si/Test-Compile-v1.3.0/blib/lib
/usr/home/cpan/pit/thr/conf/perl-5.18.3/.cpanplus/5.18.3/build/0_thAlu3Si/Test-Compile-v1.3.0/blib/arch
/usr/home/cpan/pit/thr/conf/perl-5.18.3/.cpanplus/5.18.3/build/lAFmmKyaqM/FileHandle-Unget-0.1634/blib/lib
/usr/home/cpan/pit/thr/conf/perl-5.18.3/.cpanplus/5.18.3/build/lAFmmKyaqM/FileHandle-Unget-0.1634/blib/arch
/usr/home/cpan/pit/thr/conf/perl-5.18.3/.cpanplus/5.18.3/build/gaC59tAMMS/Algorithm-Diff-1.1903/blib/lib
/usr/home/cpan/pit/thr/conf/perl-5.18.3/.cpanplus/5.18.3/build/gaC59tAMMS/Algorithm-Diff-1.1903/blib/arch
/usr/home/cpan/pit/thr/conf/perl-5.18.3/.cpanplus/5.18.3/build/umFGFC5fLT/Text-Diff-1.45/blib/lib
/usr/home/cpan/pit/thr/conf/perl-5.18.3/.cpanplus/5.18.3/build/umFGFC5fLT/Text-Diff-1.45/blib/arch
/usr/home/cpan/pit/thr/conf/perl-5.18.3/.cpanplus/5.18.3/build/YxNOsjYMmC/Mail-Mbox-MessageParser-1.5111/blib/lib
/usr/home/cpan/pit/thr/conf/perl-5.18.3/.cpanplus/5.18.3/build/YxNOsjYMmC/Mail-Mbox-MessageParser-1.5111/blib/arch
/usr/home/cpan/pit/thr/perl-5.18.3/lib/site_perl/5.18.3/i386-freebsd-thread-multi
/usr/home/cpan/pit/thr/perl-5.18.3/lib/site_perl/5.18.3
/usr/home/cpan/pit/thr/perl-5.18.3/lib/5.18.3/i386-freebsd-thread-multi
/usr/home/cpan/pit/thr/perl-5.18.3/lib/5.18.3
.