Back
From: metabase:user:30f4dfbe-2aae-11df-837a-5e0a49663a4f
Subject: PASS HTML-Formatter-2.16 v5.14.0 FreeBSD
Date: 2017-07-21T23:24:05Z
This distribution has been tested as part of the CPAN Testers
project, supporting the Perl programming language. See
http://wiki.cpantesters.org/ for more information or email
questions to cpan-testers-discuss@perl.org
--
Dear Nigel Metheringham,
This is a computer-generated report for HTML-Formatter-2.16
on perl 5.14.0, created by CPAN-Reporter-1.2018.
Thank you for uploading your work to CPAN. Congratulations!
All tests were successful.
Sections of this report:
* Tester comments
* Program output
* Prerequisites
* Environment and other context
------------------------------
TESTER COMMENTS
------------------------------
Additional comments from tester:
this report is from an automated smoke testing program
and was not reviewed by a human for accuracy
------------------------------
PROGRAM OUTPUT
------------------------------
Output from '/usr/bin/make test':
PERL_DL_NONLAZY=1 "/home/njh/perl5/perlbrew/perls/perl-5.14.0/bin/perl5.14.0" "-MExtUtils::Command::MM" "-MTest::Harness" "-e" "undef *Test::Harness::Switches; test_harness(0, 'blib/lib', 'blib/arch')" t/*.t
t/02_rtf.t ................... ok
t/01_ps.t .................... ok
#
# Versions for all modules listed in MYMETA.json (including optional ones):
#
# === Configure Requires ===
#
# Module Want Have
# ------------------- ---- ----
# ExtUtils::MakeMaker any 7.24
#
# === Build Requires ===
#
# Module Want Have
# ------------------- ---- ----
# ExtUtils::MakeMaker any 7.24
#
# === Test Requires ===
#
# Module Want Have
# ------------------- ---- --------
# ExtUtils::MakeMaker any 7.24
# File::Slurper any 0.009
# File::Spec any 3.33
# FindBin any 1.50
# IO::Handle any 1.31
# IPC::Open3 any 1.09
# Test::More 0.96 1.302073
# Test::Warnings any 0.026
# blib 1.01 1.06
# bytes any 1.04
# lib any 0.63
#
# === Test Recommends ===
#
# Module Want Have
# ---------- -------- --------
# CPAN::Meta 2.120900 2.143240
#
# === Runtime Requires ===
#
# Module Want Have
# ----------------------------------- ---- --------
# Carp any 1.38
# Data::Dumper any 2.130_02
# Encode any 2.42
# Font::Metrics::Courier any undef
# Font::Metrics::CourierBold any undef
# Font::Metrics::CourierBoldOblique any undef
# Font::Metrics::CourierOblique any undef
# Font::Metrics::Helvetica any undef
# Font::Metrics::HelveticaBold any undef
# Font::Metrics::HelveticaBoldOblique any undef
# Font::Metrics::HelveticaOblique any undef
# Font::Metrics::TimesBold any undef
# Font::Metrics::TimesBoldItalic any undef
# Font::Metrics::TimesItalic any undef
# Font::Metrics::TimesRoman any undef
# HTML::Element 3.15 5.06
# HTML::TreeBuilder any 5.06
# IO::File any 1.15
# base any 2.16
# integer any 1.00
# parent any 0.225
# strict any 1.04
# utf8 any 1.09
# warnings any 1.12
#
t/00-report-prereqs.t ........ ok
t/author-critic.t ............ skipped: these tests are for testing by the author
t/author-eol.t ............... skipped: these tests are for testing by the author
t/author-no-tabs.t ........... skipped: these tests are for testing by the author
t/03_text.t .................. ok
t/author-pod-spell.t ......... skipped: these tests are for testing by the author
t/author-pod-syntax.t ........ skipped: these tests are for testing by the author
t/author-portability.t ....... skipped: these tests are for testing by the author
t/author-synopsis.t .......... skipped: these tests are for testing by the author
t/00-compile.t ............... ok
t/release-dist-manifest.t .... skipped: these tests are for release candidate testing
t/release-distmeta.t ......... skipped: these tests are for release candidate testing
t/release-has-version.t ...... skipped: these tests are for release candidate testing
t/04_md.t .................... ok
t/release-minimum-version.t .. skipped: these tests are for release candidate testing
t/release-unused-vars.t ...... skipped: these tests are for release candidate testing
t/rt111783.t ................. ok
t/rt69426.t .................. ok
All tests successful.
Files=20, Tests=94, 10 wallclock secs ( 0.79 usr 0.56 sys + 17.39 cusr 10.59 csys = 29.34 CPU)
Result: PASS
------------------------------
PREREQUISITES
------------------------------
Prerequisite modules loaded:
requires:
Module Need Have
----------------------------------- ----- --------
base 0 2.16
Carp 0 1.38
Data::Dumper 0 2.130_02
Encode 0 2.42
Font::Metrics::Courier 0 0
Font::Metrics::CourierBold 0 0
Font::Metrics::CourierBoldOblique 0 0
Font::Metrics::CourierOblique 0 0
Font::Metrics::Helvetica 0 0
Font::Metrics::HelveticaBold 0 0
Font::Metrics::HelveticaBoldOblique 0 0
Font::Metrics::HelveticaOblique 0 0
Font::Metrics::TimesBold 0 0
Font::Metrics::TimesBoldItalic 0 0
Font::Metrics::TimesItalic 0 0
Font::Metrics::TimesRoman 0 0
HTML::Element 3.15 5.06
HTML::TreeBuilder 0 5.06
integer 0 1.00
IO::File 0 1.15
parent 0 0.225
perl 5.008 5.014000
strict 0 1.04
utf8 0 1.09
warnings 0 1.12
build_requires:
Module Need Have
----------------------------------- ----- --------
blib 1.01 1.06
bytes 0 1.04
ExtUtils::MakeMaker 0 7.24
File::Slurper 0 0.009
File::Spec 0 3.33
FindBin 0 1.50
IO::Handle 0 1.31
IPC::Open3 0 1.09
lib 0 0.63
Test::More 0.96 1.302073
Test::Warnings 0 0.026
configure_requires:
Module Need Have
----------------------------------- ----- --------
ExtUtils::MakeMaker 0 7.24
------------------------------
ENVIRONMENT AND OTHER CONTEXT
------------------------------
Environment variables:
AUTOMATED_TESTING = 1
HARNESS_OPTIONS = j4
PATH = /home/njh/perl5/perlbrew/bin:/home/njh/perl5/perlbrew/perls/perl-5.14.0/bin:/home/njh/perl5/perlbrew/bin:/sbin:/bin:/usr/sbin:/usr/bin:/usr/local/sbin:/usr/local/bin
PERL5LIB = /home/njh/.cpan/build/HTML-Tree-5.06-0/blib/arch:/home/njh/.cpan/build/HTML-Tree-5.06-0/blib/lib:/home/njh/.cpan/build/Font-AFM-1.20-0/blib/arch:/home/njh/.cpan/build/Font-AFM-1.20-0/blib/lib:/home/njh/.cpan/build/File-Slurper-0.009-3/blib/arch:/home/njh/.cpan/build/File-Slurper-0.009-3/blib/lib:/home/njh/.cpan/build/Data-Printer-0.39-0/blib/arch:/home/njh/.cpan/build/Data-Printer-0.39-0/blib/lib:/home/njh/.cpan/build/Sort-Naturally-1.03-0/blib/arch:/home/njh/.cpan/build/Sort-Naturally-1.03-0/blib/lib:/home/njh/.cpan/build/Clone-PP-1.07-0/blib/arch:/home/njh/.cpan/build/Clone-PP-1.07-0/blib/lib
PERL5OPT =
PERL5_CPANPLUS_IS_RUNNING = 52092
PERL5_CPAN_IS_RUNNING = 52092
PERLBREW_BASHRC_VERSION = 0.78
PERLBREW_HOME = /home/njh/.perlbrew
PERLBREW_LIB =
PERLBREW_MANPATH = /home/njh/perl5/perlbrew/perls/perl-5.14.0/man
PERLBREW_PATH = /home/njh/perl5/perlbrew/bin:/home/njh/perl5/perlbrew/perls/perl-5.14.0/bin
PERLBREW_PERL = perl-5.14.0
PERLBREW_ROOT = /home/njh/perl5/perlbrew
PERLBREW_VERSION = 0.78
PERL_LOCAL_LIB_ROOT =
SHELL = /bin/sh
TMPDIR = /home/njh/tmp
Perl special variables (and OS-specific diagnostics, for MSWin32):
$^X = /home/njh/perl5/perlbrew/perls/perl-5.14.0/bin/perl5.14.0
$UID/$EUID = 1000 / 1000
$GID = 1000 1000 0
$EGID = 1000 1000 0
Perl module toolchain versions installed:
Module Have
------------------- --------
CPAN 2.16
CPAN::Meta 2.143240
Cwd 3.36
ExtUtils::CBuilder 0.280203
ExtUtils::Command 7.24
ExtUtils::Install 1.56
ExtUtils::MakeMaker 7.24
ExtUtils::Manifest 1.70
ExtUtils::ParseXS 2.2210
File::Spec 3.33
JSON 2.90
JSON::PP 2.27400
Module::Build 0.3800
Module::Signature n/a
Parse::CPAN::Meta 1.4414
Test::Harness 3.36
Test::More 1.302073
YAML 1.23
YAML::Syck 1.30
version 0.88
--
Summary of my perl5 (revision 5 version 14 subversion 0) configuration:
Platform:
osname=freebsd, osvers=11.0-rc1, archname=arm-freebsd-thread-multi
uname='freebsd pi2b 11.0-rc1 freebsd 11.0-rc1 #0 r303979: fri aug 12 17:12:13 utc 2016 root@releng2.nyi.freebsd.org:usrobjarm.armv6usrsrcsysrpi2 arm '
config_args='-de -Dprefix=/home/njh/perl5/perlbrew/perls/perl-5.14.0 -Duseithreads -Dusemultiplicity -Dusedevel -Accflags=-O2 -W -Wformat=2 -Wswitch -Wshadow -Wwrite-strings -Wuninitialized -Wall -pipe -Aeval:scriptdir=/home/njh/perl5/perlbrew/perls/perl-5.14.0/bin'
hint=recommended, useposix=true, d_sigaction=define
useithreads=define, usemultiplicity=define
useperlio=define, d_sfio=undef, uselargefiles=define, usesocks=undef
use64bitint=undef, use64bitall=undef, uselongdouble=undef
usemymalloc=n, bincompat5005=undef
Compiler:
cc='cc', ccflags ='-DHAS_FPSETMASK -DHAS_FLOATINGPOINT_H -O2 -W -Wformat=2 -Wswitch -Wshadow -Wwrite-strings -Wuninitialized -Wall -pipe -fno-strict-aliasing -fstack-protector -I/usr/local/include',
optimize='-O',
cppflags='-DHAS_FPSETMASK -DHAS_FLOATINGPOINT_H -O2 -W -Wformat=2 -Wswitch -Wshadow -Wwrite-strings -Wuninitialized -Wall -pipe -fno-strict-aliasing -fstack-protector -I/usr/local/include'
ccversion='', gccversion='4.2.1 Compatible FreeBSD Clang 3.8.0 (tags/RELEASE_380/final 262564)', gccosandvers=''
intsize=4, longsize=4, ptrsize=4, doublesize=8, byteorder=1234
d_longlong=define, longlongsize=8, d_longdbl=define, longdblsize=8
ivtype='long', ivsize=4, nvtype='double', nvsize=8, Off_t='off_t', lseeksize=8
alignbytes=8, prototype=define
Linker and Libraries:
ld='cc', ldflags ='-pthread -Wl,-E -fstack-protector -L/usr/local/lib'
libpth=/usr/lib /usr/local/lib
libs=-lm -lcrypt -lutil
perllibs=-lm -lcrypt -lutil
libc=, so=so, useshrplib=false, libperl=libperl.a
gnulibc_version=''
Dynamic Linking:
dlsrc=dl_dlopen.xs, dlext=so, d_dlsymun=undef, ccdlflags=' '
cccdlflags='-DPIC -fPIC', lddlflags='-shared -L/usr/local/lib -fstack-protector'
Characteristics of this binary (from libperl):
Compile-time options: MULTIPLICITY PERL_DONT_CREATE_GVSV
PERL_IMPLICIT_CONTEXT PERL_MALLOC_WRAP
PERL_PRESERVE_IVUV PERL_USE_DEVEL USE_ITHREADS
USE_LARGE_FILES USE_PERLIO USE_PERL_ATOF
USE_REENTRANT_API
Locally applied patches:
Devel::PatchPerl 1.38
Built under freebsd
Compiled at Aug 27 2016 04:07:21
%ENV:
PERL5LIB="/home/njh/.cpan/build/HTML-Tree-5.06-0/blib/arch:/home/njh/.cpan/build/HTML-Tree-5.06-0/blib/lib:/home/njh/.cpan/build/Font-AFM-1.20-0/blib/arch:/home/njh/.cpan/build/Font-AFM-1.20-0/blib/lib:/home/njh/.cpan/build/File-Slurper-0.009-3/blib/arch:/home/njh/.cpan/build/File-Slurper-0.009-3/blib/lib:/home/njh/.cpan/build/Data-Printer-0.39-0/blib/arch:/home/njh/.cpan/build/Data-Printer-0.39-0/blib/lib:/home/njh/.cpan/build/Sort-Naturally-1.03-0/blib/arch:/home/njh/.cpan/build/Sort-Naturally-1.03-0/blib/lib:/home/njh/.cpan/build/Clone-PP-1.07-0/blib/arch:/home/njh/.cpan/build/Clone-PP-1.07-0/blib/lib"
PERL5OPT=""
PERL5_CPANPLUS_IS_RUNNING="52092"
PERL5_CPAN_IS_RUNNING="52092"
PERLBREW_BASHRC_VERSION="0.78"
PERLBREW_HOME="/home/njh/.perlbrew"
PERLBREW_LIB=""
PERLBREW_MANPATH="/home/njh/perl5/perlbrew/perls/perl-5.14.0/man"
PERLBREW_PATH="/home/njh/perl5/perlbrew/bin:/home/njh/perl5/perlbrew/perls/perl-5.14.0/bin"
PERLBREW_PERL="perl-5.14.0"
PERLBREW_ROOT="/home/njh/perl5/perlbrew"
PERLBREW_VERSION="0.78"
PERL_LOCAL_LIB_ROOT=""
@INC:
/home/njh/.cpan/build/HTML-Tree-5.06-0/blib/arch
/home/njh/.cpan/build/HTML-Tree-5.06-0/blib/lib
/home/njh/.cpan/build/Font-AFM-1.20-0/blib/arch
/home/njh/.cpan/build/Font-AFM-1.20-0/blib/lib
/home/njh/.cpan/build/File-Slurper-0.009-3/blib/arch
/home/njh/.cpan/build/File-Slurper-0.009-3/blib/lib
/home/njh/.cpan/build/Data-Printer-0.39-0/blib/arch
/home/njh/.cpan/build/Data-Printer-0.39-0/blib/lib
/home/njh/.cpan/build/Sort-Naturally-1.03-0/blib/arch
/home/njh/.cpan/build/Sort-Naturally-1.03-0/blib/lib
/home/njh/.cpan/build/Clone-PP-1.07-0/blib/arch
/home/njh/.cpan/build/Clone-PP-1.07-0/blib/lib
/home/njh/perl5/perlbrew/perls/perl-5.14.0/lib/site_perl/5.14.0/arm-freebsd-thread-multi
/home/njh/perl5/perlbrew/perls/perl-5.14.0/lib/site_perl/5.14.0
/home/njh/perl5/perlbrew/perls/perl-5.14.0/lib/5.14.0/arm-freebsd-thread-multi
/home/njh/perl5/perlbrew/perls/perl-5.14.0/lib/5.14.0
.