Report for YAML-Syck-1.17

Back
From: metabase:user:322078bc-2aae-11df-837a-5e0a49663a4f
Subject: PASS YAML-Syck-1.17 v5.12.4 FreeBSD
Date: 2011-07-26T16:31:16Z

This distribution has been tested as part of the CPAN Testers
project, supporting the Perl programming language.  See
http://wiki.cpantesters.org/ for more information or email
questions to cpan-testers-discuss@perl.org


--

Dear AEvar Arnfjord Bjarmason,

This is a computer-generated error report created automatically by
CPANPLUS, version 0.9109. Testers personal comments may appear
at the end of this report.

MAKE TEST passed: PERL_DL_NONLAZY=1 /usr/home/cpan/pit/rel/perl-5.12.4/bin/perl "-MExtUtils::Command::MM" "-e" "test_harness(0, 'inc', 'blib/lib', 'blib/arch')" t/*.t t/*/*.t
t/1-basic.t ................... ok
t/11-loadfile.t ............... ok
t/12-dumpfile.t ............... ok
t/2-scalars.t ................. ok
t/3-objects.t ................. ok
t/4-perl_tag_scheme.t ......... ok
t/bug/rt-49404-double_free.t .. ok
t/bug/rt-54167.t .............. ok
t/json-basic.t ................ ok
t/json-circular-ref.t ......... ok
t/json-crlf.t ................. ok
t/json-empty.t ................ ok
t/json-indent.t ............... ok
t/json-loadfile.t ............. ok
t/json-minus.t ................ ok
t/json-newline.t .............. ok
t/json-null.t ................. ok
t/json-numbers.t .............. ok
t/json-refs.t ................. ok
t/json-singlequote.t .......... ok
t/leak.t ...................... ok
t/yaml-alias.t ................ ok
t/yaml-blessed-ref.t .......... ok
t/yaml-implicit-warnings.t .... ok
t/yaml-str-colon-first.t ...... ok
t/yaml-tie.t .................. ok
All tests successful.

Test Summary Report
-------------------
t/json-basic.t              (Wstat: 0 Tests: 104 Failed: 0)
  TODO passed:   81-82, 85-86, 93-94, 97-98
Files=26, Tests=586,  4 wallclock secs ( 0.14 usr  0.48 sys +  0.90 cusr  1.90 csys =  3.42 CPU)
Result: PASS

[MSG] [Tue Jul 26 17:30:09 2011] Sending test report for 'YAML-Syck-1.17'

This report was machine-generated by CPANPLUS::Dist::YACSmoke 0.64.
Powered by minismokebox version 0.54

------------------------------
ENVIRONMENT AND OTHER CONTEXT
------------------------------

Environment variables:

    AUTOMATED_TESTING = 1
    PATH = /sbin:/bin:/usr/sbin:/usr/bin:/usr/games:/usr/local/sbin:/usr/local/bin:/home/cpan/bin
    PERL5LIB = :/usr/home/cpan/pit/rel/conf/perl-5.12.4/.cpanplus/5.12.4/build/Test-Inter-1.03/blib/lib:/usr/home/cpan/pit/rel/conf/perl-5.12.4/.cpanplus/5.12.4/build/Test-Inter-1.03/blib/arch:/usr/home/cpan/pit/rel/conf/perl-5.12.4/.cpanplus/5.12.4/build/Devel-Leak-0.03/blib/lib:/usr/home/cpan/pit/rel/conf/perl-5.12.4/.cpanplus/5.12.4/build/Devel-Leak-0.03/blib/arch:/usr/home/cpan/pit/rel/conf/perl-5.12.4/.cpanplus/5.12.4/build/YAML-Syck-1.17/blib/lib:/usr/home/cpan/pit/rel/conf/perl-5.12.4/.cpanplus/5.12.4/build/YAML-Syck-1.17/blib/arch
    PERL5_CPANPLUS_IS_RUNNING = 34784
    PERL5_CPANPLUS_IS_VERSION = 0.9109
    PERL5_MINISMOKEBOX = 0.54
    PERL5_YACSMOKE_BASE = /usr/home/cpan/pit/rel/conf/perl-5.12.4
    PERL_EXTUTILS_AUTOINSTALL = --defaultdeps
    PERL_MM_USE_DEFAULT = 1
    SHELL = /usr/local/bin/bash
    TERM = screen

Perl special variables (and OS-specific diagnostics, for MSWin32):

    Perl: $^X = /usr/home/cpan/pit/rel/perl-5.12.4/bin/perl
    UID:  $<  = 1001
    EUID: $>  = 1001
    GID:  $(  = 1001 1001
    EGID: $)  = 1001 1001


-------------------------------


--

Summary of my perl5 (revision 5 version 12 subversion 4) configuration:
   
  Platform:
    osname=freebsd, osvers=8.1-release, archname=i386-freebsd-thread-multi-64int
    uname='freebsd snooze.bingosnet.co.uk 8.1-release freebsd 8.1-release #0: mon jul 19 02:55:53 utc 2010 root@almeida.cse.buffalo.edu:usrobjusrsrcsysgeneric i386 '
    config_args='-des -Dprefix=/usr/home/cpan/pit/rel/perl-5.12.4 -Dusethreads -Duse64bitint'
    hint=recommended, useposix=true, d_sigaction=define
    useithreads=define, usemultiplicity=define
    useperlio=define, d_sfio=undef, uselargefiles=define, usesocks=undef
    use64bitint=define, use64bitall=undef, uselongdouble=undef
    usemymalloc=n, bincompat5005=undef
  Compiler:
    cc='cc', ccflags ='-DHAS_FPSETMASK -DHAS_FLOATINGPOINT_H -fno-strict-aliasing -pipe -fstack-protector -I/usr/local/include',
    optimize='-O',
    cppflags='-DHAS_FPSETMASK -DHAS_FLOATINGPOINT_H -fno-strict-aliasing -pipe -fstack-protector -I/usr/local/include'
    ccversion='', gccversion='4.2.1 20070719  [FreeBSD]', gccosandvers=''
    intsize=4, longsize=4, ptrsize=4, doublesize=8, byteorder=12345678
    d_longlong=define, longlongsize=8, d_longdbl=define, longdblsize=12
    ivtype='long long', ivsize=8, nvtype='double', nvsize=8, Off_t='off_t', lseeksize=8
    alignbytes=4, prototype=define
  Linker and Libraries:
    ld='cc', ldflags ='-pthread -Wl,-E  -fstack-protector -L/usr/local/lib'
    libpth=/usr/lib /usr/local/lib
    libs=-lgdbm -lm -lcrypt
    perllibs=-lm -lcrypt
    libc=, so=so, useshrplib=false, libperl=libperl.a
    gnulibc_version=''
  Dynamic Linking:
    dlsrc=dl_dlopen.xs, dlext=so, d_dlsymun=undef, ccdlflags=' '
    cccdlflags='-DPIC -fPIC', lddlflags='-shared  -L/usr/local/lib -fstack-protector'


Characteristics of this binary (from libperl): 
  Compile-time options: MULTIPLICITY PERL_DONT_CREATE_GVSV
                        PERL_IMPLICIT_CONTEXT PERL_MALLOC_WRAP USE_64_BIT_INT
                        USE_ITHREADS USE_LARGE_FILES USE_PERLIO USE_PERL_ATOF
                        USE_REENTRANT_API
  Built under freebsd
  Compiled at Jul 22 2011 15:20:14
  %ENV:
    PERL5LIB=":/usr/home/cpan/pit/rel/conf/perl-5.12.4/.cpanplus/5.12.4/build/Test-Inter-1.03/blib/lib:/usr/home/cpan/pit/rel/conf/perl-5.12.4/.cpanplus/5.12.4/build/Test-Inter-1.03/blib/arch:/usr/home/cpan/pit/rel/conf/perl-5.12.4/.cpanplus/5.12.4/build/Devel-Leak-0.03/blib/lib:/usr/home/cpan/pit/rel/conf/perl-5.12.4/.cpanplus/5.12.4/build/Devel-Leak-0.03/blib/arch:/usr/home/cpan/pit/rel/conf/perl-5.12.4/.cpanplus/5.12.4/build/YAML-Syck-1.17/blib/lib:/usr/home/cpan/pit/rel/conf/perl-5.12.4/.cpanplus/5.12.4/build/YAML-Syck-1.17/blib/arch"
    PERL5_CPANPLUS_IS_RUNNING="34784"
    PERL5_CPANPLUS_IS_VERSION="0.9109"
    PERL5_MINISMOKEBOX="0.54"
    PERL5_YACSMOKE_BASE="/usr/home/cpan/pit/rel/conf/perl-5.12.4"
    PERL_EXTUTILS_AUTOINSTALL="--defaultdeps"
    PERL_MM_USE_DEFAULT="1"
  @INC:
    /usr/home/cpan/pit/rel/conf/perl-5.12.4/.cpanplus/5.12.4/build/Test-Inter-1.03/blib/lib
    /usr/home/cpan/pit/rel/conf/perl-5.12.4/.cpanplus/5.12.4/build/Test-Inter-1.03/blib/arch
    /usr/home/cpan/pit/rel/conf/perl-5.12.4/.cpanplus/5.12.4/build/Devel-Leak-0.03/blib/lib
    /usr/home/cpan/pit/rel/conf/perl-5.12.4/.cpanplus/5.12.4/build/Devel-Leak-0.03/blib/arch
    /usr/home/cpan/pit/rel/conf/perl-5.12.4/.cpanplus/5.12.4/build/YAML-Syck-1.17/blib/lib
    /usr/home/cpan/pit/rel/conf/perl-5.12.4/.cpanplus/5.12.4/build/YAML-Syck-1.17/blib/arch
    /usr/home/cpan/pit/rel/perl-5.12.4/lib/site_perl/5.12.4/i386-freebsd-thread-multi-64int
    /usr/home/cpan/pit/rel/perl-5.12.4/lib/site_perl/5.12.4
    /usr/home/cpan/pit/rel/perl-5.12.4/lib/5.12.4/i386-freebsd-thread-multi-64int
    /usr/home/cpan/pit/rel/perl-5.12.4/lib/5.12.4
    .