Report for HTTP-Session2-1.09

Back
From: metabase:user:314402c4-2aae-11df-837a-5e0a49663a4f
Subject: PASS HTTP-Session2-1.09 v5.22.3 GNU/Linux
Date: 2017-07-10T06:54:57Z

This distribution has been tested as part of the CPAN Testers
project, supporting the Perl programming language.  See
http://wiki.cpantesters.org/ for more information or email
questions to cpan-testers-discuss@perl.org


--
Dear Author,

This is a computer-generated report for HTTP-Session2-1.09
on perl 5.22.3, created by CPAN-Reporter-1.2018.

Thank you for uploading your work to CPAN.  Congratulations!
All tests were successful.

Sections of this report:

    * Tester comments
    * Program output
    * Prerequisites
    * Environment and other context

------------------------------
TESTER COMMENTS
------------------------------

Additional comments from tester:

none provided

------------------------------
PROGRAM OUTPUT
------------------------------

Output from './Build test':

t/00_compile.t .............. ok
Secret string too short at /home/eserte/.cpan/build/2017070909/HTTP-Session2-1.09-jVZwou/blib/lib/HTTP/Session2/Base.pm line 79.
	HTTP::Session2::Base::__ANON__(HTTP::Session2::ServerStore=HASH(0x10b91f0), "s3cret") called at t/01_server_side.t line 23
	main::__ANON__("client -> server: request without cookie", CODE(0x10b8cf8)) called at t/01_server_side.t line 25
	main::__ANON__() called at /opt/perl-5.22.3D/lib/site_perl/5.22.3/Test/Builder.pm line 310
	eval {...} called at /opt/perl-5.22.3D/lib/site_perl/5.22.3/Test/Builder.pm line 310
	Test::Builder::subtest(Test::Builder=HASH(0x10dcdb8), "First request", CODE(0x1811848)) called at /opt/perl-5.22.3D/lib/site_perl/5.22.3/Test/More.pm line 807
	Test::More::subtest("First request", CODE(0x1811848)) called at t/01_server_side.t line 11
	main::scenario("First request", CODE(0x1811848)) called at t/01_server_side.t line 31
Secret string too short at /home/eserte/.cpan/build/2017070909/HTTP-Session2-1.09-jVZwou/blib/lib/HTTP/Session2/Base.pm line 79.
	HTTP::Session2::Base::__ANON__(HTTP::Session2::ServerStore=HASH(0x1866a28), "s3cret") called at t/01_server_side.t line 40
	main::__ANON__("client -> server: request without cookie", CODE(0x1866530)) called at t/01_server_side.t line 42
	main::__ANON__() called at /opt/perl-5.22.3D/lib/site_perl/5.22.3/Test/Builder.pm line 310
	eval {...} called at /opt/perl-5.22.3D/lib/site_perl/5.22.3/Test/Builder.pm line 310
	Test::Builder::subtest(Test::Builder=HASH(0x10dcdb8), "Store something without login", CODE(0x1858e78)) called at /opt/perl-5.22.3D/lib/site_perl/5.22.3/Test/More.pm line 807
	Test::More::subtest("Store something without login", CODE(0x1858e78)) called at t/01_server_side.t line 11
	main::scenario("Store something without login", CODE(0x1858e78)) called at t/01_server_side.t line 58
Secret string too short at /home/eserte/.cpan/build/2017070909/HTTP-Session2-1.09-jVZwou/blib/lib/HTTP/Session2/Base.pm line 79.
	HTTP::Session2::Base::__ANON__(HTTP::Session2::ServerStore=HASH(0x187db20), "s3cret") called at t/01_server_side.t line 70
	main::__ANON__("client -> server: request without cookie", CODE(0x10b9130)) called at t/01_server_side.t line 72
	main::__ANON__() called at /opt/perl-5.22.3D/lib/site_perl/5.22.3/Test/Builder.pm line 310
	eval {...} called at /opt/perl-5.22.3D/lib/site_perl/5.22.3/Test/Builder.pm line 310
	Test::Builder::subtest(Test::Builder=HASH(0x10dcdb8), "Login", CODE(0x1859160)) called at /opt/perl-5.22.3D/lib/site_perl/5.22.3/Test/More.pm line 807
	Test::More::subtest("Login", CODE(0x1859160)) called at t/01_server_side.t line 11
	main::scenario("Login", CODE(0x1859160)) called at t/01_server_side.t line 96
Secret string too short at /home/eserte/.cpan/build/2017070909/HTTP-Session2-1.09-jVZwou/blib/lib/HTTP/Session2/Base.pm line 79.
	HTTP::Session2::Base::__ANON__(HTTP::Session2::ServerStore=HASH(0x10b8d70), "s3cret") called at t/01_server_side.t line 108
	main::__ANON__("client -> server: request without cookie", CODE(0x18669e0)) called at t/01_server_side.t line 110
	main::__ANON__() called at /opt/perl-5.22.3D/lib/site_perl/5.22.3/Test/Builder.pm line 310
	eval {...} called at /opt/perl-5.22.3D/lib/site_perl/5.22.3/Test/Builder.pm line 310
	Test::Builder::subtest(Test::Builder=HASH(0x10dcdb8), "In a login session", CODE(0x1859820)) called at /opt/perl-5.22.3D/lib/site_perl/5.22.3/Test/More.pm line 807
	Test::More::subtest("In a login session", CODE(0x1859820)) called at t/01_server_side.t line 11
	main::scenario("In a login session", CODE(0x1859820)) called at t/01_server_side.t line 124
Secret string too short at /home/eserte/.cpan/build/2017070909/HTTP-Session2-1.09-jVZwou/blib/lib/HTTP/Session2/Base.pm line 79.
	HTTP::Session2::Base::__ANON__(HTTP::Session2::ServerStore=HASH(0x10b8cb0), "s3cret") called at t/01_server_side.t line 131
	main::__ANON__("client -> server: request without cookie", CODE(0x1494c78)) called at t/01_server_side.t line 138
	main::__ANON__() called at /opt/perl-5.22.3D/lib/site_perl/5.22.3/Test/Builder.pm line 310
	eval {...} called at /opt/perl-5.22.3D/lib/site_perl/5.22.3/Test/Builder.pm line 310
	Test::Builder::subtest(Test::Builder=HASH(0x10dcdb8), "Logout", CODE(0x1866080)) called at /opt/perl-5.22.3D/lib/site_perl/5.22.3/Test/More.pm line 807
	Test::More::subtest("Logout", CODE(0x1866080)) called at t/01_server_side.t line 11
	main::scenario("Logout", CODE(0x1866080)) called at t/01_server_side.t line 153
t/01_server_side.t .......... ok
Secret string too short at /home/eserte/.cpan/build/2017070909/HTTP-Session2-1.09-jVZwou/blib/lib/HTTP/Session2/Base.pm line 79.
	HTTP::Session2::Base::__ANON__(HTTP::Session2::ClientStore=HASH(0xfe1300), "s3cret") called at t/02_client_side.t line 17
	main::__ANON__("client -> server: request without cookie", CODE(0x17ce208)) called at t/02_client_side.t line 22
	main::__ANON__() called at /opt/perl-5.22.3D/lib/site_perl/5.22.3/Test/Builder.pm line 310
	eval {...} called at /opt/perl-5.22.3D/lib/site_perl/5.22.3/Test/Builder.pm line 310
	Test::Builder::subtest(Test::Builder=HASH(0x1006c10), "First request", CODE(0x14aad18)) called at /opt/perl-5.22.3D/lib/site_perl/5.22.3/Test/More.pm line 807
	Test::More::subtest("First request", CODE(0x14aad18)) called at t/02_client_side.t line 9
	main::scenario("First request", CODE(0x14aad18)) called at t/02_client_side.t line 28
Secret string too short at /home/eserte/.cpan/build/2017070909/HTTP-Session2-1.09-jVZwou/blib/lib/HTTP/Session2/Base.pm line 79.
	HTTP::Session2::Base::__ANON__(HTTP::Session2::ClientStore=HASH(0x17ce058), "s3cret") called at t/02_client_side.t line 33
	main::__ANON__("client -> server: request without cookie", CODE(0x17cdd10)) called at t/02_client_side.t line 38
	main::__ANON__() called at /opt/perl-5.22.3D/lib/site_perl/5.22.3/Test/Builder.pm line 310
	eval {...} called at /opt/perl-5.22.3D/lib/site_perl/5.22.3/Test/Builder.pm line 310
	Test::Builder::subtest(Test::Builder=HASH(0x1006c10), "Store something without login", CODE(0x17bd2f0)) called at /opt/perl-5.22.3D/lib/site_perl/5.22.3/Test/More.pm line 807
	Test::More::subtest("Store something without login", CODE(0x17bd2f0)) called at t/02_client_side.t line 9
	main::scenario("Store something without login", CODE(0x17bd2f0)) called at t/02_client_side.t line 54
Do not use HTTP::Session2::ClientStore. Use HTTP::Session2::ServerStore or HTTP::Session2::ClientStore2 instead. at /home/eserte/.cpan/build/2017070909/HTTP-Session2-1.09-jVZwou/blib/lib/HTTP/Session2/ClientStore.pm line 25.
Secret string too short at /home/eserte/.cpan/build/2017070909/HTTP-Session2-1.09-jVZwou/blib/lib/HTTP/Session2/Base.pm line 79.
	HTTP::Session2::Base::__ANON__(HTTP::Session2::ClientStore=HASH(0x17e37a0), "s3cret") called at t/02_client_side.t line 60
	main::__ANON__("client -> server: request without cookie", CODE(0xfe1c60)) called at t/02_client_side.t line 66
	main::__ANON__() called at /opt/perl-5.22.3D/lib/site_perl/5.22.3/Test/Builder.pm line 310
	eval {...} called at /opt/perl-5.22.3D/lib/site_perl/5.22.3/Test/Builder.pm line 310
	Test::Builder::subtest(Test::Builder=HASH(0x1006c10), "Login", CODE(0x17bd518)) called at /opt/perl-5.22.3D/lib/site_perl/5.22.3/Test/More.pm line 807
	Test::More::subtest("Login", CODE(0x17bd518)) called at t/02_client_side.t line 9
	main::scenario("Login", CODE(0x17bd518)) called at t/02_client_side.t line 86
Do not use HTTP::Session2::ClientStore. Use HTTP::Session2::ServerStore or HTTP::Session2::ClientStore2 instead. at /home/eserte/.cpan/build/2017070909/HTTP-Session2-1.09-jVZwou/blib/lib/HTTP/Session2/ClientStore.pm line 35.
Do not use HTTP::Session2::ClientStore. Use HTTP::Session2::ServerStore or HTTP::Session2::ClientStore2 instead. at /home/eserte/.cpan/build/2017070909/HTTP-Session2-1.09-jVZwou/blib/lib/HTTP/Session2/ClientStore.pm line 25.
Secret string too short at /home/eserte/.cpan/build/2017070909/HTTP-Session2-1.09-jVZwou/blib/lib/HTTP/Session2/Base.pm line 79.
	HTTP::Session2::Base::__ANON__(HTTP::Session2::ClientStore=HASH(0x17e2ae0), "s3cret") called at t/02_client_side.t line 92
	main::__ANON__("client -> server: request without cookie", CODE(0x17ed890)) called at t/02_client_side.t line 98
	main::__ANON__() called at /opt/perl-5.22.3D/lib/site_perl/5.22.3/Test/Builder.pm line 310
	eval {...} called at /opt/perl-5.22.3D/lib/site_perl/5.22.3/Test/Builder.pm line 310
	Test::Builder::subtest(Test::Builder=HASH(0x1006c10), "In a login session", CODE(0x17bd9e0)) called at /opt/perl-5.22.3D/lib/site_perl/5.22.3/Test/More.pm line 807
	Test::More::subtest("In a login session", CODE(0x17bd9e0)) called at t/02_client_side.t line 9
	main::scenario("In a login session", CODE(0x17bd9e0)) called at t/02_client_side.t line 107
Do not use HTTP::Session2::ClientStore. Use HTTP::Session2::ServerStore or HTTP::Session2::ClientStore2 instead. at /home/eserte/.cpan/build/2017070909/HTTP-Session2-1.09-jVZwou/blib/lib/HTTP/Session2/ClientStore.pm line 35.
Do not use HTTP::Session2::ClientStore. Use HTTP::Session2::ServerStore or HTTP::Session2::ClientStore2 instead. at /home/eserte/.cpan/build/2017070909/HTTP-Session2-1.09-jVZwou/blib/lib/HTTP/Session2/ClientStore.pm line 25.
Secret string too short at /home/eserte/.cpan/build/2017070909/HTTP-Session2-1.09-jVZwou/blib/lib/HTTP/Session2/Base.pm line 79.
	HTTP::Session2::Base::__ANON__(HTTP::Session2::ClientStore=HASH(0x17cda58), "s3cret") called at t/02_client_side.t line 112
	main::__ANON__("client -> server: request without cookie", CODE(0x17cdda0)) called at t/02_client_side.t line 118
	main::__ANON__() called at /opt/perl-5.22.3D/lib/site_perl/5.22.3/Test/Builder.pm line 310
	eval {...} called at /opt/perl-5.22.3D/lib/site_perl/5.22.3/Test/Builder.pm line 310
	Test::Builder::subtest(Test::Builder=HASH(0x1006c10), "Logout", CODE(0x17bda58)) called at /opt/perl-5.22.3D/lib/site_perl/5.22.3/Test/More.pm line 807
	Test::More::subtest("Logout", CODE(0x17bda58)) called at t/02_client_side.t line 9
	main::scenario("Logout", CODE(0x17bda58)) called at t/02_client_side.t line 131
t/02_client_side.t .......... ok
Secret string too short at /home/eserte/.cpan/build/2017070909/HTTP-Session2-1.09-jVZwou/blib/lib/HTTP/Session2/Base.pm line 79.
	HTTP::Session2::Base::__ANON__(HTTP::Session2::ServerStore=HASH(0x37b1180), "s3cret") called at t/03_mech.t line 121
	main::server_session(HASH(0x3723568)) called at t/03_mech.t line 17
	main::__ANON__(HASH(0x3723568)) called at /home/eserte/.cpan/build/2017070909/Test-WWW-Mechanize-PSGI-0.37-oWvqI8/blib/lib/Test/WWW/Mechanize/PSGI.pm line 43
	Test::WWW::Mechanize::PSGI::try {...} () called at /opt/perl-5.22.3D/lib/site_perl/5.22.3/Try/Tiny.pm line 103
	eval {...} called at /opt/perl-5.22.3D/lib/site_perl/5.22.3/Try/Tiny.pm line 94
	Try::Tiny::try(CODE(0x3781920), Try::Tiny::Catch=REF(0x2a1a298)) called at /home/eserte/.cpan/build/2017070909/Test-WWW-Mechanize-PSGI-0.37-oWvqI8/blib/lib/Test/WWW/Mechanize/PSGI.pm line 50
	Test::WWW::Mechanize::PSGI::simple_request(Test::WWW::Mechanize::PSGI=HASH(0x3670370), HTTP::Request=HASH(0x36ffef8), undef, undef) called at /opt/perl-5.22.3D/lib/site_perl/5.22.3/LWP/UserAgent.pm line 297
	LWP::UserAgent::request(Test::WWW::Mechanize::PSGI=HASH(0x3670370), HTTP::Request=HASH(0x36ffef8)) called at /home/eserte/.cpan/build/2017070909/WWW-Mechanize-1.86-T8yA8n/blib/lib/WWW/Mechanize.pm line 1413
	WWW::Mechanize::_make_request(Test::WWW::Mechanize::PSGI=HASH(0x3670370), HTTP::Request=HASH(0x36ffef8)) called at /home/eserte/.cpan/build/2017070909/WWW-Mechanize-1.86-T8yA8n/blib/lib/WWW/Mechanize.pm line 1253
	WWW::Mechanize::request(Test::WWW::Mechanize::PSGI=HASH(0x3670370), HTTP::Request=HASH(0x36ffef8)) called at /opt/perl-5.22.3D/lib/site_perl/5.22.3/LWP/UserAgent.pm line 435
	LWP::UserAgent::get(Test::WWW::Mechanize::PSGI=HASH(0x3670370), "/") called at /home/eserte/.cpan/build/2017070909/WWW-Mechanize-1.86-T8yA8n/blib/lib/WWW/Mechanize.pm line 117
	WWW::Mechanize::get(Test::WWW::Mechanize::PSGI=HASH(0x3670370), "/") called at /home/eserte/.cpan/build/2017070909/Test-WWW-Mechanize-1.48-0oOF6J/blib/lib/Test/WWW/Mechanize.pm line 160
	Test::WWW::Mechanize::get_ok(Test::WWW::Mechanize::PSGI=HASH(0x3670370), "/") called at t/03_mech.t line 74
Secret string too short at /home/eserte/.cpan/build/2017070909/HTTP-Session2-1.09-jVZwou/blib/lib/HTTP/Session2/Base.pm line 79.
	HTTP::Session2::Base::__ANON__(HTTP::Session2::ServerStore=HASH(0x37adb20), "s3cret") called at t/03_mech.t line 121
	main::server_session(HASH(0x37ad5e0)) called at t/03_mech.t line 17
	main::__ANON__(HASH(0x37ad5e0)) called at /home/eserte/.cpan/build/2017070909/Test-WWW-Mechanize-PSGI-0.37-oWvqI8/blib/lib/Test/WWW/Mechanize/PSGI.pm line 43
	Test::WWW::Mechanize::PSGI::try {...} () called at /opt/perl-5.22.3D/lib/site_perl/5.22.3/Try/Tiny.pm line 103
	eval {...} called at /opt/perl-5.22.3D/lib/site_perl/5.22.3/Try/Tiny.pm line 94
	Try::Tiny::try(CODE(0x37ad790), Try::Tiny::Catch=REF(0x3781a58)) called at /home/eserte/.cpan/build/2017070909/Test-WWW-Mechanize-PSGI-0.37-oWvqI8/blib/lib/Test/WWW/Mechanize/PSGI.pm line 50
	Test::WWW::Mechanize::PSGI::simple_request(Test::WWW::Mechanize::PSGI=HASH(0x3670370), HTTP::Request=HASH(0x37820d0), undef, undef) called at /opt/perl-5.22.3D/lib/site_perl/5.22.3/LWP/UserAgent.pm line 297
	LWP::UserAgent::request(Test::WWW::Mechanize::PSGI=HASH(0x3670370), HTTP::Request=HASH(0x37820d0)) called at /home/eserte/.cpan/build/2017070909/WWW-Mechanize-1.86-T8yA8n/blib/lib/WWW/Mechanize.pm line 1413
	WWW::Mechanize::_make_request(Test::WWW::Mechanize::PSGI=HASH(0x3670370), HTTP::Request=HASH(0x37820d0)) called at /home/eserte/.cpan/build/2017070909/WWW-Mechanize-1.86-T8yA8n/blib/lib/WWW/Mechanize.pm line 1253
	WWW::Mechanize::request(Test::WWW::Mechanize::PSGI=HASH(0x3670370), HTTP::Request=HASH(0x37820d0)) called at /opt/perl-5.22.3D/lib/site_perl/5.22.3/LWP/UserAgent.pm line 478
	LWP::UserAgent::post(Test::WWW::Mechanize::PSGI=HASH(0x3670370), "/wishlist?foo", HASH(0x335e378)) called at /home/eserte/.cpan/build/2017070909/Test-WWW-Mechanize-1.48-0oOF6J/blib/lib/Test/WWW/Mechanize.pm line 237
	Test::WWW::Mechanize::post_ok(Test::WWW::Mechanize::PSGI=HASH(0x3670370), "/wishlist?foo") called at t/03_mech.t line 75
Secret string too short at /home/eserte/.cpan/build/2017070909/HTTP-Session2-1.09-jVZwou/blib/lib/HTTP/Session2/Base.pm line 79.
	HTTP::Session2::Base::__ANON__(HTTP::Session2::ServerStore=HASH(0x37dc588), "s3cret") called at t/03_mech.t line 121
	main::server_session(HASH(0x369f338)) called at t/03_mech.t line 17
	main::__ANON__(HASH(0x369f338)) called at /home/eserte/.cpan/build/2017070909/Test-WWW-Mechanize-PSGI-0.37-oWvqI8/blib/lib/Test/WWW/Mechanize/PSGI.pm line 43
	Test::WWW::Mechanize::PSGI::try {...} () called at /opt/perl-5.22.3D/lib/site_perl/5.22.3/Try/Tiny.pm line 103
	eval {...} called at /opt/perl-5.22.3D/lib/site_perl/5.22.3/Try/Tiny.pm line 94
	Try::Tiny::try(CODE(0x37add60), Try::Tiny::Catch=REF(0x37ada00)) called at /home/eserte/.cpan/build/2017070909/Test-WWW-Mechanize-PSGI-0.37-oWvqI8/blib/lib/Test/WWW/Mechanize/PSGI.pm line 50
	Test::WWW::Mechanize::PSGI::simple_request(Test::WWW::Mechanize::PSGI=HASH(0x3670370), HTTP::Request=HASH(0x37821d8), undef, undef) called at /opt/perl-5.22.3D/lib/site_perl/5.22.3/LWP/UserAgent.pm line 297
	LWP::UserAgent::request(Test::WWW::Mechanize::PSGI=HASH(0x3670370), HTTP::Request=HASH(0x37821d8)) called at /home/eserte/.cpan/build/2017070909/WWW-Mechanize-1.86-T8yA8n/blib/lib/WWW/Mechanize.pm line 1413
	WWW::Mechanize::_make_request(Test::WWW::Mechanize::PSGI=HASH(0x3670370), HTTP::Request=HASH(0x37821d8)) called at /home/eserte/.cpan/build/2017070909/WWW-Mechanize-1.86-T8yA8n/blib/lib/WWW/Mechanize.pm line 1253
	WWW::Mechanize::request(Test::WWW::Mechanize::PSGI=HASH(0x3670370), HTTP::Request=HASH(0x37821d8)) called at /opt/perl-5.22.3D/lib/site_perl/5.22.3/LWP/UserAgent.pm line 435
	LWP::UserAgent::get(Test::WWW::Mechanize::PSGI=HASH(0x3670370), "http://localhost/wishlist") called at /home/eserte/.cpan/build/2017070909/WWW-Mechanize-1.86-T8yA8n/blib/lib/WWW/Mechanize.pm line 117
	WWW::Mechanize::get(Test::WWW::Mechanize::PSGI=HASH(0x3670370), "/wishlist") called at /home/eserte/.cpan/build/2017070909/Test-WWW-Mechanize-1.48-0oOF6J/blib/lib/Test/WWW/Mechanize.pm line 160
	Test::WWW::Mechanize::get_ok(Test::WWW::Mechanize::PSGI=HASH(0x3670370), "/wishlist") called at t/03_mech.t line 76
Secret string too short at /home/eserte/.cpan/build/2017070909/HTTP-Session2-1.09-jVZwou/blib/lib/HTTP/Session2/Base.pm line 79.
	HTTP::Session2::Base::__ANON__(HTTP::Session2::ServerStore=HASH(0x37dcaf8), "s3cret") called at t/03_mech.t line 121
	main::server_session(HASH(0x37dc9c0)) called at t/03_mech.t line 17
	main::__ANON__(HASH(0x37dc9c0)) called at /home/eserte/.cpan/build/2017070909/Test-WWW-Mechanize-PSGI-0.37-oWvqI8/blib/lib/Test/WWW/Mechanize/PSGI.pm line 43
	Test::WWW::Mechanize::PSGI::try {...} () called at /opt/perl-5.22.3D/lib/site_perl/5.22.3/Try/Tiny.pm line 103
	eval {...} called at /opt/perl-5.22.3D/lib/site_perl/5.22.3/Try/Tiny.pm line 94
	Try::Tiny::try(CODE(0x37add00), Try::Tiny::Catch=REF(0x37ae240)) called at /home/eserte/.cpan/build/2017070909/Test-WWW-Mechanize-PSGI-0.37-oWvqI8/blib/lib/Test/WWW/Mechanize/PSGI.pm line 50
	Test::WWW::Mechanize::PSGI::simple_request(Test::WWW::Mechanize::PSGI=HASH(0x3670370), HTTP::Request=HASH(0x37ad9e8), undef, undef) called at /opt/perl-5.22.3D/lib/site_perl/5.22.3/LWP/UserAgent.pm line 297
	LWP::UserAgent::request(Test::WWW::Mechanize::PSGI=HASH(0x3670370), HTTP::Request=HASH(0x37ad9e8)) called at /home/eserte/.cpan/build/2017070909/WWW-Mechanize-1.86-T8yA8n/blib/lib/WWW/Mechanize.pm line 1413
	WWW::Mechanize::_make_request(Test::WWW::Mechanize::PSGI=HASH(0x3670370), HTTP::Request=HASH(0x37ad9e8)) called at /home/eserte/.cpan/build/2017070909/WWW-Mechanize-1.86-T8yA8n/blib/lib/WWW/Mechanize.pm line 1253
	WWW::Mechanize::request(Test::WWW::Mechanize::PSGI=HASH(0x3670370), HTTP::Request=HASH(0x37ad9e8)) called at /opt/perl-5.22.3D/lib/site_perl/5.22.3/LWP/UserAgent.pm line 478
	LWP::UserAgent::post(Test::WWW::Mechanize::PSGI=HASH(0x3670370), "/wishlist?bar") called at t/03_mech.t line 78
Secret string too short at /home/eserte/.cpan/build/2017070909/HTTP-Session2-1.09-jVZwou/blib/lib/HTTP/Session2/Base.pm line 79.
	HTTP::Session2::Base::__ANON__(HTTP::Session2::ServerStore=HASH(0x37dcee8), "s3cret") called at t/03_mech.t line 121
	main::server_session(HASH(0x37dcfc0)) called at t/03_mech.t line 17
	main::__ANON__(HASH(0x37dcfc0)) called at /home/eserte/.cpan/build/2017070909/Test-WWW-Mechanize-PSGI-0.37-oWvqI8/blib/lib/Test/WWW/Mechanize/PSGI.pm line 43
	Test::WWW::Mechanize::PSGI::try {...} () called at /opt/perl-5.22.3D/lib/site_perl/5.22.3/Try/Tiny.pm line 103
	eval {...} called at /opt/perl-5.22.3D/lib/site_perl/5.22.3/Try/Tiny.pm line 94
	Try::Tiny::try(CODE(0x37dcac8), Try::Tiny::Catch=REF(0x37dc5e8)) called at /home/eserte/.cpan/build/2017070909/Test-WWW-Mechanize-PSGI-0.37-oWvqI8/blib/lib/Test/WWW/Mechanize/PSGI.pm line 50
	Test::WWW::Mechanize::PSGI::simple_request(Test::WWW::Mechanize::PSGI=HASH(0x3670370), HTTP::Request=HASH(0x37ae1e0), undef, undef) called at /opt/perl-5.22.3D/lib/site_perl/5.22.3/LWP/UserAgent.pm line 297
	LWP::UserAgent::request(Test::WWW::Mechanize::PSGI=HASH(0x3670370), HTTP::Request=HASH(0x37ae1e0)) called at /home/eserte/.cpan/build/2017070909/WWW-Mechanize-1.86-T8yA8n/blib/lib/WWW/Mechanize.pm line 1413
	WWW::Mechanize::_make_request(Test::WWW::Mechanize::PSGI=HASH(0x3670370), HTTP::Request=HASH(0x37ae1e0)) called at /home/eserte/.cpan/build/2017070909/WWW-Mechanize-1.86-T8yA8n/blib/lib/WWW/Mechanize.pm line 1253
	WWW::Mechanize::request(Test::WWW::Mechanize::PSGI=HASH(0x3670370), HTTP::Request=HASH(0x37ae1e0)) called at /opt/perl-5.22.3D/lib/site_perl/5.22.3/LWP/UserAgent.pm line 478
	LWP::UserAgent::post(Test::WWW::Mechanize::PSGI=HASH(0x3670370), "/wishlist?bar", HASH(0x335e378)) called at /home/eserte/.cpan/build/2017070909/Test-WWW-Mechanize-1.48-0oOF6J/blib/lib/Test/WWW/Mechanize.pm line 237
	Test::WWW::Mechanize::post_ok(Test::WWW::Mechanize::PSGI=HASH(0x3670370), "/wishlist?bar") called at t/03_mech.t line 81
Secret string too short at /home/eserte/.cpan/build/2017070909/HTTP-Session2-1.09-jVZwou/blib/lib/HTTP/Session2/Base.pm line 79.
	HTTP::Session2::Base::__ANON__(HTTP::Session2::ServerStore=HASH(0x37dd3b0), "s3cret") called at t/03_mech.t line 121
	main::server_session(HASH(0x37dce40)) called at t/03_mech.t line 17
	main::__ANON__(HASH(0x37dce40)) called at /home/eserte/.cpan/build/2017070909/Test-WWW-Mechanize-PSGI-0.37-oWvqI8/blib/lib/Test/WWW/Mechanize/PSGI.pm line 43
	Test::WWW::Mechanize::PSGI::try {...} () called at /opt/perl-5.22.3D/lib/site_perl/5.22.3/Try/Tiny.pm line 103
	eval {...} called at /opt/perl-5.22.3D/lib/site_perl/5.22.3/Try/Tiny.pm line 94
	Try::Tiny::try(CODE(0x37ae258), Try::Tiny::Catch=REF(0x37dc528)) called at /home/eserte/.cpan/build/2017070909/Test-WWW-Mechanize-PSGI-0.37-oWvqI8/blib/lib/Test/WWW/Mechanize/PSGI.pm line 50
	Test::WWW::Mechanize::PSGI::simple_request(Test::WWW::Mechanize::PSGI=HASH(0x3670370), HTTP::Request=HASH(0x37dc918), undef, undef) called at /opt/perl-5.22.3D/lib/site_perl/5.22.3/LWP/UserAgent.pm line 297
	LWP::UserAgent::request(Test::WWW::Mechanize::PSGI=HASH(0x3670370), HTTP::Request=HASH(0x37dc918)) called at /home/eserte/.cpan/build/2017070909/WWW-Mechanize-1.86-T8yA8n/blib/lib/WWW/Mechanize.pm line 1413
	WWW::Mechanize::_make_request(Test::WWW::Mechanize::PSGI=HASH(0x3670370), HTTP::Request=HASH(0x37dc918)) called at /home/eserte/.cpan/build/2017070909/WWW-Mechanize-1.86-T8yA8n/blib/lib/WWW/Mechanize.pm line 1253
	WWW::Mechanize::request(Test::WWW::Mechanize::PSGI=HASH(0x3670370), HTTP::Request=HASH(0x37dc918)) called at /opt/perl-5.22.3D/lib/site_perl/5.22.3/LWP/UserAgent.pm line 435
	LWP::UserAgent::get(Test::WWW::Mechanize::PSGI=HASH(0x3670370), "http://localhost/wishlist") called at /home/eserte/.cpan/build/2017070909/WWW-Mechanize-1.86-T8yA8n/blib/lib/WWW/Mechanize.pm line 117
	WWW::Mechanize::get(Test::WWW::Mechanize::PSGI=HASH(0x3670370), "/wishlist") called at /home/eserte/.cpan/build/2017070909/Test-WWW-Mechanize-1.48-0oOF6J/blib/lib/Test/WWW/Mechanize.pm line 160
	Test::WWW::Mechanize::get_ok(Test::WWW::Mechanize::PSGI=HASH(0x3670370), "/wishlist") called at t/03_mech.t line 82
Secret string too short at /home/eserte/.cpan/build/2017070909/HTTP-Session2-1.09-jVZwou/blib/lib/HTTP/Session2/Base.pm line 79.
	HTTP::Session2::Base::__ANON__(HTTP::Session2::ServerStore=HASH(0x37e2c38), "s3cret") called at t/03_mech.t line 121
	main::server_session(HASH(0x37dd278)) called at t/03_mech.t line 17
	main::__ANON__(HASH(0x37dd278)) called at /home/eserte/.cpan/build/2017070909/Test-WWW-Mechanize-PSGI-0.37-oWvqI8/blib/lib/Test/WWW/Mechanize/PSGI.pm line 43
	Test::WWW::Mechanize::PSGI::try {...} () called at /opt/perl-5.22.3D/lib/site_perl/5.22.3/Try/Tiny.pm line 103
	eval {...} called at /opt/perl-5.22.3D/lib/site_perl/5.22.3/Try/Tiny.pm line 94
	Try::Tiny::try(CODE(0x37dd200), Try::Tiny::Catch=REF(0x37dcf60)) called at /home/eserte/.cpan/build/2017070909/Test-WWW-Mechanize-PSGI-0.37-oWvqI8/blib/lib/Test/WWW/Mechanize/PSGI.pm line 50
	Test::WWW::Mechanize::PSGI::simple_request(Test::WWW::Mechanize::PSGI=HASH(0x3670370), HTTP::Request=HASH(0x37dced0), undef, undef) called at /opt/perl-5.22.3D/lib/site_perl/5.22.3/LWP/UserAgent.pm line 297
	LWP::UserAgent::request(Test::WWW::Mechanize::PSGI=HASH(0x3670370), HTTP::Request=HASH(0x37dced0)) called at /home/eserte/.cpan/build/2017070909/WWW-Mechanize-1.86-T8yA8n/blib/lib/WWW/Mechanize.pm line 1413
	WWW::Mechanize::_make_request(Test::WWW::Mechanize::PSGI=HASH(0x3670370), HTTP::Request=HASH(0x37dced0)) called at /home/eserte/.cpan/build/2017070909/WWW-Mechanize-1.86-T8yA8n/blib/lib/WWW/Mechanize.pm line 1253
	WWW::Mechanize::request(Test::WWW::Mechanize::PSGI=HASH(0x3670370), HTTP::Request=HASH(0x37dced0)) called at /opt/perl-5.22.3D/lib/site_perl/5.22.3/LWP/UserAgent.pm line 478
	LWP::UserAgent::post(Test::WWW::Mechanize::PSGI=HASH(0x3670370), "/account/login?john", HASH(0x335e378)) called at /home/eserte/.cpan/build/2017070909/Test-WWW-Mechanize-1.48-0oOF6J/blib/lib/Test/WWW/Mechanize.pm line 237
	Test::WWW::Mechanize::post_ok(Test::WWW::Mechanize::PSGI=HASH(0x3670370), "/account/login?john") called at t/03_mech.t line 84
Secret string too short at /home/eserte/.cpan/build/2017070909/HTTP-Session2-1.09-jVZwou/blib/lib/HTTP/Session2/Base.pm line 79.
	HTTP::Session2::Base::__ANON__(HTTP::Session2::ServerStore=HASH(0x37e2a40), "s3cret") called at t/03_mech.t line 121
	main::server_session(HASH(0x37e2bf0)) called at t/03_mech.t line 17
	main::__ANON__(HASH(0x37e2bf0)) called at /home/eserte/.cpan/build/2017070909/Test-WWW-Mechanize-PSGI-0.37-oWvqI8/blib/lib/Test/WWW/Mechanize/PSGI.pm line 43
	Test::WWW::Mechanize::PSGI::try {...} () called at /opt/perl-5.22.3D/lib/site_perl/5.22.3/Try/Tiny.pm line 103
	eval {...} called at /opt/perl-5.22.3D/lib/site_perl/5.22.3/Try/Tiny.pm line 94
	Try::Tiny::try(CODE(0x37e2fe0), Try::Tiny::Catch=REF(0x37dd230)) called at /home/eserte/.cpan/build/2017070909/Test-WWW-Mechanize-PSGI-0.37-oWvqI8/blib/lib/Test/WWW/Mechanize/PSGI.pm line 50
	Test::WWW::Mechanize::PSGI::simple_request(Test::WWW::Mechanize::PSGI=HASH(0x3670370), HTTP::Request=HASH(0x37dd3b0), undef, undef) called at /opt/perl-5.22.3D/lib/site_perl/5.22.3/LWP/UserAgent.pm line 297
	LWP::UserAgent::request(Test::WWW::Mechanize::PSGI=HASH(0x3670370), HTTP::Request=HASH(0x37dd3b0)) called at /home/eserte/.cpan/build/2017070909/WWW-Mechanize-1.86-T8yA8n/blib/lib/WWW/Mechanize.pm line 1413
	WWW::Mechanize::_make_request(Test::WWW::Mechanize::PSGI=HASH(0x3670370), HTTP::Request=HASH(0x37dd3b0)) called at /home/eserte/.cpan/build/2017070909/WWW-Mechanize-1.86-T8yA8n/blib/lib/WWW/Mechanize.pm line 1253
	WWW::Mechanize::request(Test::WWW::Mechanize::PSGI=HASH(0x3670370), HTTP::Request=HASH(0x37dd3b0)) called at /opt/perl-5.22.3D/lib/site_perl/5.22.3/LWP/UserAgent.pm line 435
	LWP::UserAgent::get(Test::WWW::Mechanize::PSGI=HASH(0x3670370), "http://localhost/wishlist") called at /home/eserte/.cpan/build/2017070909/WWW-Mechanize-1.86-T8yA8n/blib/lib/WWW/Mechanize.pm line 117
	WWW::Mechanize::get(Test::WWW::Mechanize::PSGI=HASH(0x3670370), "/wishlist") called at /home/eserte/.cpan/build/2017070909/Test-WWW-Mechanize-1.48-0oOF6J/blib/lib/Test/WWW/Mechanize.pm line 160
	Test::WWW::Mechanize::get_ok(Test::WWW::Mechanize::PSGI=HASH(0x3670370), "/wishlist", "Wishlist is still available") called at t/03_mech.t line 85
Secret string too short at /home/eserte/.cpan/build/2017070909/HTTP-Session2-1.09-jVZwou/blib/lib/HTTP/Session2/Base.pm line 79.
	HTTP::Session2::Base::__ANON__(HTTP::Session2::ServerStore=HASH(0x37e3610), "s3cret") called at t/03_mech.t line 121
	main::server_session(HASH(0x37e31c0)) called at t/03_mech.t line 17
	main::__ANON__(HASH(0x37e31c0)) called at /home/eserte/.cpan/build/2017070909/Test-WWW-Mechanize-PSGI-0.37-oWvqI8/blib/lib/Test/WWW/Mechanize/PSGI.pm line 43
	Test::WWW::Mechanize::PSGI::try {...} () called at /opt/perl-5.22.3D/lib/site_perl/5.22.3/Try/Tiny.pm line 103
	eval {...} called at /opt/perl-5.22.3D/lib/site_perl/5.22.3/Try/Tiny.pm line 94
	Try::Tiny::try(CODE(0x37e3418), Try::Tiny::Catch=REF(0x37e2f20)) called at /home/eserte/.cpan/build/2017070909/Test-WWW-Mechanize-PSGI-0.37-oWvqI8/blib/lib/Test/WWW/Mechanize/PSGI.pm line 50
	Test::WWW::Mechanize::PSGI::simple_request(Test::WWW::Mechanize::PSGI=HASH(0x3670370), HTTP::Request=HASH(0x37e3268), undef, undef) called at /opt/perl-5.22.3D/lib/site_perl/5.22.3/LWP/UserAgent.pm line 297
	LWP::UserAgent::request(Test::WWW::Mechanize::PSGI=HASH(0x3670370), HTTP::Request=HASH(0x37e3268)) called at /home/eserte/.cpan/build/2017070909/WWW-Mechanize-1.86-T8yA8n/blib/lib/WWW/Mechanize.pm line 1413
	WWW::Mechanize::_make_request(Test::WWW::Mechanize::PSGI=HASH(0x3670370), HTTP::Request=HASH(0x37e3268)) called at /home/eserte/.cpan/build/2017070909/WWW-Mechanize-1.86-T8yA8n/blib/lib/WWW/Mechanize.pm line 1253
	WWW::Mechanize::request(Test::WWW::Mechanize::PSGI=HASH(0x3670370), HTTP::Request=HASH(0x37e3268)) called at /opt/perl-5.22.3D/lib/site_perl/5.22.3/LWP/UserAgent.pm line 478
	LWP::UserAgent::post(Test::WWW::Mechanize::PSGI=HASH(0x3670370), "/wishlist?baz") called at t/03_mech.t line 87
Secret string too short at /home/eserte/.cpan/build/2017070909/HTTP-Session2-1.09-jVZwou/blib/lib/HTTP/Session2/Base.pm line 79.
	HTTP::Session2::Base::__ANON__(HTTP::Session2::ServerStore=HASH(0x37e7c90), "s3cret") called at t/03_mech.t line 121
	main::server_session(HASH(0x37ad8c8)) called at t/03_mech.t line 17
	main::__ANON__(HASH(0x37ad8c8)) called at /home/eserte/.cpan/build/2017070909/Test-WWW-Mechanize-PSGI-0.37-oWvqI8/blib/lib/Test/WWW/Mechanize/PSGI.pm line 43
	Test::WWW::Mechanize::PSGI::try {...} () called at /opt/perl-5.22.3D/lib/site_perl/5.22.3/Try/Tiny.pm line 103
	eval {...} called at /opt/perl-5.22.3D/lib/site_perl/5.22.3/Try/Tiny.pm line 94
	Try::Tiny::try(CODE(0x37e7af8), Try::Tiny::Catch=REF(0x37e31a8)) called at /home/eserte/.cpan/build/2017070909/Test-WWW-Mechanize-PSGI-0.37-oWvqI8/blib/lib/Test/WWW/Mechanize/PSGI.pm line 50
	Test::WWW::Mechanize::PSGI::simple_request(Test::WWW::Mechanize::PSGI=HASH(0x3670370), HTTP::Request=HASH(0x37ad8e0), undef, undef) called at /opt/perl-5.22.3D/lib/site_perl/5.22.3/LWP/UserAgent.pm line 297
	LWP::UserAgent::request(Test::WWW::Mechanize::PSGI=HASH(0x3670370), HTTP::Request=HASH(0x37ad8e0)) called at /home/eserte/.cpan/build/2017070909/WWW-Mechanize-1.86-T8yA8n/blib/lib/WWW/Mechanize.pm line 1413
	WWW::Mechanize::_make_request(Test::WWW::Mechanize::PSGI=HASH(0x3670370), HTTP::Request=HASH(0x37ad8e0)) called at /home/eserte/.cpan/build/2017070909/WWW-Mechanize-1.86-T8yA8n/blib/lib/WWW/Mechanize.pm line 1253
	WWW::Mechanize::request(Test::WWW::Mechanize::PSGI=HASH(0x3670370), HTTP::Request=HASH(0x37ad8e0)) called at /opt/perl-5.22.3D/lib/site_perl/5.22.3/LWP/UserAgent.pm line 478
	LWP::UserAgent::post(Test::WWW::Mechanize::PSGI=HASH(0x3670370), "/wishlist?baz", HASH(0x335e378)) called at /home/eserte/.cpan/build/2017070909/Test-WWW-Mechanize-1.48-0oOF6J/blib/lib/Test/WWW/Mechanize.pm line 237
	Test::WWW::Mechanize::post_ok(Test::WWW::Mechanize::PSGI=HASH(0x3670370), "/wishlist?baz") called at t/03_mech.t line 90
Secret string too short at /home/eserte/.cpan/build/2017070909/HTTP-Session2-1.09-jVZwou/blib/lib/HTTP/Session2/Base.pm line 79.
	HTTP::Session2::Base::__ANON__(HTTP::Session2::ServerStore=HASH(0x37e7fc0), "s3cret") called at t/03_mech.t line 121
	main::server_session(HASH(0x37e7de0)) called at t/03_mech.t line 17
	main::__ANON__(HASH(0x37e7de0)) called at /home/eserte/.cpan/build/2017070909/Test-WWW-Mechanize-PSGI-0.37-oWvqI8/blib/lib/Test/WWW/Mechanize/PSGI.pm line 43
	Test::WWW::Mechanize::PSGI::try {...} () called at /opt/perl-5.22.3D/lib/site_perl/5.22.3/Try/Tiny.pm line 103
	eval {...} called at /opt/perl-5.22.3D/lib/site_perl/5.22.3/Try/Tiny.pm line 94
	Try::Tiny::try(CODE(0x37e3340), Try::Tiny::Catch=REF(0x37e3670)) called at /home/eserte/.cpan/build/2017070909/Test-WWW-Mechanize-PSGI-0.37-oWvqI8/blib/lib/Test/WWW/Mechanize/PSGI.pm line 50
	Test::WWW::Mechanize::PSGI::simple_request(Test::WWW::Mechanize::PSGI=HASH(0x3670370), HTTP::Request=HASH(0x37e3220), undef, undef) called at /opt/perl-5.22.3D/lib/site_perl/5.22.3/LWP/UserAgent.pm line 297
	LWP::UserAgent::request(Test::WWW::Mechanize::PSGI=HASH(0x3670370), HTTP::Request=HASH(0x37e3220)) called at /home/eserte/.cpan/build/2017070909/WWW-Mechanize-1.86-T8yA8n/blib/lib/WWW/Mechanize.pm line 1413
	WWW::Mechanize::_make_request(Test::WWW::Mechanize::PSGI=HASH(0x3670370), HTTP::Request=HASH(0x37e3220)) called at /home/eserte/.cpan/build/2017070909/WWW-Mechanize-1.86-T8yA8n/blib/lib/WWW/Mechanize.pm line 1253
	WWW::Mechanize::request(Test::WWW::Mechanize::PSGI=HASH(0x3670370), HTTP::Request=HASH(0x37e3220)) called at /opt/perl-5.22.3D/lib/site_perl/5.22.3/LWP/UserAgent.pm line 435
	LWP::UserAgent::get(Test::WWW::Mechanize::PSGI=HASH(0x3670370), "http://localhost/wishlist") called at /home/eserte/.cpan/build/2017070909/WWW-Mechanize-1.86-T8yA8n/blib/lib/WWW/Mechanize.pm line 117
	WWW::Mechanize::get(Test::WWW::Mechanize::PSGI=HASH(0x3670370), "/wishlist") called at /home/eserte/.cpan/build/2017070909/Test-WWW-Mechanize-1.48-0oOF6J/blib/lib/Test/WWW/Mechanize.pm line 160
	Test::WWW::Mechanize::get_ok(Test::WWW::Mechanize::PSGI=HASH(0x3670370), "/wishlist", "Wishlist is still available") called at t/03_mech.t line 91
Secret string too short at /home/eserte/.cpan/build/2017070909/HTTP-Session2-1.09-jVZwou/blib/lib/HTTP/Session2/Base.pm line 79.
	HTTP::Session2::Base::__ANON__(HTTP::Session2::ServerStore=HASH(0x37e8590), "s3cret") called at t/03_mech.t line 121
	main::server_session(HASH(0x37e8440)) called at t/03_mech.t line 17
	main::__ANON__(HASH(0x37e8440)) called at /home/eserte/.cpan/build/2017070909/Test-WWW-Mechanize-PSGI-0.37-oWvqI8/blib/lib/Test/WWW/Mechanize/PSGI.pm line 43
	Test::WWW::Mechanize::PSGI::try {...} () called at /opt/perl-5.22.3D/lib/site_perl/5.22.3/Try/Tiny.pm line 103
	eval {...} called at /opt/perl-5.22.3D/lib/site_perl/5.22.3/Try/Tiny.pm line 94
	Try::Tiny::try(CODE(0x37e8230), Try::Tiny::Catch=REF(0x37e7c60)) called at /home/eserte/.cpan/build/2017070909/Test-WWW-Mechanize-PSGI-0.37-oWvqI8/blib/lib/Test/WWW/Mechanize/PSGI.pm line 50
	Test::WWW::Mechanize::PSGI::simple_request(Test::WWW::Mechanize::PSGI=HASH(0x3670370), HTTP::Request=HASH(0x37e7b10), undef, undef) called at /opt/perl-5.22.3D/lib/site_perl/5.22.3/LWP/UserAgent.pm line 297
	LWP::UserAgent::request(Test::WWW::Mechanize::PSGI=HASH(0x3670370), HTTP::Request=HASH(0x37e7b10)) called at /home/eserte/.cpan/build/2017070909/WWW-Mechanize-1.86-T8yA8n/blib/lib/WWW/Mechanize.pm line 1413
	WWW::Mechanize::_make_request(Test::WWW::Mechanize::PSGI=HASH(0x3670370), HTTP::Request=HASH(0x37e7b10)) called at /home/eserte/.cpan/build/2017070909/WWW-Mechanize-1.86-T8yA8n/blib/lib/WWW/Mechanize.pm line 1253
	WWW::Mechanize::request(Test::WWW::Mechanize::PSGI=HASH(0x3670370), HTTP::Request=HASH(0x37e7b10)) called at /opt/perl-5.22.3D/lib/site_perl/5.22.3/LWP/UserAgent.pm line 435
	LWP::UserAgent::get(Test::WWW::Mechanize::PSGI=HASH(0x3670370), "http://localhost/my/name") called at /home/eserte/.cpan/build/2017070909/WWW-Mechanize-1.86-T8yA8n/blib/lib/WWW/Mechanize.pm line 117
	WWW::Mechanize::get(Test::WWW::Mechanize::PSGI=HASH(0x3670370), "/my/name") called at /home/eserte/.cpan/build/2017070909/Test-WWW-Mechanize-1.48-0oOF6J/blib/lib/Test/WWW/Mechanize.pm line 160
	Test::WWW::Mechanize::get_ok(Test::WWW::Mechanize::PSGI=HASH(0x3670370), "/my/name") called at t/03_mech.t line 93
Secret string too short at /home/eserte/.cpan/build/2017070909/HTTP-Session2-1.09-jVZwou/blib/lib/HTTP/Session2/Base.pm line 79.
	HTTP::Session2::Base::__ANON__(HTTP::Session2::ServerStore=HASH(0x37e8740), "s3cret") called at t/03_mech.t line 121
	main::server_session(HASH(0x37e80c8)) called at t/03_mech.t line 17
	main::__ANON__(HASH(0x37e80c8)) called at /home/eserte/.cpan/build/2017070909/Test-WWW-Mechanize-PSGI-0.37-oWvqI8/blib/lib/Test/WWW/Mechanize/PSGI.pm line 43
	Test::WWW::Mechanize::PSGI::try {...} () called at /opt/perl-5.22.3D/lib/site_perl/5.22.3/Try/Tiny.pm line 103
	eval {...} called at /opt/perl-5.22.3D/lib/site_perl/5.22.3/Try/Tiny.pm line 94
	Try::Tiny::try(CODE(0x37e8728), Try::Tiny::Catch=REF(0x37e80e0)) called at /home/eserte/.cpan/build/2017070909/Test-WWW-Mechanize-PSGI-0.37-oWvqI8/blib/lib/Test/WWW/Mechanize/PSGI.pm line 50
	Test::WWW::Mechanize::PSGI::simple_request(Test::WWW::Mechanize::PSGI=HASH(0x3670370), HTTP::Request=HASH(0x37e8698), undef, undef) called at /opt/perl-5.22.3D/lib/site_perl/5.22.3/LWP/UserAgent.pm line 297
	LWP::UserAgent::request(Test::WWW::Mechanize::PSGI=HASH(0x3670370), HTTP::Request=HASH(0x37e8698)) called at /home/eserte/.cpan/build/2017070909/WWW-Mechanize-1.86-T8yA8n/blib/lib/WWW/Mechanize.pm line 1413
	WWW::Mechanize::_make_request(Test::WWW::Mechanize::PSGI=HASH(0x3670370), HTTP::Request=HASH(0x37e8698)) called at /home/eserte/.cpan/build/2017070909/WWW-Mechanize-1.86-T8yA8n/blib/lib/WWW/Mechanize.pm line 1253
	WWW::Mechanize::request(Test::WWW::Mechanize::PSGI=HASH(0x3670370), HTTP::Request=HASH(0x37e8698)) called at /opt/perl-5.22.3D/lib/site_perl/5.22.3/LWP/UserAgent.pm line 478
	LWP::UserAgent::post(Test::WWW::Mechanize::PSGI=HASH(0x3670370), "/account/logout?john") called at t/03_mech.t line 97
Secret string too short at /home/eserte/.cpan/build/2017070909/HTTP-Session2-1.09-jVZwou/blib/lib/HTTP/Session2/Base.pm line 79.
	HTTP::Session2::Base::__ANON__(HTTP::Session2::ClientStore=HASH(0x37ae180), "s3cret") called at t/03_mech.t line 127
	main::client_session(HASH(0x37eb098)) called at t/03_mech.t line 17
	main::__ANON__(HASH(0x37eb098)) called at /home/eserte/.cpan/build/2017070909/Test-WWW-Mechanize-PSGI-0.37-oWvqI8/blib/lib/Test/WWW/Mechanize/PSGI.pm line 43
	Test::WWW::Mechanize::PSGI::try {...} () called at /opt/perl-5.22.3D/lib/site_perl/5.22.3/Try/Tiny.pm line 103
	eval {...} called at /opt/perl-5.22.3D/lib/site_perl/5.22.3/Try/Tiny.pm line 94
	Try::Tiny::try(CODE(0x37425c0), Try::Tiny::Catch=REF(0x37e7d68)) called at /home/eserte/.cpan/build/2017070909/Test-WWW-Mechanize-PSGI-0.37-oWvqI8/blib/lib/Test/WWW/Mechanize/PSGI.pm line 50
	Test::WWW::Mechanize::PSGI::simple_request(Test::WWW::Mechanize::PSGI=HASH(0x37e86b0), HTTP::Request=HASH(0x37e8140), undef, undef) called at /opt/perl-5.22.3D/lib/site_perl/5.22.3/LWP/UserAgent.pm line 297
	LWP::UserAgent::request(Test::WWW::Mechanize::PSGI=HASH(0x37e86b0), HTTP::Request=HASH(0x37e8140)) called at /home/eserte/.cpan/build/2017070909/WWW-Mechanize-1.86-T8yA8n/blib/lib/WWW/Mechanize.pm line 1413
	WWW::Mechanize::_make_request(Test::WWW::Mechanize::PSGI=HASH(0x37e86b0), HTTP::Request=HASH(0x37e8140)) called at /home/eserte/.cpan/build/2017070909/WWW-Mechanize-1.86-T8yA8n/blib/lib/WWW/Mechanize.pm line 1253
	WWW::Mechanize::request(Test::WWW::Mechanize::PSGI=HASH(0x37e86b0), HTTP::Request=HASH(0x37e8140)) called at /opt/perl-5.22.3D/lib/site_perl/5.22.3/LWP/UserAgent.pm line 435
	LWP::UserAgent::get(Test::WWW::Mechanize::PSGI=HASH(0x37e86b0), "/") called at /home/eserte/.cpan/build/2017070909/WWW-Mechanize-1.86-T8yA8n/blib/lib/WWW/Mechanize.pm line 117
	WWW::Mechanize::get(Test::WWW::Mechanize::PSGI=HASH(0x37e86b0), "/") called at /home/eserte/.cpan/build/2017070909/Test-WWW-Mechanize-1.48-0oOF6J/blib/lib/Test/WWW/Mechanize.pm line 160
	Test::WWW::Mechanize::get_ok(Test::WWW::Mechanize::PSGI=HASH(0x37e86b0), "/") called at t/03_mech.t line 74
Secret string too short at /home/eserte/.cpan/build/2017070909/HTTP-Session2-1.09-jVZwou/blib/lib/HTTP/Session2/Base.pm line 79.
	HTTP::Session2::Base::__ANON__(HTTP::Session2::ClientStore=HASH(0x37dca68), "s3cret") called at t/03_mech.t line 127
	main::client_session(HASH(0x37ad9e8)) called at t/03_mech.t line 17
	main::__ANON__(HASH(0x37ad9e8)) called at /home/eserte/.cpan/build/2017070909/Test-WWW-Mechanize-PSGI-0.37-oWvqI8/blib/lib/Test/WWW/Mechanize/PSGI.pm line 43
	Test::WWW::Mechanize::PSGI::try {...} () called at /opt/perl-5.22.3D/lib/site_perl/5.22.3/Try/Tiny.pm line 103
	eval {...} called at /opt/perl-5.22.3D/lib/site_perl/5.22.3/Try/Tiny.pm line 94
	Try::Tiny::try(CODE(0x37dca80), Try::Tiny::Catch=REF(0x37ad7c0)) called at /home/eserte/.cpan/build/2017070909/Test-WWW-Mechanize-PSGI-0.37-oWvqI8/blib/lib/Test/WWW/Mechanize/PSGI.pm line 50
	Test::WWW::Mechanize::PSGI::simple_request(Test::WWW::Mechanize::PSGI=HASH(0x37e86b0), HTTP::Request=HASH(0x364a988), undef, undef) called at /opt/perl-5.22.3D/lib/site_perl/5.22.3/LWP/UserAgent.pm line 297
	LWP::UserAgent::request(Test::WWW::Mechanize::PSGI=HASH(0x37e86b0), HTTP::Request=HASH(0x364a988)) called at /home/eserte/.cpan/build/2017070909/WWW-Mechanize-1.86-T8yA8n/blib/lib/WWW/Mechanize.pm line 1413
	WWW::Mechanize::_make_request(Test::WWW::Mechanize::PSGI=HASH(0x37e86b0), HTTP::Request=HASH(0x364a988)) called at /home/eserte/.cpan/build/2017070909/WWW-Mechanize-1.86-T8yA8n/blib/lib/WWW/Mechanize.pm line 1253
	WWW::Mechanize::request(Test::WWW::Mechanize::PSGI=HASH(0x37e86b0), HTTP::Request=HASH(0x364a988)) called at /opt/perl-5.22.3D/lib/site_perl/5.22.3/LWP/UserAgent.pm line 478
	LWP::UserAgent::post(Test::WWW::Mechanize::PSGI=HASH(0x37e86b0), "/wishlist?foo", HASH(0x335e378)) called at /home/eserte/.cpan/build/2017070909/Test-WWW-Mechanize-1.48-0oOF6J/blib/lib/Test/WWW/Mechanize.pm line 237
	Test::WWW::Mechanize::post_ok(Test::WWW::Mechanize::PSGI=HASH(0x37e86b0), "/wishlist?foo") called at t/03_mech.t line 75
Do not use HTTP::Session2::ClientStore. Use HTTP::Session2::ServerStore or HTTP::Session2::ClientStore2 instead. at /home/eserte/.cpan/build/2017070909/HTTP-Session2-1.09-jVZwou/blib/lib/HTTP/Session2/ClientStore.pm line 25.
Secret string too short at /home/eserte/.cpan/build/2017070909/HTTP-Session2-1.09-jVZwou/blib/lib/HTTP/Session2/Base.pm line 79.
	HTTP::Session2::Base::__ANON__(HTTP::Session2::ClientStore=HASH(0x37e2b48), "s3cret") called at t/03_mech.t line 127
	main::client_session(HASH(0x37dd350)) called at t/03_mech.t line 17
	main::__ANON__(HASH(0x37dd350)) called at /home/eserte/.cpan/build/2017070909/Test-WWW-Mechanize-PSGI-0.37-oWvqI8/blib/lib/Test/WWW/Mechanize/PSGI.pm line 43
	Test::WWW::Mechanize::PSGI::try {...} () called at /opt/perl-5.22.3D/lib/site_perl/5.22.3/Try/Tiny.pm line 103
	eval {...} called at /opt/perl-5.22.3D/lib/site_perl/5.22.3/Try/Tiny.pm line 94
	Try::Tiny::try(CODE(0x37ae318), Try::Tiny::Catch=REF(0x37ad898)) called at /home/eserte/.cpan/build/2017070909/Test-WWW-Mechanize-PSGI-0.37-oWvqI8/blib/lib/Test/WWW/Mechanize/PSGI.pm line 50
	Test::WWW::Mechanize::PSGI::simple_request(Test::WWW::Mechanize::PSGI=HASH(0x37e86b0), HTTP::Request=HASH(0x37bf880), undef, undef) called at /opt/perl-5.22.3D/lib/site_perl/5.22.3/LWP/UserAgent.pm line 297
	LWP::UserAgent::request(Test::WWW::Mechanize::PSGI=HASH(0x37e86b0), HTTP::Request=HASH(0x37bf880)) called at /home/eserte/.cpan/build/2017070909/WWW-Mechanize-1.86-T8yA8n/blib/lib/WWW/Mechanize.pm line 1413
	WWW::Mechanize::_make_request(Test::WWW::Mechanize::PSGI=HASH(0x37e86b0), HTTP::Request=HASH(0x37bf880)) called at /home/eserte/.cpan/build/2017070909/WWW-Mechanize-1.86-T8yA8n/blib/lib/WWW/Mechanize.pm line 1253
	WWW::Mechanize::request(Test::WWW::Mechanize::PSGI=HASH(0x37e86b0), HTTP::Request=HASH(0x37bf880)) called at /opt/perl-5.22.3D/lib/site_perl/5.22.3/LWP/UserAgent.pm line 435
	LWP::UserAgent::get(Test::WWW::Mechanize::PSGI=HASH(0x37e86b0), "http://localhost/wishlist") called at /home/eserte/.cpan/build/2017070909/WWW-Mechanize-1.86-T8yA8n/blib/lib/WWW/Mechanize.pm line 117
	WWW::Mechanize::get(Test::WWW::Mechanize::PSGI=HASH(0x37e86b0), "/wishlist") called at /home/eserte/.cpan/build/2017070909/Test-WWW-Mechanize-1.48-0oOF6J/blib/lib/Test/WWW/Mechanize.pm line 160
	Test::WWW::Mechanize::get_ok(Test::WWW::Mechanize::PSGI=HASH(0x37e86b0), "/wishlist") called at t/03_mech.t line 76
Do not use HTTP::Session2::ClientStore. Use HTTP::Session2::ServerStore or HTTP::Session2::ClientStore2 instead. at /home/eserte/.cpan/build/2017070909/HTTP-Session2-1.09-jVZwou/blib/lib/HTTP/Session2/ClientStore.pm line 35.
Secret string too short at /home/eserte/.cpan/build/2017070909/HTTP-Session2-1.09-jVZwou/blib/lib/HTTP/Session2/Base.pm line 79.
	HTTP::Session2::Base::__ANON__(HTTP::Session2::ClientStore=HASH(0x37dcee8), "s3cret") called at t/03_mech.t line 127
	main::client_session(HASH(0x37dcc48)) called at t/03_mech.t line 17
	main::__ANON__(HASH(0x37dcc48)) called at /home/eserte/.cpan/build/2017070909/Test-WWW-Mechanize-PSGI-0.37-oWvqI8/blib/lib/Test/WWW/Mechanize/PSGI.pm line 43
	Test::WWW::Mechanize::PSGI::try {...} () called at /opt/perl-5.22.3D/lib/site_perl/5.22.3/Try/Tiny.pm line 103
	eval {...} called at /opt/perl-5.22.3D/lib/site_perl/5.22.3/Try/Tiny.pm line 94
	Try::Tiny::try(CODE(0x37dcf00), Try::Tiny::Catch=REF(0x37dc5a0)) called at /home/eserte/.cpan/build/2017070909/Test-WWW-Mechanize-PSGI-0.37-oWvqI8/blib/lib/Test/WWW/Mechanize/PSGI.pm line 50
	Test::WWW::Mechanize::PSGI::simple_request(Test::WWW::Mechanize::PSGI=HASH(0x37e86b0), HTTP::Request=HASH(0x37e2fc8), undef, undef) called at /opt/perl-5.22.3D/lib/site_perl/5.22.3/LWP/UserAgent.pm line 297
	LWP::UserAgent::request(Test::WWW::Mechanize::PSGI=HASH(0x37e86b0), HTTP::Request=HASH(0x37e2fc8)) called at /home/eserte/.cpan/build/2017070909/WWW-Mechanize-1.86-T8yA8n/blib/lib/WWW/Mechanize.pm line 1413
	WWW::Mechanize::_make_request(Test::WWW::Mechanize::PSGI=HASH(0x37e86b0), HTTP::Request=HASH(0x37e2fc8)) called at /home/eserte/.cpan/build/2017070909/WWW-Mechanize-1.86-T8yA8n/blib/lib/WWW/Mechanize.pm line 1253
	WWW::Mechanize::request(Test::WWW::Mechanize::PSGI=HASH(0x37e86b0), HTTP::Request=HASH(0x37e2fc8)) called at /opt/perl-5.22.3D/lib/site_perl/5.22.3/LWP/UserAgent.pm line 478
	LWP::UserAgent::post(Test::WWW::Mechanize::PSGI=HASH(0x37e86b0), "/wishlist?bar") called at t/03_mech.t line 78
Do not use HTTP::Session2::ClientStore. Use HTTP::Session2::ServerStore or HTTP::Session2::ClientStore2 instead. at /home/eserte/.cpan/build/2017070909/HTTP-Session2-1.09-jVZwou/blib/lib/HTTP/Session2/ClientStore.pm line 35.
Secret string too short at /home/eserte/.cpan/build/2017070909/HTTP-Session2-1.09-jVZwou/blib/lib/HTTP/Session2/Base.pm line 79.
	HTTP::Session2::Base::__ANON__(HTTP::Session2::ClientStore=HASH(0x37e2cc8), "s3cret") called at t/03_mech.t line 127
	main::client_session(HASH(0x37e30d0)) called at t/03_mech.t line 17
	main::__ANON__(HASH(0x37e30d0)) called at /home/eserte/.cpan/build/2017070909/Test-WWW-Mechanize-PSGI-0.37-oWvqI8/blib/lib/Test/WWW/Mechanize/PSGI.pm line 43
	Test::WWW::Mechanize::PSGI::try {...} () called at /opt/perl-5.22.3D/lib/site_perl/5.22.3/Try/Tiny.pm line 103
	eval {...} called at /opt/perl-5.22.3D/lib/site_perl/5.22.3/Try/Tiny.pm line 94
	Try::Tiny::try(CODE(0x37822c8), Try::Tiny::Catch=REF(0x37ae258)) called at /home/eserte/.cpan/build/2017070909/Test-WWW-Mechanize-PSGI-0.37-oWvqI8/blib/lib/Test/WWW/Mechanize/PSGI.pm line 50
	Test::WWW::Mechanize::PSGI::simple_request(Test::WWW::Mechanize::PSGI=HASH(0x37e86b0), HTTP::Request=HASH(0x37dd368), undef, undef) called at /opt/perl-5.22.3D/lib/site_perl/5.22.3/LWP/UserAgent.pm line 297
	LWP::UserAgent::request(Test::WWW::Mechanize::PSGI=HASH(0x37e86b0), HTTP::Request=HASH(0x37dd368)) called at /home/eserte/.cpan/build/2017070909/WWW-Mechanize-1.86-T8yA8n/blib/lib/WWW/Mechanize.pm line 1413
	WWW::Mechanize::_make_request(Test::WWW::Mechanize::PSGI=HASH(0x37e86b0), HTTP::Request=HASH(0x37dd368)) called at /home/eserte/.cpan/build/2017070909/WWW-Mechanize-1.86-T8yA8n/blib/lib/WWW/Mechanize.pm line 1253
	WWW::Mechanize::request(Test::WWW::Mechanize::PSGI=HASH(0x37e86b0), HTTP::Request=HASH(0x37dd368)) called at /opt/perl-5.22.3D/lib/site_perl/5.22.3/LWP/UserAgent.pm line 478
	LWP::UserAgent::post(Test::WWW::Mechanize::PSGI=HASH(0x37e86b0), "/wishlist?bar", HASH(0x335e378)) called at /home/eserte/.cpan/build/2017070909/Test-WWW-Mechanize-1.48-0oOF6J/blib/lib/Test/WWW/Mechanize.pm line 237
	Test::WWW::Mechanize::post_ok(Test::WWW::Mechanize::PSGI=HASH(0x37e86b0), "/wishlist?bar") called at t/03_mech.t line 81
Do not use HTTP::Session2::ClientStore. Use HTTP::Session2::ServerStore or HTTP::Session2::ClientStore2 instead. at /home/eserte/.cpan/build/2017070909/HTTP-Session2-1.09-jVZwou/blib/lib/HTTP/Session2/ClientStore.pm line 35.
Do not use HTTP::Session2::ClientStore. Use HTTP::Session2::ServerStore or HTTP::Session2::ClientStore2 instead. at /home/eserte/.cpan/build/2017070909/HTTP-Session2-1.09-jVZwou/blib/lib/HTTP/Session2/ClientStore.pm line 25.
Secret string too short at /home/eserte/.cpan/build/2017070909/HTTP-Session2-1.09-jVZwou/blib/lib/HTTP/Session2/Base.pm line 79.
	HTTP::Session2::Base::__ANON__(HTTP::Session2::ClientStore=HASH(0x37e7990), "s3cret") called at t/03_mech.t line 127
	main::client_session(HASH(0x37dcc78)) called at t/03_mech.t line 17
	main::__ANON__(HASH(0x37dcc78)) called at /home/eserte/.cpan/build/2017070909/Test-WWW-Mechanize-PSGI-0.37-oWvqI8/blib/lib/Test/WWW/Mechanize/PSGI.pm line 43
	Test::WWW::Mechanize::PSGI::try {...} () called at /opt/perl-5.22.3D/lib/site_perl/5.22.3/Try/Tiny.pm line 103
	eval {...} called at /opt/perl-5.22.3D/lib/site_perl/5.22.3/Try/Tiny.pm line 94
	Try::Tiny::try(CODE(0x37dc6a8), Try::Tiny::Catch=REF(0x37dcdf8)) called at /home/eserte/.cpan/build/2017070909/Test-WWW-Mechanize-PSGI-0.37-oWvqI8/blib/lib/Test/WWW/Mechanize/PSGI.pm line 50
	Test::WWW::Mechanize::PSGI::simple_request(Test::WWW::Mechanize::PSGI=HASH(0x37e86b0), HTTP::Request=HASH(0x37dc858), undef, undef) called at /opt/perl-5.22.3D/lib/site_perl/5.22.3/LWP/UserAgent.pm line 297
	LWP::UserAgent::request(Test::WWW::Mechanize::PSGI=HASH(0x37e86b0), HTTP::Request=HASH(0x37dc858)) called at /home/eserte/.cpan/build/2017070909/WWW-Mechanize-1.86-T8yA8n/blib/lib/WWW/Mechanize.pm line 1413
	WWW::Mechanize::_make_request(Test::WWW::Mechanize::PSGI=HASH(0x37e86b0), HTTP::Request=HASH(0x37dc858)) called at /home/eserte/.cpan/build/2017070909/WWW-Mechanize-1.86-T8yA8n/blib/lib/WWW/Mechanize.pm line 1253
	WWW::Mechanize::request(Test::WWW::Mechanize::PSGI=HASH(0x37e86b0), HTTP::Request=HASH(0x37dc858)) called at /opt/perl-5.22.3D/lib/site_perl/5.22.3/LWP/UserAgent.pm line 435
	LWP::UserAgent::get(Test::WWW::Mechanize::PSGI=HASH(0x37e86b0), "http://localhost/wishlist") called at /home/eserte/.cpan/build/2017070909/WWW-Mechanize-1.86-T8yA8n/blib/lib/WWW/Mechanize.pm line 117
	WWW::Mechanize::get(Test::WWW::Mechanize::PSGI=HASH(0x37e86b0), "/wishlist") called at /home/eserte/.cpan/build/2017070909/Test-WWW-Mechanize-1.48-0oOF6J/blib/lib/Test/WWW/Mechanize.pm line 160
	Test::WWW::Mechanize::get_ok(Test::WWW::Mechanize::PSGI=HASH(0x37e86b0), "/wishlist") called at t/03_mech.t line 82
Do not use HTTP::Session2::ClientStore. Use HTTP::Session2::ServerStore or HTTP::Session2::ClientStore2 instead. at /home/eserte/.cpan/build/2017070909/HTTP-Session2-1.09-jVZwou/blib/lib/HTTP/Session2/ClientStore.pm line 35.
Secret string too short at /home/eserte/.cpan/build/2017070909/HTTP-Session2-1.09-jVZwou/blib/lib/HTTP/Session2/Base.pm line 79.
	HTTP::Session2::Base::__ANON__(HTTP::Session2::ClientStore=HASH(0x37e3748), "s3cret") called at t/03_mech.t line 127
	main::client_session(HASH(0x37e36e8)) called at t/03_mech.t line 17
	main::__ANON__(HASH(0x37e36e8)) called at /home/eserte/.cpan/build/2017070909/Test-WWW-Mechanize-PSGI-0.37-oWvqI8/blib/lib/Test/WWW/Mechanize/PSGI.pm line 43
	Test::WWW::Mechanize::PSGI::try {...} () called at /opt/perl-5.22.3D/lib/site_perl/5.22.3/Try/Tiny.pm line 103
	eval {...} called at /opt/perl-5.22.3D/lib/site_perl/5.22.3/Try/Tiny.pm line 94
	Try::Tiny::try(CODE(0x37e3328), Try::Tiny::Catch=REF(0x37e3178)) called at /home/eserte/.cpan/build/2017070909/Test-WWW-Mechanize-PSGI-0.37-oWvqI8/blib/lib/Test/WWW/Mechanize/PSGI.pm line 50
	Test::WWW::Mechanize::PSGI::simple_request(Test::WWW::Mechanize::PSGI=HASH(0x37e86b0), HTTP::Request=HASH(0x37ade38), undef, undef) called at /opt/perl-5.22.3D/lib/site_perl/5.22.3/LWP/UserAgent.pm line 297
	LWP::UserAgent::request(Test::WWW::Mechanize::PSGI=HASH(0x37e86b0), HTTP::Request=HASH(0x37ade38)) called at /home/eserte/.cpan/build/2017070909/WWW-Mechanize-1.86-T8yA8n/blib/lib/WWW/Mechanize.pm line 1413
	WWW::Mechanize::_make_request(Test::WWW::Mechanize::PSGI=HASH(0x37e86b0), HTTP::Request=HASH(0x37ade38)) called at /home/eserte/.cpan/build/2017070909/WWW-Mechanize-1.86-T8yA8n/blib/lib/WWW/Mechanize.pm line 1253
	WWW::Mechanize::request(Test::WWW::Mechanize::PSGI=HASH(0x37e86b0), HTTP::Request=HASH(0x37ade38)) called at /opt/perl-5.22.3D/lib/site_perl/5.22.3/LWP/UserAgent.pm line 478
	LWP::UserAgent::post(Test::WWW::Mechanize::PSGI=HASH(0x37e86b0), "/account/login?john", HASH(0x335e378)) called at /home/eserte/.cpan/build/2017070909/Test-WWW-Mechanize-1.48-0oOF6J/blib/lib/Test/WWW/Mechanize.pm line 237
	Test::WWW::Mechanize::post_ok(Test::WWW::Mechanize::PSGI=HASH(0x37e86b0), "/account/login?john") called at t/03_mech.t line 84
Do not use HTTP::Session2::ClientStore. Use HTTP::Session2::ServerStore or HTTP::Session2::ClientStore2 instead. at /home/eserte/.cpan/build/2017070909/HTTP-Session2-1.09-jVZwou/blib/lib/HTTP/Session2/ClientStore.pm line 35.
Do not use HTTP::Session2::ClientStore. Use HTTP::Session2::ServerStore or HTTP::Session2::ClientStore2 instead. at /home/eserte/.cpan/build/2017070909/HTTP-Session2-1.09-jVZwou/blib/lib/HTTP/Session2/ClientStore.pm line 35.
Do not use HTTP::Session2::ClientStore. Use HTTP::Session2::ServerStore or HTTP::Session2::ClientStore2 instead. at /home/eserte/.cpan/build/2017070909/HTTP-Session2-1.09-jVZwou/blib/lib/HTTP/Session2/ClientStore.pm line 25.
Secret string too short at /home/eserte/.cpan/build/2017070909/HTTP-Session2-1.09-jVZwou/blib/lib/HTTP/Session2/Base.pm line 79.
	HTTP::Session2::Base::__ANON__(HTTP::Session2::ClientStore=HASH(0x37e7c78), "s3cret") called at t/03_mech.t line 127
	main::client_session(HASH(0x37ad8e0)) called at t/03_mech.t line 17
	main::__ANON__(HASH(0x37ad8e0)) called at /home/eserte/.cpan/build/2017070909/Test-WWW-Mechanize-PSGI-0.37-oWvqI8/blib/lib/Test/WWW/Mechanize/PSGI.pm line 43
	Test::WWW::Mechanize::PSGI::try {...} () called at /opt/perl-5.22.3D/lib/site_perl/5.22.3/Try/Tiny.pm line 103
	eval {...} called at /opt/perl-5.22.3D/lib/site_perl/5.22.3/Try/Tiny.pm line 94
	Try::Tiny::try(CODE(0x37e2b90), Try::Tiny::Catch=REF(0x37dcfa8)) called at /home/eserte/.cpan/build/2017070909/Test-WWW-Mechanize-PSGI-0.37-oWvqI8/blib/lib/Test/WWW/Mechanize/PSGI.pm line 50
	Test::WWW::Mechanize::PSGI::simple_request(Test::WWW::Mechanize::PSGI=HASH(0x37e86b0), HTTP::Request=HASH(0x37dd020), undef, undef) called at /opt/perl-5.22.3D/lib/site_perl/5.22.3/LWP/UserAgent.pm line 297
	LWP::UserAgent::request(Test::WWW::Mechanize::PSGI=HASH(0x37e86b0), HTTP::Request=HASH(0x37dd020)) called at /home/eserte/.cpan/build/2017070909/WWW-Mechanize-1.86-T8yA8n/blib/lib/WWW/Mechanize.pm line 1413
	WWW::Mechanize::_make_request(Test::WWW::Mechanize::PSGI=HASH(0x37e86b0), HTTP::Request=HASH(0x37dd020)) called at /home/eserte/.cpan/build/2017070909/WWW-Mechanize-1.86-T8yA8n/blib/lib/WWW/Mechanize.pm line 1253
	WWW::Mechanize::request(Test::WWW::Mechanize::PSGI=HASH(0x37e86b0), HTTP::Request=HASH(0x37dd020)) called at /opt/perl-5.22.3D/lib/site_perl/5.22.3/LWP/UserAgent.pm line 435
	LWP::UserAgent::get(Test::WWW::Mechanize::PSGI=HASH(0x37e86b0), "http://localhost/wishlist") called at /home/eserte/.cpan/build/2017070909/WWW-Mechanize-1.86-T8yA8n/blib/lib/WWW/Mechanize.pm line 117
	WWW::Mechanize::get(Test::WWW::Mechanize::PSGI=HASH(0x37e86b0), "/wishlist") called at /home/eserte/.cpan/build/2017070909/Test-WWW-Mechanize-1.48-0oOF6J/blib/lib/Test/WWW/Mechanize.pm line 160
	Test::WWW::Mechanize::get_ok(Test::WWW::Mechanize::PSGI=HASH(0x37e86b0), "/wishlist", "Wishlist is still available") called at t/03_mech.t line 85
Do not use HTTP::Session2::ClientStore. Use HTTP::Session2::ServerStore or HTTP::Session2::ClientStore2 instead. at /home/eserte/.cpan/build/2017070909/HTTP-Session2-1.09-jVZwou/blib/lib/HTTP/Session2/ClientStore.pm line 35.
Secret string too short at /home/eserte/.cpan/build/2017070909/HTTP-Session2-1.09-jVZwou/blib/lib/HTTP/Session2/Base.pm line 79.
	HTTP::Session2::Base::__ANON__(HTTP::Session2::ClientStore=HASH(0x2d4ab50), "s3cret") called at t/03_mech.t line 127
	main::client_session(HASH(0x3670838)) called at t/03_mech.t line 17
	main::__ANON__(HASH(0x3670838)) called at /home/eserte/.cpan/build/2017070909/Test-WWW-Mechanize-PSGI-0.37-oWvqI8/blib/lib/Test/WWW/Mechanize/PSGI.pm line 43
	Test::WWW::Mechanize::PSGI::try {...} () called at /opt/perl-5.22.3D/lib/site_perl/5.22.3/Try/Tiny.pm line 103
	eval {...} called at /opt/perl-5.22.3D/lib/site_perl/5.22.3/Try/Tiny.pm line 94
	Try::Tiny::try(CODE(0x36709b8), Try::Tiny::Catch=REF(0x36701a8)) called at /home/eserte/.cpan/build/2017070909/Test-WWW-Mechanize-PSGI-0.37-oWvqI8/blib/lib/Test/WWW/Mechanize/PSGI.pm line 50
	Test::WWW::Mechanize::PSGI::simple_request(Test::WWW::Mechanize::PSGI=HASH(0x37e86b0), HTTP::Request=HASH(0x36706d0), undef, undef) called at /opt/perl-5.22.3D/lib/site_perl/5.22.3/LWP/UserAgent.pm line 297
	LWP::UserAgent::request(Test::WWW::Mechanize::PSGI=HASH(0x37e86b0), HTTP::Request=HASH(0x36706d0)) called at /home/eserte/.cpan/build/2017070909/WWW-Mechanize-1.86-T8yA8n/blib/lib/WWW/Mechanize.pm line 1413
	WWW::Mechanize::_make_request(Test::WWW::Mechanize::PSGI=HASH(0x37e86b0), HTTP::Request=HASH(0x36706d0)) called at /home/eserte/.cpan/build/2017070909/WWW-Mechanize-1.86-T8yA8n/blib/lib/WWW/Mechanize.pm line 1253
	WWW::Mechanize::request(Test::WWW::Mechanize::PSGI=HASH(0x37e86b0), HTTP::Request=HASH(0x36706d0)) called at /opt/perl-5.22.3D/lib/site_perl/5.22.3/LWP/UserAgent.pm line 478
	LWP::UserAgent::post(Test::WWW::Mechanize::PSGI=HASH(0x37e86b0), "/wishlist?baz") called at t/03_mech.t line 87
Do not use HTTP::Session2::ClientStore. Use HTTP::Session2::ServerStore or HTTP::Session2::ClientStore2 instead. at /home/eserte/.cpan/build/2017070909/HTTP-Session2-1.09-jVZwou/blib/lib/HTTP/Session2/ClientStore.pm line 35.
Secret string too short at /home/eserte/.cpan/build/2017070909/HTTP-Session2-1.09-jVZwou/blib/lib/HTTP/Session2/Base.pm line 79.
	HTTP::Session2::Base::__ANON__(HTTP::Session2::ClientStore=HASH(0x37e82c0), "s3cret") called at t/03_mech.t line 127
	main::client_session(HASH(0x37e2aa0)) called at t/03_mech.t line 17
	main::__ANON__(HASH(0x37e2aa0)) called at /home/eserte/.cpan/build/2017070909/Test-WWW-Mechanize-PSGI-0.37-oWvqI8/blib/lib/Test/WWW/Mechanize/PSGI.pm line 43
	Test::WWW::Mechanize::PSGI::try {...} () called at /opt/perl-5.22.3D/lib/site_perl/5.22.3/Try/Tiny.pm line 103
	eval {...} called at /opt/perl-5.22.3D/lib/site_perl/5.22.3/Try/Tiny.pm line 94
	Try::Tiny::try(CODE(0x3670898), Try::Tiny::Catch=REF(0x2e2a780)) called at /home/eserte/.cpan/build/2017070909/Test-WWW-Mechanize-PSGI-0.37-oWvqI8/blib/lib/Test/WWW/Mechanize/PSGI.pm line 50
	Test::WWW::Mechanize::PSGI::simple_request(Test::WWW::Mechanize::PSGI=HASH(0x37e86b0), HTTP::Request=HASH(0x36708b0), undef, undef) called at /opt/perl-5.22.3D/lib/site_perl/5.22.3/LWP/UserAgent.pm line 297
	LWP::UserAgent::request(Test::WWW::Mechanize::PSGI=HASH(0x37e86b0), HTTP::Request=HASH(0x36708b0)) called at /home/eserte/.cpan/build/2017070909/WWW-Mechanize-1.86-T8yA8n/blib/lib/WWW/Mechanize.pm line 1413
	WWW::Mechanize::_make_request(Test::WWW::Mechanize::PSGI=HASH(0x37e86b0), HTTP::Request=HASH(0x36708b0)) called at /home/eserte/.cpan/build/2017070909/WWW-Mechanize-1.86-T8yA8n/blib/lib/WWW/Mechanize.pm line 1253
	WWW::Mechanize::request(Test::WWW::Mechanize::PSGI=HASH(0x37e86b0), HTTP::Request=HASH(0x36708b0)) called at /opt/perl-5.22.3D/lib/site_perl/5.22.3/LWP/UserAgent.pm line 478
	LWP::UserAgent::post(Test::WWW::Mechanize::PSGI=HASH(0x37e86b0), "/wishlist?baz", HASH(0x335e378)) called at /home/eserte/.cpan/build/2017070909/Test-WWW-Mechanize-1.48-0oOF6J/blib/lib/Test/WWW/Mechanize.pm line 237
	Test::WWW::Mechanize::post_ok(Test::WWW::Mechanize::PSGI=HASH(0x37e86b0), "/wishlist?baz") called at t/03_mech.t line 90
Do not use HTTP::Session2::ClientStore. Use HTTP::Session2::ServerStore or HTTP::Session2::ClientStore2 instead. at /home/eserte/.cpan/build/2017070909/HTTP-Session2-1.09-jVZwou/blib/lib/HTTP/Session2/ClientStore.pm line 35.
Do not use HTTP::Session2::ClientStore. Use HTTP::Session2::ServerStore or HTTP::Session2::ClientStore2 instead. at /home/eserte/.cpan/build/2017070909/HTTP-Session2-1.09-jVZwou/blib/lib/HTTP/Session2/ClientStore.pm line 25.
Secret string too short at /home/eserte/.cpan/build/2017070909/HTTP-Session2-1.09-jVZwou/blib/lib/HTTP/Session2/Base.pm line 79.
	HTTP::Session2::Base::__ANON__(HTTP::Session2::ClientStore=HASH(0x37eb5f0), "s3cret") called at t/03_mech.t line 127
	main::client_session(HASH(0x37e7ff0)) called at t/03_mech.t line 17
	main::__ANON__(HASH(0x37e7ff0)) called at /home/eserte/.cpan/build/2017070909/Test-WWW-Mechanize-PSGI-0.37-oWvqI8/blib/lib/Test/WWW/Mechanize/PSGI.pm line 43
	Test::WWW::Mechanize::PSGI::try {...} () called at /opt/perl-5.22.3D/lib/site_perl/5.22.3/Try/Tiny.pm line 103
	eval {...} called at /opt/perl-5.22.3D/lib/site_perl/5.22.3/Try/Tiny.pm line 94
	Try::Tiny::try(CODE(0x37e7ca8), Try::Tiny::Catch=REF(0x2e2a438)) called at /home/eserte/.cpan/build/2017070909/Test-WWW-Mechanize-PSGI-0.37-oWvqI8/blib/lib/Test/WWW/Mechanize/PSGI.pm line 50
	Test::WWW::Mechanize::PSGI::simple_request(Test::WWW::Mechanize::PSGI=HASH(0x37e86b0), HTTP::Request=HASH(0x36708e0), undef, undef) called at /opt/perl-5.22.3D/lib/site_perl/5.22.3/LWP/UserAgent.pm line 297
	LWP::UserAgent::request(Test::WWW::Mechanize::PSGI=HASH(0x37e86b0), HTTP::Request=HASH(0x36708e0)) called at /home/eserte/.cpan/build/2017070909/WWW-Mechanize-1.86-T8yA8n/blib/lib/WWW/Mechanize.pm line 1413
	WWW::Mechanize::_make_request(Test::WWW::Mechanize::PSGI=HASH(0x37e86b0), HTTP::Request=HASH(0x36708e0)) called at /home/eserte/.cpan/build/2017070909/WWW-Mechanize-1.86-T8yA8n/blib/lib/WWW/Mechanize.pm line 1253
	WWW::Mechanize::request(Test::WWW::Mechanize::PSGI=HASH(0x37e86b0), HTTP::Request=HASH(0x36708e0)) called at /opt/perl-5.22.3D/lib/site_perl/5.22.3/LWP/UserAgent.pm line 435
	LWP::UserAgent::get(Test::WWW::Mechanize::PSGI=HASH(0x37e86b0), "http://localhost/wishlist") called at /home/eserte/.cpan/build/2017070909/WWW-Mechanize-1.86-T8yA8n/blib/lib/WWW/Mechanize.pm line 117
	WWW::Mechanize::get(Test::WWW::Mechanize::PSGI=HASH(0x37e86b0), "/wishlist") called at /home/eserte/.cpan/build/2017070909/Test-WWW-Mechanize-1.48-0oOF6J/blib/lib/Test/WWW/Mechanize.pm line 160
	Test::WWW::Mechanize::get_ok(Test::WWW::Mechanize::PSGI=HASH(0x37e86b0), "/wishlist", "Wishlist is still available") called at t/03_mech.t line 91
Do not use HTTP::Session2::ClientStore. Use HTTP::Session2::ServerStore or HTTP::Session2::ClientStore2 instead. at /home/eserte/.cpan/build/2017070909/HTTP-Session2-1.09-jVZwou/blib/lib/HTTP/Session2/ClientStore.pm line 35.
Secret string too short at /home/eserte/.cpan/build/2017070909/HTTP-Session2-1.09-jVZwou/blib/lib/HTTP/Session2/Base.pm line 79.
	HTTP::Session2::Base::__ANON__(HTTP::Session2::ClientStore=HASH(0x37eb800), "s3cret") called at t/03_mech.t line 127
	main::client_session(HASH(0x37e3688)) called at t/03_mech.t line 17
	main::__ANON__(HASH(0x37e3688)) called at /home/eserte/.cpan/build/2017070909/Test-WWW-Mechanize-PSGI-0.37-oWvqI8/blib/lib/Test/WWW/Mechanize/PSGI.pm line 43
	Test::WWW::Mechanize::PSGI::try {...} () called at /opt/perl-5.22.3D/lib/site_perl/5.22.3/Try/Tiny.pm line 103
	eval {...} called at /opt/perl-5.22.3D/lib/site_perl/5.22.3/Try/Tiny.pm line 94
	Try::Tiny::try(CODE(0x37eb7a0), Try::Tiny::Catch=REF(0x37eb3b0)) called at /home/eserte/.cpan/build/2017070909/Test-WWW-Mechanize-PSGI-0.37-oWvqI8/blib/lib/Test/WWW/Mechanize/PSGI.pm line 50
	Test::WWW::Mechanize::PSGI::simple_request(Test::WWW::Mechanize::PSGI=HASH(0x37e86b0), HTTP::Request=HASH(0x3670958), undef, undef) called at /opt/perl-5.22.3D/lib/site_perl/5.22.3/LWP/UserAgent.pm line 297
	LWP::UserAgent::request(Test::WWW::Mechanize::PSGI=HASH(0x37e86b0), HTTP::Request=HASH(0x3670958)) called at /home/eserte/.cpan/build/2017070909/WWW-Mechanize-1.86-T8yA8n/blib/lib/WWW/Mechanize.pm line 1413
	WWW::Mechanize::_make_request(Test::WWW::Mechanize::PSGI=HASH(0x37e86b0), HTTP::Request=HASH(0x3670958)) called at /home/eserte/.cpan/build/2017070909/WWW-Mechanize-1.86-T8yA8n/blib/lib/WWW/Mechanize.pm line 1253
	WWW::Mechanize::request(Test::WWW::Mechanize::PSGI=HASH(0x37e86b0), HTTP::Request=HASH(0x3670958)) called at /opt/perl-5.22.3D/lib/site_perl/5.22.3/LWP/UserAgent.pm line 435
	LWP::UserAgent::get(Test::WWW::Mechanize::PSGI=HASH(0x37e86b0), "http://localhost/my/name") called at /home/eserte/.cpan/build/2017070909/WWW-Mechanize-1.86-T8yA8n/blib/lib/WWW/Mechanize.pm line 117
	WWW::Mechanize::get(Test::WWW::Mechanize::PSGI=HASH(0x37e86b0), "/my/name") called at /home/eserte/.cpan/build/2017070909/Test-WWW-Mechanize-1.48-0oOF6J/blib/lib/Test/WWW/Mechanize.pm line 160
	Test::WWW::Mechanize::get_ok(Test::WWW::Mechanize::PSGI=HASH(0x37e86b0), "/my/name") called at t/03_mech.t line 93
Do not use HTTP::Session2::ClientStore. Use HTTP::Session2::ServerStore or HTTP::Session2::ClientStore2 instead. at /home/eserte/.cpan/build/2017070909/HTTP-Session2-1.09-jVZwou/blib/lib/HTTP/Session2/ClientStore.pm line 35.
Secret string too short at /home/eserte/.cpan/build/2017070909/HTTP-Session2-1.09-jVZwou/blib/lib/HTTP/Session2/Base.pm line 79.
	HTTP::Session2::Base::__ANON__(HTTP::Session2::ClientStore=HASH(0x37f4b40), "s3cret") called at t/03_mech.t line 127
	main::client_session(HASH(0x37f4810)) called at t/03_mech.t line 17
	main::__ANON__(HASH(0x37f4810)) called at /home/eserte/.cpan/build/2017070909/Test-WWW-Mechanize-PSGI-0.37-oWvqI8/blib/lib/Test/WWW/Mechanize/PSGI.pm line 43
	Test::WWW::Mechanize::PSGI::try {...} () called at /opt/perl-5.22.3D/lib/site_perl/5.22.3/Try/Tiny.pm line 103
	eval {...} called at /opt/perl-5.22.3D/lib/site_perl/5.22.3/Try/Tiny.pm line 94
	Try::Tiny::try(CODE(0x37f47b0), Try::Tiny::Catch=REF(0x37e3178)) called at /home/eserte/.cpan/build/2017070909/Test-WWW-Mechanize-PSGI-0.37-oWvqI8/blib/lib/Test/WWW/Mechanize/PSGI.pm line 50
	Test::WWW::Mechanize::PSGI::simple_request(Test::WWW::Mechanize::PSGI=HASH(0x37e86b0), HTTP::Request=HASH(0x37e80f8), undef, undef) called at /opt/perl-5.22.3D/lib/site_perl/5.22.3/LWP/UserAgent.pm line 297
	LWP::UserAgent::request(Test::WWW::Mechanize::PSGI=HASH(0x37e86b0), HTTP::Request=HASH(0x37e80f8)) called at /home/eserte/.cpan/build/2017070909/WWW-Mechanize-1.86-T8yA8n/blib/lib/WWW/Mechanize.pm line 1413
	WWW::Mechanize::_make_request(Test::WWW::Mechanize::PSGI=HASH(0x37e86b0), HTTP::Request=HASH(0x37e80f8)) called at /home/eserte/.cpan/build/2017070909/WWW-Mechanize-1.86-T8yA8n/blib/lib/WWW/Mechanize.pm line 1253
	WWW::Mechanize::request(Test::WWW::Mechanize::PSGI=HASH(0x37e86b0), HTTP::Request=HASH(0x37e80f8)) called at /opt/perl-5.22.3D/lib/site_perl/5.22.3/LWP/UserAgent.pm line 478
	LWP::UserAgent::post(Test::WWW::Mechanize::PSGI=HASH(0x37e86b0), "/account/logout?john") called at t/03_mech.t line 97
Do not use HTTP::Session2::ClientStore. Use HTTP::Session2::ServerStore or HTTP::Session2::ClientStore2 instead. at /home/eserte/.cpan/build/2017070909/HTTP-Session2-1.09-jVZwou/blib/lib/HTTP/Session2/ClientStore.pm line 35.
Do not use HTTP::Session2::ClientStore. Use HTTP::Session2::ServerStore or HTTP::Session2::ClientStore2 instead. at /home/eserte/.cpan/build/2017070909/HTTP-Session2-1.09-jVZwou/blib/lib/HTTP/Session2/ClientStore.pm line 35.
t/03_mech.t ................. ok
Do not use HTTP::Session2::ClientStore. Use HTTP::Session2::ServerStore or HTTP::Session2::ClientStore2 instead. at /home/eserte/.cpan/build/2017070909/HTTP-Session2-1.09-jVZwou/blib/lib/HTTP/Session2/ClientStore.pm line 25.
t/04_plack_response.t ....... ok
Secret string too short at /home/eserte/.cpan/build/2017070909/HTTP-Session2-1.09-jVZwou/blib/lib/HTTP/Session2/Base.pm line 79.
	HTTP::Session2::Base::__ANON__(HTTP::Session2::ClientStore=HASH(0x2af5340), "s3cret") called at t/05_keep_me_signed_in.t line 20
Do not use HTTP::Session2::ClientStore. Use HTTP::Session2::ServerStore or HTTP::Session2::ClientStore2 instead. at /home/eserte/.cpan/build/2017070909/HTTP-Session2-1.09-jVZwou/blib/lib/HTTP/Session2/ClientStore.pm line 25.
t/05_keep_me_signed_in.t .... ok
Secret string too short at /home/eserte/.cpan/build/2017070909/HTTP-Session2-1.09-jVZwou/blib/lib/HTTP/Session2/Base.pm line 79.
	HTTP::Session2::Base::__ANON__(HTTP::Session2::Base=HASH(0x1187d80), "i am secret") called at t/06_base_abstract.t line 7
t/06_base_abstract.t ........ ok
Secret string too short at /home/eserte/.cpan/build/2017070909/HTTP-Session2-1.09-jVZwou/blib/lib/HTTP/Session2/Base.pm line 79.
	HTTP::Session2::Base::__ANON__(HTTP::Session2::ClientStore=HASH(0x1c6adb0), "secret") called at t/07_client_store.t line 23
	main::__ANON__() called at /opt/perl-5.22.3D/lib/site_perl/5.22.3/Test/Builder.pm line 310
	eval {...} called at /opt/perl-5.22.3D/lib/site_perl/5.22.3/Test/Builder.pm line 310
	Test::Builder::subtest(Test::Builder=HASH(0x102f698), "get/set/remove", CODE(0x17da868)) called at /opt/perl-5.22.3D/lib/site_perl/5.22.3/Test/More.pm line 807
	Test::More::subtest("get/set/remove", CODE(0x17da868)) called at t/07_client_store.t line 31
Secret string too short at /home/eserte/.cpan/build/2017070909/HTTP-Session2-1.09-jVZwou/blib/lib/HTTP/Session2/Base.pm line 79.
	HTTP::Session2::Base::__ANON__(HTTP::Session2::ClientStore=HASH(0x1c6b158), "secret") called at t/07_client_store.t line 35
	main::__ANON__() called at /opt/perl-5.22.3D/lib/site_perl/5.22.3/Test/Builder.pm line 310
	eval {...} called at /opt/perl-5.22.3D/lib/site_perl/5.22.3/Test/Builder.pm line 310
	Test::Builder::subtest(Test::Builder=HASH(0x102f698), "validate_token", CODE(0x17dabc8)) called at /opt/perl-5.22.3D/lib/site_perl/5.22.3/Test/More.pm line 807
	Test::More::subtest("validate_token", CODE(0x17dabc8)) called at t/07_client_store.t line 71
Do not use HTTP::Session2::ClientStore. Use HTTP::Session2::ServerStore or HTTP::Session2::ClientStore2 instead. at /home/eserte/.cpan/build/2017070909/HTTP-Session2-1.09-jVZwou/blib/lib/HTTP/Session2/ClientStore.pm line 25.
Secret string too short at /home/eserte/.cpan/build/2017070909/HTTP-Session2-1.09-jVZwou/blib/lib/HTTP/Session2/Base.pm line 79.
	HTTP::Session2::Base::__ANON__(HTTP::Session2::ClientStore=HASH(0x1c996d8), "secret") called at t/07_client_store.t line 51
	main::__ANON__() called at /opt/perl-5.22.3D/lib/site_perl/5.22.3/Test/Builder.pm line 310
	eval {...} called at /opt/perl-5.22.3D/lib/site_perl/5.22.3/Test/Builder.pm line 310
	Test::Builder::subtest(Test::Builder=HASH(0x102f698), "bad", CODE(0x1c6a0c8)) called at /opt/perl-5.22.3D/lib/site_perl/5.22.3/Test/More.pm line 807
	Test::More::subtest("bad", CODE(0x1c6a0c8)) called at t/07_client_store.t line 57
	main::__ANON__() called at /opt/perl-5.22.3D/lib/site_perl/5.22.3/Test/Builder.pm line 310
	eval {...} called at /opt/perl-5.22.3D/lib/site_perl/5.22.3/Test/Builder.pm line 310
	Test::Builder::subtest(Test::Builder=HASH(0x102f698), "validate_token", CODE(0x17dabc8)) called at /opt/perl-5.22.3D/lib/site_perl/5.22.3/Test/More.pm line 807
	Test::More::subtest("validate_token", CODE(0x17dabc8)) called at t/07_client_store.t line 71
Do not use HTTP::Session2::ClientStore. Use HTTP::Session2::ServerStore or HTTP::Session2::ClientStore2 instead. at /home/eserte/.cpan/build/2017070909/HTTP-Session2-1.09-jVZwou/blib/lib/HTTP/Session2/ClientStore.pm line 35.
Secret string too short at /home/eserte/.cpan/build/2017070909/HTTP-Session2-1.09-jVZwou/blib/lib/HTTP/Session2/Base.pm line 79.
	HTTP::Session2::Base::__ANON__(HTTP::Session2::ClientStore=HASH(0x1ca0b90), "secret") called at t/07_client_store.t line 65
	main::__ANON__() called at /opt/perl-5.22.3D/lib/site_perl/5.22.3/Test/Builder.pm line 310
	eval {...} called at /opt/perl-5.22.3D/lib/site_perl/5.22.3/Test/Builder.pm line 310
	Test::Builder::subtest(Test::Builder=HASH(0x102f698), "good", CODE(0x1c6a0c8)) called at /opt/perl-5.22.3D/lib/site_perl/5.22.3/Test/More.pm line 807
	Test::More::subtest("good", CODE(0x1c6a0c8)) called at t/07_client_store.t line 70
	main::__ANON__() called at /opt/perl-5.22.3D/lib/site_perl/5.22.3/Test/Builder.pm line 310
	eval {...} called at /opt/perl-5.22.3D/lib/site_perl/5.22.3/Test/Builder.pm line 310
	Test::Builder::subtest(Test::Builder=HASH(0x102f698), "validate_token", CODE(0x17dabc8)) called at /opt/perl-5.22.3D/lib/site_perl/5.22.3/Test/More.pm line 807
	Test::More::subtest("validate_token", CODE(0x17dabc8)) called at t/07_client_store.t line 71
Do not use HTTP::Session2::ClientStore. Use HTTP::Session2::ServerStore or HTTP::Session2::ClientStore2 instead. at /home/eserte/.cpan/build/2017070909/HTTP-Session2-1.09-jVZwou/blib/lib/HTTP/Session2/ClientStore.pm line 35.
Secret string too short at /home/eserte/.cpan/build/2017070909/HTTP-Session2-1.09-jVZwou/blib/lib/HTTP/Session2/Base.pm line 79.
	HTTP::Session2::Base::__ANON__(HTTP::Session2::ClientStore=HASH(0x1c69f60), "secret") called at t/07_client_store.t line 76
	main::__ANON__() called at /opt/perl-5.22.3D/lib/site_perl/5.22.3/Test/Builder.pm line 310
	eval {...} called at /opt/perl-5.22.3D/lib/site_perl/5.22.3/Test/Builder.pm line 310
	Test::Builder::subtest(Test::Builder=HASH(0x102f698), "ignore_old", CODE(0xfff108)) called at /opt/perl-5.22.3D/lib/site_perl/5.22.3/Test/More.pm line 807
	Test::More::subtest("ignore_old", CODE(0xfff108)) called at t/07_client_store.t line 106
Do not use HTTP::Session2::ClientStore. Use HTTP::Session2::ServerStore or HTTP::Session2::ClientStore2 instead. at /home/eserte/.cpan/build/2017070909/HTTP-Session2-1.09-jVZwou/blib/lib/HTTP/Session2/ClientStore.pm line 25.
Secret string too short at /home/eserte/.cpan/build/2017070909/HTTP-Session2-1.09-jVZwou/blib/lib/HTTP/Session2/Base.pm line 79.
	HTTP::Session2::Base::__ANON__(HTTP::Session2::ClientStore=HASH(0x1c90c70), "secret") called at t/07_client_store.t line 87
	main::__ANON__() called at /opt/perl-5.22.3D/lib/site_perl/5.22.3/Test/Builder.pm line 310
	eval {...} called at /opt/perl-5.22.3D/lib/site_perl/5.22.3/Test/Builder.pm line 310
	Test::Builder::subtest(Test::Builder=HASH(0x102f698), "ignore_old disabled", CODE(0x1ca11d8)) called at /opt/perl-5.22.3D/lib/site_perl/5.22.3/Test/More.pm line 807
	Test::More::subtest("ignore_old disabled", CODE(0x1ca11d8)) called at t/07_client_store.t line 95
	main::__ANON__() called at /opt/perl-5.22.3D/lib/site_perl/5.22.3/Test/Builder.pm line 310
	eval {...} called at /opt/perl-5.22.3D/lib/site_perl/5.22.3/Test/Builder.pm line 310
	Test::Builder::subtest(Test::Builder=HASH(0x102f698), "ignore_old", CODE(0xfff108)) called at /opt/perl-5.22.3D/lib/site_perl/5.22.3/Test/More.pm line 807
	Test::More::subtest("ignore_old", CODE(0xfff108)) called at t/07_client_store.t line 106
Do not use HTTP::Session2::ClientStore. Use HTTP::Session2::ServerStore or HTTP::Session2::ClientStore2 instead. at /home/eserte/.cpan/build/2017070909/HTTP-Session2-1.09-jVZwou/blib/lib/HTTP/Session2/ClientStore.pm line 35.
Secret string too short at /home/eserte/.cpan/build/2017070909/HTTP-Session2-1.09-jVZwou/blib/lib/HTTP/Session2/Base.pm line 79.
	HTTP::Session2::Base::__ANON__(HTTP::Session2::ClientStore=HASH(0x1c99cd8), "secret") called at t/07_client_store.t line 97
	main::__ANON__() called at /opt/perl-5.22.3D/lib/site_perl/5.22.3/Test/Builder.pm line 310
	eval {...} called at /opt/perl-5.22.3D/lib/site_perl/5.22.3/Test/Builder.pm line 310
	Test::Builder::subtest(Test::Builder=HASH(0x102f698), "ignore_old enabled", CODE(0x1ca11d8)) called at /opt/perl-5.22.3D/lib/site_perl/5.22.3/Test/More.pm line 807
	Test::More::subtest("ignore_old enabled", CODE(0x1ca11d8)) called at t/07_client_store.t line 105
	main::__ANON__() called at /opt/perl-5.22.3D/lib/site_perl/5.22.3/Test/Builder.pm line 310
	eval {...} called at /opt/perl-5.22.3D/lib/site_perl/5.22.3/Test/Builder.pm line 310
	Test::Builder::subtest(Test::Builder=HASH(0x102f698), "ignore_old", CODE(0xfff108)) called at /opt/perl-5.22.3D/lib/site_perl/5.22.3/Test/More.pm line 807
	Test::More::subtest("ignore_old", CODE(0xfff108)) called at t/07_client_store.t line 106
t/07_client_store.t ......... ok
Secret string too short at /home/eserte/.cpan/build/2017070909/HTTP-Session2-1.09-jVZwou/blib/lib/HTTP/Session2/Base.pm line 79.
	HTTP::Session2::Base::__ANON__(HTTP::Session2::Expired=HASH(0xee0c90), 33333) called at t/08_expired.t line 7
t/08_expired.t .............. ok
# /dev/urandom available
# /dev/urandom(1): B3Nvi25K8qDtcawWpyJgB_hY_B-mbka
# /dev/urandom(2): h00mmjt1xEsblv_K3FBJgxgRSKzjleI
# perl:            083c71d96fd2aba97078b78c20c9f4e
t/09_random.t ............... ok
t/11_secret_string.t ........ ok
Secret string too short at /home/eserte/.cpan/build/2017070909/HTTP-Session2-1.09-jVZwou/blib/lib/HTTP/Session2/Base.pm line 79.
	HTTP::Session2::Base::__ANON__(HTTP::Session2::ClientStore2=HASH(0x27064c0), "s3cret") called at t/client_store2/01_basic.t line 24
	main::__ANON__("client -> server: request without cookie", CODE(0x2707078)) called at t/client_store2/01_basic.t line 30
	main::__ANON__() called at /opt/perl-5.22.3D/lib/site_perl/5.22.3/Test/Builder.pm line 310
	eval {...} called at /opt/perl-5.22.3D/lib/site_perl/5.22.3/Test/Builder.pm line 310
	Test::Builder::subtest(Test::Builder=HASH(0x1ea8db8), "First request", CODE(0x1e5c030)) called at /opt/perl-5.22.3D/lib/site_perl/5.22.3/Test/More.pm line 807
	Test::More::subtest("First request", CODE(0x1e5c030)) called at t/client_store2/01_basic.t line 9
	main::scenario("First request", CODE(0x1e5c030)) called at t/client_store2/01_basic.t line 36
Secret string too short at /home/eserte/.cpan/build/2017070909/HTTP-Session2-1.09-jVZwou/blib/lib/HTTP/Session2/Base.pm line 79.
	HTTP::Session2::Base::__ANON__(HTTP::Session2::ClientStore2=HASH(0x270aa28), "s3cret") called at t/client_store2/01_basic.t line 41
	main::__ANON__("client -> server: request without cookie", CODE(0x270b778)) called at t/client_store2/01_basic.t line 47
	main::__ANON__() called at /opt/perl-5.22.3D/lib/site_perl/5.22.3/Test/Builder.pm line 310
	eval {...} called at /opt/perl-5.22.3D/lib/site_perl/5.22.3/Test/Builder.pm line 310
	Test::Builder::subtest(Test::Builder=HASH(0x1ea8db8), "Store something without login", CODE(0x1e5c030)) called at /opt/perl-5.22.3D/lib/site_perl/5.22.3/Test/More.pm line 807
	Test::More::subtest("Store something without login", CODE(0x1e5c030)) called at t/client_store2/01_basic.t line 9
	main::scenario("Store something without login", CODE(0x1e5c030)) called at t/client_store2/01_basic.t line 63
Secret string too short at /home/eserte/.cpan/build/2017070909/HTTP-Session2-1.09-jVZwou/blib/lib/HTTP/Session2/Base.pm line 79.
	HTTP::Session2::Base::__ANON__(HTTP::Session2::ClientStore2=HASH(0x2715f68), "s3cret") called at t/client_store2/01_basic.t line 69
	main::__ANON__("client -> server: request without cookie", CODE(0x2715638)) called at t/client_store2/01_basic.t line 76
	main::__ANON__() called at /opt/perl-5.22.3D/lib/site_perl/5.22.3/Test/Builder.pm line 310
	eval {...} called at /opt/perl-5.22.3D/lib/site_perl/5.22.3/Test/Builder.pm line 310
	Test::Builder::subtest(Test::Builder=HASH(0x1ea8db8), "Login", CODE(0x1e5c030)) called at /opt/perl-5.22.3D/lib/site_perl/5.22.3/Test/More.pm line 807
	Test::More::subtest("Login", CODE(0x1e5c030)) called at t/client_store2/01_basic.t line 9
	main::scenario("Login", CODE(0x1e5c030)) called at t/client_store2/01_basic.t line 96
Ciphertext does not begin with a valid header for 'salt' header mode at /home/eserte/.cpan/build/2017070909/HTTP-Session2-1.09-jVZwou/blib/lib/HTTP/Session2/ClientStore2.pm line 81.
Ciphertext does not begin with a valid header for 'salt' header mode at /home/eserte/.cpan/build/2017070909/HTTP-Session2-1.09-jVZwou/blib/lib/HTTP/Session2/ClientStore2.pm line 81.
Secret string too short at /home/eserte/.cpan/build/2017070909/HTTP-Session2-1.09-jVZwou/blib/lib/HTTP/Session2/Base.pm line 79.
	HTTP::Session2::Base::__ANON__(HTTP::Session2::ClientStore2=HASH(0x2706e98), "s3cret") called at t/client_store2/01_basic.t line 102
	main::__ANON__("client -> server: request without cookie", CODE(0x271ed98)) called at t/client_store2/01_basic.t line 109
	main::__ANON__() called at /opt/perl-5.22.3D/lib/site_perl/5.22.3/Test/Builder.pm line 310
	eval {...} called at /opt/perl-5.22.3D/lib/site_perl/5.22.3/Test/Builder.pm line 310
	Test::Builder::subtest(Test::Builder=HASH(0x1ea8db8), "In a login session", CODE(0x1e5c030)) called at /opt/perl-5.22.3D/lib/site_perl/5.22.3/Test/More.pm line 807
	Test::More::subtest("In a login session", CODE(0x1e5c030)) called at t/client_store2/01_basic.t line 9
	main::scenario("In a login session", CODE(0x1e5c030)) called at t/client_store2/01_basic.t line 118
Ciphertext does not begin with a valid header for 'salt' header mode at /home/eserte/.cpan/build/2017070909/HTTP-Session2-1.09-jVZwou/blib/lib/HTTP/Session2/ClientStore2.pm line 81.
Secret string too short at /home/eserte/.cpan/build/2017070909/HTTP-Session2-1.09-jVZwou/blib/lib/HTTP/Session2/Base.pm line 79.
	HTTP::Session2::Base::__ANON__(HTTP::Session2::ClientStore2=HASH(0x227f7c8), "s3cret") called at t/client_store2/01_basic.t line 123
	main::__ANON__("client -> server: request without cookie", CODE(0x271eb28)) called at t/client_store2/01_basic.t line 130
	main::__ANON__() called at /opt/perl-5.22.3D/lib/site_perl/5.22.3/Test/Builder.pm line 310
	eval {...} called at /opt/perl-5.22.3D/lib/site_perl/5.22.3/Test/Builder.pm line 310
	Test::Builder::subtest(Test::Builder=HASH(0x1ea8db8), "Logout", CODE(0x1e5c030)) called at /opt/perl-5.22.3D/lib/site_perl/5.22.3/Test/More.pm line 807
	Test::More::subtest("Logout", CODE(0x1e5c030)) called at t/client_store2/01_basic.t line 9
	main::scenario("Logout", CODE(0x1e5c030)) called at t/client_store2/01_basic.t line 143
Ciphertext does not begin with a valid header for 'salt' header mode at /home/eserte/.cpan/build/2017070909/HTTP-Session2-1.09-jVZwou/blib/lib/HTTP/Session2/ClientStore2.pm line 81.
t/client_store2/01_basic.t .. ok
t/client_store2/02_mech.t ... ok
t/client_store2/03_colon.t .. ok
All tests successful.
Files=14, Tests=83,  2 wallclock secs ( 0.04 usr  0.09 sys +  0.92 cusr  0.36 csys =  1.41 CPU)
Result: PASS

------------------------------
PREREQUISITES
------------------------------

Prerequisite modules loaded:

requires:

    Module                     Need     Have    
    -------------------------- -------- --------
    Cookie::Baker              0        0.07    
    Crypt::CBC                 0        2.33    
    Data::MessagePack          0        1.00    
    Digest::HMAC               0        1.03    
    Digest::SHA                0        5.95_01 
    Digest::SHA1               0        2.13    
    MIME::Base64               3.11     3.15    
    Mouse                      0        v2.4.9  
    parent                     0        0.232   
    perl                       5.008005 5.022003
    Time::HiRes                0        1.9726  

build_requires:

    Module                     Need     Have    
    -------------------------- -------- --------
    Crypt::Rijndael            0        1.13    
    Plack::Request             0        1.0044  
    Plack::Response            0        1.0044  
    Test::More                 0.98     1.302086
    Test::WWW::Mechanize::PSGI 0        0.37    

configure_requires:

    Module                     Need     Have    
    -------------------------- -------- --------
    Module::Build              0.38     0.4224  


------------------------------
ENVIRONMENT AND OTHER CONTEXT
------------------------------

Environment variables:

    LANG = C
    PATH = /usr/local/bin:/usr/bin:/bin:/usr/local/sbin:/usr/sbin:/sbin:/home/eserte/bin/linux-gnu:/home/eserte/bin/sh:/home/eserte/bin:/home/eserte/bin/pistachio-perl/bin:/usr/games:/home/eserte/devel:/home/eserte/src/srezic-misc/scripts
    PERL5LIB = /home/eserte/.cpan/build/2017070909/Test-WWW-Mechanize-PSGI-0.37-oWvqI8/blib/arch:/home/eserte/.cpan/build/2017070909/Test-WWW-Mechanize-PSGI-0.37-oWvqI8/blib/lib:/home/eserte/.cpan/build/2017070909/Test-WWW-Mechanize-1.48-0oOF6J/blib/arch:/home/eserte/.cpan/build/2017070909/Test-WWW-Mechanize-1.48-0oOF6J/blib/lib:/home/eserte/.cpan/build/2017070909/WWW-Mechanize-1.86-T8yA8n/blib/arch:/home/eserte/.cpan/build/2017070909/WWW-Mechanize-1.86-T8yA8n/blib/lib:/home/eserte/.cpan/build/2017070909/HTML-Form-6.03-MtBUyA/blib/arch:/home/eserte/.cpan/build/2017070909/HTML-Form-6.03-MtBUyA/blib/lib:/home/eserte/.cpan/build/2017070909/HTTP-Server-Simple-0.52-Ef18Kf/blib/arch:/home/eserte/.cpan/build/2017070909/HTTP-Server-Simple-0.52-Ef18Kf/blib/lib:/home/eserte/.cpan/build/2017070909/Carp-Assert-More-1.14-Mw0Ls3/blib/arch:/home/eserte/.cpan/build/2017070909/Carp-Assert-More-1.14-Mw0Ls3/blib/lib:/home/eserte/.cpan/build/2017070909/Carp-Assert-0.21-rBeRLz/blib/arch:/home/eserte/.cpan/build/2017070909/Carp-Assert-0.21-rBeRLz/blib/lib:/home/eserte/.cpan/build/2017070909/Text-Xslate-3.4.0-QqsWRd/blib/arch:/home/eserte/.cpan/build/2017070909/Text-Xslate-3.4.0-QqsWRd/blib/lib:/home/eserte/.cpan/build/2017070909/Mouse-v2.4.9-saeN1c/blib/arch:/home/eserte/.cpan/build/2017070909/Mouse-v2.4.9-saeN1c/blib/lib:/home/eserte/.cpan/build/2017070909/Test-Output-1.031-u7R1Ag/blib/arch:/home/eserte/.cpan/build/2017070909/Test-Output-1.031-u7R1Ag/blib/lib:/home/eserte/.cpan/build/2017070909/Module-Build-XSUtil-0.16-Bvt3mb/blib/arch:/home/eserte/.cpan/build/2017070909/Module-Build-XSUtil-0.16-Bvt3mb/blib/lib:/home/eserte/.cpan/build/2017070909/Devel-CheckCompiler-0.07-YmVMxs/blib/arch:/home/eserte/.cpan/build/2017070909/Devel-CheckCompiler-0.07-YmVMxs/blib/lib:/home/eserte/.cpan/build/2017070909/Cwd-Guard-0.05-nM2nsf/blib/arch:/home/eserte/.cpan/build/2017070909/Cwd-Guard-0.05-nM2nsf/blib/lib:/home/eserte/.cpan/build/2017070909/Data-MessagePack-1.00-ffhvCQ/blib/arch:/home/eserte/.cpan/build/2017070909/Data-MessagePack-1.00-ffhvCQ/blib/lib:/home/eserte/.cpan/build/2017070909/AnyEvent-AIO-1.1-nSKbo8/blib/arch:/home/eserte/.cpan/build/2017070909/AnyEvent-AIO-1.1-nSKbo8/blib/lib:/home/eserte/.cpan/build/2017070909/Event-1.26-9gfD3k/blib/arch:/home/eserte/.cpan/build/2017070909/Event-1.26-9gfD3k/blib/lib:/home/eserte/.cpan/build/2017070909/IO-AIO-4.34-CsP4CH/blib/arch:/home/eserte/.cpan/build/2017070909/IO-AIO-4.34-CsP4CH/blib/lib:/home/eserte/.cpan/build/2017070909/AnyEvent-BDB-1.1-vk8MSf/blib/arch:/home/eserte/.cpan/build/2017070909/AnyEvent-BDB-1.1-vk8MSf/blib/lib:/home/eserte/.cpan/build/2017070909/Async-Interrupt-1.21-FHUeS9/blib/arch:/home/eserte/.cpan/build/2017070909/Async-Interrupt-1.21-FHUeS9/blib/lib:/home/eserte/.cpan/build/2017070909/EV-4.22-LQuirH/blib/arch:/home/eserte/.cpan/build/2017070909/EV-4.22-LQuirH/blib/lib:/home/eserte/.cpan/build/2017070909/AnyEvent-7.14-L6mK3a/blib/arch:/home/eserte/.cpan/build/2017070909/AnyEvent-7.14-L6mK3a/blib/lib:/home/eserte/.cpan/build/2017070909/BDB-1.91-iJIP5K/blib/arch:/home/eserte/.cpan/build/2017070909/BDB-1.91-iJIP5K/blib/lib:/home/eserte/.cpan/build/2017070909/Guard-1.023-BcHlSf/blib/arch:/home/eserte/.cpan/build/2017070909/Guard-1.023-BcHlSf/blib/lib
    PERL5OPT = 
    PERL5_CPANPLUS_IS_RUNNING = 1171
    PERL5_CPAN_IS_RUNNING = 1171
    PERL5_CPAN_IS_RUNNING_IN_RECURSION = 31037,1171
    PERLDOC = -MPod::Perldoc::ToTextOverstrike
    PERL_BATCH = yes
    PERL_CANARY_STABILITY_NOPROMPT = 1
    PERL_CPAN_REPORTER_CONFIG = /run/user/1001/cpansmoker/2017070909/cpanreporter_000_config.ini
    PERL_EXTUTILS_AUTOINSTALL = --defaultdeps
    SHELL = /bin/zsh
    TERM = screen
    TMPDIR = /run/user/1001/cpansmoker/2017070909

Perl special variables (and OS-specific diagnostics, for MSWin32):

    $^X = /opt/perl-5.22.3D/bin/perl
    $UID/$EUID = 1001 / 1001
    $GID = 1001 1001 1023
    $EGID = 1001 1001 1023

Perl module toolchain versions installed:

    Module              Have      
    ------------------- ----------
    CPAN                2.11_01   
    CPAN::Meta          2.150001  
    Cwd                 3.56_02   
    ExtUtils::CBuilder  0.280221  
    ExtUtils::Command   1.20_01   
    ExtUtils::Install   2.04      
    ExtUtils::MakeMaker 7.04_02   
    ExtUtils::Manifest  1.70      
    ExtUtils::ParseXS   3.28      
    File::Spec          3.56_02   
    JSON                2.94      
    JSON::PP            2.27300_01
    Module::Build       0.4224    
    Module::Signature   0.81      
    Parse::CPAN::Meta   1.4414_001
    Test::Harness       3.35_01   
    Test::More          1.302086  
    YAML                1.23      
    YAML::Syck          1.30      
    version             0.9909    


--

Summary of my perl5 (revision 5 version 22 subversion 3) configuration:
   
  Platform:
    osname=linux, osvers=3.16.0-4-amd64, archname=x86_64-linux-ld
    uname='linux debian8 3.16.0-4-amd64 #1 smp debian 3.16.43-2+deb8u1 (2017-06-18) x86_64 gnulinux '
    config_args='-ds -e -Dprefix=/opt/perl-5.22.3D -Duselongdouble -Dcf_email=srezic@cpan.org'
    hint=recommended, useposix=true, d_sigaction=define
    useithreads=undef, usemultiplicity=undef
    use64bitint=define, use64bitall=define, uselongdouble=define
    usemymalloc=n, bincompat5005=undef
  Compiler:
    cc='cc', ccflags ='-fwrapv -fno-strict-aliasing -pipe -fstack-protector-strong -I/usr/local/include -D_LARGEFILE_SOURCE -D_FILE_OFFSET_BITS=64 -D_FORTIFY_SOURCE=2',
    optimize='-O2',
    cppflags='-fwrapv -fno-strict-aliasing -pipe -fstack-protector-strong -I/usr/local/include'
    ccversion='', gccversion='4.9.2', gccosandvers=''
    intsize=4, longsize=8, ptrsize=8, doublesize=8, byteorder=12345678, doublekind=3
    d_longlong=define, longlongsize=8, d_longdbl=define, longdblsize=16, longdblkind=3
    ivtype='long', ivsize=8, nvtype='long double', nvsize=16, Off_t='off_t', lseeksize=8
    alignbytes=16, prototype=define
  Linker and Libraries:
    ld='cc', ldflags =' -fstack-protector-strong -L/usr/local/lib'
    libpth=/usr/local/lib /usr/lib/gcc/x86_64-linux-gnu/4.9/include-fixed /usr/include/x86_64-linux-gnu /usr/lib /lib/x86_64-linux-gnu /lib/../lib /usr/lib/x86_64-linux-gnu /usr/lib/../lib /lib
    libs=-lpthread -lnsl -lgdbm -ldb -ldl -lm -lcrypt -lutil -lc -lgdbm_compat
    perllibs=-lpthread -lnsl -ldl -lm -lcrypt -lutil -lc
    libc=libc-2.19.so, so=so, useshrplib=false, libperl=libperl.a
    gnulibc_version='2.19'
  Dynamic Linking:
    dlsrc=dl_dlopen.xs, dlext=so, d_dlsymun=undef, ccdlflags='-Wl,-E'
    cccdlflags='-fPIC', lddlflags='-shared -O2 -L/usr/local/lib -fstack-protector-strong'


Characteristics of this binary (from libperl): 
  Compile-time options: HAS_TIMES PERLIO_LAYERS PERL_DONT_CREATE_GVSV
                        PERL_HASH_FUNC_ONE_AT_A_TIME_HARD PERL_MALLOC_WRAP
                        PERL_NEW_COPY_ON_WRITE PERL_PRESERVE_IVUV
                        USE_64_BIT_ALL USE_64_BIT_INT USE_LARGE_FILES
                        USE_LOCALE USE_LOCALE_COLLATE USE_LOCALE_CTYPE
                        USE_LOCALE_NUMERIC USE_LOCALE_TIME USE_LONG_DOUBLE
                        USE_PERLIO USE_PERL_ATOF
  Built under linux
  Compiled at Jun 27 2017 20:04:01
  %ENV:
    PERL5LIB="/home/eserte/.cpan/build/2017070909/Test-WWW-Mechanize-PSGI-0.37-oWvqI8/blib/arch:/home/eserte/.cpan/build/2017070909/Test-WWW-Mechanize-PSGI-0.37-oWvqI8/blib/lib:/home/eserte/.cpan/build/2017070909/Test-WWW-Mechanize-1.48-0oOF6J/blib/arch:/home/eserte/.cpan/build/2017070909/Test-WWW-Mechanize-1.48-0oOF6J/blib/lib:/home/eserte/.cpan/build/2017070909/WWW-Mechanize-1.86-T8yA8n/blib/arch:/home/eserte/.cpan/build/2017070909/WWW-Mechanize-1.86-T8yA8n/blib/lib:/home/eserte/.cpan/build/2017070909/HTML-Form-6.03-MtBUyA/blib/arch:/home/eserte/.cpan/build/2017070909/HTML-Form-6.03-MtBUyA/blib/lib:/home/eserte/.cpan/build/2017070909/HTTP-Server-Simple-0.52-Ef18Kf/blib/arch:/home/eserte/.cpan/build/2017070909/HTTP-Server-Simple-0.52-Ef18Kf/blib/lib:/home/eserte/.cpan/build/2017070909/Carp-Assert-More-1.14-Mw0Ls3/blib/arch:/home/eserte/.cpan/build/2017070909/Carp-Assert-More-1.14-Mw0Ls3/blib/lib:/home/eserte/.cpan/build/2017070909/Carp-Assert-0.21-rBeRLz/blib/arch:/home/eserte/.cpan/build/2017070909/Carp-Assert-0.21-rBeRLz/blib/lib:/home/eserte/.cpan/build/2017070909/Text-Xslate-3.4.0-QqsWRd/blib/arch:/home/eserte/.cpan/build/2017070909/Text-Xslate-3.4.0-QqsWRd/blib/lib:/home/eserte/.cpan/build/2017070909/Mouse-v2.4.9-saeN1c/blib/arch:/home/eserte/.cpan/build/2017070909/Mouse-v2.4.9-saeN1c/blib/lib:/home/eserte/.cpan/build/2017070909/Test-Output-1.031-u7R1Ag/blib/arch:/home/eserte/.cpan/build/2017070909/Test-Output-1.031-u7R1Ag/blib/lib:/home/eserte/.cpan/build/2017070909/Module-Build-XSUtil-0.16-Bvt3mb/blib/arch:/home/eserte/.cpan/build/2017070909/Module-Build-XSUtil-0.16-Bvt3mb/blib/lib:/home/eserte/.cpan/build/2017070909/Devel-CheckCompiler-0.07-YmVMxs/blib/arch:/home/eserte/.cpan/build/2017070909/Devel-CheckCompiler-0.07-YmVMxs/blib/lib:/home/eserte/.cpan/build/2017070909/Cwd-Guard-0.05-nM2nsf/blib/arch:/home/eserte/.cpan/build/2017070909/Cwd-Guard-0.05-nM2nsf/blib/lib:/home/eserte/.cpan/build/2017070909/Data-MessagePack-1.00-ffhvCQ/blib/arch:/home/eserte/.cpan/build/2017070909/Data-MessagePack-1.00-ffhvCQ/blib/lib:/home/eserte/.cpan/build/2017070909/AnyEvent-AIO-1.1-nSKbo8/blib/arch:/home/eserte/.cpan/build/2017070909/AnyEvent-AIO-1.1-nSKbo8/blib/lib:/home/eserte/.cpan/build/2017070909/Event-1.26-9gfD3k/blib/arch:/home/eserte/.cpan/build/2017070909/Event-1.26-9gfD3k/blib/lib:/home/eserte/.cpan/build/2017070909/IO-AIO-4.34-CsP4CH/blib/arch:/home/eserte/.cpan/build/2017070909/IO-AIO-4.34-CsP4CH/blib/lib:/home/eserte/.cpan/build/2017070909/AnyEvent-BDB-1.1-vk8MSf/blib/arch:/home/eserte/.cpan/build/2017070909/AnyEvent-BDB-1.1-vk8MSf/blib/lib:/home/eserte/.cpan/build/2017070909/Async-Interrupt-1.21-FHUeS9/blib/arch:/home/eserte/.cpan/build/2017070909/Async-Interrupt-1.21-FHUeS9/blib/lib:/home/eserte/.cpan/build/2017070909/EV-4.22-LQuirH/blib/arch:/home/eserte/.cpan/build/2017070909/EV-4.22-LQuirH/blib/lib:/home/eserte/.cpan/build/2017070909/AnyEvent-7.14-L6mK3a/blib/arch:/home/eserte/.cpan/build/2017070909/AnyEvent-7.14-L6mK3a/blib/lib:/home/eserte/.cpan/build/2017070909/BDB-1.91-iJIP5K/blib/arch:/home/eserte/.cpan/build/2017070909/BDB-1.91-iJIP5K/blib/lib:/home/eserte/.cpan/build/2017070909/Guard-1.023-BcHlSf/blib/arch:/home/eserte/.cpan/build/2017070909/Guard-1.023-BcHlSf/blib/lib"
    PERL5OPT=""
    PERL5_CPANPLUS_IS_RUNNING="1171"
    PERL5_CPAN_IS_RUNNING="1171"
    PERL5_CPAN_IS_RUNNING_IN_RECURSION="31037,1171"
    PERLDOC="-MPod::Perldoc::ToTextOverstrike"
    PERL_BATCH="yes"
    PERL_CANARY_STABILITY_NOPROMPT="1"
    PERL_CPAN_REPORTER_CONFIG="/run/user/1001/cpansmoker/2017070909/cpanreporter_000_config.ini"
    PERL_EXTUTILS_AUTOINSTALL="--defaultdeps"
  @INC:
    /home/eserte/.cpan/build/2017070909/Test-WWW-Mechanize-PSGI-0.37-oWvqI8/blib/arch
    /home/eserte/.cpan/build/2017070909/Test-WWW-Mechanize-PSGI-0.37-oWvqI8/blib/lib
    /home/eserte/.cpan/build/2017070909/Test-WWW-Mechanize-1.48-0oOF6J/blib/arch
    /home/eserte/.cpan/build/2017070909/Test-WWW-Mechanize-1.48-0oOF6J/blib/lib
    /home/eserte/.cpan/build/2017070909/WWW-Mechanize-1.86-T8yA8n/blib/arch
    /home/eserte/.cpan/build/2017070909/WWW-Mechanize-1.86-T8yA8n/blib/lib
    /home/eserte/.cpan/build/2017070909/HTML-Form-6.03-MtBUyA/blib/arch
    /home/eserte/.cpan/build/2017070909/HTML-Form-6.03-MtBUyA/blib/lib
    /home/eserte/.cpan/build/2017070909/HTTP-Server-Simple-0.52-Ef18Kf/blib/arch
    /home/eserte/.cpan/build/2017070909/HTTP-Server-Simple-0.52-Ef18Kf/blib/lib
    /home/eserte/.cpan/build/2017070909/Carp-Assert-More-1.14-Mw0Ls3/blib/arch
    /home/eserte/.cpan/build/2017070909/Carp-Assert-More-1.14-Mw0Ls3/blib/lib
    /home/eserte/.cpan/build/2017070909/Carp-Assert-0.21-rBeRLz/blib/arch
    /home/eserte/.cpan/build/2017070909/Carp-Assert-0.21-rBeRLz/blib/lib
    /home/eserte/.cpan/build/2017070909/Text-Xslate-3.4.0-QqsWRd/blib/arch
    /home/eserte/.cpan/build/2017070909/Text-Xslate-3.4.0-QqsWRd/blib/lib
    /home/eserte/.cpan/build/2017070909/Mouse-v2.4.9-saeN1c/blib/arch
    /home/eserte/.cpan/build/2017070909/Mouse-v2.4.9-saeN1c/blib/lib
    /home/eserte/.cpan/build/2017070909/Test-Output-1.031-u7R1Ag/blib/arch
    /home/eserte/.cpan/build/2017070909/Test-Output-1.031-u7R1Ag/blib/lib
    /home/eserte/.cpan/build/2017070909/Module-Build-XSUtil-0.16-Bvt3mb/blib/arch
    /home/eserte/.cpan/build/2017070909/Module-Build-XSUtil-0.16-Bvt3mb/blib/lib
    /home/eserte/.cpan/build/2017070909/Devel-CheckCompiler-0.07-YmVMxs/blib/arch
    /home/eserte/.cpan/build/2017070909/Devel-CheckCompiler-0.07-YmVMxs/blib/lib
    /home/eserte/.cpan/build/2017070909/Cwd-Guard-0.05-nM2nsf/blib/arch
    /home/eserte/.cpan/build/2017070909/Cwd-Guard-0.05-nM2nsf/blib/lib
    /home/eserte/.cpan/build/2017070909/Data-MessagePack-1.00-ffhvCQ/blib/arch
    /home/eserte/.cpan/build/2017070909/Data-MessagePack-1.00-ffhvCQ/blib/lib
    /home/eserte/.cpan/build/2017070909/AnyEvent-AIO-1.1-nSKbo8/blib/arch
    /home/eserte/.cpan/build/2017070909/AnyEvent-AIO-1.1-nSKbo8/blib/lib
    /home/eserte/.cpan/build/2017070909/Event-1.26-9gfD3k/blib/arch
    /home/eserte/.cpan/build/2017070909/Event-1.26-9gfD3k/blib/lib
    /home/eserte/.cpan/build/2017070909/IO-AIO-4.34-CsP4CH/blib/arch
    /home/eserte/.cpan/build/2017070909/IO-AIO-4.34-CsP4CH/blib/lib
    /home/eserte/.cpan/build/2017070909/AnyEvent-BDB-1.1-vk8MSf/blib/arch
    /home/eserte/.cpan/build/2017070909/AnyEvent-BDB-1.1-vk8MSf/blib/lib
    /home/eserte/.cpan/build/2017070909/Async-Interrupt-1.21-FHUeS9/blib/arch
    /home/eserte/.cpan/build/2017070909/Async-Interrupt-1.21-FHUeS9/blib/lib
    /home/eserte/.cpan/build/2017070909/EV-4.22-LQuirH/blib/arch
    /home/eserte/.cpan/build/2017070909/EV-4.22-LQuirH/blib/lib
    /home/eserte/.cpan/build/2017070909/AnyEvent-7.14-L6mK3a/blib/arch
    /home/eserte/.cpan/build/2017070909/AnyEvent-7.14-L6mK3a/blib/lib
    /home/eserte/.cpan/build/2017070909/BDB-1.91-iJIP5K/blib/arch
    /home/eserte/.cpan/build/2017070909/BDB-1.91-iJIP5K/blib/lib
    /home/eserte/.cpan/build/2017070909/Guard-1.023-BcHlSf/blib/arch
    /home/eserte/.cpan/build/2017070909/Guard-1.023-BcHlSf/blib/lib
    /opt/perl-5.22.3D/lib/site_perl/5.22.3/x86_64-linux-ld
    /opt/perl-5.22.3D/lib/site_perl/5.22.3
    /opt/perl-5.22.3D/lib/5.22.3/x86_64-linux-ld
    /opt/perl-5.22.3D/lib/5.22.3
    .