Test-CleanNamespaces v0.24 Perl 5 v5.30.2 darwin-2level

Status
Pass
From
Slaven Rezić (SREZIC)
Dist
Test-CleanNamespaces v0.24
Platform
Perl 5 v5.30.2 darwin-2level
Date
2020-04-19 11:26:59
ID
af24e4ee-8230-11ea-809d-f73e1f24ea8f
This distribution has been tested as part of the CPAN Testers
project, supporting the Perl programming language.  See
http://wiki.cpantesters.org/ for more information or email
questions to cpan-testers-discuss@perl.org


--
Dear Karen Etheridge,

This is a computer-generated report for Test-CleanNamespaces-0.24
on perl 5.30.2, created by CPAN-Reporter-1.2018.

Thank you for uploading your work to CPAN.  Congratulations!
All tests were successful.

Sections of this report:

    * Tester comments
    * Program output
    * Prerequisites
    * Environment and other context

------------------------------
TESTER COMMENTS
------------------------------

Additional comments from tester:

none provided

------------------------------
PROGRAM OUTPUT
------------------------------

Output from '/usr/bin/make test':

PERL_DL_NONLAZY=1 "/opt/perl-5.30.2/bin/perl" "-MExtUtils::Command::MM" "-MTest::Harness" "-e" "undef *Test::Harness::Switches; test_harness(0, 'blib/lib', 'blib/arch')" t/*.t
# 
# Versions for all modules listed in MYMETA.json (including optional ones):
# 
# === Configure Requires ===
# 
#     Module                       Want     Have
#     ------------------------ -------- --------
#     CPAN::Meta::Requirements 2.120620    2.140
#     ExtUtils::MakeMaker           any     7.34
#     Module::Metadata              any 1.000036
# 
# === Build Requires ===
# 
#     Module              Want Have
#     ------------------- ---- ----
#     ExtUtils::MakeMaker  any 7.34
# 
# === Test Requires ===
# 
#     Module                 Want     Have
#     --------------------- ----- --------
#     ExtUtils::MakeMaker     any     7.34
#     File::Spec              any     3.78
#     File::Spec::Functions   any     3.78
#     File::pushd             any    1.016
#     Scalar::Util            any     1.50
#     Sub::Exporter           any    0.987
#     Test::Deep              any    1.130
#     Test::More             0.96 1.302162
#     Test::Needs             any 0.002006
#     Test::Tester            any 1.302162
#     Test::Warnings        0.009    0.030
#     constant                any     1.33
#     if                      any   0.0608
#     lib                     any     0.65
#     namespace::clean        any     0.27
#     overload                any     1.30
#     parent                  any    0.237
# 
# === Test Recommends ===
# 
#     Module         Want     Have
#     ---------- -------- --------
#     CPAN::Meta 2.120900 2.150010
# 
# === Test Suggests ===
# 
#     Module                          Want    Have
#     --------------------------- -------- -------
#     Class::MOP::Class                any missing
#     Moo                              any missing
#     Moo::Role                        any missing
#     Moose                            any missing
#     Moose::Exporter                  any missing
#     Moose::Role                      any missing
#     MooseX::Role::Parameterized      any missing
#     Mouse                            any missing
#     Mouse::Role                      any missing
#     Role::Tiny                  1.003000 missing
#     metaclass                        any missing
# 
# === Runtime Requires ===
# 
#     Module          Want     Have
#     --------------- ---- --------
#     Exporter        5.57     5.73
#     File::Find       any     1.36
#     File::Spec       any     3.78
#     Module::Runtime  any    0.016
#     Package::Stash  0.14     0.38
#     Sub::Identify    any     0.14
#     Test::Builder    any 1.302162
#     strict           any     1.11
#     warnings         any     1.44
# 
# === Runtime Recommends ===
# 
#     Module             Want Have
#     ------------------ ---- ----
#     Package::Stash::XS  any 0.29
# 
# === Runtime Suggests ===
# 
#     Module     Want    Have
#     ---------- ---- -------
#     Role::Tiny  any missing
# 
# === Other Modules ===
# 
#     Module             Have
#     --------------- -------
#     Encode             3.01
#     File::Temp       0.2309
#     JSON::PP           4.02
#     Module::Runtime   0.016
#     Pod::Coverage   missing
#     Sub::Name          0.26
#     YAML               1.30
#     autodie            2.29
# 
t/00-report-prereqs.t ......... ok
t/basic.t ..................... ok
t/class_mop.t ................. skipped: skipping for regular installs, due to possible circular dependency issues
t/clean-namespaces.t .......... ok
t/find_modules.t .............. ok
t/moo.t ....................... skipped: Need Moo 1.000007
t/moose-parameterized-role.t .. skipped: skipping for regular installs, due to possible circular dependency issues
t/moose.t ..................... skipped: skipping for regular installs, due to possible circular dependency issues
t/mouse.t ..................... skipped: Need Mouse
t/overload.t .................. ok
t/role_tiny.t ................. skipped: Need Role::Tiny 1.003000
t/self.t ...................... ok
t/zzz-check-breaks.t .......... ok
All tests successful.
Files=13, Tests=86,  1 wallclock secs ( 0.04 usr  0.02 sys +  0.95 cusr  0.20 csys =  1.21 CPU)
Result: PASS

------------------------------
PREREQUISITES
------------------------------

Prerequisite modules loaded:

requires:

    Module                   Need     Have    
    ------------------------ -------- --------
    Exporter                 5.57     5.73    
    File::Find               0        1.36    
    File::Spec               0        3.78    
    Module::Runtime          0        0.016   
    Package::Stash           0.14     0.38    
    perl                     5.006    5.030002
    strict                   0        1.11    
    Sub::Identify            0        0.14    
    Test::Builder            0        1.302162
    warnings                 0        1.44    

build_requires:

    Module                   Need     Have    
    ------------------------ -------- --------
    constant                 0        1.33    
    ExtUtils::MakeMaker      0        7.34    
    File::pushd              0        1.016   
    File::Spec               0        3.78    
    File::Spec::Functions    0        3.78    
    if                       0        0.0608  
    lib                      0        0.65    
    namespace::clean         0        0.27    
    overload                 0        1.30    
    parent                   0        0.237   
    Scalar::Util             0        1.50    
    Sub::Exporter            0        0.987   
    Test::Deep               0        1.130   
    Test::More               0.96     1.302162
    Test::Needs              0        0.002006
    Test::Tester             0        1.302162
    Test::Warnings           0.009    0.030   

configure_requires:

    Module                   Need     Have    
    ------------------------ -------- --------
    CPAN::Meta::Requirements 2.120620 2.140   
    ExtUtils::MakeMaker      0        7.34    
    Module::Metadata         0        1.000036
    perl                     5.006    5.030002


------------------------------
ENVIRONMENT AND OTHER CONTEXT
------------------------------

Environment variables:

    LANG = de_DE.UTF-8
    PATH = /Users/slaven.rezic/.rbenv/shims:/opt/perl-5.12.3/bin:/usr/local/bin:/usr/bin:/bin:/usr/local/sbin:/usr/sbin:/sbin:/Users/slaven.rezic/bin/darwin18.0:/Users/slaven.rezic/bin/sh:/Users/slaven.rezic/bin:/Users/slaven.rezic/bin/pistachio-perl/bin:/usr/games:/Users/slaven.rezic/devel:/Users/slaven.rezic/work/drafts-slaven.rezic/misc:/Users/slaven.rezic/src/srezic-misc/scripts
    PERL5LIB = /Users/slaven.rezic/work/angebotsverarbeitung-lib/perl-lib/lib:/Users/slaven.rezic/work/angebotsverarbeitung-lib/perl-lib-old/perl
    PERL5OPT = 
    PERL5_CPANPLUS_IS_RUNNING = 32014
    PERL5_CPAN_IS_RUNNING = 32014
    PERL5_CPAN_IS_RUNNING_IN_RECURSION = 32004,32014
    PERLDOC = -MPod::Perldoc::ToTextOverstrike
    PERL_BATCH = yes
    PERL_CANARY_STABILITY_NOPROMPT = 1
    PERL_CPAN_REPORTER_CONFIG = /var/tmp/cpansmoker-501/2020041912/cpanreporter_000_config.ini
    PERL_EXTUTILS_AUTOINSTALL = --defaultdeps
    PERL_USE_UNSAFE_INC = 1
    PISTACHIO_PERL_MANAGER = 1
    SHELL = /bin/zsh
    TERM = screen
    TMPDIR = /var/tmp/cpansmoker-501/2020041912

Perl special variables (and OS-specific diagnostics, for MSWin32):

    $^X = /opt/perl-5.30.2/bin/perl
    $UID/$EUID = 501 / 501
    $GID = 20 20 501 701 12 61 702 100 703
    $EGID = 20 20 501 701 12 61 702 100 703

Perl module toolchain versions installed:

    Module              Have    
    ------------------- --------
    CPAN                2.22    
    CPAN::Meta          2.150010
    Cwd                 3.78    
    ExtUtils::CBuilder  0.280231
    ExtUtils::Command   7.34    
    ExtUtils::Install   2.14    
    ExtUtils::MakeMaker 7.34    
    ExtUtils::Manifest  1.72    
    ExtUtils::ParseXS   3.40    
    File::Spec          3.78    
    JSON                n/a     
    JSON::PP            4.02    
    Module::Build       0.4231  
    Module::Signature   n/a     
    Parse::CPAN::Meta   2.150010
    Test::Harness       3.42    
    Test::More          1.302162
    YAML                1.30    
    YAML::Syck          1.32    
    version             0.9924  


--

Summary of my perl5 (revision 5 version 30 subversion 2) configuration:
   
  Platform:
    osname=darwin
    osvers=18.7.0
    archname=darwin-2level
    uname='darwin w3tk 18.7.0 darwin kernel version 18.7.0: mon feb 10 21:08:45 pst 2020; root:xnu-4903.278.28~1release_x86_64 x86_64 '
    config_args='-ds -e -Dprefix=/opt/perl-5.30.2 -Dcf_email=srezic@cpan.org'
    hint=recommended
    useposix=true
    d_sigaction=define
    useithreads=undef
    usemultiplicity=undef
    use64bitint=define
    use64bitall=define
    uselongdouble=undef
    usemymalloc=n
    default_inc_excludes_dot=define
    bincompat5005=undef
  Compiler:
    cc='cc'
    ccflags ='-fno-common -DPERL_DARWIN -mmacosx-version-min=10.14 -fno-strict-aliasing -pipe -fstack-protector-strong -I/usr/local/include -DPERL_USE_SAFE_PUTENV'
    optimize='-O3'
    cppflags='-fno-common -DPERL_DARWIN -mmacosx-version-min=10.14 -fno-strict-aliasing -pipe -fstack-protector-strong -I/usr/local/include'
    ccversion=''
    gccversion='4.2.1 Compatible Apple LLVM 10.0.1 (clang-1001.0.46.4)'
    gccosandvers=''
    intsize=4
    longsize=8
    ptrsize=8
    doublesize=8
    byteorder=12345678
    doublekind=3
    d_longlong=define
    longlongsize=8
    d_longdbl=define
    longdblsize=16
    longdblkind=3
    ivtype='long'
    ivsize=8
    nvtype='double'
    nvsize=8
    Off_t='off_t'
    lseeksize=8
    alignbytes=8
    prototype=define
  Linker and Libraries:
    ld='cc'
    ldflags =' -mmacosx-version-min=10.14 -fstack-protector-strong -L/usr/local/lib'
    libpth=/usr/local/lib /Library/Developer/CommandLineTools/usr/lib/clang/10.0.1/lib /Library/Developer/CommandLineTools/usr/lib /usr/lib
    libs=-lpthread -lgdbm -ldbm -ldb -ldl -lm -lutil -lc
    perllibs=-lpthread -ldl -lm -lutil -lc
    libc=
    so=dylib
    useshrplib=false
    libperl=libperl.a
    gnulibc_version=''
  Dynamic Linking:
    dlsrc=dl_dlopen.xs
    dlext=bundle
    d_dlsymun=undef
    ccdlflags=' '
    cccdlflags=' '
    lddlflags=' -mmacosx-version-min=10.14 -bundle -undefined dynamic_lookup -L/usr/local/lib -fstack-protector-strong'


Characteristics of this binary (from libperl): 
  Compile-time options:
    HAS_TIMES
    PERLIO_LAYERS
    PERL_COPY_ON_WRITE
    PERL_DONT_CREATE_GVSV
    PERL_MALLOC_WRAP
    PERL_OP_PARENT
    PERL_PRESERVE_IVUV
    PERL_USE_SAFE_PUTENV
    USE_64_BIT_ALL
    USE_64_BIT_INT
    USE_LARGE_FILES
    USE_LOCALE
    USE_LOCALE_COLLATE
    USE_LOCALE_CTYPE
    USE_LOCALE_NUMERIC
    USE_LOCALE_TIME
    USE_PERLIO
    USE_PERL_ATOF
  Built under darwin
  Compiled at Apr 19 2020 12:12:10
  %ENV:
    PERL5LIB="/Users/slaven.rezic/work/angebotsverarbeitung-lib/perl-lib/lib:/Users/slaven.rezic/work/angebotsverarbeitung-lib/perl-lib-old/perl"
    PERL5OPT=""
    PERL5_CPANPLUS_IS_RUNNING="32014"
    PERL5_CPAN_IS_RUNNING="32014"
    PERL5_CPAN_IS_RUNNING_IN_RECURSION="32004,32014"
    PERLDOC="-MPod::Perldoc::ToTextOverstrike"
    PERL_BATCH="yes"
    PERL_CANARY_STABILITY_NOPROMPT="1"
    PERL_CPAN_REPORTER_CONFIG="/var/tmp/cpansmoker-501/2020041912/cpanreporter_000_config.ini"
    PERL_EXTUTILS_AUTOINSTALL="--defaultdeps"
    PERL_USE_UNSAFE_INC="1"
  @INC:
    /Users/slaven.rezic/work/angebotsverarbeitung-lib/perl-lib/lib
    /Users/slaven.rezic/work/angebotsverarbeitung-lib/perl-lib-old/perl
    /opt/perl-5.30.2/lib/site_perl/5.30.2/darwin-2level
    /opt/perl-5.30.2/lib/site_perl/5.30.2
    /opt/perl-5.30.2/lib/5.30.2/darwin-2level
    /opt/perl-5.30.2/lib/5.30.2
    .