Report for Dist-Zilla-Plugin-Test-Compile-PerFile-0.003000

Back
From: metabase:user:314402c4-2aae-11df-837a-5e0a49663a4f
Subject: PASS Dist-Zilla-Plugin-Test-Compile-PerFile-0.003000 v5.23.3 GNU/Linux
Date: 2015-10-29T03:18:11Z

This distribution has been tested as part of the CPAN Testers
project, supporting the Perl programming language.  See
http://wiki.cpantesters.org/ for more information or email
questions to cpan-testers-discuss@perl.org


--
Dear Kent Fredric,

This is a computer-generated report for Dist-Zilla-Plugin-Test-Compile-PerFile-0.003000
on perl 5.23.3, created by CPAN-Reporter-1.2015.

Thank you for uploading your work to CPAN.  Congratulations!
All tests were successful.

Sections of this report:

    * Tester comments
    * Program output
    * Prerequisites
    * Environment and other context

------------------------------
TESTER COMMENTS
------------------------------

Additional comments from tester:

none provided

------------------------------
PROGRAM OUTPUT
------------------------------

Output from '/usr/bin/make test':

Skip blib/lib/auto/share/dist/Dist-Zilla-Plugin-Test-Compile-PerFile/01-basic.t.tpl (unchanged)
Skip blib/lib/auto/share/dist/Dist-Zilla-Plugin-Test-Compile-PerFile/.keep (unchanged)
PERL_DL_NONLAZY=1 "/opt/perl-5.23.3/bin/perl5.23.3" "-MExtUtils::Command::MM" "-MTest::Harness" "-e" "undef *Test::Harness::Switches; test_harness(0, 'blib/lib', 'blib/arch')" t/*.t t/00-compile/*.t
t/00-compile/lib_Dist_Zilla_Plugin_Test_Compile_PerFile_pm.t .. ok
# 
# Versions for all modules listed in MYMETA.json (including optional ones):
# 
# === Configure Requires ===
# 
#     Module                  Want Have
#     ----------------------- ---- ----
#     ExtUtils::MakeMaker      any 7.10
#     File::ShareDir::Install 0.06 0.10
# 
# === Configure Recommends ===
# 
#     Module              Want Have
#     ------------------- ---- ----
#     ExtUtils::MakeMaker 6.98 7.10
# 
# === Build Requires ===
# 
#     Module              Want Have
#     ------------------- ---- ----
#     ExtUtils::MakeMaker  any 7.10
# 
# === Test Requires ===
# 
#     Module                              Want     Have
#     ------------------------------- -------- --------
#     Capture::Tiny                        any     0.30
#     Dist::Zilla::Util::Test::KENTNL 1.003002 1.005013
#     ExtUtils::MakeMaker                  any     7.10
#     File::Spec                           any     3.58
#     Test::DZil                           any    5.040
#     Test::File::ShareDir::Dist           any 1.001001
#     Test::More                          0.89 1.001014
# 
# === Test Recommends ===
# 
#     Module                  Want     Have
#     ------------------- -------- --------
#     CPAN::Meta          2.120900 2.150005
#     ExtUtils::MakeMaker     6.98     7.10
#     Test::More          1.001006 1.001014
# 
# === Runtime Requires ===
# 
#     Module                          Want     Have
#     ------------------------------- ---- --------
#     Dist::Zilla::File::FromCode      any    5.040
#     Dist::Zilla::Plugin::FinderCode  any    5.040
#     Dist::Zilla::Role::FileGatherer  any    5.040
#     Dist::Zilla::Role::TextTemplate  any    5.040
#     Dist::Zilla::Util::ConfigDumper  any 0.003007
#     File::ShareDir                   any    1.102
#     Moose                            any   2.1603
#     Moose::Util::TypeConstraints     any   2.1603
#     MooseX::LazyRequire              any     0.11
#     Path::Tiny                       any    0.072
#     strict                           any     1.09
#     utf8                             any     1.17
#     warnings                         any     1.33
# 
t/00-report-prereqs.t ......................................... ok
t/attr_file.t ................................................. ok
t/attr_finder.t ............................................... ok
t/attr_path_translator_mimic_source.t ......................... ok
t/attr_skip.t ................................................. ok
t/attr_xtmode.t ............................................... ok
t/basic.t ..................................................... ok
t/failtest.t .................................................. ok
t/oktest.t .................................................... ok
All tests successful.
Files=10, Tests=17,  8 wallclock secs ( 0.05 usr  0.04 sys +  6.82 cusr  0.95 csys =  7.86 CPU)
Result: PASS

------------------------------
PREREQUISITES
------------------------------

Prerequisite modules loaded:

requires:

    Module                          Need     Have    
    ------------------------------- -------- --------
    Dist::Zilla::File::FromCode     0        5.040   
    Dist::Zilla::Plugin::FinderCode 0        5.040   
    Dist::Zilla::Role::FileGatherer 0        5.040   
    Dist::Zilla::Role::TextTemplate 0        5.040   
    Dist::Zilla::Util::ConfigDumper 0        0.003007
    File::ShareDir                  0        1.102   
    Moose                           0        2.1603  
    Moose::Util::TypeConstraints    0        2.1603  
    MooseX::LazyRequire             0        0.11    
    Path::Tiny                      0        0.072   
    strict                          0        1.09    
    utf8                            0        1.17    
    warnings                        0        1.33    

build_requires:

    Module                          Need     Have    
    ------------------------------- -------- --------
    Capture::Tiny                   0        0.30    
    Dist::Zilla::Util::Test::KENTNL 1.003002 1.005013
    ExtUtils::MakeMaker             0        7.10    
    File::Spec                      0        3.58    
    Test::DZil                      0        5.040   
    Test::File::ShareDir::Dist      0        1.001001
    Test::More                      0.89     1.001014

configure_requires:

    Module                          Need     Have    
    ------------------------------- -------- --------
    ExtUtils::MakeMaker             0        7.10    
    File::ShareDir::Install         0.06     0.10    


------------------------------
ENVIRONMENT AND OTHER CONTEXT
------------------------------

Environment variables:

    LANG = C
    LC_ALL = de_DE.UTF-8
    PATH = /usr/local/bin:/usr/bin:/bin:/usr/local/sbin:/usr/sbin:/sbin:/home/eserte/bin/linux-gnu:/home/eserte/bin/sh:/home/eserte/bin:/usr/games:/home/eserte/devel:/home/eserte/src/srezic-misc/scripts
    PERL5LIB = 
    PERL5OPT = 
    PERL5_CPANPLUS_IS_RUNNING = 14341
    PERL5_CPAN_IS_RUNNING = 14341
    PERL5_CPAN_IS_RUNNING_IN_RECURSION = 14144,14341
    PERLDOC = -MPod::Perldoc::ToTextOverstrike
    PERL_BATCH = yes
    PERL_CANARY_STABILITY_NOPROMPT = 1
    PERL_CPAN_REPORTER_CONFIG = /var/tmp/cpansmoker-1001/2015102900/cpanreporter_001_config.ini
    PERL_EXTUTILS_AUTOINSTALL = --defaultdeps
    PERL_PARALLEL_SMOKER = yes
    SHELL = /bin/zsh
    TERM = screen
    TMPDIR = /var/tmp/cpansmoker-1001/2015102900

Perl special variables (and OS-specific diagnostics, for MSWin32):

    $^X = /opt/perl-5.23.3/bin/perl5.23.3
    $UID/$EUID = 1001 / 1001
    $GID = 1001 109 1001
    $EGID = 1001 109 1001

Perl module toolchain versions installed:

    Module              Have    
    ------------------- --------
    CPAN                2.11    
    CPAN::Meta          2.150005
    Cwd                 3.58    
    ExtUtils::CBuilder  0.280223
    ExtUtils::Command   7.10    
    ExtUtils::Install   2.04    
    ExtUtils::MakeMaker 7.10    
    ExtUtils::Manifest  1.70    
    ExtUtils::ParseXS   3.30    
    File::Spec          3.58    
    JSON                2.90    
    JSON::PP            2.27300 
    Module::Build       0.4214  
    Module::Signature   n/a     
    Parse::CPAN::Meta   1.4417  
    Test::Harness       3.35    
    Test::More          1.001014
    YAML                1.15    
    YAML::Syck          1.29    
    version             0.9912  


--

Summary of my perl5 (revision 5 version 23 subversion 3) configuration:
   
  Platform:
    osname=linux, osvers=3.2.0-4-amd64, archname=x86_64-linux
    uname='linux eserte 3.2.0-4-amd64 #1 smp debian 3.2.68-1+deb7u3 x86_64 gnulinux '
    config_args='-ds -e -Dprefix=/opt/perl-5.23.3 -Dusedevel -Dusemallocwrap=no -Dcf_email=srezic@cpan.org'
    hint=recommended, useposix=true, d_sigaction=define
    useithreads=undef, usemultiplicity=undef
    use64bitint=define, use64bitall=define, uselongdouble=undef
    usemymalloc=n, bincompat5005=undef
  Compiler:
    cc='cc', ccflags ='-fwrapv -fno-strict-aliasing -pipe -fstack-protector -I/usr/local/include -D_LARGEFILE_SOURCE -D_FILE_OFFSET_BITS=64 -D_FORTIFY_SOURCE=2',
    optimize='-O2',
    cppflags='-fwrapv -fno-strict-aliasing -pipe -fstack-protector -I/usr/local/include'
    ccversion='', gccversion='4.7.2', gccosandvers=''
    intsize=4, longsize=8, ptrsize=8, doublesize=8, byteorder=12345678, doublekind=3
    d_longlong=define, longlongsize=8, d_longdbl=define, longdblsize=16, longdblkind=3
    ivtype='long', ivsize=8, nvtype='double', nvsize=8, Off_t='off_t', lseeksize=8
    alignbytes=8, prototype=define
  Linker and Libraries:
    ld='cc', ldflags =' -fstack-protector -L/usr/local/lib'
    libpth=/usr/local/lib /usr/lib/gcc/x86_64-linux-gnu/4.7/include-fixed /usr/include/x86_64-linux-gnu /usr/lib /lib/x86_64-linux-gnu /lib/../lib /usr/lib/x86_64-linux-gnu /usr/lib/../lib /lib
    libs=-lpthread -lnsl -ldb -ldl -lm -lcrypt -lutil -lc
    perllibs=-lpthread -lnsl -ldl -lm -lcrypt -lutil -lc
    libc=libc-2.13.so, so=so, useshrplib=false, libperl=libperl.a
    gnulibc_version='2.13'
  Dynamic Linking:
    dlsrc=dl_dlopen.xs, dlext=so, d_dlsymun=undef, ccdlflags='-Wl,-E'
    cccdlflags='-fPIC', lddlflags='-shared -O2 -L/usr/local/lib -fstack-protector'


Characteristics of this binary (from libperl): 
  Compile-time options: HAS_TIMES PERLIO_LAYERS PERL_COPY_ON_WRITE
                        PERL_DONT_CREATE_GVSV
                        PERL_HASH_FUNC_ONE_AT_A_TIME_HARD PERL_PRESERVE_IVUV
                        PERL_USE_DEVEL USE_64_BIT_ALL USE_64_BIT_INT
                        USE_LARGE_FILES USE_LOCALE USE_LOCALE_COLLATE
                        USE_LOCALE_CTYPE USE_LOCALE_NUMERIC USE_LOCALE_TIME
                        USE_PERLIO USE_PERL_ATOF
  Built under linux
  Compiled at Sep 22 2015 05:19:28
  %ENV:
    PERL5LIB=""
    PERL5OPT=""
    PERL5_CPANPLUS_IS_RUNNING="14341"
    PERL5_CPAN_IS_RUNNING="14341"
    PERL5_CPAN_IS_RUNNING_IN_RECURSION="14144,14341"
    PERLDOC="-MPod::Perldoc::ToTextOverstrike"
    PERL_BATCH="yes"
    PERL_CANARY_STABILITY_NOPROMPT="1"
    PERL_CPAN_REPORTER_CONFIG="/var/tmp/cpansmoker-1001/2015102900/cpanreporter_001_config.ini"
    PERL_EXTUTILS_AUTOINSTALL="--defaultdeps"
    PERL_PARALLEL_SMOKER="yes"
  @INC:
    /opt/perl-5.23.3/lib/site_perl/5.23.3/x86_64-linux
    /opt/perl-5.23.3/lib/site_perl/5.23.3
    /opt/perl-5.23.3/lib/5.23.3/x86_64-linux
    /opt/perl-5.23.3/lib/5.23.3
    .