MongoDB vv2.2.2 Perl 5 v5.36.1 darwin-2level

Status
Pass
From
Stanislaw Pusep
Dist
MongoDB vv2.2.2
Platform
Perl 5 v5.36.1 darwin-2level
Date
2023-06-24 10:20:03
ID
aef81bcc-1278-11ee-869d-d1d25f62b7b3
This distribution has been tested as part of the CPAN Testers
project, supporting the Perl programming language.  See
http://wiki.cpantesters.org/ for more information or email
questions to cpan-testers-discuss@perl.org


--
Dear MONGODB,

This is a computer-generated report for MongoDB-v2.2.2
on perl 5.36.1, created by App::cpanminus::reporter 0.20 (1.7044).

Thank you for uploading your work to CPAN.  Congratulations!
All tests were successful.

Sections of this report:

    * Tester comments
    * Program output
    * Prerequisites
    * Environment and other context

------------------------------
TESTER COMMENTS
------------------------------

Additional comments from tester:

none provided

------------------------------
PROGRAM OUTPUT
------------------------------

Output from '':

Building and testing MongoDB-v2.2.2
cp lib/MongoDB/Op/_Distinct.pm blib/lib/MongoDB/Op/_Distinct.pm
cp lib/MongoDB/Upgrading.pod blib/lib/MongoDB/Upgrading.pod
cp lib/MongoDB/Op/_InsertOne.pm blib/lib/MongoDB/Op/_InsertOne.pm
cp lib/MongoDB/Role/_CursorAPI.pm blib/lib/MongoDB/Role/_CursorAPI.pm
cp lib/MongoDB/GridFSBucket.pm blib/lib/MongoDB/GridFSBucket.pm
cp lib/MongoDB/Op/_FindAndUpdate.pm blib/lib/MongoDB/Op/_FindAndUpdate.pm
cp lib/MongoDB/ReadPreference.pm blib/lib/MongoDB/ReadPreference.pm
cp lib/MongoDB/Role/_DatabaseOp.pm blib/lib/MongoDB/Role/_DatabaseOp.pm
cp lib/MongoDB/Op/_ParallelScan.pm blib/lib/MongoDB/Op/_ParallelScan.pm
cp lib/MongoDB/Role/_SessionSupport.pm blib/lib/MongoDB/Role/_SessionSupport.pm
cp lib/MongoDB/Code.pm blib/lib/MongoDB/Code.pm
cp lib/MongoDB/_Topology.pm blib/lib/MongoDB/_Topology.pm
cp lib/MongoDB/Op/_CreateIndexes.pm blib/lib/MongoDB/Op/_CreateIndexes.pm
cp lib/MongoDB/_Link.pm blib/lib/MongoDB/_Link.pm
cp lib/MongoDB/Role/_UpdatePreEncoder.pm blib/lib/MongoDB/Role/_UpdatePreEncoder.pm
cp lib/MongoDB/BulkWriteResult.pm blib/lib/MongoDB/BulkWriteResult.pm
cp lib/MongoDB/Op/_RenameCollection.pm blib/lib/MongoDB/Op/_RenameCollection.pm
cp lib/MongoDB/Op/_DropIndexes.pm blib/lib/MongoDB/Op/_DropIndexes.pm
cp lib/MongoDB/_Constants.pm blib/lib/MongoDB/_Constants.pm
cp lib/MongoDB/DBRef.pm blib/lib/MongoDB/DBRef.pm
cp lib/MongoDB/Role/_ReadOp.pm blib/lib/MongoDB/Role/_ReadOp.pm
cp lib/MongoDB/DataTypes.pod blib/lib/MongoDB/DataTypes.pod
cp lib/MongoDB/UpdateResult.pm blib/lib/MongoDB/UpdateResult.pm
cp lib/MongoDB/Op/_EndTxn.pm blib/lib/MongoDB/Op/_EndTxn.pm
cp lib/MongoDB/Op/_FSyncUnlock.pm blib/lib/MongoDB/Op/_FSyncUnlock.pm
cp lib/MongoDB/Role/_SingleBatchDocWrite.pm blib/lib/MongoDB/Role/_SingleBatchDocWrite.pm
cp lib/MongoDB/Role/_CollectionOp.pm blib/lib/MongoDB/Role/_CollectionOp.pm
cp lib/MongoDB/DeleteResult.pm blib/lib/MongoDB/DeleteResult.pm
cp lib/MongoDB/CommandResult.pm blib/lib/MongoDB/CommandResult.pm
cp lib/MongoDB/Role/_BypassValidation.pm blib/lib/MongoDB/Role/_BypassValidation.pm
cp lib/MongoDB/BSON/Binary.pm blib/lib/MongoDB/BSON/Binary.pm
cp lib/MongoDB/QueryResult/Filtered.pm blib/lib/MongoDB/QueryResult/Filtered.pm
cp lib/MongoDB/Role/_ReadPrefModifier.pm blib/lib/MongoDB/Role/_ReadPrefModifier.pm
cp lib/MongoDB/ReadConcern.pm blib/lib/MongoDB/ReadConcern.pm
cp lib/MongoDB/Tutorial.pod blib/lib/MongoDB/Tutorial.pod
cp lib/MongoDB/_Types.pm blib/lib/MongoDB/_Types.pm
cp lib/MongoDB.pm blib/lib/MongoDB.pm
cp lib/MongoDB/Examples.pod blib/lib/MongoDB/Examples.pod
cp lib/MongoDB/Monitoring.pod blib/lib/MongoDB/Monitoring.pod
cp lib/MongoDB/_SessionPool.pm blib/lib/MongoDB/_SessionPool.pm
cp lib/MongoDB/UnacknowledgedResult.pm blib/lib/MongoDB/UnacknowledgedResult.pm
cp lib/MongoDB/_Server.pm blib/lib/MongoDB/_Server.pm
cp lib/MongoDB/_TransactionOptions.pm blib/lib/MongoDB/_TransactionOptions.pm
cp lib/MongoDB/Role/_DatabaseErrorThrower.pm blib/lib/MongoDB/Role/_DatabaseErrorThrower.pm
cp lib/MongoDB/Op/_GetMore.pm blib/lib/MongoDB/Op/_GetMore.pm
cp lib/MongoDB/BSON/Regexp.pm blib/lib/MongoDB/BSON/Regexp.pm
cp lib/MongoDB/Op/_Update.pm blib/lib/MongoDB/Op/_Update.pm
cp lib/MongoDB/Op/_Command.pm blib/lib/MongoDB/Op/_Command.pm
cp lib/MongoDB/Role/_WriteOp.pm blib/lib/MongoDB/Role/_WriteOp.pm
cp lib/MongoDB/Op/_DropDatabase.pm blib/lib/MongoDB/Op/_DropDatabase.pm
cp lib/MongoDB/BulkWriteView.pm blib/lib/MongoDB/BulkWriteView.pm
cp lib/MongoDB/Upgrading/v1.pod blib/lib/MongoDB/Upgrading/v1.pod
cp lib/MongoDB/Op/_DropCollection.pm blib/lib/MongoDB/Op/_DropCollection.pm
cp lib/MongoDB/Op/_Count.pm blib/lib/MongoDB/Op/_Count.pm
cp lib/MongoDB/ChangeStream.pm blib/lib/MongoDB/ChangeStream.pm
cp lib/MongoDB/IndexView.pm blib/lib/MongoDB/IndexView.pm
cp lib/MongoDB/Op/_Delete.pm blib/lib/MongoDB/Op/_Delete.pm
cp lib/MongoDB/Role/_TopologyMonitoring.pm blib/lib/MongoDB/Role/_TopologyMonitoring.pm
cp lib/MongoDB/GridFSBucket/DownloadStream.pm blib/lib/MongoDB/GridFSBucket/DownloadStream.pm
cp lib/MongoDB/Op/_ChangeStream.pm blib/lib/MongoDB/Op/_ChangeStream.pm
cp lib/MongoDB/Cursor.pm blib/lib/MongoDB/Cursor.pm
cp lib/MongoDB/InsertManyResult.pm blib/lib/MongoDB/InsertManyResult.pm
cp lib/MongoDB/BulkWrite.pm blib/lib/MongoDB/BulkWrite.pm
cp lib/MongoDB/Role/_CommandCursorOp.pm blib/lib/MongoDB/Role/_CommandCursorOp.pm
cp lib/MongoDB/_Credential.pm blib/lib/MongoDB/_Credential.pm
cp lib/MongoDB/MongoClient.pm blib/lib/MongoDB/MongoClient.pm
cp lib/MongoDB/Role/_CommandMonitoring.pm blib/lib/MongoDB/Role/_CommandMonitoring.pm
cp lib/MongoDB/Role/_PrivateConstructor.pm blib/lib/MongoDB/Role/_PrivateConstructor.pm
cp lib/MongoDB/Op/_Aggregate.pm blib/lib/MongoDB/Op/_Aggregate.pm
cp lib/MongoDB/Collection.pm blib/lib/MongoDB/Collection.pm
cp lib/MongoDB/ClientSession.pm blib/lib/MongoDB/ClientSession.pm
cp lib/MongoDB/Timestamp.pm blib/lib/MongoDB/Timestamp.pm
cp lib/MongoDB/Op/_Explain.pm blib/lib/MongoDB/Op/_Explain.pm
cp lib/MongoDB/Op/_Query.pm blib/lib/MongoDB/Op/_Query.pm
cp lib/MongoDB/Error.pm blib/lib/MongoDB/Error.pm
cp lib/MongoDB/_Dispatcher.pm blib/lib/MongoDB/_Dispatcher.pm
cp lib/MongoDB/Op/_ListIndexes.pm blib/lib/MongoDB/Op/_ListIndexes.pm
cp lib/MongoDB/Role/_OpReplyParser.pm blib/lib/MongoDB/Role/_OpReplyParser.pm
cp lib/MongoDB/WriteConcern.pm blib/lib/MongoDB/WriteConcern.pm
cp lib/MongoDB/Op/_FindAndDelete.pm blib/lib/MongoDB/Op/_FindAndDelete.pm
cp lib/MongoDB/Op/_ListCollections.pm blib/lib/MongoDB/Op/_ListCollections.pm
cp lib/MongoDB/_Protocol.pm blib/lib/MongoDB/_Protocol.pm
cp lib/MongoDB/QueryResult.pm blib/lib/MongoDB/QueryResult.pm
cp lib/MongoDB/Role/_DeprecationWarner.pm blib/lib/MongoDB/Role/_DeprecationWarner.pm
cp lib/MongoDB/_Platform.pm blib/lib/MongoDB/_Platform.pm
cp lib/MongoDB/_URI.pm blib/lib/MongoDB/_URI.pm
cp lib/MongoDB/Op/_BatchInsert.pm blib/lib/MongoDB/Op/_BatchInsert.pm
cp lib/MongoDB/Role/_WriteResult.pm blib/lib/MongoDB/Role/_WriteResult.pm
cp lib/MongoDB/InsertOneResult.pm blib/lib/MongoDB/InsertOneResult.pm
cp lib/MongoDB/Op/_KillCursors.pm blib/lib/MongoDB/Op/_KillCursors.pm
cp lib/MongoDB/GridFSBucket/UploadStream.pm blib/lib/MongoDB/GridFSBucket/UploadStream.pm
cp lib/MongoDB/_ServerSession.pm blib/lib/MongoDB/_ServerSession.pm
cp lib/MongoDB/Database.pm blib/lib/MongoDB/Database.pm
cp lib/MongoDB/Op/_BulkWrite.pm blib/lib/MongoDB/Op/_BulkWrite.pm
cp lib/MongoDB/Role/_InsertPreEncoder.pm blib/lib/MongoDB/Role/_InsertPreEncoder.pm
cp lib/MongoDB/OID.pm blib/lib/MongoDB/OID.pm
PERL_DL_NONLAZY=1 "/Users/stan/perl5/perlbrew/perls/perl-5.38.0-RC2/bin/perl" "-MExtUtils::Command::MM" "-MTest::Harness" "-e" "undef *Test::Harness::Switches; test_harness(0, 'blib/lib', 'blib/arch')" t/*.t t/deprecated/*.t t/examples/*.t t/unit/*.t
# Checking MongoDB test environment
# MongoDB driver version v2.2.2
# BSON::XS codec version v0.8.4
t/00-report-mongod.t ....................... skipped: no mongod on localhost:27017 and $ENV{MONGOD} not set
t/max_time_ms.t ............................ skipped: no mongod on localhost:27017 and $ENV{MONGOD} not set
t/using_profiler.t ......................... skipped: no mongod on localhost:27017 and $ENV{MONGOD} not set
t/changestreams.t .......................... skipped: no mongod on localhost:27017 and $ENV{MONGOD} not set
t/changestreams_spec.t ..................... skipped: no mongod on localhost:27017 and $ENV{MONGOD} not set
t/examples/changestream.t .................. skipped: no mongod on localhost:27017 and $ENV{MONGOD} not set
t/retryable-writes-spec.t .................. skipped: no mongod on localhost:27017 and $ENV{MONGOD} not set
t/retryable-writes-split-batch.t ........... skipped: no mongod on localhost:27017 and $ENV{MONGOD} not set
t/retryable-reads-spec.t ................... skipped: no mongod on localhost:27017 and $ENV{MONGOD} not set
t/sessions-spec.t .......................... skipped: no mongod on localhost:27017 and $ENV{MONGOD} not set
t/transactions-spec.t ...................... skipped: no mongod on localhost:27017 and $ENV{MONGOD} not set
t/transactions-convenient-api-spec.t ....... skipped: no mongod on localhost:27017 and $ENV{MONGOD} not set
t/connections-survive-step-down.t .......... skipped: no mongod on localhost:27017 and $ENV{MONGOD} not set
# 
# Versions for all modules listed in MYMETA.json (including optional ones):
# 
# === Configure Requires ===
# 
#     Module              Want Have
#     ------------------- ---- ----
#     ExtUtils::MakeMaker 6.17 7.70
#     Text::ParseWords     any 3.31
# 
# === Build Requires ===
# 
#     Module              Want Have
#     ------------------- ---- ----
#     ExtUtils::MakeMaker  any 7.70
# 
# === Test Requires ===
# 
#     Module               Want     Have
#     ------------------- ----- --------
#     BSON::Decimal128      any  v1.12.2
#     Data::Dumper          any    2.188
#     ExtUtils::MakeMaker   any     7.70
#     File::Compare         any   1.1007
#     File::Spec            any     3.88
#     IO::File              any     1.52
#     JSON::MaybeXS         any 1.004005
#     Path::Tiny          0.058    0.144
#     Storable              any     3.32
#     Test::Deep          0.111    1.204
#     Test::Fatal           any    0.017
#     Test::More           0.96 1.302194
#     lib                   any     0.65
#     utf8                  any     1.25
# 
# === Test Recommends ===
# 
#     Module            Want     Have
#     ------------- -------- --------
#     CPAN::Meta    2.120900 2.150010
#     Test::Harness     3.31     3.44
#     Time::Moment      0.22  missing
# 
# === Runtime Requires ===
# 
#     Module                     Want     Have
#     ---------------------- -------- --------
#     Authen::SASL::SASLprep      any    1.100
#     Authen::SCRAM::Client     0.011    0.011
#     BSON                   1.012000  v1.12.2
#     BSON::Bytes                 any  v1.12.2
#     BSON::Code                  any  v1.12.2
#     BSON::DBRef                 any  v1.12.2
#     BSON::OID                   any  v1.12.2
#     BSON::Raw                   any  v1.12.2
#     BSON::Regex                 any  v1.12.2
#     BSON::Time                  any  v1.12.2
#     BSON::Timestamp             any  v1.12.2
#     BSON::Types                 any  v1.12.2
#     BSON::XS               0.008000   v0.8.4
#     Carp                        any     1.54
#     Class::XSAccessor           any     1.19
#     Compress::Zlib              any    2.204
#     Digest::MD5                 any  2.58_01
#     Encode                      any     3.19
#     Exporter                   5.57     5.77
#     IO::Socket                  any     1.52
#     List::Util                  any     1.63
#     MIME::Base64                any  3.16_01
#     Math::BigInt                any 1.999837
#     Moo                           2 2.005005
#     Moo::Role                   any 2.005005
#     Net::DNS                    any     1.39
#     Safe::Isa              1.000007 1.000010
#     Scalar::Util                any     1.63
#     Socket                      any    2.036
#     Sub::Defer                  any 2.006008
#     Sub::Quote                  any 2.006008
#     Tie::IxHash                 any     1.23
#     Time::HiRes                 any   1.9775
#     Type::Library               any 2.004000
#     Type::Tiny::XS              any    0.025
#     Type::Utils                 any 2.004000
#     Types::Standard             any 2.004000
#     UUID::URandom               any    0.001
#     boolean                    0.25     0.46
#     bytes                       any     1.08
#     constant                    any     1.33
#     if                          any   0.0610
#     namespace::clean            any     0.27
#     overload                    any     1.37
#     re                          any     0.44
#     strict                      any     1.12
#     version                     any   0.9929
#     warnings                    any     1.65
# 
# === Runtime Recommends ===
# 
#     Module              Want     Have
#     --------------- -------- --------
#     IO::Socket::IP      0.32  0.41_01
#     IO::Socket::SSL     1.42    2.083
#     Mozilla::CA     20130114 20221114
#     Net::SSLeay         1.49     1.92
# 
# === Runtime Suggests ===
# 
#     Module          Want  Have
#     --------------- ---- -----
#     IO::Socket::SSL 1.56 2.083
# 
t/00-report-prereqs.t ...................... ok
t/auth_spec.t .............................. ok
t/bulk.t ................................... skipped: no mongod on localhost:27017 and $ENV{MONGOD} not set
t/bulk_write_pipeline.t .................... skipped: no mongod on localhost:27017 and $ENV{MONGOD} not set
t/bypass_doc_validation.t .................. skipped: no mongod on localhost:27017 and $ENV{MONGOD} not set
t/causal_consistency.t ..................... skipped: no mongod on localhost:27017 and $ENV{MONGOD} not set
t/collection.t ............................. skipped: no mongod on localhost:27017 and $ENV{MONGOD} not set
t/connection.t ............................. skipped: no mongod on localhost:27017 and $ENV{MONGOD} not set
t/connection_string_spec.t ................. ok
t/crud.t ................................... skipped: no mongod on localhost:27017 and $ENV{MONGOD} not set
t/crud_spec.t .............................. skipped: no mongod on localhost:27017 and $ENV{MONGOD} not set
t/cursor.t ................................. skipped: no mongod on localhost:27017 and $ENV{MONGOD} not set
t/database.t ............................... skipped: no mongod on localhost:27017 and $ENV{MONGOD} not set
t/dbref.t .................................. skipped: no mongod on localhost:27017 and $ENV{MONGOD} not set
t/deprecated/bson.t ........................ skipped: no mongod on localhost:27017 and $ENV{MONGOD} not set
t/deprecated/collection.t .................. skipped: no mongod on localhost:27017 and $ENV{MONGOD} not set
t/deprecated/cursor.t ...................... skipped: no mongod on localhost:27017 and $ENV{MONGOD} not set
t/deprecated/find_modifiers.t .............. skipped: no mongod on localhost:27017 and $ENV{MONGOD} not set
t/deprecated/parallel_scan.t ............... skipped: no mongod on localhost:27017 and $ENV{MONGOD} not set
t/deprecated/regexp_obj.t .................. skipped: no mongod on localhost:27017 and $ENV{MONGOD} not set
t/deprecated/types.t ....................... skipped: no mongod on localhost:27017 and $ENV{MONGOD} not set
t/deprecated/typewrappers.t ................ skipped: no mongod on localhost:27017 and $ENV{MONGOD} not set
t/enumerate_databases.t .................... skipped: no mongod on localhost:27017 and $ENV{MONGOD} not set
t/errors.t ................................. ok
t/examples/driver-examples.t ............... skipped: no mongod on localhost:27017 and $ENV{MONGOD} not set
t/examples/transaction.t ................... skipped: no mongod on localhost:27017 and $ENV{MONGOD} not set
t/find_modifiers.t ......................... skipped: no mongod on localhost:27017 and $ENV{MONGOD} not set
t/fsync.t .................................. skipped: no mongod on localhost:27017 and $ENV{MONGOD} not set
t/gridfs_spec.t ............................ skipped: no mongod on localhost:27017 and $ENV{MONGOD} not set
t/gridfsbucket.t ........................... skipped: no mongod on localhost:27017 and $ENV{MONGOD} not set
t/indexview.t .............................. skipped: no mongod on localhost:27017 and $ENV{MONGOD} not set
t/kill-cursor.t ............................ skipped: no mongod on localhost:27017 and $ENV{MONGOD} not set
t/max_staleness_spec.t ..................... ok
t/monitoring.t ............................. skipped: no mongod on localhost:27017 and $ENV{MONGOD} not set
t/monitoring_spec.t ........................ skipped: no mongod on localhost:27017 and $ENV{MONGOD} not set
t/oid_generation.t ......................... skipped: no mongod on localhost:27017 and $ENV{MONGOD} not set
t/op_msg.t ................................. skipped: no mongod on localhost:27017 and $ENV{MONGOD} not set
t/pre_encode_insert_update.t ............... ok
t/protocol_op_msg.t ........................ ok
t/read_write_concern_spec.t ................ ok
t/readpref.t ............................... skipped: no mongod on localhost:27017 and $ENV{MONGOD} not set
t/retryable-writes-command-construction.t .. skipped: no mongod on localhost:27017 and $ENV{MONGOD} not set
t/sdam_monitoring.t ........................ skipped: no mongod on localhost:27017 and $ENV{MONGOD} not set
t/sdam_spec.t .............................. ok
t/sessions-cursors.t ....................... skipped: no mongod on localhost:27017 and $ENV{MONGOD} not set
t/sessions-driver.t ........................ skipped: no mongod on localhost:27017 and $ENV{MONGOD} not set
t/sessions-end.t ........................... skipped: no mongod on localhost:27017 and $ENV{MONGOD} not set
t/sessions-unacknowledged-write.t .......... skipped: no mongod on localhost:27017 and $ENV{MONGOD} not set
t/ss_spec.t ................................ ok
t/transactions-convenient-api.t ............ skipped: no mongod on localhost:27017 and $ENV{MONGOD} not set
t/transactions-mongos-pinning.t ............ skipped: no mongod on localhost:27017 and $ENV{MONGOD} not set
t/unit/configuration.t ..................... ok
t/unit/link.t .............................. ok
t/unit/read_preference.t ................... ok
t/unit/uri.t ............................... ok
t/unit/uri_spec.t .......................... ok
t/unit/uri_srv.t ........................... ok
t/unit/write_concern.t ..................... ok
All tests successful.
Files=71, Tests=199, 554 wallclock secs ( 0.23 usr  0.12 sys + 34.34 cusr  3.28 csys = 37.97 CPU)
Result: PASS

------------------------------
PREREQUISITES
------------------------------

Prerequisite modules loaded:

    No requirements found

------------------------------
ENVIRONMENT AND OTHER CONTEXT
------------------------------

Environment variables:

    LANG = en_US.UTF-8
    LC_ALL = en_US.UTF-8
    LDFLAGS = -L/usr/local/opt/curl/lib
    PATH = /Users/stan/perl5/perlbrew/bin:/Users/stan/perl5/perlbrew/perls/perl-5.36.1/bin:/usr/local/opt/mysql-client/bin:/usr/local/opt/curl/bin:/usr/local/bin:/usr/local/sbin:/usr/local/bin:/System/Cryptexes/App/usr/bin:/usr/bin:/bin:/usr/sbin:/sbin:/Applications/Little Snitch.app/Contents/Components:/opt/X11/bin:/var/run/com.apple.security.cryptexd/codex.system/bootstrap/usr/local/bin:/var/run/com.apple.security.cryptexd/codex.system/bootstrap/usr/bin:/var/run/com.apple.security.cryptexd/codex.system/bootstrap/usr/appleinternal/bin:/Users/stan/.vim/bin:/Users/stan/bin:/Users/stan/node_modules/.bin:/usr/local/sbin:/usr/local/opt/mysql-client/bin:/usr/local/opt/curl/bin:/Applications/kitty.app/Contents/MacOS
    PERLBREW_HOME = /Users/stan/.perlbrew
    PERLBREW_MANPATH = /Users/stan/perl5/perlbrew/perls/perl-5.36.1/man
    PERLBREW_PATH = /Users/stan/perl5/perlbrew/bin:/Users/stan/perl5/perlbrew/perls/perl-5.36.1/bin
    PERLBREW_PERL = perl-5.36.1
    PERLBREW_ROOT = /Users/stan/perl5/perlbrew
    PERLBREW_SHELLRC_VERSION = 0.92
    PERLBREW_VERSION = 0.92
    PERL_MM_USE_DEFAULT = 1
    SHELL = /usr/local/bin/zsh
    TERM = screen-256color
    TMPDIR = /var/folders/tk/hx6fvpsj3yzbyd1k1br945mc0000gn/T/

Perl special variables (and OS-specific diagnostics, for MSWin32):

    EGID = 20 20 12 61 79 80 81 98 701 33 100 204 250 395 398 101 400
    EUID = 501
    EXECUTABLE_NAME = /Users/stan/perl5/perlbrew/perls/perl-5.36.1/bin/perl
    GID = 20 20 12 61 79 80 81 98 701 33 100 204 250 395 398 101 400
    UID = 501

Perl module toolchain versions installed:

    Module              Have    
    ------------------- --------
    CPAN                2.36    
    CPAN::Meta          2.150010
    Cwd                 3.84    
    ExtUtils::CBuilder  0.280236
    ExtUtils::Command   7.70    
    ExtUtils::Install   2.22    
    ExtUtils::MakeMaker 7.70    
    ExtUtils::Manifest  1.75    
    ExtUtils::ParseXS   3.45    
    File::Spec          3.84    
    JSON                4.10    
    JSON::PP            4.16    
    Module::Build       0.4234  
    Module::Signature   0.88    
    Parse::CPAN::Meta   2.150010
    Test::Harness       3.44    
    Test::More          1.302195
    YAML                1.30    
    YAML::Syck          n/a     
    version             0.9929  


--

Summary of my perl5 (revision 5 version 36 subversion 1) configuration:
   
  Platform:
    osname=darwin
    osvers=22.4.0
    archname=darwin-2level
    uname='darwin imac.fritz.box 22.4.0 darwin kernel version 22.4.0: mon mar 6 21:00:17 pst 2023; root:xnu-8796.101.5~3release_x86_64 x86_64 '
    config_args='-de -Dprefix=/Users/stan/perl5/perlbrew/perls/perl-5.36.1 -Aeval:scriptdir=/Users/stan/perl5/perlbrew/perls/perl-5.36.1/bin'
    hint=recommended
    useposix=true
    d_sigaction=define
    useithreads=undef
    usemultiplicity=undef
    use64bitint=define
    use64bitall=define
    uselongdouble=undef
    usemymalloc=n
    default_inc_excludes_dot=define
  Compiler:
    cc='cc'
    ccflags ='-fno-common -DPERL_DARWIN -mmacosx-version-min=13.3 -fno-strict-aliasing -pipe -fstack-protector-strong -I/usr/local/include -DPERL_USE_SAFE_PUTENV'
    optimize='-O3'
    cppflags='-fno-common -DPERL_DARWIN -mmacosx-version-min=13.3 -fno-strict-aliasing -pipe -fstack-protector-strong -I/usr/local/include'
    ccversion=''
    gccversion='Apple LLVM 14.0.3 (clang-1403.0.22.14.1)'
    gccosandvers=''
    intsize=4
    longsize=8
    ptrsize=8
    doublesize=8
    byteorder=12345678
    doublekind=3
    d_longlong=define
    longlongsize=8
    d_longdbl=define
    longdblsize=16
    longdblkind=3
    ivtype='long'
    ivsize=8
    nvtype='double'
    nvsize=8
    Off_t='off_t'
    lseeksize=8
    alignbytes=8
    prototype=define
  Linker and Libraries:
    ld='cc'
    ldflags =' -mmacosx-version-min=13.3 -fstack-protector-strong -L/usr/local/lib'
    libpth=/usr/local/lib /Library/Developer/CommandLineTools/usr/lib/clang/14.0.3/lib /Library/Developer/CommandLineTools/SDKs/MacOSX13.3.sdk/usr/lib /Library/Developer/CommandLineTools/usr/lib /usr/lib
    libs=-lgdbm -ldb
    perllibs=
    libc=
    so=dylib
    useshrplib=false
    libperl=libperl.a
    gnulibc_version=''
  Dynamic Linking:
    dlsrc=dl_dlopen.xs
    dlext=bundle
    d_dlsymun=undef
    ccdlflags=' '
    cccdlflags=' '
    lddlflags=' -mmacosx-version-min=13.3 -bundle -undefined dynamic_lookup -L/usr/local/lib -fstack-protector-strong'


Characteristics of this binary (from libperl): 
  Compile-time options:
    HAS_TIMES
    PERLIO_LAYERS
    PERL_COPY_ON_WRITE
    PERL_DONT_CREATE_GVSV
    PERL_MALLOC_WRAP
    PERL_OP_PARENT
    PERL_PRESERVE_IVUV
    PERL_USE_SAFE_PUTENV
    USE_64_BIT_ALL
    USE_64_BIT_INT
    USE_LARGE_FILES
    USE_LOCALE
    USE_LOCALE_COLLATE
    USE_LOCALE_CTYPE
    USE_LOCALE_NUMERIC
    USE_LOCALE_TIME
    USE_PERLIO
    USE_PERL_ATOF
  Built under darwin
  Compiled at May  3 2023 09:10:13
  %ENV:
    PERLBREW_HOME="/Users/stan/.perlbrew"
    PERLBREW_MANPATH="/Users/stan/perl5/perlbrew/perls/perl-5.36.1/man"
    PERLBREW_PATH="/Users/stan/perl5/perlbrew/bin:/Users/stan/perl5/perlbrew/perls/perl-5.36.1/bin"
    PERLBREW_PERL="perl-5.36.1"
    PERLBREW_ROOT="/Users/stan/perl5/perlbrew"
    PERLBREW_SHELLRC_VERSION="0.92"
    PERLBREW_VERSION="0.92"
    PERL_MM_USE_DEFAULT="1"
  @INC:
    /Users/stan/perl5/perlbrew/perls/perl-5.36.1/lib/site_perl/5.36.1/darwin-2level
    /Users/stan/perl5/perlbrew/perls/perl-5.36.1/lib/site_perl/5.36.1
    /Users/stan/perl5/perlbrew/perls/perl-5.36.1/lib/5.36.1/darwin-2level
    /Users/stan/perl5/perlbrew/perls/perl-5.36.1/lib/5.36.1