WebService-SSLLabs v0.33 Perl 5 v5.37.2 amd64-freebsd
        
            - Status
 
            - Pass
 
            - From
 
            - Carlos Guevara
 
            - Dist
 
            - 
                WebService-SSLLabs v0.33
            
 
            - Platform
 
            - Perl 5 v5.37.2 amd64-freebsd
 
            - Date
 
            - 2022-07-03 02:13:09
 
            - ID
 
            - aef1eb4c-fa75-11ec-b86f-284d56739bf3
 
        
        This distribution has been tested as part of the CPAN Testers
project, supporting the Perl programming language.  See
http://wiki.cpantesters.org/ for more information or email
questions to cpan-testers-discuss@perl.org
--
Dear David Dick,
This is a computer-generated report for WebService-SSLLabs-0.33
on perl 5.37.2, created by CPAN-Reporter-1.2018.
Thank you for uploading your work to CPAN.  Congratulations!
All tests were successful.
Sections of this report:
    * Tester comments
    * Program output
    * Prerequisites
    * Environment and other context
------------------------------
TESTER COMMENTS
------------------------------
Additional comments from tester:
this report is from an automated smoke testing program
and was not reviewed by a human for accuracy
------------------------------
PROGRAM OUTPUT
------------------------------
Output from '/usr/bin/make test':
PERL_DL_NONLAZY=1 "/usr/home/cpan/bin/perl-blead/bin/perl5.37.2" "-MExtUtils::Command::MM" "-MTest::Harness" "-e" "undef *Test::Harness::Switches; test_harness(0, 'blib/lib', 'blib/arch')" t/*.t
# Testing WebService::SSLLabs 0.33, Perl 5.037002, /usr/home/cpan/bin/perl-blead/bin/perl5.37.2
t/00-load.t ............ ok
t/01-ssllabs.t ......... ok
t/02-ssllabs-params.t .. ok
t/boilerplate.t ........ ok
t/manifest.t ........... skipped: Author tests not required for installation
t/pod-coverage.t ....... ok
t/pod.t ................ ok
All tests successful.
Files=7, Tests=897,  5 wallclock secs ( 0.09 usr  0.02 sys +  1.20 cusr  0.38 csys =  1.69 CPU)
Result: PASS
------------------------------
PREREQUISITES
------------------------------
Prerequisite modules loaded:
requires:
    Module              Need  Have    
    ------------------- ----- --------
    JSON                0     4.07    
    LWP::UserAgent      0     6.67    
    perl                5.006 5.037002
    strict              0     1.12    
    URI                 1.53  5.10    
    URI::Escape         3.3   5.10    
    warnings            0     1.58    
build_requires:
    Module              Need  Have    
    ------------------- ----- --------
    parent              0     0.238   
    Test::More          0     1.302190
configure_requires:
    Module              Need  Have    
    ------------------- ----- --------
    ExtUtils::MakeMaker 0     7.64    
------------------------------
ENVIRONMENT AND OTHER CONTEXT
------------------------------
Environment variables:
    AUTOMATED_TESTING = 1
    DATE_MANIP_TEST_DM5 = 1
    LANG = C.UTF-8
    LC_ALL = C
    NONINTERACTIVE_TESTING = 1
    PATH = /home/cpan/bin/perl-blead/bin:/home/cpan/bin:/sbin:/bin:/usr/sbin:/usr/bin:/usr/local/sbin:/usr/local/bin:/home/cpan/bin
    PERL5LIB = 
    PERL5OPT = 
    PERL5_CPANPLUS_IS_RUNNING = 46954
    PERL5_CPAN_IS_RUNNING = 46954
    PERL_MM_USE_DEFAULT = 1
    PERL_USE_UNSAFE_INC = 1
    PERL_VERSION = blead
    SHELL = /usr/local/bin/bash
    TERM = screen
    TMPDIR = /home/cpan/tmp
Perl special variables (and OS-specific diagnostics, for MSWin32):
    $^X = /usr/home/cpan/bin/perl-blead/bin/perl5.37.2
    $UID/$EUID = 1002 / 1002
    $GID = 1002 1002
    $EGID = 1002 1002
Perl module toolchain versions installed:
    Module              Have    
    ------------------- --------
    CPAN                2.33    
    CPAN::Meta          2.150010
    Cwd                 3.86    
    ExtUtils::CBuilder  0.280237
    ExtUtils::Command   7.64    
    ExtUtils::Install   2.20    
    ExtUtils::MakeMaker 7.64    
    ExtUtils::Manifest  1.73    
    ExtUtils::ParseXS   3.45    
    File::Spec          3.86    
    JSON                4.07    
    JSON::PP            4.10    
    Module::Build       0.4231  
    Module::Signature   n/a     
    Parse::CPAN::Meta   2.150010
    Test::Harness       3.44    
    Test::More          1.302190
    YAML                1.30    
    YAML::Syck          1.34    
    version             0.9929  
--
Summary of my perl5 (revision 5 version 37 subversion 2) configuration:
  Commit id: 431ea43db26622d369b66e8ebcbf5abb1b899c0d
  Platform:
    osname=freebsd
    osvers=13.0-release-p11
    archname=amd64-freebsd
    uname='freebsd cjg-freebsd13 13.0-release-p11 freebsd 13.0-release-p11 #0: tue apr 5 18:54:35 utc 2022 root@amd64-builder.daemonology.net:usrobjusrsrcamd64.amd64sysgeneric amd64 '
    config_args='-des -Dprefix=~/bin/perl-blead -Dscriptdir=~/bin/perl-blead/bin -Dusedevel -Duse64bitall'
    hint=recommended
    useposix=true
    d_sigaction=define
    useithreads=undef
    usemultiplicity=undef
    use64bitint=define
    use64bitall=define
    uselongdouble=undef
    usemymalloc=n
    default_inc_excludes_dot=define
  Compiler:
    cc='cc'
    ccflags ='-DHAS_FPSETMASK -DHAS_FLOATINGPOINT_H -fno-strict-aliasing -pipe -fstack-protector-strong -I/usr/local/include'
    optimize='-O2'
    cppflags='-DHAS_FPSETMASK -DHAS_FLOATINGPOINT_H -fno-strict-aliasing -pipe -fstack-protector-strong -I/usr/local/include'
    ccversion=''
    gccversion='FreeBSD Clang 11.0.1 (git@github.com:llvm/llvm-project.git llvmorg-11.0.1-0-g43ff75f2c3fe)'
    gccosandvers=''
    intsize=4
    longsize=8
    ptrsize=8
    doublesize=8
    byteorder=12345678
    doublekind=3
    d_longlong=define
    longlongsize=8
    d_longdbl=define
    longdblsize=16
    longdblkind=3
    ivtype='long'
    ivsize=8
    nvtype='double'
    nvsize=8
    Off_t='off_t'
    lseeksize=8
    alignbytes=8
    prototype=define
  Linker and Libraries:
    ld='cc'
    ldflags ='-Wl,-E  -fstack-protector-strong -L/usr/local/lib'
    libpth=/usr/lib /usr/local/lib /usr/lib/clang/11.0.1/lib
    libs=-lpthread -ldl -lm -lcrypt -lutil -lc
    perllibs=-lpthread -ldl -lm -lcrypt -lutil -lc
    libc=
    so=so
    useshrplib=false
    libperl=libperl.a
    gnulibc_version=''
  Dynamic Linking:
    dlsrc=dl_dlopen.xs
    dlext=so
    d_dlsymun=undef
    ccdlflags=' '
    cccdlflags='-DPIC -fPIC'
    lddlflags='-shared  -L/usr/local/lib -fstack-protector-strong'
Characteristics of this binary (from libperl): 
  Compile-time options:
    HAS_TIMES
    PERLIO_LAYERS
    PERL_COPY_ON_WRITE
    PERL_DONT_CREATE_GVSV
    PERL_MALLOC_WRAP
    PERL_OP_PARENT
    PERL_PRESERVE_IVUV
    PERL_USE_DEVEL
    PERL_USE_SAFE_PUTENV
    USE_64_BIT_ALL
    USE_64_BIT_INT
    USE_LARGE_FILES
    USE_LOCALE
    USE_LOCALE_COLLATE
    USE_LOCALE_CTYPE
    USE_LOCALE_NUMERIC
    USE_LOCALE_TIME
    USE_PERLIO
    USE_PERL_ATOF
  Built under freebsd
  Compiled at Jul  2 2022 13:47:28
  %ENV:
    PERL5LIB=""
    PERL5OPT=""
    PERL5_CPANPLUS_IS_RUNNING="46954"
    PERL5_CPAN_IS_RUNNING="46954"
    PERL_MM_USE_DEFAULT="1"
    PERL_USE_UNSAFE_INC="1"
    PERL_VERSION="blead"
  @INC:
    /home/cpan/bin/perl-blead/lib/site_perl/5.37.2/amd64-freebsd
    /home/cpan/bin/perl-blead/lib/site_perl/5.37.2
    /home/cpan/bin/perl-blead/lib/5.37.2/amd64-freebsd
    /home/cpan/bin/perl-blead/lib/5.37.2
    .