Dist-Zilla-PluginBundle-MARCEL v1.161760 Perl 5 v5.27.8 OpenBSD.amd64-openbsd

Status
Pass
From
Alceu Rodrigues de Freitas Junior
Dist
Dist-Zilla-PluginBundle-MARCEL v1.161760
Platform
Perl 5 v5.27.8 OpenBSD.amd64-openbsd
Date
2018-01-27 05:19:43
ID
aee0fff8-0321-11e8-af6f-94abd6fa0a8b
This distribution has been tested as part of the CPAN Testers
project, supporting the Perl programming language.  See
http://wiki.cpantesters.org/ for more information or email
questions to cpan-testers-discuss@perl.org


--
Dear Olivier Mengue,

This is a computer-generated report for Dist-Zilla-PluginBundle-MARCEL-1.161760
on perl 5.27.8, created by CPAN-Reporter-1.2018.

Thank you for uploading your work to CPAN.  Congratulations!
All tests were successful.

Sections of this report:

    * Tester comments
    * Program output
    * Prerequisites
    * Environment and other context

------------------------------
TESTER COMMENTS
------------------------------

Additional comments from tester:

this report is from an automated smoke testing program
and was not reviewed by a human for accuracy

------------------------------
PROGRAM OUTPUT
------------------------------

Output from '/usr/bin/make test':

PERL_DL_NONLAZY=1 "/home/vegeta/perl5/perlbrew/perls/perl-5.27.8/bin/perl5.27.8" "-MExtUtils::Command::MM" "-MTest::Harness" "-e" "undef *Test::Harness::Switches; test_harness(0, 'blib/lib', 'blib/arch')" t/*.t
t/00-compile.t ............... ok
perl5.27.8:/home/vegeta/perl5/perlbrew/perls/perl-5.27.8/lib/site_perl/5.27.8/OpenBSD.amd64-openbsd/auto/version/vxs/vxs.so: undefined symbol 'new_numeric'
perl5.27.8:/home/vegeta/perl5/perlbrew/perls/perl-5.27.8/lib/site_perl/5.27.8/OpenBSD.amd64-openbsd/auto/version/vxs/vxs.so: undefined symbol 'new_numeric'
# 
# Versions for all modules listed in MYMETA.json (including optional ones):
# 
# === Configure Requires ===
# 
#     Module              Want    Have
#     ------------------- ---- -------
#     ExtUtils::MakeMaker  any 7.31_07
# 
# === Build Requires ===
# 
#     Module              Want    Have
#     ------------------- ---- -------
#     ExtUtils::MakeMaker  any 7.31_07
# 
# === Test Requires ===
# 
#     Module              Want     Have
#     ------------------- ---- --------
#     ExtUtils::MakeMaker  any  7.31_07
#     File::Spec           any     3.72
#     IO::Handle           any     1.37
#     IPC::Open3           any     1.20
#     Test::More           any 1.302120
#     blib                1.01     1.07
# 
# === Test Recommends ===
# 
#     Module         Want     Have
#     ---------- -------- --------
#     CPAN::Meta 2.120900 2.150010
# 
# === Runtime Requires ===
# 
#     Module                                              Want     Have
#     ----------------------------------------------- -------- --------
#     Dist::Zilla::Plugin::AutoPrereqs                     any    6.010
#     Dist::Zilla::Plugin::AutoVersion                     any    6.010
#     Dist::Zilla::Plugin::Bugtracker                      any 1.111080
#     Dist::Zilla::Plugin::CheckChangeLog                  any     0.05
#     Dist::Zilla::Plugin::CopyFilesFromBuild              any 0.170880
#     Dist::Zilla::Plugin::ExecDir                         any    6.010
#     Dist::Zilla::Plugin::ExtraTests                      any    6.010
#     Dist::Zilla::Plugin::GatherDir                       any    6.010
#     Dist::Zilla::Plugin::Git::Check                      any    2.043
#     Dist::Zilla::Plugin::Git::Commit                     any    2.043
#     Dist::Zilla::Plugin::Git::Push                       any    2.043
#     Dist::Zilla::Plugin::Git::Tag                        any    2.043
#     Dist::Zilla::Plugin::HasVersionTests                 any 1.101420
#     Dist::Zilla::Plugin::Homepage                        any 1.101420
#     Dist::Zilla::Plugin::InlineFiles                     any    6.010
#     Dist::Zilla::Plugin::InstallGuide                    any 1.200007
#     Dist::Zilla::Plugin::License                         any    6.010
#     Dist::Zilla::Plugin::MakeMaker                       any    6.010
#     Dist::Zilla::Plugin::Manifest                        any    6.010
#     Dist::Zilla::Plugin::ManifestSkip                    any    6.010
#     Dist::Zilla::Plugin::MetaJSON                        any    6.010
#     Dist::Zilla::Plugin::MetaProvides::Package           any 2.004003
#     Dist::Zilla::Plugin::MetaTests                       any    6.010
#     Dist::Zilla::Plugin::MetaYAML                        any    6.010
#     Dist::Zilla::Plugin::NextRelease                     any    6.010
#     Dist::Zilla::Plugin::PkgVersion                      any    6.010
#     Dist::Zilla::Plugin::Pod2Readme                      any    0.004
#     Dist::Zilla::Plugin::PodCoverageTests                any    6.010
#     Dist::Zilla::Plugin::PodSyntaxTests                  any    6.010
#     Dist::Zilla::Plugin::PodWeaver                       any    4.008
#     Dist::Zilla::Plugin::PruneCruft                      any    6.010
#     Dist::Zilla::Plugin::PruneFiles                      any    6.010
#     Dist::Zilla::Plugin::Repository                      any     0.21
#     Dist::Zilla::Plugin::ShareDir                        any    6.010
#     Dist::Zilla::Plugin::Test::CheckChanges              any  missing
#     Dist::Zilla::Plugin::Test::Compile              1.100220  missing
#     Dist::Zilla::Plugin::Test::DistManifest              any 2.000005
#     Dist::Zilla::Plugin::Test::EOL                       any     0.19
#     Dist::Zilla::Plugin::Test::Kwalitee                  any     2.12
#     Dist::Zilla::Plugin::Test::MinimumVersion            any  missing
#     Dist::Zilla::Plugin::Test::NoTabs                    any     0.15
#     Dist::Zilla::Plugin::Test::Perl::Critic              any    3.001
#     Dist::Zilla::Plugin::Test::PodSpelling               any 2.007005
#     Dist::Zilla::Plugin::Test::Portability               any 2.001000
#     Dist::Zilla::Plugin::Test::ReportPrereqs             any    0.027
#     Dist::Zilla::Plugin::Test::Synopsis                  any 2.000007
#     Dist::Zilla::Plugin::Test::UnusedVars                any  missing
#     Dist::Zilla::Plugin::UploadToCPAN                    any    6.010
#     Dist::Zilla::PluginBundle::Git                       any    2.043
#     Dist::Zilla::Role::BundleDeps                        any 0.002005
#     Dist::Zilla::Role::PluginBundle                      any    6.010
#     Dist::Zilla::Role::PluginBundle::Config::Slicer      any    0.202
#     Dist::Zilla::Role::PluginBundle::PluginRemover       any    0.105
#     Moose                                                any   2.2009
#     Moose::Autobox                                       any     0.16
#     Pod::Weaver::PluginBundle::MARCEL                    any 1.102460
#     Test::Synopsis                                       any     0.15
#     strict                                               any     1.11
#     warnings                                             any     1.40
# 
# 
# *** WARNING WARNING WARNING WARNING WARNING WARNING WARNING WARNING ***
# 
# The following REQUIRED prerequisites were not satisfied:
# 
# Dist::Zilla::Plugin::Test::CheckChanges is not installed (any version required)
# Dist::Zilla::Plugin::Test::Compile is not installed (version '1.100220' required)
# Dist::Zilla::Plugin::Test::MinimumVersion is not installed (any version required)
# Dist::Zilla::Plugin::Test::UnusedVars is not installed (any version required)
# 
t/00-report-prereqs.t ........ ok
t/author-critic.t ............ skipped: these tests are for testing by the author
t/author-eol.t ............... skipped: these tests are for testing by the author
t/author-no-tabs.t ........... skipped: these tests are for testing by the author
t/author-pod-coverage.t ...... skipped: these tests are for testing by the author
t/author-pod-spell.t ......... skipped: these tests are for testing by the author
t/author-pod-syntax.t ........ skipped: these tests are for testing by the author
t/release-check-changes.t .... skipped: these tests are for release candidate testing
t/release-dist-manifest.t .... skipped: these tests are for release candidate testing
t/release-distmeta.t ......... skipped: these tests are for release candidate testing
t/release-has-version.t ...... skipped: these tests are for release candidate testing
t/release-kwalitee.t ......... skipped: these tests are for release candidate testing
t/release-minimum-version.t .. skipped: these tests are for release candidate testing
t/release-portability.t ...... skipped: these tests are for release candidate testing
t/release-synopsis.t ......... skipped: these tests are for release candidate testing
t/release-unused-vars.t ...... skipped: these tests are for release candidate testing
All tests successful.
Files=17, Tests=3,  3 wallclock secs ( 0.02 usr  0.11 sys +  1.73 cusr  0.68 csys =  2.54 CPU)
Result: PASS

------------------------------
PREREQUISITES
------------------------------

Prerequisite modules loaded:

requires:

    Module                                          Need     Have    
    ----------------------------------------------- -------- --------
    Dist::Zilla::Plugin::AutoPrereqs                0        6.010   
    Dist::Zilla::Plugin::AutoVersion                0        6.010   
    Dist::Zilla::Plugin::Bugtracker                 0        1.111080
    Dist::Zilla::Plugin::CheckChangeLog             0        0.05    
    Dist::Zilla::Plugin::CopyFilesFromBuild         0        0.170880
    Dist::Zilla::Plugin::ExecDir                    0        6.010   
    Dist::Zilla::Plugin::ExtraTests                 0        6.010   
    Dist::Zilla::Plugin::GatherDir                  0        6.010   
    Dist::Zilla::Plugin::Git::Check                 0        2.043   
    Dist::Zilla::Plugin::Git::Commit                0        2.043   
    Dist::Zilla::Plugin::Git::Push                  0        2.043   
    Dist::Zilla::Plugin::Git::Tag                   0        2.043   
    Dist::Zilla::Plugin::HasVersionTests            0        1.101420
    Dist::Zilla::Plugin::Homepage                   0        1.101420
    Dist::Zilla::Plugin::InlineFiles                0        6.010   
    Dist::Zilla::Plugin::InstallGuide               0        1.200007
    Dist::Zilla::Plugin::License                    0        6.010   
    Dist::Zilla::Plugin::MakeMaker                  0        6.010   
    Dist::Zilla::Plugin::Manifest                   0        6.010   
    Dist::Zilla::Plugin::ManifestSkip               0        6.010   
    Dist::Zilla::Plugin::MetaJSON                   0        6.010   
    Dist::Zilla::Plugin::MetaProvides::Package      0        2.004003
    Dist::Zilla::Plugin::MetaTests                  0        6.010   
    Dist::Zilla::Plugin::MetaYAML                   0        6.010   
    Dist::Zilla::Plugin::NextRelease                0        6.010   
    Dist::Zilla::Plugin::PkgVersion                 0        6.010   
    Dist::Zilla::Plugin::Pod2Readme                 0        0.004   
    Dist::Zilla::Plugin::PodCoverageTests           0        6.010   
    Dist::Zilla::Plugin::PodSyntaxTests             0        6.010   
    Dist::Zilla::Plugin::PodWeaver                  0        4.008   
    Dist::Zilla::Plugin::PruneCruft                 0        6.010   
    Dist::Zilla::Plugin::PruneFiles                 0        6.010   
    Dist::Zilla::Plugin::Repository                 0        0.21    
    Dist::Zilla::Plugin::ShareDir                   0        6.010   
  ! Dist::Zilla::Plugin::Test::CheckChanges         0        n/a     
  ! Dist::Zilla::Plugin::Test::Compile              1.100220 n/a     
    Dist::Zilla::Plugin::Test::DistManifest         0        2.000005
    Dist::Zilla::Plugin::Test::EOL                  0        0.19    
    Dist::Zilla::Plugin::Test::Kwalitee             0        2.12    
  ! Dist::Zilla::Plugin::Test::MinimumVersion       0        n/a     
    Dist::Zilla::Plugin::Test::NoTabs               0        0.15    
    Dist::Zilla::Plugin::Test::Perl::Critic         0        3.001   
    Dist::Zilla::Plugin::Test::PodSpelling          0        2.007005
    Dist::Zilla::Plugin::Test::Portability          0        2.001000
    Dist::Zilla::Plugin::Test::ReportPrereqs        0        0.027   
    Dist::Zilla::Plugin::Test::Synopsis             0        2.000007
  ! Dist::Zilla::Plugin::Test::UnusedVars           0        n/a     
    Dist::Zilla::Plugin::UploadToCPAN               0        6.010   
    Dist::Zilla::PluginBundle::Git                  0        2.043   
    Dist::Zilla::Role::BundleDeps                   0        0.002005
    Dist::Zilla::Role::PluginBundle                 0        6.010   
    Dist::Zilla::Role::PluginBundle::Config::Slicer 0        0.202   
    Dist::Zilla::Role::PluginBundle::PluginRemover  0        0.105   
    Moose                                           0        2.2009  
    Moose::Autobox                                  0        0.16    
    perl                                            5.008    5.027008
    Pod::Weaver::PluginBundle::MARCEL               0        1.102460
    strict                                          0        1.11    
    Test::Synopsis                                  0        0.15    
    warnings                                        0        1.40    

build_requires:

    Module                                          Need     Have    
    ----------------------------------------------- -------- --------
    blib                                            1.01     1.07    
    ExtUtils::MakeMaker                             0        7.31_07 
    File::Spec                                      0        3.72    
    IO::Handle                                      0        1.37    
    IPC::Open3                                      0        1.20    
    Test::More                                      0        1.302120

configure_requires:

    Module                                          Need     Have    
    ----------------------------------------------- -------- --------
    ExtUtils::MakeMaker                             0        7.31_07 

opt_build_requires:

    Module                                          Need     Have    
    ----------------------------------------------- -------- --------
    CPAN::Meta                                      2.120900 2.150010


------------------------------
ENVIRONMENT AND OTHER CONTEXT
------------------------------

Environment variables:

    AUTOMATED_TESTING = 1
    DBD_MYSQL_TESTDB = test
    DBD_MYSQL_TESTHOST = localhost
    DBD_MYSQL_TESTPASSWORD = 
    DBD_MYSQL_TESTPORT = 3306
    DBD_MYSQL_TESTUSER = vegeta
    EXTENDED_TESTING = 1
    PATH = /home/vegeta/perl5/perlbrew/bin:/home/vegeta/perl5/perlbrew/perls/perl-5.27.8/bin:/home/vegeta/bin:/usr/bin:/bin:/usr/sbin:/sbin:/usr/X11R6/bin:/usr/local/bin:/usr/local/sbin
    PERL5LIB = 
    PERL5OPT = 
    PERL5_CPANPLUS_IS_RUNNING = 15173
    PERL5_CPAN_IS_RUNNING = 15173
    PERL5_CPAN_IS_RUNNING_IN_RECURSION = 93931,15173
    PERLBREW_HOME = /home/vegeta/.perlbrew
    PERLBREW_MANPATH = /home/vegeta/perl5/perlbrew/perls/perl-5.27.8/man
    PERLBREW_PATH = /home/vegeta/perl5/perlbrew/bin:/home/vegeta/perl5/perlbrew/perls/perl-5.27.8/bin
    PERLBREW_PERL = perl-5.27.8
    PERLBREW_ROOT = /home/vegeta/perl5/perlbrew
    PERLBREW_SHELLRC_VERSION = 0.82
    PERLBREW_VERSION = 0.82
    PERL_CR_SMOKER_CURRENT = Dist-Zilla-PluginBundle-MARCEL-1.161760
    PERL_EXTUTILS_AUTOINSTALL = --defaultdeps
    PERL_MM_USE_DEFAULT = 1
    PERL_USE_UNSAFE_INC = 1
    SHELL = /usr/local/bin/bash
    TERM = vt220

Perl special variables (and OS-specific diagnostics, for MSWin32):

    $^X = /home/vegeta/perl5/perlbrew/perls/perl-5.27.8/bin/perl5.27.8
    $UID/$EUID = 1002 / 1002
    $GID = 1002 1002 1001
    $EGID = 1002 1002 1001

Perl module toolchain versions installed:

    Module              Have    
    ------------------- --------
    CPAN                2.20    
    CPAN::Meta          2.150010
    Cwd                 3.72    
    ExtUtils::CBuilder  0.280230
    ExtUtils::Command   7.31_07 
    ExtUtils::Install   2.14    
    ExtUtils::MakeMaker 7.31_07 
    ExtUtils::Manifest  1.70    
    ExtUtils::ParseXS   3.35    
    File::Spec          3.72    
    JSON                2.97001 
    JSON::PP            2.97001 
    Module::Build       0.4224  
    Module::Signature   n/a     
    Parse::CPAN::Meta   2.150010
    Test::Harness       3.39    
    Test::More          1.302120
    YAML                1.24    
    YAML::Syck          n/a     
    version             0.9918  


--

Summary of my perl5 (revision 5 version 27 subversion 8) configuration:
   
  Platform:
    osname=openbsd
    osvers=6.2
    archname=OpenBSD.amd64-openbsd
    uname='openbsd cpan-smoker-openbsd 6.2 generic.mp#134 amd64 '
    config_args='-de -Dprefix=/home/vegeta/perl5/perlbrew/perls/perl-5.27.8 -Dusedevel -Aeval:scriptdir=/home/vegeta/perl5/perlbrew/perls/perl-5.27.8/bin'
    hint=recommended
    useposix=true
    d_sigaction=define
    useithreads=undef
    usemultiplicity=undef
    use64bitint=define
    use64bitall=define
    uselongdouble=undef
    usemymalloc=n
    default_inc_excludes_dot=define
    bincompat5005=undef
  Compiler:
    cc='cc'
    ccflags ='-fno-strict-aliasing -pipe -fstack-protector-strong -I/usr/local/include -D_FORTIFY_SOURCE=2'
    optimize='-O2'
    cppflags='-fno-strict-aliasing -pipe -fstack-protector-strong -I/usr/local/include'
    ccversion=''
    gccversion='4.2.1 Compatible OpenBSD Clang 4.0.0 (tags/RELEASE_400/final)'
    gccosandvers=''
    intsize=4
    longsize=8
    ptrsize=8
    doublesize=8
    byteorder=12345678
    doublekind=3
    d_longlong=define
    longlongsize=8
    d_longdbl=define
    longdblsize=16
    longdblkind=3
    ivtype='long'
    ivsize=8
    nvtype='double'
    nvsize=8
    Off_t='off_t'
    lseeksize=8
    alignbytes=8
    prototype=define
  Linker and Libraries:
    ld='cc'
    ldflags ='-Wl,-E  -fstack-protector-strong -L/usr/local/lib'
    libpth=/usr/lib /usr/local/lib
    libs=-lpthread -lm -lutil -lc
    perllibs=-lpthread -lm -lutil -lc
    libc=/usr/lib/libc.so.90.0
    so=so
    useshrplib=false
    libperl=libperl.a
    gnulibc_version=''
  Dynamic Linking:
    dlsrc=dl_dlopen.xs
    dlext=so
    d_dlsymun=undef
    ccdlflags=' '
    cccdlflags='-DPIC -fPIC '
    lddlflags='-shared -fPIC  -L/usr/local/lib -fstack-protector-strong'


Characteristics of this binary (from libperl): 
  Compile-time options:
    HAS_TIMES
    PERLIO_LAYERS
    PERL_COPY_ON_WRITE
    PERL_DONT_CREATE_GVSV
    PERL_MALLOC_WRAP
    PERL_OP_PARENT
    PERL_PRESERVE_IVUV
    PERL_USE_DEVEL
    USE_64_BIT_ALL
    USE_64_BIT_INT
    USE_LARGE_FILES
    USE_LOCALE
    USE_LOCALE_COLLATE
    USE_LOCALE_CTYPE
    USE_LOCALE_NUMERIC
    USE_LOCALE_TIME
    USE_PERLIO
    USE_PERL_ATOF
  Locally applied patches:
    Devel::PatchPerl 1.48
  Built under openbsd
  Compiled at Jan 23 2018 17:20:45
  %ENV:
    PERL5LIB=""
    PERL5OPT=""
    PERL5_CPANPLUS_IS_RUNNING="15173"
    PERL5_CPAN_IS_RUNNING="15173"
    PERL5_CPAN_IS_RUNNING_IN_RECURSION="93931,15173"
    PERLBREW_HOME="/home/vegeta/.perlbrew"
    PERLBREW_MANPATH="/home/vegeta/perl5/perlbrew/perls/perl-5.27.8/man"
    PERLBREW_PATH="/home/vegeta/perl5/perlbrew/bin:/home/vegeta/perl5/perlbrew/perls/perl-5.27.8/bin"
    PERLBREW_PERL="perl-5.27.8"
    PERLBREW_ROOT="/home/vegeta/perl5/perlbrew"
    PERLBREW_SHELLRC_VERSION="0.82"
    PERLBREW_VERSION="0.82"
    PERL_CR_SMOKER_CURRENT="Dist-Zilla-PluginBundle-MARCEL-1.161760"
    PERL_EXTUTILS_AUTOINSTALL="--defaultdeps"
    PERL_MM_USE_DEFAULT="1"
    PERL_USE_UNSAFE_INC="1"
  @INC:
    /home/vegeta/perl5/perlbrew/perls/perl-5.27.8/lib/site_perl/5.27.8/OpenBSD.amd64-openbsd
    /home/vegeta/perl5/perlbrew/perls/perl-5.27.8/lib/site_perl/5.27.8
    /home/vegeta/perl5/perlbrew/perls/perl-5.27.8/lib/5.27.8/OpenBSD.amd64-openbsd
    /home/vegeta/perl5/perlbrew/perls/perl-5.27.8/lib/5.27.8
    .