Module-Install v1.21 Perl 5 v5.40.2 amd64-freebsd-thread-multi
- Status
- Pass
- From
- Slaven Rezić
- Dist
-
Module-Install v1.21
- Platform
- Perl 5 v5.40.2 amd64-freebsd-thread-multi
- Date
- 2025-05-21 12:04:00
- ID
- ae9f3a28-363b-11f0-89a3-a0fb6d8775ea
This distribution has been tested as part of the CPAN Testers
project, supporting the Perl programming language. See
http://wiki.cpantesters.org/ for more information or email
questions to cpan-testers-discuss@perl.org
--
Dear Karen Etheridge,
This is a computer-generated report for Module-Install-1.21
on perl 5.40.2, created by CPAN-Reporter-1.2018.
Thank you for uploading your work to CPAN. Congratulations!
All tests were successful.
Sections of this report:
* Tester comments
* Program output
* Prerequisites
* Environment and other context
------------------------------
TESTER COMMENTS
------------------------------
Additional comments from tester:
this report is from an automated smoke testing program
and was not reviewed by a human for accuracy
------------------------------
PROGRAM OUTPUT
------------------------------
Output from '/usr/bin/make test':
PERL_DL_NONLAZY=1 "/usr/local/bin/perl" "-MExtUtils::Command::MM" "-MTest::Harness" "-e" "undef *Test::Harness::Switches; test_harness(0, 'inc', 'blib/lib', 'blib/arch')" t/*.t t/recursive/*.t
t/01_compile.t .......................... ok
t/02_mymeta.t ........................... skipped: New EU::MM has own MYMETA support
t/03_autoinstall.t ...................... skipped: Skipping dangerous test
t/04_version.t .......................... ok
t/05_share.t ............................ ok
t/06_ppport.t ........................... ok
t/07_perl_version.t ..................... ok
t/09_read.t ............................. ok
t/10_test.t ............................. ok
t/11_extraction.t ....................... ok
t/12_eumm_params.t ...................... ok
t/13_author_tests.t ..................... ok
t/13_author_tests_ext.t ................. skipped: requires Module::Install::AuthorTests
t/13_author_tests_ext2.t ................ skipped: requires Module::Install::ExtraTests 0.007
t/14_auto_include_deps_with_version.t ... skipped: your perl is new enough to have File::Spec 3.30 in core
t/15_wrong_usage.t ...................... ok
t/16_require.t .......................... ok
t/17_sign.t ............................. ok
t/18_all_from.t ......................... ok
t/19_authors.t .......................... ok
t/20_authors_with_special_characters.t .. ok
t/21_makemaker_args.t ................... ok
Use of uninitialized value $cmd in substitution (s///) at /usr/local/lib/perl5/5.40/ExtUtils/MM_Any.pm line 347.
Use of uninitialized value $mandir in pattern match (m//) at /usr/local/lib/perl5/5.40/ExtUtils/MM_Unix.pm line 1530.
Use of uninitialized value $mandir in pattern match (m//) at /usr/local/lib/perl5/5.40/ExtUtils/MM_Unix.pm line 1530.
Use of uninitialized value $mandir in pattern match (m//) at /usr/local/lib/perl5/5.40/ExtUtils/MM_Unix.pm line 1530.
Use of uninitialized value $mandir in pattern match (m//) at /usr/local/lib/perl5/5.40/ExtUtils/MM_Unix.pm line 1530.
Use of uninitialized value $mandir in pattern match (m//) at /usr/local/lib/perl5/5.40/ExtUtils/MM_Unix.pm line 1530.
Use of uninitialized value $mandir in pattern match (m//) at /usr/local/lib/perl5/5.40/ExtUtils/MM_Unix.pm line 1530.
Use of uninitialized value $mandir in pattern match (m//) at /usr/local/lib/perl5/5.40/ExtUtils/MM_Unix.pm line 1530.
Use of uninitialized value $mandir in pattern match (m//) at /usr/local/lib/perl5/5.40/ExtUtils/MM_Unix.pm line 1530.
Use of uninitialized value $mandir in pattern match (m//) at /usr/local/lib/perl5/5.40/ExtUtils/MM_Unix.pm line 1530.
Use of uninitialized value $cmd in substitution (s///) at /usr/local/lib/perl5/5.40/ExtUtils/MM_Any.pm line 347.
Use of uninitialized value $mandir in pattern match (m//) at /usr/local/lib/perl5/5.40/ExtUtils/MM_Unix.pm line 1530.
Use of uninitialized value $mandir in pattern match (m//) at /usr/local/lib/perl5/5.40/ExtUtils/MM_Unix.pm line 1530.
Use of uninitialized value $mandir in pattern match (m//) at /usr/local/lib/perl5/5.40/ExtUtils/MM_Unix.pm line 1530.
Use of uninitialized value $mandir in pattern match (m//) at /usr/local/lib/perl5/5.40/ExtUtils/MM_Unix.pm line 1530.
Use of uninitialized value $mandir in pattern match (m//) at /usr/local/lib/perl5/5.40/ExtUtils/MM_Unix.pm line 1530.
Use of uninitialized value $mandir in pattern match (m//) at /usr/local/lib/perl5/5.40/ExtUtils/MM_Unix.pm line 1530.
Use of uninitialized value $mandir in pattern match (m//) at /usr/local/lib/perl5/5.40/ExtUtils/MM_Unix.pm line 1530.
Use of uninitialized value $mandir in pattern match (m//) at /usr/local/lib/perl5/5.40/ExtUtils/MM_Unix.pm line 1530.
Use of uninitialized value $mandir in pattern match (m//) at /usr/local/lib/perl5/5.40/ExtUtils/MM_Unix.pm line 1530.
Use of uninitialized value $cmd in substitution (s///) at /usr/local/lib/perl5/5.40/ExtUtils/MM_Any.pm line 347.
Use of uninitialized value $mandir in pattern match (m//) at /usr/local/lib/perl5/5.40/ExtUtils/MM_Unix.pm line 1530.
Use of uninitialized value $mandir in pattern match (m//) at /usr/local/lib/perl5/5.40/ExtUtils/MM_Unix.pm line 1530.
Use of uninitialized value $mandir in pattern match (m//) at /usr/local/lib/perl5/5.40/ExtUtils/MM_Unix.pm line 1530.
Use of uninitialized value $mandir in pattern match (m//) at /usr/local/lib/perl5/5.40/ExtUtils/MM_Unix.pm line 1530.
Use of uninitialized value $mandir in pattern match (m//) at /usr/local/lib/perl5/5.40/ExtUtils/MM_Unix.pm line 1530.
Use of uninitialized value $mandir in pattern match (m//) at /usr/local/lib/perl5/5.40/ExtUtils/MM_Unix.pm line 1530.
Use of uninitialized value $mandir in pattern match (m//) at /usr/local/lib/perl5/5.40/ExtUtils/MM_Unix.pm line 1530.
Use of uninitialized value $mandir in pattern match (m//) at /usr/local/lib/perl5/5.40/ExtUtils/MM_Unix.pm line 1530.
Use of uninitialized value $mandir in pattern match (m//) at /usr/local/lib/perl5/5.40/ExtUtils/MM_Unix.pm line 1530.
Use of uninitialized value $cmd in substitution (s///) at /usr/local/lib/perl5/5.40/ExtUtils/MM_Any.pm line 347.
Use of uninitialized value $mandir in pattern match (m//) at /usr/local/lib/perl5/5.40/ExtUtils/MM_Unix.pm line 1530.
Use of uninitialized value $mandir in pattern match (m//) at /usr/local/lib/perl5/5.40/ExtUtils/MM_Unix.pm line 1530.
Use of uninitialized value $mandir in pattern match (m//) at /usr/local/lib/perl5/5.40/ExtUtils/MM_Unix.pm line 1530.
Use of uninitialized value $mandir in pattern match (m//) at /usr/local/lib/perl5/5.40/ExtUtils/MM_Unix.pm line 1530.
Use of uninitialized value $mandir in pattern match (m//) at /usr/local/lib/perl5/5.40/ExtUtils/MM_Unix.pm line 1530.
Use of uninitialized value $mandir in pattern match (m//) at /usr/local/lib/perl5/5.40/ExtUtils/MM_Unix.pm line 1530.
Use of uninitialized value $mandir in pattern match (m//) at /usr/local/lib/perl5/5.40/ExtUtils/MM_Unix.pm line 1530.
Use of uninitialized value $mandir in pattern match (m//) at /usr/local/lib/perl5/5.40/ExtUtils/MM_Unix.pm line 1530.
Use of uninitialized value $mandir in pattern match (m//) at /usr/local/lib/perl5/5.40/ExtUtils/MM_Unix.pm line 1530.
old INSTALLDIRS (probably set by makemaker_args) is overriden by installdirs
Use of uninitialized value $cmd in substitution (s///) at /usr/local/lib/perl5/5.40/ExtUtils/MM_Any.pm line 347.
Use of uninitialized value $mandir in pattern match (m//) at /usr/local/lib/perl5/5.40/ExtUtils/MM_Unix.pm line 1530.
Use of uninitialized value $mandir in pattern match (m//) at /usr/local/lib/perl5/5.40/ExtUtils/MM_Unix.pm line 1530.
Use of uninitialized value $mandir in pattern match (m//) at /usr/local/lib/perl5/5.40/ExtUtils/MM_Unix.pm line 1530.
Use of uninitialized value $mandir in pattern match (m//) at /usr/local/lib/perl5/5.40/ExtUtils/MM_Unix.pm line 1530.
Use of uninitialized value $mandir in pattern match (m//) at /usr/local/lib/perl5/5.40/ExtUtils/MM_Unix.pm line 1530.
Use of uninitialized value $mandir in pattern match (m//) at /usr/local/lib/perl5/5.40/ExtUtils/MM_Unix.pm line 1530.
Use of uninitialized value $mandir in pattern match (m//) at /usr/local/lib/perl5/5.40/ExtUtils/MM_Unix.pm line 1530.
Use of uninitialized value $mandir in pattern match (m//) at /usr/local/lib/perl5/5.40/ExtUtils/MM_Unix.pm line 1530.
Use of uninitialized value $mandir in pattern match (m//) at /usr/local/lib/perl5/5.40/ExtUtils/MM_Unix.pm line 1530.
Use of uninitialized value $cmd in substitution (s///) at /usr/local/lib/perl5/5.40/ExtUtils/MM_Any.pm line 347.
Use of uninitialized value $mandir in pattern match (m//) at /usr/local/lib/perl5/5.40/ExtUtils/MM_Unix.pm line 1530.
Use of uninitialized value $mandir in pattern match (m//) at /usr/local/lib/perl5/5.40/ExtUtils/MM_Unix.pm line 1530.
Use of uninitialized value $mandir in pattern match (m//) at /usr/local/lib/perl5/5.40/ExtUtils/MM_Unix.pm line 1530.
Use of uninitialized value $mandir in pattern match (m//) at /usr/local/lib/perl5/5.40/ExtUtils/MM_Unix.pm line 1530.
Use of uninitialized value $mandir in pattern match (m//) at /usr/local/lib/perl5/5.40/ExtUtils/MM_Unix.pm line 1530.
Use of uninitialized value $mandir in pattern match (m//) at /usr/local/lib/perl5/5.40/ExtUtils/MM_Unix.pm line 1530.
Use of uninitialized value $mandir in pattern match (m//) at /usr/local/lib/perl5/5.40/ExtUtils/MM_Unix.pm line 1530.
Use of uninitialized value $mandir in pattern match (m//) at /usr/local/lib/perl5/5.40/ExtUtils/MM_Unix.pm line 1530.
Use of uninitialized value $mandir in pattern match (m//) at /usr/local/lib/perl5/5.40/ExtUtils/MM_Unix.pm line 1530.
t/22_installdirs.t ...................... ok
t/23_pl_files.t ......................... ok
t/24_multiple_license_blocks.t .......... ok
t/25_perl_version_from.t ................ ok
t/26_unknown_func.t ..................... ok
Warning: prerequisite Test::More 9999 not found. We have 1.302199.
t/27_build_requires_and_include.t ....... ok
t/28_makemaker_args.t ................... ok
t/29_requires_from.t .................... ok
t/30_build_subdirs.t .................... ok
t/31_add_metadata.t ..................... ok
t/32_module_name.t ...................... ok
t/33_copy.t ............................. ok
t/34_readwrite.t ........................ ok
t/recursive/test.t ...................... ok
All tests successful.
Files=36, Tests=547, 19 wallclock secs ( 0.14 usr 0.03 sys + 15.76 cusr 2.73 csys = 18.66 CPU)
Result: PASS
------------------------------
PREREQUISITES
------------------------------
Prerequisite modules loaded:
requires:
Module Need Have
------------------- ------ -------------
Devel::PPPort 3.16 3.72
ExtUtils::Install 1.52 2.22
ExtUtils::MakeMaker 6.59 7.70
ExtUtils::ParseXS 2.19 3.51
File::Path 0 2.18
File::Remove 1.42 1.61
File::Spec 3.28 3.91
Module::Build 0.29 0.4234
Module::CoreList 2.17 5.20250413_40
Module::ScanDeps 1.09 1.37
Parse::CPAN::Meta 1.4413 2.150010
perl 5.006 5.040002
YAML::Tiny 1.38 1.76
build_requires:
Module Need Have
------------------- ------ -------------
autodie 0 2.37
ExtUtils::MakeMaker 6.59 7.70
Test::Harness 3.13 3.48
Test::More 0.86 1.302199
YAML::Tiny 1.33 1.76
configure_requires:
Module Need Have
------------------- ------ -------------
ExtUtils::MakeMaker 6.59 7.70
YAML::Tiny 1.33 1.76
------------------------------
ENVIRONMENT AND OTHER CONTEXT
------------------------------
Environment variables:
AUTOMATED_TESTING = 1
PATH = /usr/local/bin:/usr/bin:/bin:/usr/local/sbin:/usr/sbin:/sbin:/home/cpansand/bin/sh:/home/cpansand/bin:/usr/games:/home/cpansand/devel:/usr/home/eserte/src/srezic-misc/scripts
PERL5LIB = /home/cpansand/.cpan/build/2025052110/Module-ScanDeps-1.37-0/blib/arch:/home/cpansand/.cpan/build/2025052110/Module-ScanDeps-1.37-0/blib/lib:/home/cpansand/.cpan/build/2025052110/Test-Requires-0.11-0/blib/arch:/home/cpansand/.cpan/build/2025052110/Test-Requires-0.11-0/blib/lib:/home/cpansand/.cpan/build/2025052110/IPC-Run3-0.049-0/blib/arch:/home/cpansand/.cpan/build/2025052110/IPC-Run3-0.049-0/blib/lib:/home/cpansand/.cpan/build/2025052110/File-Remove-1.61-0/blib/arch:/home/cpansand/.cpan/build/2025052110/File-Remove-1.61-0/blib/lib:/home/cpansand/.cpan/build/2025052110/Module-Build-0.4234-0/blib/arch:/home/cpansand/.cpan/build/2025052110/Module-Build-0.4234-0/blib/lib:/home/cpansand/.cpan/build/2025052110/Readonly-2.05-0/blib/arch:/home/cpansand/.cpan/build/2025052110/Readonly-2.05-0/blib/lib:/home/cpansand/.cpan/build/2025052110/Module-Build-Tiny-0.052-0/blib/arch:/home/cpansand/.cpan/build/2025052110/Module-Build-Tiny-0.052-0/blib/lib:/home/cpansand/.cpan/build/2025052110/ExtUtils-InstallPaths-0.014-0/blib/arch:/home/cpansand/.cpan/build/2025052110/ExtUtils-InstallPaths-0.014-0/blib/lib:/home/cpansand/.cpan/build/2025052110/ExtUtils-Helpers-0.028-0/blib/arch:/home/cpansand/.cpan/build/2025052110/ExtUtils-Helpers-0.028-0/blib/lib:/home/cpansand/.cpan/build/2025052110/ExtUtils-Config-0.010-0/blib/arch:/home/cpansand/.cpan/build/2025052110/ExtUtils-Config-0.010-0/blib/lib
PERL5OPT =
PERL5_CPANPLUS_IS_RUNNING = 98840
PERL5_CPAN_IS_RUNNING = 98840
PERL5_CPAN_IS_RUNNING_IN_RECURSION = 24296,98840
PERL_BATCH = yes
PERL_CANARY_STABILITY_NOPROMPT = 1
PERL_CPAN_REPORTER_CONFIG = /var/tmp/cpansmoker-1023/2025052022/cpanreporter_000_config.ini
PERL_EXTUTILS_AUTOINSTALL = --defaultdeps
PERL_USE_UNSAFE_INC = 1
SHELL = /bin/sh
TMPDIR = /var/tmp/cpansmoker-1023/2025052022
Perl special variables (and OS-specific diagnostics, for MSWin32):
$^X = /usr/local/bin/perl
$UID/$EUID = 1023 / 1023
$GID = 1023 1023
$EGID = 1023 1023
Perl module toolchain versions installed:
Module Have
------------------- --------
CPAN 2.36
CPAN::Meta 2.150010
Cwd 3.91
ExtUtils::CBuilder 0.280240
ExtUtils::Command 7.70
ExtUtils::Install 2.22
ExtUtils::MakeMaker 7.70
ExtUtils::Manifest 1.75
ExtUtils::ParseXS 3.51
File::Spec 3.91
JSON 4.10
JSON::PP 4.16
Module::Build 0.4234
Module::Signature n/a
Parse::CPAN::Meta 2.150010
Test::Harness 3.48
Test::More 1.302199
YAML n/a
YAML::Syck 1.34
version 0.9930
--
Summary of my perl5 (revision 5 version 40 subversion 2) configuration:
Platform:
osname=freebsd
osvers=13.4-release-p5
archname=amd64-freebsd-thread-multi
uname='freebsd 134amd64-default-job-01 13.4-release-p5 freebsd 13.4-release-p5 amd64 '
config_args='-Darchlib=/usr/local/lib/perl5/5.40/mach -Dcc=cc -Dcf_by=mat -Dcf_email=mat@FreeBSD.org -Dcf_time=Sun Apr 13 13:07:13 UTC 2025 -Dinc_version_list=none -Dlibperl=libperl.so.5.40.2 -Dman1dir=/usr/local/lib/perl5/5.40/perl/man/man1 -Dman3dir=/usr/local/lib/perl5/5.40/perl/man/man3 -Dprefix=/usr/local -Dprivlib=/usr/local/lib/perl5/5.40 -Dscriptdir=/usr/local/bin -Dsitearch=/usr/local/lib/perl5/site_perl/mach/5.40 -Dsitelib=/usr/local/lib/perl5/site_perl -Dsiteman1dir=/usr/local/lib/perl5/site_perl/man/man1 -Dsiteman3dir=/usr/local/lib/perl5/site_perl/man/man3 -Dusenm=n -Duseshrplib -sde -Ui_iconv -Ui_malloc -Uinstallusrbinperl -Alddlflags=-L/wrkdirs/usr/ports/lang/perl5.40/work/perl-5.40.2 -L/usr/local/lib/perl5/5.40/mach/CORE -lperl -Dshrpldflags=$(LDDLFLAGS:N-L/wrkdirs/usr/ports/lang/perl5.40/work/perl-5.40.2:N-L/usr/local/lib/perl5/5.40/mach/CORE:N-lperl) -Wl,-soname,$(LIBPERL:R) -Doptimize=-O2 -pipe -fstack-protector-strong -fno-strict-aliasing -Dusedtrace -Ui_gdbm -Dusemultiplicity=y -Duse64bitint -Dusemymalloc=n -Dusethreads=y'
hint=recommended
useposix=true
d_sigaction=define
useithreads=define
usemultiplicity=define
use64bitint=define
use64bitall=define
uselongdouble=undef
usemymalloc=n
default_inc_excludes_dot=define
Compiler:
cc='cc'
ccflags ='-DHAS_FPSETMASK -DHAS_FLOATINGPOINT_H -DNO_POSIX_2008_LOCALE -fno-strict-aliasing -pipe -fstack-protector-strong -I/usr/local/include'
optimize='-O2 -pipe -fstack-protector-strong -fno-strict-aliasing '
cppflags='-DHAS_FPSETMASK -DHAS_FLOATINGPOINT_H -DNO_POSIX_2008_LOCALE -fno-strict-aliasing -pipe -fstack-protector-strong -I/usr/local/include'
ccversion=''
gccversion='FreeBSD Clang 18.1.6 (https://github.com/llvm/llvm-project.git llvmorg-18.1.6-0-g1118c2e05e67)'
gccosandvers=''
intsize=4
longsize=8
ptrsize=8
doublesize=8
byteorder=12345678
doublekind=3
d_longlong=define
longlongsize=8
d_longdbl=define
longdblsize=16
longdblkind=3
ivtype='long'
ivsize=8
nvtype='double'
nvsize=8
Off_t='off_t'
lseeksize=8
alignbytes=8
prototype=define
Linker and Libraries:
ld='cc'
ldflags ='-pthread -Wl,-E -fstack-protector-strong -L/usr/local/lib'
libpth=/usr/lib /usr/local/lib /usr/lib/clang/18/lib
libs=-ldl -lm -lcrypt -lutil
perllibs=-ldl -lm -lcrypt -lutil
libc=
so=so
useshrplib=true
libperl=libperl.so.5.40.2
gnulibc_version=''
Dynamic Linking:
dlsrc=dl_dlopen.xs
dlext=so
d_dlsymun=undef
ccdlflags=' -Wl,-R/usr/local/lib/perl5/5.40/mach/CORE'
cccdlflags='-DPIC -fPIC'
lddlflags='-shared -L/usr/local/lib/perl5/5.40/mach/CORE -lperl -L/usr/local/lib -fstack-protector-strong'
Characteristics of this binary (from libperl):
Compile-time options:
HAS_LONG_DOUBLE
HAS_STRTOLD
HAS_TIMES
MULTIPLICITY
PERLIO_LAYERS
PERL_COPY_ON_WRITE
PERL_DONT_CREATE_GVSV
PERL_HASH_FUNC_SIPHASH13
PERL_HASH_USE_SBOX32
PERL_MALLOC_WRAP
PERL_OP_PARENT
PERL_PRESERVE_IVUV
PERL_USE_SAFE_PUTENV
USE_64_BIT_ALL
USE_64_BIT_INT
USE_ITHREADS
USE_LARGE_FILES
USE_LOCALE
USE_LOCALE_COLLATE
USE_LOCALE_CTYPE
USE_LOCALE_NUMERIC
USE_LOCALE_TIME
USE_PERLIO
USE_PERL_ATOF
USE_REENTRANT_API
Built under freebsd
%ENV:
PERL5LIB="/home/cpansand/.cpan/build/2025052110/Module-ScanDeps-1.37-0/blib/arch:/home/cpansand/.cpan/build/2025052110/Module-ScanDeps-1.37-0/blib/lib:/home/cpansand/.cpan/build/2025052110/Test-Requires-0.11-0/blib/arch:/home/cpansand/.cpan/build/2025052110/Test-Requires-0.11-0/blib/lib:/home/cpansand/.cpan/build/2025052110/IPC-Run3-0.049-0/blib/arch:/home/cpansand/.cpan/build/2025052110/IPC-Run3-0.049-0/blib/lib:/home/cpansand/.cpan/build/2025052110/File-Remove-1.61-0/blib/arch:/home/cpansand/.cpan/build/2025052110/File-Remove-1.61-0/blib/lib:/home/cpansand/.cpan/build/2025052110/Module-Build-0.4234-0/blib/arch:/home/cpansand/.cpan/build/2025052110/Module-Build-0.4234-0/blib/lib:/home/cpansand/.cpan/build/2025052110/Readonly-2.05-0/blib/arch:/home/cpansand/.cpan/build/2025052110/Readonly-2.05-0/blib/lib:/home/cpansand/.cpan/build/2025052110/Module-Build-Tiny-0.052-0/blib/arch:/home/cpansand/.cpan/build/2025052110/Module-Build-Tiny-0.052-0/blib/lib:/home/cpansand/.cpan/build/2025052110/ExtUtils-InstallPaths-0.014-0/blib/arch:/home/cpansand/.cpan/build/2025052110/ExtUtils-InstallPaths-0.014-0/blib/lib:/home/cpansand/.cpan/build/2025052110/ExtUtils-Helpers-0.028-0/blib/arch:/home/cpansand/.cpan/build/2025052110/ExtUtils-Helpers-0.028-0/blib/lib:/home/cpansand/.cpan/build/2025052110/ExtUtils-Config-0.010-0/blib/arch:/home/cpansand/.cpan/build/2025052110/ExtUtils-Config-0.010-0/blib/lib"
PERL5OPT=""
PERL5_CPANPLUS_IS_RUNNING="98840"
PERL5_CPAN_IS_RUNNING="98840"
PERL5_CPAN_IS_RUNNING_IN_RECURSION="24296,98840"
PERL_BATCH="yes"
PERL_CANARY_STABILITY_NOPROMPT="1"
PERL_CPAN_REPORTER_CONFIG="/var/tmp/cpansmoker-1023/2025052022/cpanreporter_000_config.ini"
PERL_EXTUTILS_AUTOINSTALL="--defaultdeps"
PERL_USE_UNSAFE_INC="1"
@INC:
/home/cpansand/.cpan/build/2025052110/Module-ScanDeps-1.37-0/blib/arch
/home/cpansand/.cpan/build/2025052110/Module-ScanDeps-1.37-0/blib/lib
/home/cpansand/.cpan/build/2025052110/Test-Requires-0.11-0/blib/arch
/home/cpansand/.cpan/build/2025052110/Test-Requires-0.11-0/blib/lib
/home/cpansand/.cpan/build/2025052110/IPC-Run3-0.049-0/blib/arch
/home/cpansand/.cpan/build/2025052110/IPC-Run3-0.049-0/blib/lib
/home/cpansand/.cpan/build/2025052110/File-Remove-1.61-0/blib/arch
/home/cpansand/.cpan/build/2025052110/File-Remove-1.61-0/blib/lib
/home/cpansand/.cpan/build/2025052110/Module-Build-0.4234-0/blib/arch
/home/cpansand/.cpan/build/2025052110/Module-Build-0.4234-0/blib/lib
/home/cpansand/.cpan/build/2025052110/Readonly-2.05-0/blib/arch
/home/cpansand/.cpan/build/2025052110/Readonly-2.05-0/blib/lib
/home/cpansand/.cpan/build/2025052110/Module-Build-Tiny-0.052-0/blib/arch
/home/cpansand/.cpan/build/2025052110/Module-Build-Tiny-0.052-0/blib/lib
/home/cpansand/.cpan/build/2025052110/ExtUtils-InstallPaths-0.014-0/blib/arch
/home/cpansand/.cpan/build/2025052110/ExtUtils-InstallPaths-0.014-0/blib/lib
/home/cpansand/.cpan/build/2025052110/ExtUtils-Helpers-0.028-0/blib/arch
/home/cpansand/.cpan/build/2025052110/ExtUtils-Helpers-0.028-0/blib/lib
/home/cpansand/.cpan/build/2025052110/ExtUtils-Config-0.010-0/blib/arch
/home/cpansand/.cpan/build/2025052110/ExtUtils-Config-0.010-0/blib/lib
/usr/local/lib/perl5/site_perl/mach/5.40
/usr/local/lib/perl5/site_perl
/usr/local/lib/perl5/5.40/mach
/usr/local/lib/perl5/5.40
.