FFI-Platypus-Lang-Rust v0.17 Perl 5 v5.41.9 amd64-netbsd
- Status
- Pass
- From
- Carlos Guevara
- Dist
-
FFI-Platypus-Lang-Rust v0.17
- Platform
- Perl 5 v5.41.9 amd64-netbsd
- Date
- 2025-01-31 08:38:01
- ID
- ae7abb5a-dfae-11ef-b51e-985ce9d433ff
This distribution has been tested as part of the CPAN Testers
project, supporting the Perl programming language. See
http://wiki.cpantesters.org/ for more information or email
questions to cpan-testers-discuss@perl.org
--
Dear Graham Ollis,
This is a computer-generated report for FFI-Platypus-Lang-Rust-0.17
on perl 5.41.9, created by CPAN-Reporter-1.2020.
Thank you for uploading your work to CPAN. Congratulations!
All tests were successful.
Sections of this report:
* Tester comments
* Program output
* Prerequisites
* Environment and other context
------------------------------
TESTER COMMENTS
------------------------------
Additional comments from tester:
this report is from an automated smoke testing program
and was not reviewed by a human for accuracy
------------------------------
PROGRAM OUTPUT
------------------------------
Output from '/usr/bin/make test':
PERL_DL_NONLAZY=1 "/home/cpan/bin/perl/bin/perl5.41.9" "-MExtUtils::Command::MM" "-MTest::Harness" "-e" "undef *Test::Harness::Switches; test_harness(0, 'blib/lib', 'blib/arch')" t/*.t
#
#
#
# HARNESS_ACTIVE=1
# HARNESS_VERSION=3.50
# LC_ALL=C
# PERL5LIB=/home/cpan/.cpan/build/FFI-Platypus-Lang-Rust-0.17-0/blib/lib:/home/cpan/.cpan/build/FFI-Platypus-Lang-Rust-0.17-0/blib/arch:
# PERL5OPT=
# PERL5_CPANPLUS_IS_RUNNING=27715
# PERL5_CPAN_IS_RUNNING=27715
# PERL_DL_NONLAZY=1
# PERL_MM_USE_DEFAULT=1
# PERL_USE_UNSAFE_INC=1
# SHELL=/usr/pkg/bin/bash
#
#
#
# PERL5LIB path
# /home/cpan/.cpan/build/FFI-Platypus-Lang-Rust-0.17-0/blib/lib
# /home/cpan/.cpan/build/FFI-Platypus-Lang-Rust-0.17-0/blib/arch
#
#
#
# perl 5.041009 netbsd amd64-netbsd
# Alien::Rust -
# Capture::Tiny 0.50
# Env::ShellWords 0.02
# ExtUtils::MakeMaker 7.70
# FFI::Build::File::Base 2.10
# FFI::Build::MM 2.10
# FFI::CheckLib 0.31
# FFI::Platypus 2.10
# File::Which 1.27
# File::chdir 0.1011
# Path::Tiny 0.146
# Test2::V0 1.302209
# Test::Script 1.29
#
#
#
t/00_diag.t ................. ok
t/02_types.t ................ ok
t/example.t ................. ok
t/example__person.t ......... ok
t/ffi_build_file_cargo.t .... ok
t/ffi_platypus_lang_rust.t .. ok
All tests successful.
Files=6, Tests=10, 8 wallclock secs ( 0.01 usr 0.03 sys + 3.83 cusr 2.39 csys = 6.26 CPU)
Result: PASS
------------------------------
PREREQUISITES
------------------------------
Prerequisite modules loaded:
requires:
Module Need Have
---------------------- -------- --------
base 0 2.27
Env::ShellWords 0 0.02
FFI::Build::File::Base 1.00 2.10
FFI::CheckLib 0.11 0.31
FFI::Platypus 0 2.10
File::chdir 0 0.1011
File::Which 0 1.27
Path::Tiny 0 0.146
perl 5.008001 5.041009
build_requires:
Module Need Have
---------------------- -------- --------
Capture::Tiny 0 0.50
ExtUtils::MakeMaker 0 7.70
Test2::V0 0.000121 1.302209
Test::Script 0 1.29
configure_requires:
Module Need Have
---------------------- -------- --------
ExtUtils::MakeMaker 6.64 7.70
FFI::Build::MM 1.00 2.10
FFI::CheckLib 0.11 0.31
File::chdir 0 0.1011
File::Which 0 1.27
Path::Tiny 0 0.146
perl 5.008001 5.041009
------------------------------
ENVIRONMENT AND OTHER CONTEXT
------------------------------
Environment variables:
AUTOMATED_TESTING = 1
DATE_MANIP_TEST_DM5 = 1
LC_ALL = C
NONINTERACTIVE_TESTING = 1
NO_NETWORK_TESTING = 1
PATH = /home/cpan/bin/perl/bin:/home/cpan/bin:/home/cpan/bin:/bin:/sbin:/usr/bin:/usr/sbin:/usr/X11R7/bin:/usr/pkg/bin:/usr/pkg/sbin:/usr/games:/usr/local/bin:/usr/local/sbin
PERL5LIB =
PERL5OPT =
PERL5_CPANPLUS_IS_RUNNING = 27715
PERL5_CPAN_IS_RUNNING = 27715
PERL_MM_USE_DEFAULT = 1
PERL_USE_UNSAFE_INC = 1
SHELL = /usr/pkg/bin/bash
TERM = screen
TMPDIR = /home/cpan/tmp
Perl special variables (and OS-specific diagnostics, for MSWin32):
$^X = /home/cpan/bin/perl/bin/perl5.41.9
$UID/$EUID = 1001 / 1001
$GID = 100 100
$EGID = 100 100
Perl module toolchain versions installed:
Module Have
------------------- --------
CPAN 2.38
CPAN::Meta 2.150010
Cwd 3.92
ExtUtils::CBuilder 0.280240
ExtUtils::Command 7.70
ExtUtils::Install 2.22
ExtUtils::MakeMaker 7.70
ExtUtils::Manifest 1.75
ExtUtils::ParseXS 3.57
File::Spec 3.93
JSON 4.10
JSON::PP 4.16
Module::Build 0.4234
Module::Signature 0.89
Parse::CPAN::Meta 2.150010
Test2 1.302209
Test::Harness 3.50
Test::More 1.302209
YAML 1.31
YAML::Syck 1.34
version 0.9933
--
Summary of my perl5 (revision 5 version 41 subversion 9) configuration:
Commit id: 87191dc9f4327e8a76c2f941c544725bbe87a373
Platform:
osname=netbsd
osvers=10.0
archname=amd64-netbsd
uname='netbsd cjg-netbsd10 10.0 netbsd 10.0 (generic) #0: thu mar 28 08:33:33 utc 2024 mkrepro@mkrepro.netbsd.org:usrsrcsysarchamd64compilegeneric amd64 '
config_args='-des -Dprefix=/home/cpan/bin/perl -Dscriptdir=/home/cpan/bin/perl/bin -Dusedevel -Duse64bitall'
hint=recommended
useposix=true
d_sigaction=define
useithreads=undef
usemultiplicity=undef
use64bitint=define
use64bitall=define
uselongdouble=undef
usemymalloc=n
default_inc_excludes_dot=define
Compiler:
cc='cc'
ccflags ='-fwrapv -fno-strict-aliasing -pipe -fstack-protector-strong -I/usr/pkg/include -D_FORTIFY_SOURCE=2'
optimize='-O'
cppflags='-fwrapv -fno-strict-aliasing -pipe -fstack-protector-strong -I/usr/pkg/include'
ccversion=''
gccversion='10.5.0'
gccosandvers=''
intsize=4
longsize=8
ptrsize=8
doublesize=8
byteorder=12345678
doublekind=3
d_longlong=define
longlongsize=8
d_longdbl=define
longdblsize=16
longdblkind=3
ivtype='long'
ivsize=8
nvtype='double'
nvsize=8
Off_t='off_t'
lseeksize=8
alignbytes=8
prototype=define
Linker and Libraries:
ld='cc'
ldflags =' -Wl,-rpath,/usr/pkg/lib -Wl,-rpath,/usr/local/lib -fstack-protector-strong -L/usr/pkg/lib'
libpth=/usr/lib /usr/pkg/lib /lib
libs=-lpthread -lm -lcrypt -lutil -lc -lposix
perllibs=-lpthread -lm -lcrypt -lutil -lc -lposix
libc=/lib/libc.so
so=so
useshrplib=false
libperl=libperl.a
gnulibc_version=''
Dynamic Linking:
dlsrc=dl_dlopen.xs
dlext=so
d_dlsymun=undef
ccdlflags='-Wl,-E '
cccdlflags='-DPIC -fPIC '
lddlflags='-shared -L/usr/pkg/lib -fstack-protector-strong'
Characteristics of this binary (from libperl):
Compile-time options:
HAS_LONG_DOUBLE
HAS_STRTOLD
HAS_TIMES
PERLIO_LAYERS
PERL_COPY_ON_WRITE
PERL_DONT_CREATE_GVSV
PERL_HASH_FUNC_SIPHASH13
PERL_HASH_USE_SBOX32
PERL_MALLOC_WRAP
PERL_OP_PARENT
PERL_PRESERVE_IVUV
PERL_USE_DEVEL
PERL_USE_SAFE_PUTENV
USE_64_BIT_ALL
USE_64_BIT_INT
USE_LARGE_FILES
USE_LOCALE
USE_LOCALE_COLLATE
USE_LOCALE_CTYPE
USE_LOCALE_NUMERIC
USE_LOCALE_TIME
USE_PERLIO
USE_PERL_ATOF
Built under netbsd
Compiled at Jan 30 2025 22:12:45
%ENV:
PERL5LIB=""
PERL5OPT=""
PERL5_CPANPLUS_IS_RUNNING="27715"
PERL5_CPAN_IS_RUNNING="27715"
PERL_MM_USE_DEFAULT="1"
PERL_USE_UNSAFE_INC="1"
@INC:
/home/cpan/bin/perl/lib/site_perl/5.41.9/amd64-netbsd
/home/cpan/bin/perl/lib/site_perl/5.41.9
/home/cpan/bin/perl/lib/5.41.9/amd64-netbsd
/home/cpan/bin/perl/lib/5.41.9
.