Mojolicious-Plugin-OpenAPI v5.05 Perl 5 v5.35.11 x86_64-linux-multi

Status
Pass
From
Andreas J. König (ANDK)
Dist
Mojolicious-Plugin-OpenAPI v5.05
Platform
Perl 5 v5.35.11 x86_64-linux-multi
Date
2022-05-03 11:32:14
ID
ae5edab2-cad4-11ec-8d64-85d385ec7e8a
This distribution has been tested as part of the CPAN Testers
project, supporting the Perl programming language.  See
http://wiki.cpantesters.org/ for more information or email
questions to cpan-testers-discuss@perl.org


--
Dear Jan Henning Thorsen,

This is a computer-generated report for Mojolicious-Plugin-OpenAPI-5.05
on perl 5.35.11, created by CPAN-Reporter-1.2018.

Thank you for uploading your work to CPAN.  Congratulations!
All tests were successful.

Sections of this report:

    * Tester comments
    * Program output
    * Prerequisites
    * Environment and other context

------------------------------
TESTER COMMENTS
------------------------------

Additional comments from tester:

this report is from an automated smoke testing program
and was not reviewed by a human for accuracy

------------------------------
PROGRAM OUTPUT
------------------------------

Output from '/usr/bin/make test':

PERL_DL_NONLAZY=1 "/tmp/basesmoker-reloperl-FIQg/bin/perl" "-MExtUtils::Command::MM" "-MTest::Harness" "-e" "undef *Test::Harness::Switches; test_harness(0, 'blib/lib', 'blib/arch')" t/*.t
t/00-basic.t ........................... skipped: AUTHOR_TESTING=1
t/basic-404-501.t ...................... ok
t/basic-autorender.t ................... ok
t/basic-bundle.t ....................... ok
t/basic-coerce.t ....................... ok
t/basic-correct-order-of-paths.t ....... ok
t/basic-custom-formats.t ............... ok
t/basic-custom-renderer.t .............. ok
t/basic-custom-validation.t ............ ok
t/basic-empty-response.t ............... ok
t/basic-invalid-json-input.t ........... ok
t/basic-legacy-swagger2.t .............. ok
t/basic-mojo-placeholder.t ............. ok
t/basic-mojo-route-names.t ............. ok
t/basic-path-parameters.t .............. ok
t/basic-register-plugin.t .............. ok
t/basic-under-route-authenticate.t ..... ok
t/jv-recursion.t ....................... ok
t/plugin-cors.t ........................ ok
t/plugin-security-extended-status.t .... ok
t/plugin-security-rules-not-defined.t .. ok
t/plugin-security-v2.t ................. ok
t/plugin-security-v3.t ................. ok
t/plugin-spec-renderer-doc.t ........... ok
t/plugin-spec-renderer-options.t ....... ok
t/plugin-spec-renderer-standalone.t .... ok
t/plugin-spec-renderer-v3.t ............ ok
t/v2-basic.t ........................... ok
t/v2-body.t ............................ ok
t/v2-collectionformat.t ................ ok
t/v2-defaults.t ........................ ok
t/v2-discriminator.t ................... ok
t/v2-file.t ............................ ok
Format rule for 'unknown' is missing at /home/sand/src/perl/repoperls/installed-perls/host/k93msid/v5.35.11/4da5/lib/site_perl/5.35.11/JSON/Validator/Schema.pm line 605.
t/v2-formats.t ......................... ok
t/v2-headers.t ......................... ok
t/v2-id-prop.t ......................... ok
t/v2-readonly.t ........................ ok
t/v2-tutorial.t ........................ ok
t/v2-validate-schema.t ................. ok
t/v3-basic.t ........................... ok
t/v3-body.t ............................ ok
t/v3-bundle.t .......................... ok
t/v3-defaults.t ........................ ok
t/v3-file.t ............................ ok
t/v3-invalid_file_refs.t ............... ok
t/v3-invalid_file_refs_no_path.t ....... ok
t/v3-nullable.t ........................ ok
t/v3-style-array.t ..................... ok
t/v3-style-object.t .................... ok
t/v3-tutorial.t ........................ ok
t/v3-valid_file_refs.t ................. ok
t/v3-writeonly.t ....................... ok
All tests successful.

Test Summary Report
-------------------
t/v2-formats.t                       (Wstat: 0 Tests: 30 Failed: 0)
  TODO passed:   15
Files=52, Tests=762, 32 wallclock secs ( 0.27 usr  0.21 sys + 25.40 cusr  4.26 csys = 30.14 CPU)
Result: PASS

------------------------------
PREREQUISITES
------------------------------

Prerequisite modules loaded:

requires:

    Module              Need    Have    
    ------------------- ------- --------
    JSON::Validator     5.08    5.08    
    Mojolicious         9.00    9.25    

build_requires:

    Module              Need    Have    
    ------------------- ------- --------
    Test::More          0.88    1.302190

configure_requires:

    Module              Need    Have    
    ------------------- ------- --------
    ExtUtils::MakeMaker 0       7.64    

opt_requires:

    Module              Need    Have    
    ------------------- ------- --------
    Text::Markdown      v1.0.31 1.000031


------------------------------
ENVIRONMENT AND OTHER CONTEXT
------------------------------

Environment variables:

    AUTOMATED_TESTING = 1
    LANG = en_US.UTF-8
    PATH = /home/sand/bin:/usr/local/bin:/usr/bin:/bin:/usr/games:/usr/local/perl/bin:/usr/X11/bin:/sbin:/usr/sbin
    PERL5LIB = /home/sand/.cpan/privbuild/k93msid/Alien-ActiveMQ-0.00005-0/blib/arch:/home/sand/.cpan/privbuild/k93msid/Alien-ActiveMQ-0.00005-0/blib/lib
    PERL5OPT = 
    PERL5_CPANPLUS_IS_RUNNING = 1068428
    PERL5_CPAN_IS_RUNNING = 1068428
    PERL_CANARY_STABILITY_NOPROMPT = 1
    PERL_MM_USE_DEFAULT = 1
    PERL_USE_UNSAFE_INC = 1
    SHELL = /usr/bin/zsh
    TERM = screen

Perl special variables (and OS-specific diagnostics, for MSWin32):

    $^X = /tmp/basesmoker-reloperl-FIQg/bin/perl
    $UID/$EUID = 1005 / 1005
    $GID = 1005 1005
    $EGID = 1005 1005

Perl module toolchain versions installed:

    Module              Have    
    ------------------- --------
    CPAN                2.34    
    CPAN::Meta          2.150010
    Cwd                 3.84    
    ExtUtils::CBuilder  0.280236
    ExtUtils::Command   7.64    
    ExtUtils::Install   2.20    
    ExtUtils::MakeMaker 7.64    
    ExtUtils::Manifest  1.73    
    ExtUtils::ParseXS   3.45    
    File::Spec          3.84    
    JSON                4.05    
    JSON::PP            4.08    
    Module::Build       0.4231  
    Module::Signature   0.88    
    Parse::CPAN::Meta   2.150010
    Test::Harness       3.44    
    Test::More          1.302190
    YAML                1.30    
    YAML::Syck          1.34    
    version             0.9929  


--

Summary of my perl5 (revision 5 version 35 subversion 11) configuration:
  Commit id: 6309b8c0e379d2ae5a9d50fe46b4c1f52ec1b012
  Platform:
    osname=linux
    osvers=5.17.0-1-amd64
    archname=x86_64-linux-multi
    uname='linux k93msid 5.17.0-1-amd64 #1 smp preempt debian 5.17.3-1 (2022-04-18) x86_64 gnulinux '
    config_args='-Dprefix=/home/sand/src/perl/repoperls/installed-perls/host/k93msid/v5.35.11/4da5 -Dmyhostname=k93msid -Dinstallusrbinperl=n -Uversiononly -Dusedevel -des -Ui_db -Dlibswanted=cl pthread socket inet nsl gdbm dbm malloc dl ld sun m crypt sec util c cposix posix ucb BSD gdbm_compat -Uuseithreads -Uuselongdouble -DEBUGGING=both -Dusemultiplicity'
    hint=recommended
    useposix=true
    d_sigaction=define
    useithreads=undef
    usemultiplicity=define
    use64bitint=define
    use64bitall=define
    uselongdouble=undef
    usemymalloc=n
    default_inc_excludes_dot=define
  Compiler:
    cc='cc'
    ccflags ='-fwrapv -DDEBUGGING -fno-strict-aliasing -pipe -fstack-protector-strong -I/usr/local/include -D_LARGEFILE_SOURCE -D_FILE_OFFSET_BITS=64 -D_FORTIFY_SOURCE=2'
    optimize='-O2 -g'
    cppflags='-fwrapv -DDEBUGGING -fno-strict-aliasing -pipe -fstack-protector-strong -I/usr/local/include'
    ccversion=''
    gccversion='11.3.0'
    gccosandvers=''
    intsize=4
    longsize=8
    ptrsize=8
    doublesize=8
    byteorder=12345678
    doublekind=3
    d_longlong=define
    longlongsize=8
    d_longdbl=define
    longdblsize=16
    longdblkind=3
    ivtype='long'
    ivsize=8
    nvtype='double'
    nvsize=8
    Off_t='off_t'
    lseeksize=8
    alignbytes=8
    prototype=define
  Linker and Libraries:
    ld='cc'
    ldflags =' -fstack-protector-strong -L/usr/local/lib'
    libpth=/usr/local/lib /usr/lib/x86_64-linux-gnu /usr/lib /lib/x86_64-linux-gnu /lib
    libs=-lpthread -lnsl -ldl -lm -lcrypt -lutil -lc
    perllibs=-lpthread -lnsl -ldl -lm -lcrypt -lutil -lc
    libc=libc-2.33.so
    so=so
    useshrplib=false
    libperl=libperl.a
    gnulibc_version='2.33'
  Dynamic Linking:
    dlsrc=dl_dlopen.xs
    dlext=so
    d_dlsymun=undef
    ccdlflags='-Wl,-E'
    cccdlflags='-fPIC'
    lddlflags='-shared -O2 -g -L/usr/local/lib -fstack-protector-strong'


Characteristics of this binary (from libperl): 
  Compile-time options:
    DEBUGGING
    HAS_TIMES
    MULTIPLICITY
    PERLIO_LAYERS
    PERL_COPY_ON_WRITE
    PERL_DONT_CREATE_GVSV
    PERL_MALLOC_WRAP
    PERL_OP_PARENT
    PERL_PRESERVE_IVUV
    PERL_TRACK_MEMPOOL
    PERL_USE_DEVEL
    USE_64_BIT_ALL
    USE_64_BIT_INT
    USE_LARGE_FILES
    USE_LOCALE
    USE_LOCALE_COLLATE
    USE_LOCALE_CTYPE
    USE_LOCALE_NUMERIC
    USE_LOCALE_TIME
    USE_PERLIO
    USE_PERL_ATOF
  Built under linux
  Compiled at Apr 30 2022 18:43:30
  %ENV:
    PERL5LIB="/home/sand/.cpan/privbuild/k93msid/Alien-ActiveMQ-0.00005-0/blib/arch:/home/sand/.cpan/privbuild/k93msid/Alien-ActiveMQ-0.00005-0/blib/lib"
    PERL5OPT=""
    PERL5_CPANPLUS_IS_RUNNING="1068428"
    PERL5_CPAN_IS_RUNNING="1068428"
    PERL_CANARY_STABILITY_NOPROMPT="1"
    PERL_MM_USE_DEFAULT="1"
    PERL_USE_UNSAFE_INC="1"
  @INC:
    /home/sand/.cpan/privbuild/k93msid/Alien-ActiveMQ-0.00005-0/blib/arch
    /home/sand/.cpan/privbuild/k93msid/Alien-ActiveMQ-0.00005-0/blib/lib
    /home/sand/src/perl/repoperls/installed-perls/host/k93msid/v5.35.11/4da5/lib/site_perl/5.35.11/x86_64-linux-multi
    /home/sand/src/perl/repoperls/installed-perls/host/k93msid/v5.35.11/4da5/lib/site_perl/5.35.11
    /home/sand/src/perl/repoperls/installed-perls/host/k93msid/v5.35.11/4da5/lib/5.35.11/x86_64-linux-multi
    /home/sand/src/perl/repoperls/installed-perls/host/k93msid/v5.35.11/4da5/lib/5.35.11
    .