MooseX-Extended v0.35 Perl 5 v5.39.10 x86_64-linux-ld
- Status
- Pass
- From
- Andreas J. König (ANDK)
- Dist
-
MooseX-Extended v0.35
- Platform
- Perl 5 v5.39.10 x86_64-linux-ld
- Date
- 2024-05-05 08:58:46
- ID
- ae3d1c62-0abd-11ef-b78d-09e64a902c4d
This distribution has been tested as part of the CPAN Testers
project, supporting the Perl programming language. See
http://wiki.cpantesters.org/ for more information or email
questions to cpan-testers-discuss@perl.org
--
Dear Curtis Poe,
This is a computer-generated report for MooseX-Extended-0.35
on perl 5.39.10, created by CPAN-Reporter-1.2019.
Thank you for uploading your work to CPAN. Congratulations!
All tests were successful.
Sections of this report:
* Tester comments
* Program output
* Prerequisites
* Environment and other context
------------------------------
TESTER COMMENTS
------------------------------
Additional comments from tester:
this report is from an automated smoke testing program
and was not reviewed by a human for accuracy
------------------------------
PROGRAM OUTPUT
------------------------------
Output from '/usr/bin/make test':
PERL_DL_NONLAZY=1 "/tmp/basesmoker-reloperl-sLbq/bin/perl" "-MExtUtils::Command::MM" "-MTest::Harness" "-e" "undef *Test::Harness::Switches; test_harness(0, 'blib/lib', 'blib/arch')" t/*.t
# Testing MooseX::Extended 0.35, Perl 5.039010, /tmp/basesmoker-reloperl-sLbq/bin/perl
t/00-load.t ............... ok
#
# Versions for all modules listed in MYMETA.json (including optional ones):
#
# === Configure Requires ===
#
# Module Want Have
# ------------------- ---- ----
# ExtUtils::MakeMaker any 7.70
#
# === Build Requires ===
#
# Module Want Have
# ------------------- ---- ----
# ExtUtils::MakeMaker any 7.70
#
# === Test Requires ===
#
# Module Want Have
# ------------------- ---- --------
# Capture::Tiny any 0.48
# DateTime any 1.65
# ExtUtils::MakeMaker any 7.70
# File::Spec any 3.90
# List::Util any 1.63
# Scalar::Util any 1.63
# Test::Builder any 1.302199
# Test::More any 1.302199
# Test::Most any 0.38
# base any 2.27
# lib any 0.65
# version any 0.9932
#
# === Test Recommends ===
#
# Module Want Have
# --------------- -------- --------
# CPAN::Meta 2.120900 2.150010
# Data::Printer any 1.002001
# IO::Async::Loop any 0.803
#
# === Runtime Requires ===
#
# Module Want Have
# ----------------------------- -------- --------
# B::Hooks::AtRuntime 8 8
# Carp any 1.54
# Data::Printer any 1.002001
# Exporter any 5.78
# Import::Into any 1.002005
# Module::Load any 0.36
# Moose any 2.2207
# Moose::Exception any 2.2207
# Moose::Exception::Role::Class any 2.2207
# Moose::Exporter any 2.2207
# Moose::Meta::Role any 2.2207
# Moose::Role any 2.2207
# Moose::Util any 2.2207
# MooseX::Role::WarnOnConflict any 0.01
# MooseX::StrictConstructor any 0.21
# Ref::Util any 0.204
# Storable any 3.32
# Type::Library any 2.004000
# Type::Params any 2.004000
# Type::Tiny 1.012004 2.004000
# Type::Utils any 2.004000
# Types::Common::Numeric any 2.004000
# Types::Common::String any 2.004000
# Types::Standard any 2.004000
# constant any 1.33
# feature any 1.88
# mro any 1.29
# namespace::autoclean any 0.29
# parent any 0.241
# perl 5.020000 5.039010
# strict any 1.13
# true v1.0.2 v1.0.2
# warnings any 1.69
#
# === Runtime Suggests ===
#
# Module Want Have
# ------------------------- -------- --------
# Function::Parameters 2.001003 2.002004
# Future 0.48 0.50
# Future::AsyncAwait 0.58 0.66
# Syntax::Keyword::MultiSub 0.03 missing
# Syntax::Keyword::Try 0.027 0.29
#
t/00-report-prereqs.t ..... ok
t/async.t ................. ok
t/basic.t ................. ok
t/clone.t ................. ok
t/configuration.t ......... ok
t/custom.t ................ ok
t/exceptions.t ............ ok
t/excludes_field_param.t .. ok
t/field_init_arg.t ........ ok
t/import-lists.t .......... ok
t/inheritance.t ........... ok
t/inline.t ................ ok
t/method-keyword.t ........ ok
t/moose_compatibility.t ... ok
t/multimethods.t .......... skipped: Could not load Syntax::Keyword::MultiSub: Can't locate Syntax/Keyword/MultiSub.pm in @INC (you may need to install the Syntax::Keyword::MultiSub module) (@INC entries checked: t/lib /tmp/loop_over_bdir-2594-zRJt0W/MooseX-Extended-0.35-0/blib/lib /tmp/loop_over_bdir-2594-zRJt0W/MooseX-Extended-0.35-0/blib/arch /tmp/loop_over_bdir-2594-zRJt0W/Dpkg-1.22.6-0/blib/arch /tmp/loop_over_bdir-2594-zRJt0W/Dpkg-1.22.6-0/blib/lib /tmp/loop_over_bdir-2594-zRJt0W/LiquidWeb-Storm-CLI-1.03-0/blib/arch /tmp/loop_over_bdir-2594-zRJt0W/LiquidWeb-Storm-CLI-1.03-0/blib/lib /tmp/loop_over_bdir-2594-zRJt0W/NoZone-1.3-0/blib/arch /tmp/loop_over_bdir-2594-zRJt0W/NoZone-1.3-0/blib/lib /tmp/loop_over_bdir-2594-zRJt0W/Devel-Required-0.16-0/blib/arch /tmp/loop_over_bdir-2594-zRJt0W/Devel-Required-0.16-0/blib/lib /tmp/loop_over_bdir-2594-zRJt0W/DBIx-Migration-Directories-0.12-0/blib/arch /tmp/loop_over_bdir-2594-zRJt0W/DBIx-Migration-Directories-0.12-0/blib/lib /tmp/loop_over_bdir-2594-zRJt0W/Net-Async-WebService-lxd-0.03-0/blib/arch /tmp/loop_over_bdir-2594-zRJt0W/Net-Async-WebService-lxd-0.03-0/blib/lib /home/sand/src/perl/repoperls/installed-perls/host/k93jammy/v5.39.10/5674/lib/site_perl/5.39.10/x86_64-linux-ld /home/sand/src/perl/repoperls/installed-perls/host/k93jammy/v5.39.10/5674/lib/site_perl/5.39.10 /home/sand/src/perl/repoperls/installed-perls/host/k93jammy/v5.39.10/5674/lib/5.39.10/x86_64-linux-ld /home/sand/src/perl/repoperls/installed-perls/host/k93jammy/v5.39.10/5674/lib/5.39.10 .) at /home/sand/src/perl/repoperls/installed-perls/host/k93jammy/v5.39.10/5674/lib/5.39.10/Module/Load.pm line 78.
t/roles.t ................. ok
t/rwp.t ................... ok
t/stringy-eval.t .......... ok
t/try.t ................... ok
t/types.t ................. ok
t/warnings.t .............. ok
All tests successful.
Files=22, Tests=120, 9 wallclock secs ( 0.08 usr 0.02 sys + 7.72 cusr 1.14 csys = 8.96 CPU)
Result: PASS
------------------------------
PREREQUISITES
------------------------------
Prerequisite modules loaded:
requires:
Module Need Have
----------------------------- -------- --------
B::Hooks::AtRuntime 8 8
Carp 0 1.54
constant 0 1.33
Data::Printer 0 1.002001
Exporter 0 5.78
feature 0 1.88
Import::Into 0 1.002005
Module::Load 0 0.36
Moose 0 2.2207
Moose::Exception 0 2.2207
Moose::Exception::Role::Class 0 2.2207
Moose::Exporter 0 2.2207
Moose::Meta::Role 0 2.2207
Moose::Role 0 2.2207
Moose::Util 0 2.2207
MooseX::Role::WarnOnConflict 0 0.01
MooseX::StrictConstructor 0 0.21
mro 0 1.29
namespace::autoclean 0 0.29
parent 0 0.241
perl 5.020000 5.039010
Ref::Util 0 0.204
Storable 0 3.32
strict 0 1.13
true v1.0.2 v1.0.2
Type::Library 0 2.004000
Type::Params 0 2.004000
Type::Tiny 1.012004 2.004000
Type::Utils 0 2.004000
Types::Common::Numeric 0 2.004000
Types::Common::String 0 2.004000
Types::Standard 0 2.004000
warnings 0 1.69
build_requires:
Module Need Have
----------------------------- -------- --------
base 0 2.27
Capture::Tiny 0 0.48
DateTime 0 1.65
ExtUtils::MakeMaker 0 7.70
File::Spec 0 3.90
lib 0 0.65
List::Util 0 1.63
Scalar::Util 0 1.63
Test::Builder 0 1.302199
Test::More 0 1.302199
Test::Most 0 0.38
version 0 0.9932
configure_requires:
Module Need Have
----------------------------- -------- --------
ExtUtils::MakeMaker 0 7.70
------------------------------
ENVIRONMENT AND OTHER CONTEXT
------------------------------
Environment variables:
AUTOMATED_TESTING = 1
LANG = en_US.UTF-8
LC_ADDRESS = de_DE.UTF-8
LC_IDENTIFICATION = de_DE.UTF-8
LC_MEASUREMENT = de_DE.UTF-8
LC_MONETARY = de_DE.UTF-8
LC_NAME = de_DE.UTF-8
LC_NUMERIC = de_DE.UTF-8
LC_PAPER = de_DE.UTF-8
LC_TELEPHONE = de_DE.UTF-8
LC_TIME = de_DE.UTF-8
PATH = /home/sand/bin:/usr/local/bin:/usr/local/sbin:/usr/sbin:/usr/bin:/sbin:/bin:/usr/games:/usr/local/games:/snap/bin:/usr/local/perl/bin:/usr/X11/bin
PERL = /tmp/basesmoker-reloperl-sLbq/bin/perl
PERL5LIB = /tmp/loop_over_bdir-2594-zRJt0W/Dpkg-1.22.6-0/blib/arch:/tmp/loop_over_bdir-2594-zRJt0W/Dpkg-1.22.6-0/blib/lib:/tmp/loop_over_bdir-2594-zRJt0W/LiquidWeb-Storm-CLI-1.03-0/blib/arch:/tmp/loop_over_bdir-2594-zRJt0W/LiquidWeb-Storm-CLI-1.03-0/blib/lib:/tmp/loop_over_bdir-2594-zRJt0W/NoZone-1.3-0/blib/arch:/tmp/loop_over_bdir-2594-zRJt0W/NoZone-1.3-0/blib/lib:/tmp/loop_over_bdir-2594-zRJt0W/Devel-Required-0.16-0/blib/arch:/tmp/loop_over_bdir-2594-zRJt0W/Devel-Required-0.16-0/blib/lib:/tmp/loop_over_bdir-2594-zRJt0W/DBIx-Migration-Directories-0.12-0/blib/arch:/tmp/loop_over_bdir-2594-zRJt0W/DBIx-Migration-Directories-0.12-0/blib/lib:/tmp/loop_over_bdir-2594-zRJt0W/Net-Async-WebService-lxd-0.03-0/blib/arch:/tmp/loop_over_bdir-2594-zRJt0W/Net-Async-WebService-lxd-0.03-0/blib/lib
PERL5OPT =
PERL5_CPANPLUS_IS_RUNNING = 2602
PERL5_CPAN_IS_RUNNING = 2602
PERL_CANARY_STABILITY_NOPROMPT = 1
PERL_MM_USE_DEFAULT = 1
PERL_USE_UNSAFE_INC = 1
SHELL = /usr/bin/zsh
TERM = screen
Perl special variables (and OS-specific diagnostics, for MSWin32):
$^X = /tmp/basesmoker-reloperl-sLbq/bin/perl
$UID/$EUID = 1005 / 1005
$GID = 1005 1005
$EGID = 1005 1005
Perl module toolchain versions installed:
Module Have
------------------- --------
CPAN 2.36
CPAN::Meta 2.150010
Cwd 3.90
ExtUtils::CBuilder 0.280240
ExtUtils::Command 7.70
ExtUtils::Install 2.22
ExtUtils::MakeMaker 7.70
ExtUtils::Manifest 1.75
ExtUtils::ParseXS 3.51
File::Spec 3.90
JSON 4.10
JSON::PP 4.16
Module::Build 0.4234
Module::Signature 0.88
Parse::CPAN::Meta 2.150010
Test2 1.302199
Test::Harness 3.48
Test::More 1.302199
YAML 1.31
YAML::Syck 1.34
version 0.9932
--
Summary of my perl5 (revision 5 version 39 subversion 10) configuration:
Commit id: c46c2bea6f111c45982b89c7e57b56125ff2e10c
Platform:
osname=linux
osvers=6.5.0-27-generic
archname=x86_64-linux-ld
uname='linux k93jammy 6.5.0-27-generic #28~22.04.1-ubuntu smp preempt_dynamic fri mar 15 10:51:06 utc 2 x86_64 x86_64 x86_64 gnulinux '
config_args='-Dprefix=/home/sand/src/perl/repoperls/installed-perls/host/k93jammy/v5.39.10/5674 -Dmyhostname=k93jammy -Dinstallusrbinperl=n -Uversiononly -Dusedevel -des -Ui_db -Dlibswanted=cl pthread socket inet nsl gdbm dbm malloc dl ld sun m crypt sec util c cposix posix ucb BSD gdbm_compat -Uuseithreads -Duselongdouble -DEBUGGING=-g'
hint=recommended
useposix=true
d_sigaction=define
useithreads=undef
usemultiplicity=undef
use64bitint=define
use64bitall=define
uselongdouble=define
usemymalloc=n
default_inc_excludes_dot=define
Compiler:
cc='cc'
ccflags ='-fwrapv -fno-strict-aliasing -pipe -fstack-protector-strong -I/usr/local/include -D_LARGEFILE_SOURCE -D_FILE_OFFSET_BITS=64'
optimize='-O2 -g'
cppflags='-fwrapv -fno-strict-aliasing -pipe -fstack-protector-strong -I/usr/local/include'
ccversion=''
gccversion='11.4.0'
gccosandvers=''
intsize=4
longsize=8
ptrsize=8
doublesize=8
byteorder=12345678
doublekind=3
d_longlong=define
longlongsize=8
d_longdbl=define
longdblsize=16
longdblkind=3
ivtype='long'
ivsize=8
nvtype='long double'
nvsize=16
Off_t='off_t'
lseeksize=8
alignbytes=16
prototype=define
Linker and Libraries:
ld='cc'
ldflags =' -fstack-protector-strong -L/usr/local/lib'
libpth=/usr/local/lib /usr/lib/x86_64-linux-gnu /usr/lib /usr/lib64
libs=-lpthread -lnsl -ldl -lm -lcrypt -lutil -lc
perllibs=-lpthread -lnsl -ldl -lm -lcrypt -lutil -lc
libc=/lib/x86_64-linux-gnu/libc.so.6
so=so
useshrplib=false
libperl=libperl.a
gnulibc_version='2.35'
Dynamic Linking:
dlsrc=dl_dlopen.xs
dlext=so
d_dlsymun=undef
ccdlflags='-Wl,-E'
cccdlflags='-fPIC'
lddlflags='-shared -O2 -g -L/usr/local/lib -fstack-protector-strong'
Characteristics of this binary (from libperl):
Compile-time options:
HAS_LONG_DOUBLE
HAS_STRTOLD
HAS_TIMES
PERLIO_LAYERS
PERL_COPY_ON_WRITE
PERL_DONT_CREATE_GVSV
PERL_HASH_FUNC_SIPHASH13
PERL_HASH_USE_SBOX32
PERL_MALLOC_WRAP
PERL_OP_PARENT
PERL_PRESERVE_IVUV
PERL_USE_DEVEL
PERL_USE_SAFE_PUTENV
USE_64_BIT_ALL
USE_64_BIT_INT
USE_LARGE_FILES
USE_LOCALE
USE_LOCALE_COLLATE
USE_LOCALE_CTYPE
USE_LOCALE_NUMERIC
USE_LOCALE_TIME
USE_LONG_DOUBLE
USE_PERLIO
USE_PERL_ATOF
Built under linux
Compiled at Apr 28 2024 08:17:33
%ENV:
PERL="/tmp/basesmoker-reloperl-sLbq/bin/perl"
PERL5LIB="/tmp/loop_over_bdir-2594-zRJt0W/Dpkg-1.22.6-0/blib/arch:/tmp/loop_over_bdir-2594-zRJt0W/Dpkg-1.22.6-0/blib/lib:/tmp/loop_over_bdir-2594-zRJt0W/LiquidWeb-Storm-CLI-1.03-0/blib/arch:/tmp/loop_over_bdir-2594-zRJt0W/LiquidWeb-Storm-CLI-1.03-0/blib/lib:/tmp/loop_over_bdir-2594-zRJt0W/NoZone-1.3-0/blib/arch:/tmp/loop_over_bdir-2594-zRJt0W/NoZone-1.3-0/blib/lib:/tmp/loop_over_bdir-2594-zRJt0W/Devel-Required-0.16-0/blib/arch:/tmp/loop_over_bdir-2594-zRJt0W/Devel-Required-0.16-0/blib/lib:/tmp/loop_over_bdir-2594-zRJt0W/DBIx-Migration-Directories-0.12-0/blib/arch:/tmp/loop_over_bdir-2594-zRJt0W/DBIx-Migration-Directories-0.12-0/blib/lib:/tmp/loop_over_bdir-2594-zRJt0W/Net-Async-WebService-lxd-0.03-0/blib/arch:/tmp/loop_over_bdir-2594-zRJt0W/Net-Async-WebService-lxd-0.03-0/blib/lib"
PERL5OPT=""
PERL5_CPANPLUS_IS_RUNNING="2602"
PERL5_CPAN_IS_RUNNING="2602"
PERL_CANARY_STABILITY_NOPROMPT="1"
PERL_MM_USE_DEFAULT="1"
PERL_USE_UNSAFE_INC="1"
@INC:
/tmp/loop_over_bdir-2594-zRJt0W/Dpkg-1.22.6-0/blib/arch
/tmp/loop_over_bdir-2594-zRJt0W/Dpkg-1.22.6-0/blib/lib
/tmp/loop_over_bdir-2594-zRJt0W/LiquidWeb-Storm-CLI-1.03-0/blib/arch
/tmp/loop_over_bdir-2594-zRJt0W/LiquidWeb-Storm-CLI-1.03-0/blib/lib
/tmp/loop_over_bdir-2594-zRJt0W/NoZone-1.3-0/blib/arch
/tmp/loop_over_bdir-2594-zRJt0W/NoZone-1.3-0/blib/lib
/tmp/loop_over_bdir-2594-zRJt0W/Devel-Required-0.16-0/blib/arch
/tmp/loop_over_bdir-2594-zRJt0W/Devel-Required-0.16-0/blib/lib
/tmp/loop_over_bdir-2594-zRJt0W/DBIx-Migration-Directories-0.12-0/blib/arch
/tmp/loop_over_bdir-2594-zRJt0W/DBIx-Migration-Directories-0.12-0/blib/lib
/tmp/loop_over_bdir-2594-zRJt0W/Net-Async-WebService-lxd-0.03-0/blib/arch
/tmp/loop_over_bdir-2594-zRJt0W/Net-Async-WebService-lxd-0.03-0/blib/lib
/home/sand/src/perl/repoperls/installed-perls/host/k93jammy/v5.39.10/5674/lib/site_perl/5.39.10/x86_64-linux-ld
/home/sand/src/perl/repoperls/installed-perls/host/k93jammy/v5.39.10/5674/lib/site_perl/5.39.10
/home/sand/src/perl/repoperls/installed-perls/host/k93jammy/v5.39.10/5674/lib/5.39.10/x86_64-linux-ld
/home/sand/src/perl/repoperls/installed-perls/host/k93jammy/v5.39.10/5674/lib/5.39.10
.