Report for Test-DBIx-Class-0.52

Back
From: metabase:user:30977d10-2aae-11df-837a-5e0a49663a4f
Subject: PASS Test-DBIx-Class-0.52 v5.22.3 SunOS/Solaris
Date: 2017-03-17T16:49:25Z

This distribution has been tested as part of the CPAN Testers
project, supporting the Perl programming language.  See
http://wiki.cpantesters.org/ for more information or email
questions to cpan-testers-discuss@perl.org


--
Dear Colin Newell,

This is a computer-generated report for Test-DBIx-Class-0.52
on perl 5.22.3, created by CPAN-Reporter-1.2018.

Thank you for uploading your work to CPAN.  Congratulations!
All tests were successful.

Sections of this report:

    * Tester comments
    * Program output
    * Prerequisites
    * Environment and other context

------------------------------
TESTER COMMENTS
------------------------------

Additional comments from tester:

this report is from an automated smoke testing program
and was not reviewed by a human for accuracy

------------------------------
PROGRAM OUTPUT
------------------------------

Output from '/usr/bin/make test':

PERL_DL_NONLAZY=1 "/home/stro/perl/5.22.3t/bin/perl" "-MExtUtils::Command::MM" "-MTest::Harness" "-e" "undef *Test::Harness::Switches; test_harness(0, 'blib/lib', 'blib/arch')" t/*.t t/stress_replication/*.t
t/00-basic.t .................................. ok
# 
# Versions for all modules listed in MYMETA.json (including optional ones):
# 
# === Configure Requires ===
# 
#     Module              Want Have
#     ------------------- ---- ----
#     ExtUtils::MakeMaker  any 7.24
# 
# === Build Requires ===
# 
#     Module              Want Have
#     ------------------- ---- ----
#     ExtUtils::MakeMaker  any 7.24
# 
# === Test Requires ===
# 
#     Module              Want     Have
#     ------------------- ---- --------
#     ExtUtils::MakeMaker  any     7.24
#     File::Spec           any     3.62
#     Test::More          0.94 1.302075
# 
# === Test Recommends ===
# 
#     Module         Want     Have
#     ---------- -------- --------
#     CPAN::Meta 2.120900 2.150001
# 
# === Runtime Requires ===
# 
#     Module                               Want     Have
#     --------------------------------- ------- --------
#     Config::Any                          0.19     0.27
#     DBIx::Class                       0.08123 0.082840
#     DBIx::Class::Schema::PopulateMore    0.16     0.19
#     DBIx::Class::TimeStamp               0.13     0.14
#     DBIx::Class::UUIDColumns          0.02005  0.02006
#     Data::UUID                          1.215    1.221
#     Data::Visitor                        0.27     0.30
#     Digest::MD5                          2.39     2.54
#     File::Path                            any     2.09
#     File::Temp                            any   0.2304
#     Hash::Merge                          0.11    0.200
#     List::MoreUtils                      0.22    0.416
#     Module::Runtime                     0.013    0.014
#     Moose                                1.10   2.2004
#     MooseX::Attribute::ENV               0.01     0.02
#     MooseX::Types                        0.23     0.50
#     Path::Class                          0.21     0.37
#     SQL::Translator                   0.11006  0.11021
#     Scalar::Util                         1.23     1.47
#     Sub::Exporter                       0.982    0.987
#     Test::Builder                        0.96 1.302075
#     Test::Deep                          0.106    1.126
# 
t/00-report-prereqs.t ......................... ok
t/01-normalize-options.t ...................... ok
t/02-initialize-schema.t ...................... ok
t/03-merge-configs.t .......................... ok
t/04-load-fixtures.t .......................... ok
t/05-example-schema.t ......................... ok
t/06-basic-test-schema.t ...................... ok
t/07-alternative-config.t ..................... ok
t/08-test-mysqld.t ............................ skipped: Test::mysqld not installed
t/09-test-postgresql.t ........................ skipped: Test::Postgresql58 not installed
t/10-replication-mysql.t ...................... skipped: Test::mysqld not installed
t/11-fixtures_ok_populate.t ................... ok
t/11-set-from-env.t ........................... ok
t/12-fixtures_ok_populatemore.t ............... ok
t/13-test-sqlite.t ............................ ok
t/14-hide-diag.t .............................. ok
t/14-test-connection-opts.t ................... ok
t/15-hide-diag-mysqld.t ....................... skipped: Test::mysqld not installed
t/16-hide-diag-postgres.t ..................... skipped: Test::Postgresql58 not installed
t/17-importing-sources-gives-new-resultset.t .. ok
t/18-deploy-opts-sources.t .................... ok
t/19-deploy-opts-parser-args.t ................ ok
t/20-fixtures_ok_populate_hash.t .............. ok
t/stress_replication/10-replication-mysql.t ... skipped: Test::mysqld not installed
t/stress_replication/11-replication-mysql.t ... skipped: Test::mysqld not installed
t/stress_replication/12-replication-mysql.t ... skipped: Test::mysqld not installed
t/stress_replication/13-replication-mysql.t ... skipped: Test::mysqld not installed
t/stress_replication/14-replication-mysql.t ... skipped: Test::mysqld not installed
t/stress_replication/15-replication-mysql.t ... skipped: Test::mysqld not installed
All tests successful.
Files=30, Tests=180, 22 wallclock secs ( 0.11 usr  0.05 sys + 16.61 cusr  1.92 csys = 18.69 CPU)
Result: PASS

------------------------------
PREREQUISITES
------------------------------

Prerequisite modules loaded:

requires:

    Module                            Need     Have    
    --------------------------------- -------- --------
    Config::Any                       0.19     0.27    
    Data::UUID                        1.215    1.221   
    Data::Visitor                     0.27     0.30    
    DBIx::Class                       0.08123  0.082840
    DBIx::Class::Schema::PopulateMore 0.16     0.19    
    DBIx::Class::TimeStamp            0.13     0.14    
    DBIx::Class::UUIDColumns          0.02005  0.02006 
    Digest::MD5                       2.39     2.54    
    File::Path                        0        2.09    
    File::Temp                        0        0.2304  
    Hash::Merge                       0.11     0.200   
    List::MoreUtils                   0.22     0.416   
    Module::Runtime                   0.013    0.014   
    Moose                             1.10     2.2004  
    MooseX::Attribute::ENV            0.01     0.02    
    MooseX::Types                     0.23     0.50    
    Path::Class                       0.21     0.37    
    Scalar::Util                      1.23     1.47    
    SQL::Translator                   0.11006  0.11021 
    Sub::Exporter                     0.982    0.987   
    Test::Builder                     0.96     1.302075
    Test::Deep                        0.106    1.126   

build_requires:

    Module                            Need     Have    
    --------------------------------- -------- --------
    ExtUtils::MakeMaker               0        7.24    
    File::Spec                        0        3.62    
    Test::More                        0.94     1.302075

configure_requires:

    Module                            Need     Have    
    --------------------------------- -------- --------
    ExtUtils::MakeMaker               0        7.24    

opt_build_requires:

    Module                            Need     Have    
    --------------------------------- -------- --------
    CPAN::Meta                        2.120900 2.150001


------------------------------
ENVIRONMENT AND OTHER CONTEXT
------------------------------

Environment variables:

    AUTOMATED_TESTING = 1
    LANG = en_US.UTF-8
    PATH = /usr/gnu/bin:/usr/bin:/usr/sbin:/sbin:/usr/sfw/bin:
    PERL5LIB = 
    PERL5OPT = 
    PERL5_CPANPLUS_IS_RUNNING = 18860
    PERL5_CPAN_IS_RUNNING = 18860
    PERL5_CPAN_IS_RUNNING_IN_RECURSION = 5576,18860
    PERL_CR_SMOKER_CURRENT = DBIx-Class-ResultSet-SetControl-0.001
    PERL_EXTUTILS_AUTOINSTALL = --defaultdeps
    PERL_MM_USE_DEFAULT = 1
    SHELL = /bin/bash
    TERM = xterm

Perl special variables (and OS-specific diagnostics, for MSWin32):

    $^X = /home/stro/perl/5.22.3t/bin/perl
    $UID/$EUID = 101 / 101
    $GID = 10 10
    $EGID = 10 10

Perl module toolchain versions installed:

    Module              Have      
    ------------------- ----------
    CPAN                2.16      
    CPAN::Meta          2.150001  
    Cwd                 3.62      
    ExtUtils::CBuilder  0.280221  
    ExtUtils::Command   7.24      
    ExtUtils::Install   2.04      
    ExtUtils::MakeMaker 7.24      
    ExtUtils::Manifest  1.70      
    ExtUtils::ParseXS   3.28      
    File::Spec          3.62      
    JSON                2.90      
    JSON::PP            2.27300_01
    Module::Build       0.4220    
    Module::Signature   n/a       
    Parse::CPAN::Meta   1.4414_001
    Test::Harness       3.35_01   
    Test::More          1.302075  
    YAML                1.22      
    YAML::Syck          1.29      
    version             0.9909    


--

Summary of my perl5 (revision 5 version 22 subversion 3) configuration:
   
  Platform:
    osname=solaris, osvers=2.11, archname=i86pc-solaris-thread-multi
    uname='sunos vm-openindiana-001 5.11 illumos-2816291 i86pc i386 i86pc '
    config_args='-Dcc=gcc'
    hint=recommended, useposix=true, d_sigaction=define
    useithreads=define, usemultiplicity=define
    use64bitint=undef, use64bitall=undef, uselongdouble=undef
    usemymalloc=n, bincompat5005=undef
  Compiler:
    cc='gcc', ccflags ='-D_REENTRANT -fno-strict-aliasing -pipe -I/usr/gnu/include -D_LARGEFILE_SOURCE -D_FILE_OFFSET_BITS=64 -DPERL_USE_SAFE_PUTENV',
    optimize='-O',
    cppflags='-D_REENTRANT -fno-strict-aliasing -pipe -I/usr/gnu/include'
    ccversion='', gccversion='3.4.3 (csl-sol210-3_4-20050802)', gccosandvers='solaris2.11'
    intsize=4, longsize=4, ptrsize=4, doublesize=8, byteorder=1234, doublekind=3
    d_longlong=define, longlongsize=8, d_longdbl=define, longdblsize=12, longdblkind=3
    ivtype='long', ivsize=4, nvtype='double', nvsize=8, Off_t='off_t', lseeksize=8
    alignbytes=4, prototype=define
  Linker and Libraries:
    ld='gcc', ldflags =' -L/usr/gnu/lib '
    libpth=/usr/gcc/3.4/lib /usr/lib /usr/gnu/lib /usr/ccs/lib
    libs=-lpthread -lsocket -lnsl -lgdbm -ldb -ldl -lm -lc
    perllibs=-lpthread -lsocket -lnsl -ldl -lm -lc
    libc=/lib/libc.so, so=so, useshrplib=false, libperl=libperl.a
    gnulibc_version=''
  Dynamic Linking:
    dlsrc=dl_dlopen.xs, dlext=so, d_dlsymun=undef, ccdlflags=' '
    cccdlflags='-fPIC', lddlflags='-shared -L/usr/gnu/lib'


Characteristics of this binary (from libperl): 
  Compile-time options: HAS_TIMES MULTIPLICITY PERLIO_LAYERS
                        PERL_DONT_CREATE_GVSV
                        PERL_HASH_FUNC_ONE_AT_A_TIME_HARD
                        PERL_IMPLICIT_CONTEXT PERL_MALLOC_WRAP
                        PERL_NEW_COPY_ON_WRITE PERL_PRESERVE_IVUV
                        PERL_USE_SAFE_PUTENV USE_ITHREADS USE_LARGE_FILES
                        USE_LOCALE USE_LOCALE_COLLATE USE_LOCALE_CTYPE
                        USE_LOCALE_NUMERIC USE_LOCALE_TIME USE_PERLIO
                        USE_PERL_ATOF USE_REENTRANT_API
  Built under solaris
  Compiled at Feb  5 2017 20:03:26
  %ENV:
    PERL5LIB=""
    PERL5OPT=""
    PERL5_CPANPLUS_IS_RUNNING="18860"
    PERL5_CPAN_IS_RUNNING="18860"
    PERL5_CPAN_IS_RUNNING_IN_RECURSION="5576,18860"
    PERL_CR_SMOKER_CURRENT="DBIx-Class-ResultSet-SetControl-0.001"
    PERL_EXTUTILS_AUTOINSTALL="--defaultdeps"
    PERL_MM_USE_DEFAULT="1"
  @INC:
    /home/stro/perl/5.22.3t/lib/site_perl/5.22.3/i86pc-solaris-thread-multi
    /home/stro/perl/5.22.3t/lib/site_perl/5.22.3
    /home/stro/perl/5.22.3t/lib/5.22.3/i86pc-solaris-thread-multi
    /home/stro/perl/5.22.3t/lib/5.22.3
    .