Report for Catalyst-Authentication-Store-Proxy-0.0.1

Back
From: metabase:user:8d44a2bc-b4ba-11e0-8d77-09d09eb71fc2
Subject: PASS Catalyst-Authentication-Store-Proxy-0.0.1 v5.20.0 GNU/Linux
Date: 2014-08-09T03:31:41Z

This distribution has been tested as part of the CPAN Testers
project, supporting the Perl programming language.  See
http://wiki.cpantesters.org/ for more information or email
questions to cpan-testers-discuss@perl.org


--
Dear Moritz Onken,

This is a computer-generated report for Catalyst-Authentication-Store-Proxy-0.0.1
on perl 5.20.0, created by CPAN-Reporter-1.2011.

Thank you for uploading your work to CPAN.  Congratulations!
All tests were successful.

Sections of this report:

    * Tester comments
    * Program output
    * Prerequisites
    * Environment and other context

------------------------------
TESTER COMMENTS
------------------------------

Additional comments from tester:

none provided

------------------------------
PROGRAM OUTPUT
------------------------------

Output from './Build test':

t/00-compile.t ................ ok
# 
# 
# perl: v5.20.0 (wanted any version) on linux from /home/mike/perl5/perlbrew/perls/perl-5.20.0/bin/perl
# 
# Catalyst::Utils                               => <undef>    (want any version)
# File::Find                                    => 1.27       (want any version)
# File::Temp                                    => 0.2304     (want any version)
# Module::Build                                 => 0.4206     (want 0.3601) 
# Moose                                         => 2.1210     (want any version)
# Test::More                                    => 1.001003   (want 0.88)   
# strict                                        => 1.08       (want any version)
# warnings                                      => 1.23       (want any version)
# 
# Thanks for using my code.  I hope it works for you.
# If not, please try and include this output in the bug report.
# That will help me reproduce the issue and solve you problem.
# 
t/000-report-versions-tiny.t .. ok
t/release-has-version.t ....... skipped: these tests are for release candidate testing
t/release-kwalitee.t .......... skipped: these tests are for release candidate testing
t/release-minimum-version.t ... skipped: these tests are for release candidate testing
t/release-pod-coverage.t ...... skipped: these tests are for release candidate testing
t/release-pod-syntax.t ........ skipped: these tests are for release candidate testing
All tests successful.
Files=7, Tests=2,  1 wallclock secs ( 0.05 usr  0.02 sys +  0.86 cusr  0.09 csys =  1.02 CPU)
Result: PASS

------------------------------
PREREQUISITES
------------------------------

Prerequisite modules loaded:

requires:

    Module          Need   Have    
    --------------- ------ --------
    Catalyst::Utils 0      0       
    Moose           0      2.1210  

build_requires:

    Module          Need   Have    
    --------------- ------ --------
    File::Find      0      1.27    
    File::Temp      0      0.2304  
    Module::Build   0.3601 0.4206  
    strict          0      1.08    
    Test::More      0.88   1.001003
    warnings        0      1.23    

configure_requires:

    Module          Need   Have    
    --------------- ------ --------
    Module::Build   0.3601 0.4206  


------------------------------
ENVIRONMENT AND OTHER CONTEXT
------------------------------

Environment variables:

    LANG = en_CA.UTF-8
    LANGUAGE = en_CA:en
    PATH = /home/mike/.bin:/home/mike/perl5/perlbrew/bin:/home/mike/perl5/perlbrew/perls/perl-5.20.0/bin:/usr/local/sbin:/usr/local/bin:/usr/sbin:/usr/bin:/sbin:/bin:/usr/games:/usr/local/games:/opt/perlbrew/bin
    PERL5LIB = 
    PERL5OPT = 
    PERL5_CPANPLUS_IS_RUNNING = 11807
    PERL5_CPAN_IS_RUNNING = 11807
    PERLBREW_BASHRC_VERSION = 0.67
    PERLBREW_HOME = /home/mike/.perlbrew
    PERLBREW_MANPATH = /home/mike/perl5/perlbrew/perls/perl-5.20.0/man
    PERLBREW_PATH = /home/mike/perl5/perlbrew/bin:/home/mike/perl5/perlbrew/perls/perl-5.20.0/bin
    PERLBREW_PERL = perl-5.20.0
    PERLBREW_ROOT = /home/mike/perl5/perlbrew
    PERLBREW_VERSION = 0.67
    PERLDOC = -MPod::Perldoc::ToMan
    PERL_CPANM_OPT = --mirror-only --mirror=https://cpan.metacpan.org --verbose
    SHELL = /bin/bash
    TERM = xterm

Perl special variables (and OS-specific diagnostics, for MSWin32):

    $^X = /home/mike/perl5/perlbrew/perls/perl-5.20.0/bin/perl
    $UID/$EUID = 1000 / 1000
    $GID = 1000 4 7 24 27 30 46 107 115 124 125 130 1000
    $EGID = 1000 4 7 24 27 30 46 107 115 124 125 130 1000

Perl module toolchain versions installed:

    Module              Have    
    ------------------- --------
    CPAN                2.05    
    CPAN::Meta          2.142060
    Cwd                 3.47    
    ExtUtils::CBuilder  0.280216
    ExtUtils::Command   1.18    
    ExtUtils::Install   1.67    
    ExtUtils::MakeMaker 6.98    
    ExtUtils::Manifest  1.63    
    ExtUtils::ParseXS   3.24    
    File::Spec          3.47    
    JSON                2.90    
    JSON::PP            2.27203 
    Module::Build       0.4206  
    Module::Signature   0.73    
    Parse::CPAN::Meta   1.4414  
    Test::Harness       3.32    
    Test::More          1.001003
    YAML                0.96    
    YAML::Syck          n/a     
    version             0.9908  


--

Summary of my perl5 (revision 5 version 20 subversion 0) configuration:
   
  Platform:
    osname=linux, osvers=3.13.0-30-generic, archname=x86_64-linux
    uname='linux charron 3.13.0-30-generic #55-ubuntu smp fri jul 4 21:40:53 utc 2014 x86_64 x86_64 x86_64 gnulinux '
    config_args='-de -Dprefix=/home/mike/perl5/perlbrew/perls/perl-5.20.0 -Aeval:scriptdir=/home/mike/perl5/perlbrew/perls/perl-5.20.0/bin'
    hint=recommended, useposix=true, d_sigaction=define
    useithreads=undef, usemultiplicity=undef
    use64bitint=define, use64bitall=define, uselongdouble=undef
    usemymalloc=n, bincompat5005=undef
  Compiler:
    cc='cc', ccflags ='-fwrapv -fno-strict-aliasing -pipe -fstack-protector -I/usr/local/include -D_LARGEFILE_SOURCE -D_FILE_OFFSET_BITS=64',
    optimize='-O2',
    cppflags='-fwrapv -fno-strict-aliasing -pipe -fstack-protector -I/usr/local/include'
    ccversion='', gccversion='4.8.2', gccosandvers=''
    intsize=4, longsize=8, ptrsize=8, doublesize=8, byteorder=12345678
    d_longlong=define, longlongsize=8, d_longdbl=define, longdblsize=16
    ivtype='long', ivsize=8, nvtype='double', nvsize=8, Off_t='off_t', lseeksize=8
    alignbytes=8, prototype=define
  Linker and Libraries:
    ld='cc', ldflags =' -fstack-protector -L/usr/local/lib'
    libpth=/usr/local/lib /usr/lib/gcc/x86_64-linux-gnu/4.8/include-fixed /usr/include/x86_64-linux-gnu /usr/lib /lib/x86_64-linux-gnu /lib/../lib /usr/lib/x86_64-linux-gnu /usr/lib/../lib /lib
    libs=-lnsl -ldb -ldl -lm -lcrypt -lutil -lc
    perllibs=-lnsl -ldl -lm -lcrypt -lutil -lc
    libc=, so=so, useshrplib=false, libperl=libperl.a
    gnulibc_version='2.19'
  Dynamic Linking:
    dlsrc=dl_dlopen.xs, dlext=so, d_dlsymun=undef, ccdlflags='-Wl,-E'
    cccdlflags='-fPIC', lddlflags='-shared -O2 -L/usr/local/lib -fstack-protector'


Characteristics of this binary (from libperl): 
  Compile-time options: HAS_TIMES PERLIO_LAYERS PERL_DONT_CREATE_GVSV
                        PERL_HASH_FUNC_ONE_AT_A_TIME_HARD PERL_MALLOC_WRAP
                        PERL_NEW_COPY_ON_WRITE PERL_PRESERVE_IVUV
                        USE_64_BIT_ALL USE_64_BIT_INT USE_LARGE_FILES
                        USE_LOCALE USE_LOCALE_COLLATE USE_LOCALE_CTYPE
                        USE_LOCALE_NUMERIC USE_PERLIO USE_PERL_ATOF
  Built under linux
  Compiled at Jul 13 2014 23:42:50
  %ENV:
    PERL5LIB=""
    PERL5OPT=""
    PERL5_CPANPLUS_IS_RUNNING="11807"
    PERL5_CPAN_IS_RUNNING="11807"
    PERLBREW_BASHRC_VERSION="0.67"
    PERLBREW_HOME="/home/mike/.perlbrew"
    PERLBREW_MANPATH="/home/mike/perl5/perlbrew/perls/perl-5.20.0/man"
    PERLBREW_PATH="/home/mike/perl5/perlbrew/bin:/home/mike/perl5/perlbrew/perls/perl-5.20.0/bin"
    PERLBREW_PERL="perl-5.20.0"
    PERLBREW_ROOT="/home/mike/perl5/perlbrew"
    PERLBREW_VERSION="0.67"
    PERLDOC="-MPod::Perldoc::ToMan"
    PERL_CPANM_OPT="--mirror-only --mirror=https://cpan.metacpan.org --verbose"
  @INC:
    /home/mike/perl5/perlbrew/perls/perl-5.20.0/lib/site_perl/5.20.0/x86_64-linux
    /home/mike/perl5/perlbrew/perls/perl-5.20.0/lib/site_perl/5.20.0
    /home/mike/perl5/perlbrew/perls/perl-5.20.0/lib/5.20.0/x86_64-linux
    /home/mike/perl5/perlbrew/perls/perl-5.20.0/lib/5.20.0
    .