Plack-Middleware-Greylist vv0.8.1 Perl 5 v5.40.0 armv6l-linux

Status
Pass
From
gregor herrmann
Dist
Plack-Middleware-Greylist vv0.8.1
Platform
Perl 5 v5.40.0 armv6l-linux
Date
2024-07-15 21:10:35
ID
adb816e8-42ee-11ef-a81c-b90e35207cfd
This distribution has been tested as part of the CPAN Testers
project, supporting the Perl programming language.  See
http://wiki.cpantesters.org/ for more information or email
questions to cpan-testers-discuss@perl.org


--
Dear Robert Rothenberg,

This is a computer-generated report for Plack-Middleware-Greylist-v0.8.1
on perl 5.40.0, created by CPAN-Reporter-1.2019.

Thank you for uploading your work to CPAN.  Congratulations!
All tests were successful.

Sections of this report:

    * Tester comments
    * Program output
    * Prerequisites
    * Environment and other context

------------------------------
TESTER COMMENTS
------------------------------

Additional comments from tester:

this report is from an automated smoke testing program
and was not reviewed by a human for accuracy

------------------------------
PROGRAM OUTPUT
------------------------------

Output from '/usr/bin/make test':

PERL_DL_NONLAZY=1 "/srv/smoker/perl5/perlbrew/perls/perl-5.40.0/bin/perl" "-MExtUtils::Command::MM" "-MTest::Harness" "-e" "undef *Test::Harness::Switches; test_harness(0, 'blib/lib', 'blib/arch')" t/*.t
# 
# Versions for all modules listed in MYMETA.json (including optional ones):
# 
# === Configure Requires ===
# 
#     Module              Want    Have
#     ------------------- ---- -------
#     ExtUtils::MakeMaker  any 7.71_01
# 
# === Build Requires ===
# 
#     Module              Want    Have
#     ------------------- ---- -------
#     ExtUtils::MakeMaker  any 7.71_01
# 
# === Test Requires ===
# 
#     Module                           Want     Have
#     -------------------------------- ---- --------
#     Cache::FastMmap                  1.52     1.57
#     File::Spec                        any     3.90
#     HTTP::Request::Common             any     6.46
#     IO::Scalar                        any    2.113
#     Module::Metadata                  any 1.000038
#     Path::Tiny                        any    0.146
#     Plack::Builder                    any    undef
#     Plack::Middleware::ContentLength  any    undef
#     Plack::Middleware::Head           any    undef
#     Plack::Middleware::ReverseProxy   any     0.16
#     Plack::Response                   any   1.0051
#     Plack::Test                       any    undef
#     Test2::Tools::Compare             any 0.000163
#     Test2::V0                         any 0.000163
#     Test::More                        any 1.302199
#     strict                            any     1.13
# 
# === Test Recommends ===
# 
#     Module         Want     Have
#     ---------- -------- --------
#     CPAN::Meta 2.120900 2.150010
# 
# === Runtime Requires ===
# 
#     Module                Want     Have
#     ----------------- -------- --------
#     HTTP::Status           any     6.46
#     List::Util            1.29     1.63
#     Module::Load           any     0.36
#     Net::IP::LPM           any     1.10
#     Plack::Middleware      any    undef
#     Ref::Util              any    0.204
#     Time::Seconds          any   1.3401
#     experimental           any    0.032
#     parent                 any    0.241
#     perl              5.020000 5.040000
#     warnings               any     1.70
# 
# === Runtime Recommends ===
# 
#     Module          Want  Have
#     --------------- ---- -----
#     Cache::FastMmap 1.52  1.57
#     Ref::Util::XS    any 0.117
# 
# === Other Modules ===
# 
#     Module   Have
#     ------ ------
#     Plack  1.0051
# 
t/00-report-prereqs.t ....... ok
t/01-greylist.t ............. ok
t/02-rate-codes.t ........... ok
t/03-override.t ............. ok
t/04-ip6.t .................. ok
t/05-callback.t ............. ok
t/author-changes.t .......... skipped: these tests are for testing by the author
t/author-critic.t ........... skipped: these tests are for testing by the author
t/author-eof.t .............. skipped: these tests are for testing by the author
t/author-eol.t .............. skipped: these tests are for testing by the author
t/author-minimum-version.t .. skipped: these tests are for testing by the author
t/author-no-tabs.t .......... skipped: these tests are for testing by the author
t/author-pod-coverage.t ..... skipped: these tests are for testing by the author
t/author-pod-linkcheck.t .... skipped: these tests are for testing by the author
t/author-pod-syntax.t ....... skipped: these tests are for testing by the author
t/author-portability.t ...... skipped: these tests are for testing by the author
t/author-vars.t ............. skipped: these tests are for testing by the author
t/release-dist-manifest.t ... skipped: these tests are for release candidate testing
t/release-fixme.t ........... skipped: these tests are for release candidate testing
t/release-kwalitee.t ........ skipped: these tests are for release candidate testing
t/release-trailing-space.t .. skipped: these tests are for release candidate testing
All tests successful.
Files=21, Tests=17, 137 wallclock secs ( 1.26 usr  0.33 sys + 38.42 cusr  3.51 csys = 43.52 CPU)
Result: PASS

------------------------------
PREREQUISITES
------------------------------

Prerequisite modules loaded:

requires:

    Module                           Need     Have    
    -------------------------------- -------- --------
    experimental                     0        0.032   
    HTTP::Status                     0        6.46    
    List::Util                       1.29     1.63    
    Module::Load                     0        0.36    
    Net::IP::LPM                     0        1.10    
    parent                           0        0.241   
    perl                             5.020000 5.040000
    Plack::Middleware                0        0       
    Ref::Util                        0        0.204   
    Time::Seconds                    0        1.3401  
    warnings                         0        1.70    

build_requires:

    Module                           Need     Have    
    -------------------------------- -------- --------
    Cache::FastMmap                  1.52     1.57    
    ExtUtils::MakeMaker              0        7.71_01 
    File::Spec                       0        3.90    
    HTTP::Request::Common            0        6.46    
    IO::Scalar                       0        2.113   
    Module::Metadata                 0        1.000038
    Path::Tiny                       0        0.146   
    Plack::Builder                   0        0       
    Plack::Middleware::ContentLength 0        0       
    Plack::Middleware::Head          0        0       
    Plack::Middleware::ReverseProxy  0        0.16    
    Plack::Response                  0        1.0051  
    Plack::Test                      0        0       
    strict                           0        1.13    
    Test2::Tools::Compare            0        0.000163
    Test2::V0                        0        0.000163
    Test::More                       0        1.302199

configure_requires:

    Module                           Need     Have    
    -------------------------------- -------- --------
    ExtUtils::MakeMaker              0        7.71_01 


------------------------------
ENVIRONMENT AND OTHER CONTEXT
------------------------------

Environment variables:

    AUTOMATED_TESTING = 1
    LC_CTYPE = de_AT.utf8
    LD_LIBRARY_PATH = /usr/lib/libeatmydata
    NONINTERACTIVE_TESTING = 1
    PATH = /srv/smoker/bin:/usr/lib/ccache:/srv/smoker/perl5/perlbrew/bin:/srv/smoker/perl5/perlbrew/perls/perl-5.40.0/bin:/usr/local/bin:/usr/bin:/bin:/usr/local/games:/usr/games
    PERL5LIB = 
    PERL5OPT = 
    PERL5_CPANPLUS_IS_RUNNING = 10595
    PERL5_CPAN_IS_RUNNING = 10595
    PERL5_CPAN_IS_RUNNING_IN_RECURSION = 21325,10595
    PERLBREW_HOME = /srv/smoker/.perlbrew
    PERLBREW_MANPATH = /srv/smoker/perl5/perlbrew/perls/perl-5.40.0/man
    PERLBREW_PATH = /srv/smoker/perl5/perlbrew/bin:/srv/smoker/perl5/perlbrew/perls/perl-5.40.0/bin
    PERLBREW_PERL = perl-5.40.0
    PERLBREW_ROOT = /srv/smoker/perl5/perlbrew
    PERLBREW_SHELLRC_VERSION = 0.98
    PERLBREW_VERSION = 0.98
    PERL_CPANM_OPT = --prompt  --configure-timeout 300 --build-timeout 18000 --test-timeout 18000 --from https://www.cpan.org
    PERL_CR_SMOKER_CURRENT = Plack-Middleware-Greylist-v0.8.1
    PERL_EXTUTILS_AUTOINSTALL = --defaultdeps
    PERL_MM_USE_DEFAULT = 1
    PERL_TEST_TIME_OUT_FACTOR = 3
    PERL_TEST_TIME_OUT_FACTOR = 3
    PERL_USE_UNSAFE_INC = 1
    SHELL = /bin/bash
    TERM = screen-256color

Perl special variables (and OS-specific diagnostics, for MSWin32):

    $^X = /srv/smoker/perl5/perlbrew/perls/perl-5.40.0/bin/perl
    $UID/$EUID = 1111 / 1111
    $GID = 65534 65534
    $EGID = 65534 65534

Perl module toolchain versions installed:

    Module              Have    
    ------------------- --------
    CPAN                2.36    
    CPAN::Meta          2.150010
    Cwd                 3.90    
    ExtUtils::CBuilder  0.280240
    ExtUtils::Command   7.71_01 
    ExtUtils::Install   2.22    
    ExtUtils::MakeMaker 7.71_01 
    ExtUtils::Manifest  1.75    
    ExtUtils::ParseXS   3.51    
    File::Spec          3.90    
    JSON                4.10    
    JSON::PP            4.16    
    Module::Build       0.4234  
    Module::Signature   n/a     
    Parse::CPAN::Meta   2.150010
    Test2               1.302199
    Test::Harness       3.49_02 
    Test::More          1.302199
    YAML                1.31    
    YAML::Syck          1.34    
    version             0.9930  


--

Summary of my perl5 (revision 5 version 40 subversion 0) configuration:
   
  Platform:
    osname=linux
    osvers=5.10.103+
    archname=armv6l-linux
    uname='linux smoker 5.10.103+ #1529 tue mar 8 12:19:18 gmt 2022 armv6l gnulinux '
    config_args='-de -Dprefix=/srv/smoker/perl5/perlbrew/perls/perl-5.40.0 -Aeval:scriptdir=/srv/smoker/perl5/perlbrew/perls/perl-5.40.0/bin'
    hint=recommended
    useposix=true
    d_sigaction=define
    useithreads=undef
    usemultiplicity=undef
    use64bitint=undef
    use64bitall=undef
    uselongdouble=undef
    usemymalloc=n
    default_inc_excludes_dot=define
  Compiler:
    cc='cc'
    ccflags ='-fwrapv -fno-strict-aliasing -pipe -fstack-protector-strong -I/usr/local/include -D_LARGEFILE_SOURCE -D_FILE_OFFSET_BITS=64 -D_FORTIFY_SOURCE=2'
    optimize='-O2'
    cppflags='-fwrapv -fno-strict-aliasing -pipe -fstack-protector-strong -I/usr/local/include'
    ccversion=''
    gccversion='13.2.0'
    gccosandvers=''
    intsize=4
    longsize=4
    ptrsize=4
    doublesize=8
    byteorder=1234
    doublekind=3
    d_longlong=define
    longlongsize=8
    d_longdbl=define
    longdblsize=8
    longdblkind=0
    ivtype='long'
    ivsize=4
    nvtype='double'
    nvsize=8
    Off_t='off_t'
    lseeksize=8
    alignbytes=8
    prototype=define
  Linker and Libraries:
    ld='cc'
    ldflags =' -fstack-protector-strong -L/usr/local/lib'
    libpth=/usr/local/lib /usr/lib/arm-linux-gnueabihf /usr/lib
    libs=-lpthread -ldb -ldl -lm -lcrypt -lutil -lc
    perllibs=-lpthread -ldl -lm -lcrypt -lutil -lc
    libc=/lib/arm-linux-gnueabihf/libc.so.6
    so=so
    useshrplib=false
    libperl=libperl.a
    gnulibc_version='2.38'
  Dynamic Linking:
    dlsrc=dl_dlopen.xs
    dlext=so
    d_dlsymun=undef
    ccdlflags='-Wl,-E'
    cccdlflags='-fPIC'
    lddlflags='-shared -O2 -L/usr/local/lib -fstack-protector-strong'


Characteristics of this binary (from libperl): 
  Compile-time options:
    HAS_LONG_DOUBLE
    HAS_STRTOLD
    HAS_TIMES
    PERLIO_LAYERS
    PERL_COPY_ON_WRITE
    PERL_DONT_CREATE_GVSV
    PERL_HASH_FUNC_ZAPHOD32
    PERL_HASH_USE_SBOX32
    PERL_MALLOC_WRAP
    PERL_OP_PARENT
    PERL_PRESERVE_IVUV
    PERL_USE_SAFE_PUTENV
    USE_LARGE_FILES
    USE_LOCALE
    USE_LOCALE_COLLATE
    USE_LOCALE_CTYPE
    USE_LOCALE_NUMERIC
    USE_LOCALE_TIME
    USE_PERLIO
    USE_PERL_ATOF
  Built under linux
  Compiled at Jun 10 2024 21:35:21
  %ENV:
    PERL5LIB=""
    PERL5OPT=""
    PERL5_CPANPLUS_IS_RUNNING="10595"
    PERL5_CPAN_IS_RUNNING="10595"
    PERL5_CPAN_IS_RUNNING_IN_RECURSION="21325,10595"
    PERLBREW_HOME="/srv/smoker/.perlbrew"
    PERLBREW_MANPATH="/srv/smoker/perl5/perlbrew/perls/perl-5.40.0/man"
    PERLBREW_PATH="/srv/smoker/perl5/perlbrew/bin:/srv/smoker/perl5/perlbrew/perls/perl-5.40.0/bin"
    PERLBREW_PERL="perl-5.40.0"
    PERLBREW_ROOT="/srv/smoker/perl5/perlbrew"
    PERLBREW_SHELLRC_VERSION="0.98"
    PERLBREW_VERSION="0.98"
    PERL_CPANM_OPT="--prompt  --configure-timeout 300 --build-timeout 18000 --test-timeout 18000 --from https://www.cpan.org"
    PERL_CR_SMOKER_CURRENT="Plack-Middleware-Greylist-v0.8.1"
    PERL_EXTUTILS_AUTOINSTALL="--defaultdeps"
    PERL_MM_USE_DEFAULT="1"
    PERL_TEST_TIME_OUT_FACTOR="3"
    PERL_USE_UNSAFE_INC="1"
  @INC:
    /srv/smoker/perl5/perlbrew/perls/perl-5.40.0/lib/site_perl/5.40.0/armv6l-linux
    /srv/smoker/perl5/perlbrew/perls/perl-5.40.0/lib/site_perl/5.40.0
    /srv/smoker/perl5/perlbrew/perls/perl-5.40.0/lib/5.40.0/armv6l-linux
    /srv/smoker/perl5/perlbrew/perls/perl-5.40.0/lib/5.40.0
    .