Report for Dancer-Plugin-Redis-0.8

Back
From: metabase:user:320bfe00-2aae-11df-837a-5e0a49663a4f
Subject: PASS Dancer-Plugin-Redis-0.8 v5.23.5 GNU/Linux
Date: 2015-11-09T15:58:11Z

This distribution has been tested as part of the CPAN Testers
project, supporting the Perl programming language.  See
http://wiki.cpantesters.org/ for more information or email
questions to cpan-testers-discuss@perl.org


--
Dear celogeek,

This is a computer-generated report for Dancer-Plugin-Redis-0.8
on perl 5.23.5, created by CPAN-Reporter-1.2015.

Thank you for uploading your work to CPAN.  Congratulations!
All tests were successful.

Sections of this report:

    * Tester comments
    * Program output
    * Prerequisites
    * Environment and other context

------------------------------
TESTER COMMENTS
------------------------------

Additional comments from tester:

this report is from an automated smoke testing program
and was not reviewed by a human for accuracy

------------------------------
PROGRAM OUTPUT
------------------------------

Output from './Build test':

t/00-compile.t ............ ok
# Testing with Perl 5.023005, /tmp/basesmoker-reloperl-UsKF/bin/perl
#     Carp version is 1.38
#     Dancer version is 1.3202
#     Dancer::Plugin version is 1.3202
#     Dancer::Test version is 1.3202
#     File::Spec version is 3.58
#     IO::Handle version is 1.35
#     IPC::Open3 version is 1.19
#     JSON version is 2.90
#     Module::Build version is 0.4214
#     Redis version is 1.981
#     Scalar::Util version is 1.4201
#     Test::More version is 1.001014
#     Try::Tiny version is 0.22
#     lib version is 0.63
#     strict version is 1.09
#     warnings version is 1.35
t/000-report-versions.t ... ok
t/author-critic.t ......... skipped: these tests are for testing by the author
# Dancer Version : 1.3202
t/redis.t ................. ok
t/release-kwalitee.t ...... skipped: these tests are for release candidate testing
t/release-pod-coverage.t .. skipped: these tests are for release candidate testing
t/release-unused-vars.t ... skipped: these tests are for release candidate testing
All tests successful.
Files=7, Tests=19,  1 wallclock secs ( 0.04 usr  0.05 sys +  0.64 cusr  0.14 csys =  0.87 CPU)
Result: PASS

------------------------------
PREREQUISITES
------------------------------

Prerequisite modules loaded:

requires:

    Module         Need   Have    
    -------------- ------ --------
    Carp           0      1.38    
    Dancer::Plugin 0      1.3202  
    perl           5.010  5.023005
    Redis          1.955  1.981   
    strict         0      1.09    
    Try::Tiny      0      0.22    
    warnings       0      1.35    

build_requires:

    Module         Need   Have    
    -------------- ------ --------
    Dancer         0      1.3202  
    Dancer::Test   0      1.3202  
    File::Spec     0      3.58    
    IO::Handle     0      1.35    
    IPC::Open3     0      1.19    
    JSON           0      2.90    
    lib            0      0.63    
    Module::Build  0.3601 0.4214  
    perl           5.010  5.023005
    Scalar::Util   0      1.42_01 
    Test::More     0.94   1.001014

configure_requires:

    Module         Need   Have    
    -------------- ------ --------
    Module::Build  0.3601 0.4214  


------------------------------
ENVIRONMENT AND OTHER CONTEXT
------------------------------

Environment variables:

    AUTOMATED_TESTING = 1
    LANG = en_US.UTF-8
    LANGUAGE = en_US:en
    PATH = /home/sand/bin:/usr/local/bin:/usr/bin:/bin:/usr/games:/usr/local/perl/bin:/usr/X11/bin:/sbin:/usr/sbin
    PERL = /tmp/basesmoker-reloperl-UsKF/bin/perl
    PERL5LIB = 
    PERL5OPT = 
    PERL5_CPANPLUS_IS_RUNNING = 15037
    PERL5_CPAN_IS_RUNNING = 15037
    PERL_MM_USE_DEFAULT = 1
    SHELL = /usr/bin/zsh
    TERM = screen

Perl special variables (and OS-specific diagnostics, for MSWin32):

    $^X = /tmp/basesmoker-reloperl-UsKF/bin/perl
    $UID/$EUID = 1005 / 1005
    $GID = 1005 1005
    $EGID = 1005 1005

Perl module toolchain versions installed:

    Module              Have    
    ------------------- --------
    CPAN                2.10    
    CPAN::Meta          2.150005
    Cwd                 3.58    
    ExtUtils::CBuilder  0.280224
    ExtUtils::Command   7.10    
    ExtUtils::Install   2.04    
    ExtUtils::MakeMaker 7.10    
    ExtUtils::Manifest  1.70    
    ExtUtils::ParseXS   3.30    
    File::Spec          3.58    
    JSON                2.90    
    JSON::PP            2.27300 
    Module::Build       0.4214  
    Module::Signature   0.79    
    Parse::CPAN::Meta   1.4417  
    Test::Harness       3.35    
    Test::More          1.001014
    YAML                1.15    
    YAML::Syck          1.29    
    version             0.9909  


--

Summary of my perl5 (revision 5 version 23 subversion 5) configuration:
  Commit id: 96524c28e76cdc1099eebc2832aef5b789ebbc11
  Platform:
    osname=linux, osvers=4.2.0-1-amd64, archname=x86_64-linux
    uname='linux k83 4.2.0-1-amd64 #1 smp debian 4.2.5-1 (2015-10-27) x86_64 gnulinux '
    config_args='-Dprefix=/home/sand/src/perl/repoperls/installed-perls/perl/v5.23.4-81-g96524c2/165a -Dmyhostname=k83 -Dinstallusrbinperl=n -Uversiononly -Dusedevel -des -Ui_db -Uuseithreads -Uuselongdouble -DDEBUGGING=-g'
    hint=recommended, useposix=true, d_sigaction=define
    useithreads=undef, usemultiplicity=undef
    use64bitint=define, use64bitall=define, uselongdouble=undef
    usemymalloc=n, bincompat5005=undef
  Compiler:
    cc='cc', ccflags ='-fwrapv -fno-strict-aliasing -pipe -fstack-protector-strong -I/usr/local/include -D_LARGEFILE_SOURCE -D_FILE_OFFSET_BITS=64',
    optimize='-O2 -g',
    cppflags='-fwrapv -fno-strict-aliasing -pipe -fstack-protector-strong -I/usr/local/include'
    ccversion='', gccversion='5.2.1 20151028', gccosandvers=''
    intsize=4, longsize=8, ptrsize=8, doublesize=8, byteorder=12345678, doublekind=3
    d_longlong=define, longlongsize=8, d_longdbl=define, longdblsize=16, longdblkind=3
    ivtype='long', ivsize=8, nvtype='double', nvsize=8, Off_t='off_t', lseeksize=8
    alignbytes=8, prototype=define
  Linker and Libraries:
    ld='cc', ldflags =' -fstack-protector-strong -L/usr/local/lib'
    libpth=/usr/local/lib /usr/lib/gcc/x86_64-linux-gnu/5/include-fixed /usr/include/x86_64-linux-gnu /usr/lib /lib/x86_64-linux-gnu /lib/../lib /usr/lib/x86_64-linux-gnu /usr/lib/../lib /lib
    libs=-lpthread -lnsl -lgdbm -ldb -ldl -lm -lcrypt -lutil -lc -lgdbm_compat
    perllibs=-lpthread -lnsl -ldl -lm -lcrypt -lutil -lc
    libc=libc-2.19.so, so=so, useshrplib=false, libperl=libperl.a
    gnulibc_version='2.19'
  Dynamic Linking:
    dlsrc=dl_dlopen.xs, dlext=so, d_dlsymun=undef, ccdlflags='-Wl,-E'
    cccdlflags='-fPIC', lddlflags='-shared -O2 -g -L/usr/local/lib -fstack-protector-strong'


Characteristics of this binary (from libperl): 
  Compile-time options: HAS_TIMES PERLIO_LAYERS PERL_COPY_ON_WRITE
                        PERL_DONT_CREATE_GVSV
                        PERL_HASH_FUNC_ONE_AT_A_TIME_HARD PERL_MALLOC_WRAP
                        PERL_PRESERVE_IVUV PERL_USE_DEVEL USE_64_BIT_ALL
                        USE_64_BIT_INT USE_LARGE_FILES USE_LOCALE
                        USE_LOCALE_COLLATE USE_LOCALE_CTYPE
                        USE_LOCALE_NUMERIC USE_LOCALE_TIME USE_PERLIO
                        USE_PERL_ATOF
  Built under linux
  Compiled at Nov  8 2015 00:38:09
  %ENV:
    PERL="/tmp/basesmoker-reloperl-UsKF/bin/perl"
    PERL5LIB=""
    PERL5OPT=""
    PERL5_CPANPLUS_IS_RUNNING="15037"
    PERL5_CPAN_IS_RUNNING="15037"
    PERL_MM_USE_DEFAULT="1"
  @INC:
    /home/sand/src/perl/repoperls/installed-perls/perl/v5.23.4-81-g96524c2/165a/lib/site_perl/5.23.5/x86_64-linux
    /home/sand/src/perl/repoperls/installed-perls/perl/v5.23.4-81-g96524c2/165a/lib/site_perl/5.23.5
    /home/sand/src/perl/repoperls/installed-perls/perl/v5.23.4-81-g96524c2/165a/lib/5.23.5/x86_64-linux
    /home/sand/src/perl/repoperls/installed-perls/perl/v5.23.4-81-g96524c2/165a/lib/5.23.5
    .