Proc-ProcessTable v0.611 Perl 5 v5.20.1 darwin-2level
- Status
- Pass
- From
- Neil Bowers
- Dist
-
Proc-ProcessTable v0.611
- Platform
- Perl 5 v5.20.1 darwin-2level
- Date
- 2021-08-18 13:53:33
- ID
- ada5c76c-002b-11ec-be50-c0a7dc8fe0a4
This distribution has been tested as part of the CPAN Testers
project, supporting the Perl programming language. See
http://wiki.cpantesters.org/ for more information or email
questions to cpan-testers-discuss@perl.org
--
Dear Joachim Bargsten,
This is a computer-generated report for Proc-ProcessTable-0.611
on perl 5.20.1, created by CPAN-Reporter-1.2018.
Thank you for uploading your work to CPAN. Congratulations!
All tests were successful.
Sections of this report:
* Tester comments
* Program output
* Prerequisites
* Environment and other context
------------------------------
TESTER COMMENTS
------------------------------
Additional comments from tester:
none provided
------------------------------
PROGRAM OUTPUT
------------------------------
Output from '/usr/bin/make test':
"/usr/local/perl/5201/bin/perl" -MExtUtils::Command::MM -e 'cp_nonempty' -- ProcessTable.bs blib/arch/auto/Proc/ProcessTable/ProcessTable.bs 644
PERL_DL_NONLAZY=1 "/usr/local/perl/5201/bin/perl" "-MExtUtils::Command::MM" "-MTest::Harness" "-e" "undef *Test::Harness::Switches; test_harness(0, 'blib/lib', 'blib/arch')" t/*.t
# Testing Proc::ProcessTable 0.611, Perl 5.020001, /usr/local/perl/5201/bin/perl
t/00-load.t ............................. ok
t/01-instiantied_object_only_methods.t .. ok
t/bugfix-106571_odd_process_name.t ...... ok
t/bugfix-51470_cmndline_mod_error.t ..... ok
t/bugfix-61946_odd_process_name.t ....... ok
t/manifest.t ............................ skipped: Author tests not required for installation
t/openbsd-size-rss.t .................... skipped: OpenBSD-specific tests
t/pod-coverage.t ........................ skipped: Author tests not required for installation
t/pod.t ................................. skipped: Author tests not required for installation
--------------------------------
pid: 56651
ppid: 56632
pgrp: 47365
uid: 0
gid: 0
euid: 0
egid: 0
suid: 0
sgid: 0
priority: 31
size: 4309784
rss: 12860
flags: 16390
nice: 0
sess: 0
time: 91956
stime: 34274
utime: 57682
start: 1629294812
wchan: 0
ttydev: /dev/fd/0
ttynum: 268435464
pctcpu: 0.0
pctmem: -0.6
state: idle
cmndline: /usr/local/perl/5201/bin/perl t/process.t
fname: perl
t/process.t ............................. ok
All tests successful.
Files=10, Tests=12, 6 wallclock secs ( 0.04 usr 0.02 sys + 0.57 cusr 0.32 csys = 0.95 CPU)
Result: PASS
------------------------------
PREREQUISITES
------------------------------
Prerequisite modules loaded:
requires:
Module Need Have
------------------- ----- --------
File::Find 0 1.27
perl 5.006 5.020001
Storable 0 3.15
build_requires:
Module Need Have
------------------- ----- --------
ExtUtils::MakeMaker 0 7.62
Test::More 0 1.302185
configure_requires:
Module Need Have
------------------- ----- --------
ExtUtils::MakeMaker 0 7.62
------------------------------
ENVIRONMENT AND OTHER CONTEXT
------------------------------
Environment variables:
PATH = /usr/local/apache/bin:/usr/local/bin:/opt/local/bin:/usr/local/bin:/usr/bin:/bin:/usr/sbin:/sbin:/Applications/VMware Fusion.app/Contents/Public:/usr/local/go/bin:/opt/X11/bin:/usr/local/git/bin
PERL5LIB =
PERL5OPT =
PERL5_CPANPLUS_IS_RUNNING = 56359
PERL5_CPAN_IS_RUNNING = 56359
SHELL = /bin/sh
TERM = xterm
Perl special variables (and OS-specific diagnostics, for MSWin32):
$^X = /usr/local/perl/5201/bin/perl
$UID/$EUID = 0 / 0
$GID = 0 0 1 2 3 4 5 8 9 12 20 29 61 80 701 702 33
$EGID = 0 0 1 2 3 4 5 8 9 12 20 29 61 80 701 702 33
Perl module toolchain versions installed:
Module Have
------------------- --------
CPAN 2.05
CPAN::Meta 2.150010
Cwd 3.75
ExtUtils::CBuilder 0.280236
ExtUtils::Command 7.62
ExtUtils::Install 2.06
ExtUtils::MakeMaker 7.62
ExtUtils::Manifest 1.70
ExtUtils::ParseXS 3.35
File::Spec 3.75
JSON 4.03
JSON::PP 4.06
Module::Build 0.4231
Module::Signature n/a
Parse::CPAN::Meta 2.150010
Test::Harness 3.42
Test::More 1.302185
YAML 1.30
YAML::Syck n/a
version 0.9929
--
Summary of my perl5 (revision 5 version 20 subversion 1) configuration:
Platform:
osname=darwin, osvers=20.4.0, archname=darwin-2level
uname='darwin tucumcari.local 20.4.0 darwin kernel version 20.4.0: thu apr 22 21:46:47 pdt 2021; root:xnu-7195.101.2~1release_x86_64 x86_64 '
config_args=''
hint=recommended, useposix=true, d_sigaction=define
useithreads=undef, usemultiplicity=undef
use64bitint=define, use64bitall=define, uselongdouble=undef
usemymalloc=n, bincompat5005=undef
Compiler:
cc='cc', ccflags ='-fno-common -DPERL_DARWIN -fno-strict-aliasing -pipe -fstack-protector -I/usr/local/include -I/opt/local/include',
optimize='-O3',
cppflags='-fno-common -DPERL_DARWIN -fno-strict-aliasing -pipe -fstack-protector -I/usr/local/include -I/opt/local/include'
ccversion='', gccversion='Apple LLVM 12.0.0 (clang-1200.0.32.29)', gccosandvers=''
intsize=4, longsize=8, ptrsize=8, doublesize=8, byteorder=12345678
d_longlong=define, longlongsize=8, d_longdbl=define, longdblsize=16
ivtype='long', ivsize=8, nvtype='double', nvsize=8, Off_t='off_t', lseeksize=8
alignbytes=8, prototype=define
Linker and Libraries:
ld='env MACOSX_DEPLOYMENT_TARGET=10.3 cc', ldflags =' -fstack-protector -L/usr/local/lib -L/opt/local/lib'
libpth=/usr/local/lib /Applications/Xcode.app/Contents/Developer/Toolchains/XcodeDefault.xctoolchain/usr/lib/clang/12.0.0/lib /Applications/Xcode.app/Contents/Developer/Platforms/MacOSX.platform/Developer/SDKs/MacOSX.sdk/usr/lib /Applications/Xcode.app/Contents/Developer/Toolchains/XcodeDefault.xctoolchain/usr/lib /opt/local/lib /usr/lib
libs=-lgdbm
perllibs=
libc=, so=dylib, useshrplib=false, libperl=libperl.a
gnulibc_version=''
Dynamic Linking:
dlsrc=dl_dlopen.xs, dlext=bundle, d_dlsymun=undef, ccdlflags=' '
cccdlflags=' ', lddlflags=' -bundle -undefined dynamic_lookup -L/usr/local/lib -L/opt/local/lib -fstack-protector'
Characteristics of this binary (from libperl):
Compile-time options: HAS_TIMES PERLIO_LAYERS PERL_DONT_CREATE_GVSV
PERL_HASH_FUNC_ONE_AT_A_TIME_HARD PERL_MALLOC_WRAP
PERL_NEW_COPY_ON_WRITE PERL_PRESERVE_IVUV
USE_64_BIT_ALL USE_64_BIT_INT USE_LARGE_FILES
USE_LOCALE USE_LOCALE_COLLATE USE_LOCALE_CTYPE
USE_LOCALE_NUMERIC USE_PERLIO USE_PERL_ATOF
Built under darwin
Compiled at May 24 2021 11:09:25
%ENV:
PERL5LIB=""
PERL5OPT=""
PERL5_CPANPLUS_IS_RUNNING="56359"
PERL5_CPAN_IS_RUNNING="56359"
@INC:
/usr/local/perl/5201/lib/site_perl/5.20.1/darwin-2level
/usr/local/perl/5201/lib/site_perl/5.20.1
/usr/local/perl/5201/lib/5.20.1/darwin-2level
/usr/local/perl/5201/lib/5.20.1
.