Dist-Zilla-PluginBundle-Git-VersionManager v0.007 Perl 5 v5.22.2 x86_64-linux
- Status
- Pass
- From
- Slaven Rezić (SREZIC)
- Dist
-
Dist-Zilla-PluginBundle-Git-VersionManager v0.007
- Platform
- Perl 5 v5.22.2 x86_64-linux
- Date
- 2018-04-11 03:59:05
- ID
- ad80c42c-3d3c-11e8-87d2-a1c641fe32a8
This distribution has been tested as part of the CPAN Testers
project, supporting the Perl programming language. See
http://wiki.cpantesters.org/ for more information or email
questions to cpan-testers-discuss@perl.org
--
Dear Karen Etheridge,
This is a computer-generated report for Dist-Zilla-PluginBundle-Git-VersionManager-0.007
on perl 5.22.2, created by CPAN-Reporter-1.2018.
Thank you for uploading your work to CPAN. Congratulations!
All tests were successful.
Sections of this report:
* Tester comments
* Program output
* Prerequisites
* Environment and other context
------------------------------
TESTER COMMENTS
------------------------------
Additional comments from tester:
none provided
------------------------------
PROGRAM OUTPUT
------------------------------
Output from './Build test':
#
# Versions for all modules listed in MYMETA.json (including optional ones):
#
# === Configure Requires ===
#
# Module Want Have
# ------------------- ----- -----
# ExtUtils::MakeMaker any 7.34
# Module::Build::Tiny 0.034 0.039
#
# === Test Requires ===
#
# Module Want Have
# ------------------------ ----- --------
# CPAN::Meta::Check 0.011 0.014
# CPAN::Meta::Requirements any 2.140
# Exporter any 5.72
# File::Spec any 3.74
# JSON::MaybeXS any 1.003009
# Module::Metadata any 1.000033
# Path::Tiny any 0.104
# Test::DZil any 6.010
# Test::Deep any 1.127
# Test::Fatal any 0.014
# Test::More 0.96 1.302133
# if any 0.0604
# lib any 0.63
# namespace::clean any 0.27
# parent any 0.236
#
# === Test Recommends ===
#
# Module Want Have
# ---------- -------- --------
# CPAN::Meta 2.120900 2.150010
#
# === Runtime Requires ===
#
# Module Want Have
# ---------------------------------------------------------- ----- ------
# CPAN::Meta::Requirements any 2.140
# Dist::Zilla::Plugin::BumpVersionAfterRelease 0.016 0.017
# Dist::Zilla::Plugin::BumpVersionAfterRelease::Transitional 0.004 0.008
# Dist::Zilla::Plugin::CopyFilesFromRelease any 0.006
# Dist::Zilla::Plugin::Git::Commit 2.020 2.042
# Dist::Zilla::Plugin::Git::NextVersion any 2.042
# Dist::Zilla::Plugin::Git::Tag any 2.042
# Dist::Zilla::Plugin::NextRelease 5.033 6.010
# Dist::Zilla::Plugin::Prereqs any 6.010
# Dist::Zilla::Plugin::RewriteVersion::Transitional 0.004 0.008
# Dist::Zilla::Plugin::VersionFromMainModule 0.04 0.04
# Dist::Zilla::Role::FileMunger any 6.010
# Dist::Zilla::Role::PluginBundle::Config::Slicer any 0.201
# Dist::Zilla::Role::PluginBundle::Easy any 6.010
# Dist::Zilla::Role::PluginBundle::PluginRemover 0.103 0.104
# Dist::Zilla::Util any 6.010
# List::Util 1.45 1.49
# Moose any 2.2010
# Moose::Util any 2.2010
# Moose::Util::TypeConstraints any 2.2010
# namespace::autoclean any 0.28
# strict any 1.09
# warnings any 1.34
#
# === Other Modules ===
#
# Module Have
# -------------------- ----
# Dist::CheckConflicts 0.11
# Encode 2.97
# JSON::PP 2.95
# Pod::Coverage 0.23
# Sub::Name 0.21
# YAML 1.24
# autodie 2.29
#
t/00-report-prereqs.t ...... ok
t/01-basic.t ............... ok
t/02-different-versions.t .. ok
t/03-version-override.t .... ok
t/04-munge-installer.t ..... ok
t/05-plugin-prereqs.t ...... ok
t/06-bundle-override.t ..... ok
t/zzz-check-breaks.t ....... ok
All tests successful.
Files=8, Tests=39, 6 wallclock secs ( 0.02 usr 0.04 sys + 5.30 cusr 0.51 csys = 5.87 CPU)
Result: PASS
------------------------------
PREREQUISITES
------------------------------
Prerequisite modules loaded:
requires:
Module Need Have
---------------------------------------------------------- -------- --------
CPAN::Meta::Requirements 0 2.140
Dist::Zilla::Plugin::BumpVersionAfterRelease 0.016 0.017
Dist::Zilla::Plugin::BumpVersionAfterRelease::Transitional 0.004 0.008
Dist::Zilla::Plugin::CopyFilesFromRelease 0 0.006
Dist::Zilla::Plugin::Git::Commit 2.020 2.042
Dist::Zilla::Plugin::Git::NextVersion 0 2.042
Dist::Zilla::Plugin::Git::Tag 0 2.042
Dist::Zilla::Plugin::NextRelease 5.033 6.010
Dist::Zilla::Plugin::Prereqs 0 6.010
Dist::Zilla::Plugin::RewriteVersion::Transitional 0.004 0.008
Dist::Zilla::Plugin::VersionFromMainModule 0.04 0.04
Dist::Zilla::Role::FileMunger 0 6.010
Dist::Zilla::Role::PluginBundle::Config::Slicer 0 0.201
Dist::Zilla::Role::PluginBundle::Easy 0 6.010
Dist::Zilla::Role::PluginBundle::PluginRemover 0.103 0.104
Dist::Zilla::Util 0 6.010
List::Util 1.45 1.49
Moose 0 2.2010
Moose::Util 0 2.2010
Moose::Util::TypeConstraints 0 2.2010
namespace::autoclean 0 0.28
perl 5.010 5.022002
strict 0 1.09
warnings 0 1.34
build_requires:
Module Need Have
---------------------------------------------------------- -------- --------
CPAN::Meta::Check 0.011 0.014
CPAN::Meta::Requirements 0 2.140
Exporter 0 5.72
File::Spec 0 3.74
if 0 0.0604
JSON::MaybeXS 0 1.003009
lib 0 0.63
Module::Metadata 0 1.000033
namespace::clean 0 0.27
parent 0 0.236
Path::Tiny 0 0.104
perl 5.010 5.022002
Test::Deep 0 1.127
Test::DZil 0 6.010
Test::Fatal 0 0.014
Test::More 0.96 1.302133
configure_requires:
Module Need Have
---------------------------------------------------------- -------- --------
ExtUtils::MakeMaker 0 7.34
Module::Build::Tiny 0.034 0.039
perl 5.010 5.022002
opt_build_requires:
Module Need Have
---------------------------------------------------------- -------- --------
CPAN::Meta 2.120900 2.150010
------------------------------
ENVIRONMENT AND OTHER CONTEXT
------------------------------
Environment variables:
LANG = C
PATH = /usr/local/bin:/usr/bin:/bin:/usr/local/sbin:/usr/sbin:/sbin:/home/cpansand/bin/linux-gnu:/home/cpansand/bin/sh:/home/cpansand/bin:/usr/games:/home/cpansand/devel:/home/eserte/src/srezic-misc/scripts
PERL5LIB =
PERL5OPT =
PERL5_CPANPLUS_IS_RUNNING = 25312
PERL5_CPAN_IS_RUNNING = 25312
PERL5_CPAN_IS_RUNNING_IN_RECURSION = 24795,25312
PERLDOC = -MPod::Perldoc::ToTextOverstrike
PERL_BATCH = yes
PERL_CANARY_STABILITY_NOPROMPT = 1
PERL_CPAN_REPORTER_CONFIG = /var/tmp/cpansmoker-1023/2018041103/cpanreporter_000_config.ini
PERL_EXTUTILS_AUTOINSTALL = --defaultdeps
PERL_USE_UNSAFE_INC = 1
SHELL = /usr/bin/zsh
TERM = screen
TMPDIR = /var/tmp/cpansmoker-1023/2018041103
Perl special variables (and OS-specific diagnostics, for MSWin32):
$^X = /opt/perl-5.22.2/bin/perl
$UID/$EUID = 1023 / 1023
$GID = 1023 1023
$EGID = 1023 1023
Perl module toolchain versions installed:
Module Have
------------------- --------
CPAN 2.16
CPAN::Meta 2.150010
Cwd 3.74
ExtUtils::CBuilder 0.280230
ExtUtils::Command 7.34
ExtUtils::Install 2.06
ExtUtils::MakeMaker 7.34
ExtUtils::Manifest 1.70
ExtUtils::ParseXS 3.35
File::Spec 3.74
JSON 2.97001
JSON::PP 2.95
Module::Build 0.4224
Module::Signature 0.81
Parse::CPAN::Meta 2.150010
Test::Harness 3.42
Test::More 1.302133
YAML 1.24
YAML::Syck 1.30
version 0.9918
--
Summary of my perl5 (revision 5 version 22 subversion 2) configuration:
Platform:
osname=linux, osvers=4.9.0-3-amd64, archname=x86_64-linux
uname='linux debian9 4.9.0-3-amd64 #1 smp debian 4.9.30-2+deb9u1 (2017-06-18) x86_64 gnulinux '
config_args='-ds -e -Dprefix=/opt/perl-5.22.2 -Dcf_email=srezic@cpan.org'
hint=recommended, useposix=true, d_sigaction=define
useithreads=undef, usemultiplicity=undef
use64bitint=define, use64bitall=define, uselongdouble=undef
usemymalloc=n, bincompat5005=undef
Compiler:
cc='cc', ccflags ='-fwrapv -fno-strict-aliasing -pipe -fstack-protector-strong -I/usr/local/include -D_LARGEFILE_SOURCE -D_FILE_OFFSET_BITS=64',
optimize='-O2',
cppflags='-fwrapv -fno-strict-aliasing -pipe -fstack-protector-strong -I/usr/local/include'
ccversion='', gccversion='6.3.0 20170516', gccosandvers=''
intsize=4, longsize=8, ptrsize=8, doublesize=8, byteorder=12345678, doublekind=3
d_longlong=define, longlongsize=8, d_longdbl=define, longdblsize=16, longdblkind=3
ivtype='long', ivsize=8, nvtype='double', nvsize=8, Off_t='off_t', lseeksize=8
alignbytes=8, prototype=define
Linker and Libraries:
ld='cc', ldflags =' -fstack-protector-strong -L/usr/local/lib'
libpth=/usr/local/lib /usr/lib/gcc/x86_64-linux-gnu/6/include-fixed /usr/include/x86_64-linux-gnu /usr/lib /lib/x86_64-linux-gnu /lib/../lib /usr/lib/x86_64-linux-gnu /usr/lib/../lib /lib
libs=-lpthread -lnsl -lgdbm -ldb -ldl -lm -lcrypt -lutil -lc -lgdbm_compat
perllibs=-lpthread -lnsl -ldl -lm -lcrypt -lutil -lc
libc=libc-2.24.so, so=so, useshrplib=false, libperl=libperl.a
gnulibc_version='2.24'
Dynamic Linking:
dlsrc=dl_dlopen.xs, dlext=so, d_dlsymun=undef, ccdlflags='-Wl,-E'
cccdlflags='-fPIC', lddlflags='-shared -O2 -L/usr/local/lib -fstack-protector-strong'
Characteristics of this binary (from libperl):
Compile-time options: HAS_TIMES PERLIO_LAYERS PERL_DONT_CREATE_GVSV
PERL_HASH_FUNC_ONE_AT_A_TIME_HARD PERL_MALLOC_WRAP
PERL_NEW_COPY_ON_WRITE PERL_PRESERVE_IVUV
USE_64_BIT_ALL USE_64_BIT_INT USE_LARGE_FILES
USE_LOCALE USE_LOCALE_COLLATE USE_LOCALE_CTYPE
USE_LOCALE_NUMERIC USE_LOCALE_TIME USE_PERLIO
USE_PERL_ATOF
Built under linux
Compiled at Jun 22 2017 19:24:38
%ENV:
PERL5LIB=""
PERL5OPT=""
PERL5_CPANPLUS_IS_RUNNING="25312"
PERL5_CPAN_IS_RUNNING="25312"
PERL5_CPAN_IS_RUNNING_IN_RECURSION="24795,25312"
PERLDOC="-MPod::Perldoc::ToTextOverstrike"
PERL_BATCH="yes"
PERL_CANARY_STABILITY_NOPROMPT="1"
PERL_CPAN_REPORTER_CONFIG="/var/tmp/cpansmoker-1023/2018041103/cpanreporter_000_config.ini"
PERL_EXTUTILS_AUTOINSTALL="--defaultdeps"
PERL_USE_UNSAFE_INC="1"
@INC:
/opt/perl-5.22.2/lib/site_perl/5.22.2/x86_64-linux
/opt/perl-5.22.2/lib/site_perl/5.22.2
/opt/perl-5.22.2/lib/5.22.2/x86_64-linux
/opt/perl-5.22.2/lib/5.22.2
.