Back
From: metabase:user:30f0bd62-2aae-11df-837a-5e0a49663a4f
Subject: PASS Solaris-Disk-VTOC-0.04 v5.12.2 OpenBSD
Date: 2010-11-18T21:42:01Z
This distribution has been tested as part of the CPAN Testers
project, supporting the Perl programming language. See
http://wiki.cpantesters.org/ for more information or email
questions to cpan-testers-discuss@perl.org
--
Dear Jerome Fenal,
This is a computer-generated report for Solaris-Disk-VTOC-0.04
on perl 5.12.2, created by CPAN-Reporter-1.1805.
Thank you for uploading your work to CPAN. Congratulations!
All tests were successful.
Sections of this report:
* Tester comments
* Program output
* Prerequisites
* Environment and other context
------------------------------
TESTER COMMENTS
------------------------------
Additional comments from tester:
this report is from an automated smoke testing program
and was not reviewed by a human for accuracy
------------------------------
PROGRAM OUTPUT
------------------------------
Output from './Build test':
t/00basic.t ......... ok
t/01pod.t ........... ok
t/02pod-coverage.t .. skipped: Test::Pod::Coverage 1.04 required for testing POD coverage
Solaris::Disk::VTOC->readvtoc: Cannot open source prtvtoc /dev/rdsk/c99t99d99s2 | for disk c99t99d99 at t/10read.t line 31
t/10read.t .......... ok
t/10readdir.t ....... ok
Solaris::Disk::VTOC->readvtoc: Unknown parameter(s): some garbage at t/10readgarb.t line 19
Device name cdtdddsd not validated at t/10readgarb.t line 102
t/10readgarb.t ...... ok
Solaris::Disk::VTOC->new: Unknown parameter(s): some garbage at t/10readgarb2.t line 17
t/10readgarb2.t ..... ok
t/11readdir.t ....... ok
Use of uninitialized value $parms{"device"} in concatenation (.) or string at lib/Solaris/Disk/VTOC.pm line 223.
Device name not validated at t/12readdisk.t line 19
t/12readdisk.t ...... ok
Use of uninitialized value $slice in concatenation (.) or string at lib/Solaris/Disk/VTOC.pm line 380.
Solaris::Disk::VTOC->size: No or invalid slice specified (c0t6d0sd, ) at t/15size.t line 25
Solaris::Disk::VTOC->size: Disk c0t6d0 does not exists at t/15size.t line 29
Solaris::Disk::VTOC->size: You must at least specify a device at t/15size.t line 31
Solaris::Disk::VTOC->size: Invalid disk specified (no disk) at t/15size.t line 33
t/15size.t .......... ok
Solaris::Disk::VTOC->readvtoc: Unknown parameter(s): c99t99d99 at t/15size2.t line 18
Use of uninitialized value $parms{"device"} in concatenation (.) or string at lib/Solaris/Disk/VTOC.pm line 223.
Device name not validated at t/15size2.t line 18
Solaris::Disk::VTOC->size: Disk c99t99d99 does not exists at t/15size2.t line 18
t/15size2.t ......... ok
All tests successful.
Files=11, Tests=70, 2 wallclock secs ( 0.05 usr 0.02 sys + 0.48 cusr 0.09 csys = 0.64 CPU)
Result: PASS
------------------------------
PREREQUISITES
------------------------------
Prerequisite modules loaded:
requires:
Module Need Have
------ ------ --------
perl v5.6.1 5.012002
------------------------------
ENVIRONMENT AND OTHER CONTEXT
------------------------------
Environment variables:
AUTOMATED_TESTING = 1
PATH = /home/sts/bin:/bin:/sbin:/usr/bin:/usr/sbin:/usr/X11R6/bin:/usr/local/bin:/usr/local/sbin:/usr/games:.
PERL5LIB =
PERL5OPT =
PERL5_CPANPLUS_IS_RUNNING = 15096
PERL5_CPAN_IS_RUNNING = 15096
PERL5_CPAN_IS_RUNNING_IN_RECURSION = 23823,15096
PERL_CR_SMOKER_CURRENT = Solaris-Disk-VTOC-0.04
PERL_EXTUTILS_AUTOINSTALL = --defaultdeps
PERL_MM_USE_DEFAULT = 1
SHELL = /usr/local/bin/bash
TERM = screen
TMPDIR = /home/sts/cpansmoke/tmp
Perl special variables (and OS-specific diagnostics, for MSWin32):
$^X = /home/sts/cpansmoke/perl-5.12.2/bin/perl
$UID/$EUID = 1000 / 1000
$GID = 10 10 0
$EGID = 10 10 0
Perl module toolchain versions installed:
Module Have
------------------- -------
CPAN 1.94_56
Cwd 3.31
ExtUtils::CBuilder 0.27
ExtUtils::Command 1.16
ExtUtils::Install 1.55
ExtUtils::MakeMaker 6.56
ExtUtils::Manifest 1.57
ExtUtils::ParseXS 2.21
File::Spec 3.31_01
Module::Build 0.3603
Module::Signature n/a
Test::Harness 3.17
Test::More 0.94
YAML n/a
YAML::Syck 1.15
version 0.82
--
Summary of my perl5 (revision 5 version 12 subversion 2) configuration:
Platform:
osname=openbsd, osvers=4.7, archname=OpenBSD.i386-openbsd-thread-multi
uname='openbsd cpansmoke3 4.7 generic.mp#449 i386 '
config_args='-des -Dusethreads -Dprefix=/home/sts/cpansmoke/perl-5.12.2'
hint=recommended, useposix=true, d_sigaction=define
useithreads=define, usemultiplicity=define
useperlio=define, d_sfio=undef, uselargefiles=define, usesocks=undef
use64bitint=undef, use64bitall=undef, uselongdouble=undef
usemymalloc=n, bincompat5005=undef
Compiler:
cc='cc', ccflags ='-pthread -fno-strict-aliasing -pipe -fstack-protector -I/usr/local/include',
optimize='-O2',
cppflags='-pthread -fno-strict-aliasing -pipe -fstack-protector -I/usr/local/include'
ccversion='', gccversion='3.3.5 (propolice)', gccosandvers='openbsd4.7'
intsize=4, longsize=4, ptrsize=4, doublesize=8, byteorder=1234
d_longlong=define, longlongsize=8, d_longdbl=define, longdblsize=12
ivtype='long', ivsize=4, nvtype='double', nvsize=8, Off_t='off_t', lseeksize=8
alignbytes=4, prototype=define
Linker and Libraries:
ld='cc', ldflags ='-pthread -Wl,-E -fstack-protector -L/usr/local/lib'
libpth=/usr/local/lib /usr/lib
libs=-lgdbm -lm -lutil -lc
perllibs=-lm -lutil -lc
libc=/usr/lib/libc.so.53.1, so=so, useshrplib=false, libperl=libperl.a
gnulibc_version=''
Dynamic Linking:
dlsrc=dl_dlopen.xs, dlext=so, d_dlsymun=undef, ccdlflags=' '
cccdlflags='-DPIC -fPIC ', lddlflags='-shared -fPIC -L/usr/local/lib -fstack-protector'
Characteristics of this binary (from libperl):
Compile-time options: MULTIPLICITY PERL_DONT_CREATE_GVSV
PERL_IMPLICIT_CONTEXT PERL_MALLOC_WRAP USE_ITHREADS
USE_LARGE_FILES USE_PERLIO USE_PERL_ATOF
USE_REENTRANT_API
Built under openbsd
Compiled at Oct 20 2010 21:08:34
%ENV:
PERL5LIB=""
PERL5OPT=""
PERL5_CPANPLUS_IS_RUNNING="15096"
PERL5_CPAN_IS_RUNNING="15096"
PERL5_CPAN_IS_RUNNING_IN_RECURSION="23823,15096"
PERL_CR_SMOKER_CURRENT="Solaris-Disk-VTOC-0.04"
PERL_EXTUTILS_AUTOINSTALL="--defaultdeps"
PERL_MM_USE_DEFAULT="1"
@INC:
/home/sts/cpansmoke/perl-5.12.2/lib/site_perl/5.12.2/OpenBSD.i386-openbsd-thread-multi
/home/sts/cpansmoke/perl-5.12.2/lib/site_perl/5.12.2
/home/sts/cpansmoke/perl-5.12.2/lib/5.12.2/OpenBSD.i386-openbsd-thread-multi
/home/sts/cpansmoke/perl-5.12.2/lib/5.12.2
.