Promises v1.04 Perl 5 v5.34.0 x86_64-linux-gnu-thread-multi

Status
Pass
From
Slaven Rezić
Dist
Promises v1.04
Platform
Perl 5 v5.34.0 x86_64-linux-gnu-thread-multi
Date
2022-12-29 12:38:20
ID
ad762a02-8775-11ed-ba8e-18206e8775ea
This distribution has been tested as part of the CPAN Testers
project, supporting the Perl programming language.  See
http://wiki.cpantesters.org/ for more information or email
questions to cpan-testers-discuss@perl.org


--
Dear Yanick Champoux,

This is a computer-generated report for Promises-1.04
on perl 5.34.0, created by CPAN-Reporter-1.2018.

Thank you for uploading your work to CPAN.  Congratulations!
All tests were successful.

Sections of this report:

    * Tester comments
    * Program output
    * Prerequisites
    * Environment and other context

------------------------------
TESTER COMMENTS
------------------------------

Additional comments from tester:

none provided

------------------------------
PROGRAM OUTPUT
------------------------------

Output from '/usr/bin/make test':

PERL_DL_NONLAZY=1 "/usr/bin/perl" "-MExtUtils::Command::MM" "-MTest::Harness" "-e" "undef *Test::Harness::Switches; test_harness(0, 'blib/lib', 'blib/arch')" t/*.t
t/00-compile.t ................... ok
# 
# Versions for all modules listed in MYMETA.json (including optional ones):
# 
# === Configure Requires ===
# 
#     Module              Want Have
#     ------------------- ---- ----
#     ExtUtils::MakeMaker  any 7.62
# 
# === Configure Suggests ===
# 
#     Module      Want Have
#     -------- ------- ----
#     JSON::PP 2.27300 4.06
# 
# === Build Requires ===
# 
#     Module              Want Have
#     ------------------- ---- ----
#     ExtUtils::MakeMaker  any 7.62
# 
# === Test Requires ===
# 
#     Module              Want     Have
#     ------------------- ---- --------
#     ExtUtils::MakeMaker  any     7.62
#     File::Spec           any     3.80
#     IO::Handle           any     1.46
#     IPC::Open3           any     1.21
#     Test::Exception      any     0.43
#     Test::Fatal          any    0.016
#     Test::More          0.89 1.302183
#     Test::Pod            any     1.52
#     Test::Requires       any     0.11
#     Test::Warn           any     0.36
#     lib                  any     0.65
# 
# === Test Recommends ===
# 
#     Module         Want     Have
#     ---------- -------- --------
#     CPAN::Meta 2.120900 2.150010
# 
# === Runtime Requires ===
# 
#     Module          Want  Have
#     --------------- ---- -----
#     Carp             any  1.52
#     Data::Dumper     any 2.179
#     Exporter         any  5.76
#     Module::Runtime  any 0.016
#     Scalar::Util     any  1.55
#     Sub::Attribute   any  0.07
#     Sub::Exporter    any 0.988
#     constant         any  1.33
#     parent           any 0.238
#     strict           any  1.12
#     warnings         any  1.51
# 
t/00-report-prereqs.t ............ ok
t/000-load.t ..................... ok
# Delaying for 0.1 second ...
t/001-basic.t .................... ok
# Delaying for 0.1 second ...
# Delaying for 0.1 more second ...
t/002-multiples.t ................ ok
# Delaying for 0.1 second1 ...
t/003-post-resolve-then.t ........ ok
# Delaying for 0.1 second ...
t/004-error.t .................... ok
# Delaying for 0.1 second ...
# Delaying for 0.1 more second ...
t/005-multiples-w-error.t ........ ok
t/006-thenable.t ................. ok
t/007_callable.t ................. ok
# Delaying for 0.2 seconds ...
t/010-collect.t .................. ok
# Delaying for 0.2 seconds ...
t/011-collect-w-error.t .......... ok
# Delaying for 0.2 seconds ...
t/012-collect_hash.t ............. ok
t/013-collect_hash-params.t ...... ok
# Delaying for 0.2 seconds ...
t/013-collect_hash-with-error.t .. ok
t/020-chaining.t ................. ok
t/021-chaining-errors.t .......... ok
t/025-recursion.t ................ ok
t/030-deferred-default.t ......... ok
t/031-deferred-AE.t .............. ok
t/031-deferred-io-async.t ........ skipped: Test requires module 'IO::Async' but it's not found
t/032-deferred-AnyEvent.t ........ ok
t/033-deferred-EV.t .............. ok
t/034-deferred-Mojo.t ............ skipped: Mojo::IOLoop is required for this test
t/040_finally.t .................. ok
t/045-attributes.t ............... ok
t/050-exceptions-pp.t ............ ok
t/051-exceptions-pp-anyevent.t ... ok
EV: error in callback (ignoring): Final
t/052-exceptions-ev-anyevent.t ... ok
t/053-exceptions-mojo.t .......... skipped: Test requires module 'Mojo::IOLoop' but it's not found
t/060-free-refs.t ................ ok
t/070-accepted-rejected.t ........ ok
t/080-deferred-as-sub.t .......... ok
t/090-timeout.t .................. skipped: Test requires module 'IO::Async' but it's not found
t/late-warning.t ................. ok
t/warnings.t ..................... ok
All tests successful.
Files=36, Tests=163,  9 wallclock secs ( 0.09 usr  0.02 sys +  1.79 cusr  0.46 csys =  2.36 CPU)
Result: PASS

------------------------------
PREREQUISITES
------------------------------

Prerequisite modules loaded:

requires:

    Module              Need  Have    
    ------------------- ----- --------
    Carp                0     1.52    
    constant            0     1.33    
    Data::Dumper        0     2.179   
    Exporter            0     5.76    
    Module::Runtime     0     0.016   
    parent              0     0.238   
    perl                5.006 5.034000
    Scalar::Util        0     1.55    
    strict              0     1.12    
    Sub::Attribute      0     0.07    
    Sub::Exporter       0     0.988   
    warnings            0     1.51    

build_requires:

    Module              Need  Have    
    ------------------- ----- --------
    ExtUtils::MakeMaker 0     7.62    
    File::Spec          0     3.80    
    IO::Handle          0     1.46    
    IPC::Open3          0     1.21    
    lib                 0     0.65    
    Test::Exception     0     0.43    
    Test::Fatal         0     0.016   
    Test::More          0.89  1.302183
    Test::Pod           0     1.52    
    Test::Requires      0     0.11    
    Test::Warn          0     0.36    

configure_requires:

    Module              Need  Have    
    ------------------- ----- --------
    ExtUtils::MakeMaker 0     7.62    


------------------------------
ENVIRONMENT AND OTHER CONTEXT
------------------------------

Environment variables:

    LANG = en_US.UTF-8
    PATH = /usr/local/bin:/usr/bin:/bin:/usr/local/sbin:/usr/sbin:/sbin:/home/cpansand/bin/linux-gnu:/home/cpansand/bin/sh:/home/cpansand/bin:/usr/games:/home/cpansand/devel:/home/eserte/src/srezic-misc/scripts
    PERL5LIB = /home/cpansand/.local/share/.cpan/build/2022122912/Test-Requires-0.11-0/blib/arch:/home/cpansand/.local/share/.cpan/build/2022122912/Test-Requires-0.11-0/blib/lib:/home/cpansand/.local/share/.cpan/build/2022122912/Test-Pod-1.52-2/blib/arch:/home/cpansand/.local/share/.cpan/build/2022122912/Test-Pod-1.52-2/blib/lib:/home/cpansand/.local/share/.cpan/build/2022122912/Sub-Attribute-0.07-2/blib/arch:/home/cpansand/.local/share/.cpan/build/2022122912/Sub-Attribute-0.07-2/blib/lib:/home/cpansand/.local/share/.cpan/build/2022122912/Class-Trigger-0.15-2/blib/arch:/home/cpansand/.local/share/.cpan/build/2022122912/Class-Trigger-0.15-2/blib/lib:/home/cpansand/.local/share/.cpan/build/2022122912/Log-Any-Adapter-Callback-0.101-4/blib/arch:/home/cpansand/.local/share/.cpan/build/2022122912/Log-Any-Adapter-Callback-0.101-4/blib/lib:/home/cpansand/.local/share/.cpan/build/2022122912/EV-4.33-2/blib/arch:/home/cpansand/.local/share/.cpan/build/2022122912/EV-4.33-2/blib/lib:/home/cpansand/.local/share/.cpan/build/2022122912/AnyEvent-HTTP-2.25-2/blib/arch:/home/cpansand/.local/share/.cpan/build/2022122912/AnyEvent-HTTP-2.25-2/blib/lib:/home/cpansand/.local/share/.cpan/build/2022122912/AnyEvent-7.17-2/blib/arch:/home/cpansand/.local/share/.cpan/build/2022122912/AnyEvent-7.17-2/blib/lib
    PERL5OPT = 
    PERL5_CPANPLUS_IS_RUNNING = 2977101
    PERL5_CPAN_IS_RUNNING = 2977101
    PERL5_CPAN_IS_RUNNING_IN_RECURSION = 2975701,2977101
    PERLDOC = -MPod::Perldoc::ToTextOverstrike
    PERL_BATCH = yes
    PERL_CANARY_STABILITY_NOPROMPT = 1
    PERL_CPAN_REPORTER_CONFIG = /var/tmp/cpansmoker-1023/2022122912/cpanreporter_000_config.ini
    PERL_EXTUTILS_AUTOINSTALL = --defaultdeps
    PERL_USE_UNSAFE_INC = 1
    SHELL = /usr/bin/zsh
    TERM = screen
    TMPDIR = /var/tmp/cpansmoker-1023/2022122912

Perl special variables (and OS-specific diagnostics, for MSWin32):

    $^X = /usr/bin/perl
    $UID/$EUID = 1023 / 1023
    $GID = 1023 1023
    $EGID = 1023 1023

Perl module toolchain versions installed:

    Module              Have    
    ------------------- --------
    CPAN                2.28    
    CPAN::Meta          2.150010
    Cwd                 3.80    
    ExtUtils::CBuilder  0.280236
    ExtUtils::Command   7.62    
    ExtUtils::Install   2.20    
    ExtUtils::MakeMaker 7.62    
    ExtUtils::Manifest  1.73    
    ExtUtils::ParseXS   3.43    
    File::Spec          3.80    
    JSON                4.04    
    JSON::PP            4.06    
    Module::Build       0.4231  
    Module::Signature   0.88    
    Parse::CPAN::Meta   2.150010
    Test::Harness       3.43    
    Test::More          1.302183
    YAML                1.30    
    YAML::Syck          1.34    
    version             0.9928  


--

Summary of my perl5 (revision 5 version 34 subversion 0) configuration:
   
  Platform:
    osname=linux
    osvers=4.19.0
    archname=x86_64-linux-gnu-thread-multi
    uname='linux localhost 4.19.0 #1 smp debian 4.19.0 x86_64 gnulinux '
    config_args='-Dmksymlinks -Dusethreads -Duselargefiles -Dcc=x86_64-linux-gnu-gcc -Dcpp=x86_64-linux-gnu-cpp -Dld=x86_64-linux-gnu-gcc -Dccflags=-DDEBIAN -Wdate-time -D_FORTIFY_SOURCE=2 -g -O2 -ffile-prefix-map=/dummy/build/dir=. -flto=auto -ffat-lto-objects -flto=auto -ffat-lto-objects -fstack-protector-strong -Wformat -Werror=format-security -Dldflags= -Wl,-Bsymbolic-functions -flto=auto -ffat-lto-objects -flto=auto -Wl,-z,relro -Dlddlflags=-shared -Wl,-Bsymbolic-functions -flto=auto -ffat-lto-objects -flto=auto -Wl,-z,relro -Dcccdlflags=-fPIC -Darchname=x86_64-linux-gnu -Dprefix=/usr -Dprivlib=/usr/share/perl/5.34 -Darchlib=/usr/lib/x86_64-linux-gnu/perl/5.34 -Dvendorprefix=/usr -Dvendorlib=/usr/share/perl5 -Dvendorarch=/usr/lib/x86_64-linux-gnu/perl5/5.34 -Dsiteprefix=/usr/local -Dsitelib=/usr/local/share/perl/5.34.0 -Dsitearch=/usr/local/lib/x86_64-linux-gnu/perl/5.34.0 -Dman1dir=/usr/share/man/man1 -Dman3dir=/usr/share/man/man3 -Dsiteman1dir=/usr/local/man/man1 -Dsiteman3dir=/usr/local/man/man3 -Duse64bitint -Dman1ext=1 -Dman3ext=3perl -Dpager=/usr/bin/sensible-pager -Uafs -Ud_csh -Ud_ualarm -Uusesfio -Uusenm -Ui_libutil -Ui_xlocale -Uversiononly -DDEBUGGING=-g -Doptimize=-O2 -dEs -Duseshrplib -Dlibperl=libperl.so.5.34.0'
    hint=recommended
    useposix=true
    d_sigaction=define
    useithreads=define
    usemultiplicity=define
    use64bitint=define
    use64bitall=define
    uselongdouble=undef
    usemymalloc=n
    default_inc_excludes_dot=define
  Compiler:
    cc='x86_64-linux-gnu-gcc'
    ccflags ='-D_REENTRANT -D_GNU_SOURCE -DDEBIAN -fwrapv -fno-strict-aliasing -pipe -I/usr/local/include -D_LARGEFILE_SOURCE -D_FILE_OFFSET_BITS=64'
    optimize='-O2 -g'
    cppflags='-D_REENTRANT -D_GNU_SOURCE -DDEBIAN -fwrapv -fno-strict-aliasing -pipe -I/usr/local/include'
    ccversion=''
    gccversion='11.2.0'
    gccosandvers=''
    intsize=4
    longsize=8
    ptrsize=8
    doublesize=8
    byteorder=12345678
    doublekind=3
    d_longlong=define
    longlongsize=8
    d_longdbl=define
    longdblsize=16
    longdblkind=3
    ivtype='long'
    ivsize=8
    nvtype='double'
    nvsize=8
    Off_t='off_t'
    lseeksize=8
    alignbytes=8
    prototype=define
  Linker and Libraries:
    ld='x86_64-linux-gnu-gcc'
    ldflags =' -fstack-protector-strong -L/usr/local/lib'
    libpth=/usr/local/lib /usr/lib/x86_64-linux-gnu /usr/lib /lib/x86_64-linux-gnu /lib
    libs=-lgdbm -lgdbm_compat -ldb -ldl -lm -lpthread -lc -lcrypt
    perllibs=-ldl -lm -lpthread -lc -lcrypt
    libc=/lib/x86_64-linux-gnu/libc.so.6
    so=so
    useshrplib=true
    libperl=libperl.so.5.34
    gnulibc_version='2.35'
  Dynamic Linking:
    dlsrc=dl_dlopen.xs
    dlext=so
    d_dlsymun=undef
    ccdlflags='-Wl,-E'
    cccdlflags='-fPIC'
    lddlflags='-shared -L/usr/local/lib -fstack-protector-strong'


Characteristics of this binary (from libperl): 
  Compile-time options:
    HAS_TIMES
    MULTIPLICITY
    PERLIO_LAYERS
    PERL_COPY_ON_WRITE
    PERL_DONT_CREATE_GVSV
    PERL_IMPLICIT_CONTEXT
    PERL_MALLOC_WRAP
    PERL_OP_PARENT
    PERL_PRESERVE_IVUV
    USE_64_BIT_ALL
    USE_64_BIT_INT
    USE_ITHREADS
    USE_LARGE_FILES
    USE_LOCALE
    USE_LOCALE_COLLATE
    USE_LOCALE_CTYPE
    USE_LOCALE_NUMERIC
    USE_LOCALE_TIME
    USE_PERLIO
    USE_PERL_ATOF
    USE_REENTRANT_API
    USE_THREAD_SAFE_LOCALE
  Locally applied patches:
    DEBPKG:debian/cpan_definstalldirs - Provide a sensible INSTALLDIRS default for modules installed from CPAN.
    DEBPKG:debian/db_file_ver - https://bugs.debian.org/340047 Remove overly restrictive DB_File version check.
    DEBPKG:debian/doc_info - Replace generic man(1) instructions with Debian-specific information.
    DEBPKG:debian/enc2xs_inc - https://bugs.debian.org/290336 Tweak enc2xs to follow symlinks and ignore missing @INC directories.
    DEBPKG:debian/errno_ver - https://bugs.debian.org/343351 Remove Errno version check due to upgrade problems with long-running processes.
    DEBPKG:debian/libperl_embed_doc - https://bugs.debian.org/186778 Note that libperl-dev package is required for embedded linking
    DEBPKG:fixes/respect_umask - Respect umask during installation
    DEBPKG:debian/writable_site_dirs - Set umask approproately for site install directories
    DEBPKG:debian/extutils_set_libperl_path - EU:MM: set location of libperl.a under /usr/lib
    DEBPKG:debian/no_packlist_perllocal - Don't install .packlist or perllocal.pod for perl or vendor
    DEBPKG:debian/fakeroot - Postpone LD_LIBRARY_PATH evaluation to the binary targets.
    DEBPKG:debian/instmodsh_doc - Debian policy doesn't install .packlist files for core or vendor.
    DEBPKG:debian/ld_run_path - Remove standard libs from LD_RUN_PATH as per Debian policy.
    DEBPKG:debian/libnet_config_path - Set location of libnet.cfg to /etc/perl/Net as /usr may not be writable.
    DEBPKG:debian/perlivp - https://bugs.debian.org/510895 Make perlivp skip include directories in /usr/local
    DEBPKG:debian/squelch-locale-warnings - https://bugs.debian.org/508764 Squelch locale warnings in Debian package maintainer scripts
    DEBPKG:debian/patchlevel - https://bugs.debian.org/567489 List packaged patches for 5.34.0-3ubuntu1.1 in patchlevel.h
    DEBPKG:fixes/document_makemaker_ccflags - https://bugs.debian.org/628522 [rt.cpan.org #68613] Document that CCFLAGS should include $Config{ccflags}
    DEBPKG:debian/find_html2text - https://bugs.debian.org/640479 Configure CPAN::Distribution with correct name of html2text
    DEBPKG:debian/perl5db-x-terminal-emulator.patch - https://bugs.debian.org/668490 Invoke x-terminal-emulator rather than xterm in perl5db.pl
    DEBPKG:debian/cpan-missing-site-dirs - https://bugs.debian.org/688842 Fix CPAN::FirstTime defaults with nonexisting site dirs if a parent is writable
    DEBPKG:fixes/memoize_storable_nstore - [rt.cpan.org #77790] https://bugs.debian.org/587650 Memoize::Storable: respect 'nstore' option not respected
    DEBPKG:debian/makemaker-pasthru - https://bugs.debian.org/758471 Pass LD settings through to subdirectories
    DEBPKG:debian/makemaker-manext - https://bugs.debian.org/247370 Make EU::MakeMaker honour MANnEXT settings in generated manpage headers
    DEBPKG:debian/kfreebsd-softupdates - https://bugs.debian.org/796798 Work around Debian Bug#796798
    DEBPKG:fixes/memoize-pod - [rt.cpan.org #89441] Fix POD errors in Memoize
    DEBPKG:debian/hurd-softupdates - https://bugs.debian.org/822735 Fix t/op/stat.t failures on hurd
    DEBPKG:fixes/math_complex_doc_great_circle - https://bugs.debian.org/697567 [rt.cpan.org #114104] Math::Trig: clarify definition of great_circle_midpoint
    DEBPKG:fixes/math_complex_doc_see_also - https://bugs.debian.org/697568 [rt.cpan.org #114105] Math::Trig: add missing SEE ALSO
    DEBPKG:fixes/math_complex_doc_angle_units - https://bugs.debian.org/731505 [rt.cpan.org #114106] Math::Trig: document angle units
    DEBPKG:fixes/cpan_web_link - https://bugs.debian.org/367291 CPAN: Add link to main CPAN web site
    DEBPKG:debian/hppa_op_optimize_workaround - https://bugs.debian.org/838613 Temporarily lower the optimization of op.c on hppa due to gcc-6 problems
    DEBPKG:debian/installman-utf8 - https://bugs.debian.org/840211 Generate man pages with UTF-8 characters
    DEBPKG:debian/hppa_opmini_optimize_workaround - https://bugs.debian.org/869122 Lower the optimization level of opmini.c on hppa
    DEBPKG:debian/sh4_op_optimize_workaround - https://bugs.debian.org/869373 Also lower the optimization level of op.c and opmini.c on sh4
    DEBPKG:debian/perldoc-pager - https://bugs.debian.org/870340 [rt.cpan.org #120229] Fix perldoc terminal escapes when sensible-pager is less
    DEBPKG:debian/prune_libs - https://bugs.debian.org/128355 Prune the list of libraries wanted to what we actually need.
    DEBPKG:debian/mod_paths - Tweak @INC ordering for Debian
    DEBPKG:debian/deprecate-with-apt - https://bugs.debian.org/747628 Point users to Debian packages of deprecated core modules
    DEBPKG:debian/disable-stack-check - https://bugs.debian.org/902779 [GH #16607] Disable debugperl stack extension checks for binary compatibility with perl
    DEBPKG:debian/perlbug-editor - https://bugs.debian.org/922609 Use "editor" as the default perlbug editor, as per Debian policy
    DEBPKG:debian/eu-mm-perl-base - https://bugs.debian.org/962138 Suppress an ExtUtils::MakeMaker warning about our non-default @INC
    DEBPKG:fixes/io_socket_ip_ipv6 - Disable getaddrinfo(3) AI_ADDRCONFIG for localhost and IPv4 numeric addresses
    DEBPKG:debian/usrmerge-lib64 - https://bugs.debian.org/914128 Configure / libpth.U: Do not adjust glibpth when /usr/lib64 is present.
    DEBPKG:debian/usrmerge-realpath - https://bugs.debian.org/914128 Configure / libpth.U: use realpath --no-symlinks on Debian
    DEBPKG:debian/configure-regen - https://bugs.debian.org/762638 Regenerate Configure et al. after probe unit changes
    DEBPKG:fixes/x32-io-msg-skip - https://bugs.debian.org/922609 Skip io/msg.t on x32 due to broken System V message queues
    DEBPKG:fixes/encode-CVE-2021-36770 - mitigate @INC pollution when loading ConfigLocal
    DEBPKG:fixes/gdbm-1.20 - https://bugs.debian.org/993514 [GH #18915] Fix GDBM_File to compile with version 1.20 and earlier
    DEBPKG:disable-libperl-tests -
    DEBPKG:CVE-2020-16156-1.patch - [PATCH] bugfix: signature verification type CANNOT_VERIFY was not recognized
    DEBPKG:CVE-2020-16156-2.patch - [PATCH] Add two new failure modes based on cpan_path
    DEBPKG:CVE-2020-16156-3.patch - [PATCH] use gpg --verify --output ... to disentangle data and signature
    DEBPKG:CVE-2020-16156-4.patch - [PATCH] replacing die with mydie in three spots
    DEBPKG:CVE-2020-16156-5.patch - [PATCH] disambiguate the call to gpg --output by adding --verify
    DEBPKG:CVE-2020-16156-6.patch - [PATCH] s/gpg/$gpg/ in system, add quotes where needed
    DEBPKG:CVE-2020-16156-7.patch - [PATCH] s,/dev/null,$devnull,
  Built under linux
  Compiled at Oct  4 2022 18:16:23
  %ENV:
    PERL5LIB="/home/cpansand/.local/share/.cpan/build/2022122912/Test-Requires-0.11-0/blib/arch:/home/cpansand/.local/share/.cpan/build/2022122912/Test-Requires-0.11-0/blib/lib:/home/cpansand/.local/share/.cpan/build/2022122912/Test-Pod-1.52-2/blib/arch:/home/cpansand/.local/share/.cpan/build/2022122912/Test-Pod-1.52-2/blib/lib:/home/cpansand/.local/share/.cpan/build/2022122912/Sub-Attribute-0.07-2/blib/arch:/home/cpansand/.local/share/.cpan/build/2022122912/Sub-Attribute-0.07-2/blib/lib:/home/cpansand/.local/share/.cpan/build/2022122912/Class-Trigger-0.15-2/blib/arch:/home/cpansand/.local/share/.cpan/build/2022122912/Class-Trigger-0.15-2/blib/lib:/home/cpansand/.local/share/.cpan/build/2022122912/Log-Any-Adapter-Callback-0.101-4/blib/arch:/home/cpansand/.local/share/.cpan/build/2022122912/Log-Any-Adapter-Callback-0.101-4/blib/lib:/home/cpansand/.local/share/.cpan/build/2022122912/EV-4.33-2/blib/arch:/home/cpansand/.local/share/.cpan/build/2022122912/EV-4.33-2/blib/lib:/home/cpansand/.local/share/.cpan/build/2022122912/AnyEvent-HTTP-2.25-2/blib/arch:/home/cpansand/.local/share/.cpan/build/2022122912/AnyEvent-HTTP-2.25-2/blib/lib:/home/cpansand/.local/share/.cpan/build/2022122912/AnyEvent-7.17-2/blib/arch:/home/cpansand/.local/share/.cpan/build/2022122912/AnyEvent-7.17-2/blib/lib"
    PERL5OPT=""
    PERL5_CPANPLUS_IS_RUNNING="2977101"
    PERL5_CPAN_IS_RUNNING="2977101"
    PERL5_CPAN_IS_RUNNING_IN_RECURSION="2975701,2977101"
    PERLDOC="-MPod::Perldoc::ToTextOverstrike"
    PERL_BATCH="yes"
    PERL_CANARY_STABILITY_NOPROMPT="1"
    PERL_CPAN_REPORTER_CONFIG="/var/tmp/cpansmoker-1023/2022122912/cpanreporter_000_config.ini"
    PERL_EXTUTILS_AUTOINSTALL="--defaultdeps"
    PERL_USE_UNSAFE_INC="1"
  @INC:
    /home/cpansand/.local/share/.cpan/build/2022122912/Test-Requires-0.11-0/blib/arch
    /home/cpansand/.local/share/.cpan/build/2022122912/Test-Requires-0.11-0/blib/lib
    /home/cpansand/.local/share/.cpan/build/2022122912/Test-Pod-1.52-2/blib/arch
    /home/cpansand/.local/share/.cpan/build/2022122912/Test-Pod-1.52-2/blib/lib
    /home/cpansand/.local/share/.cpan/build/2022122912/Sub-Attribute-0.07-2/blib/arch
    /home/cpansand/.local/share/.cpan/build/2022122912/Sub-Attribute-0.07-2/blib/lib
    /home/cpansand/.local/share/.cpan/build/2022122912/Class-Trigger-0.15-2/blib/arch
    /home/cpansand/.local/share/.cpan/build/2022122912/Class-Trigger-0.15-2/blib/lib
    /home/cpansand/.local/share/.cpan/build/2022122912/Log-Any-Adapter-Callback-0.101-4/blib/arch
    /home/cpansand/.local/share/.cpan/build/2022122912/Log-Any-Adapter-Callback-0.101-4/blib/lib
    /home/cpansand/.local/share/.cpan/build/2022122912/EV-4.33-2/blib/arch
    /home/cpansand/.local/share/.cpan/build/2022122912/EV-4.33-2/blib/lib
    /home/cpansand/.local/share/.cpan/build/2022122912/AnyEvent-HTTP-2.25-2/blib/arch
    /home/cpansand/.local/share/.cpan/build/2022122912/AnyEvent-HTTP-2.25-2/blib/lib
    /home/cpansand/.local/share/.cpan/build/2022122912/AnyEvent-7.17-2/blib/arch
    /home/cpansand/.local/share/.cpan/build/2022122912/AnyEvent-7.17-2/blib/lib
    /etc/perl
    /usr/local/lib/x86_64-linux-gnu/perl/5.34.0
    /usr/local/share/perl/5.34.0
    /usr/lib/x86_64-linux-gnu/perl5/5.34
    /usr/share/perl5
    /usr/lib/x86_64-linux-gnu/perl-base
    /usr/lib/x86_64-linux-gnu/perl/5.34
    /usr/share/perl/5.34
    /usr/local/lib/site_perl
    .