Report for Data-Pipeline-0.02

Back
From: metabase:user:314402c4-2aae-11df-837a-5e0a49663a4f
Subject: PASS Data-Pipeline-0.02 v5.20.3 FreeBSD
Date: 2017-03-04T10:59:45Z

This distribution has been tested as part of the CPAN Testers
project, supporting the Perl programming language.  See
http://wiki.cpantesters.org/ for more information or email
questions to cpan-testers-discuss@perl.org


--
Dear James G Smith,

This is a computer-generated report for Data-Pipeline-0.02
on perl 5.20.3, created by CPAN-Reporter-1.2017.

Thank you for uploading your work to CPAN.  Congratulations!
All tests were successful.

Sections of this report:

    * Tester comments
    * Program output
    * Prerequisites
    * Environment and other context

------------------------------
TESTER COMMENTS
------------------------------

Additional comments from tester:

none provided

------------------------------
PROGRAM OUTPUT
------------------------------

Output from '/usr/bin/make test':

Skip blib/lib/Data/Pipeline/Adapter/Array.pm (unchanged)
Skip blib/lib/Data/Pipeline/Action/ExcludeFields.pm (unchanged)
Skip blib/lib/Data/Pipeline/Iterator/Output.pm (unchanged)
Skip blib/lib/Data/Pipeline/Adapter/SPARQL.pm (unchanged)
Skip blib/lib/Data/Pipeline/Adapter/StringBuilder.pm (unchanged)
Skip blib/lib/Data/Pipeline/Aggregator/Pipeline.pm (unchanged)
Skip blib/lib/Data/Pipeline/Iterator.pm (unchanged)
Skip blib/lib/Data/Pipeline/Iterator/Options.pm (unchanged)
Skip blib/lib/Data/Pipeline/Iterator/ArrayOptions.pm (unchanged)
Skip blib/lib/Data/Pipeline/Machine.pm (unchanged)
Skip blib/lib/Data/Pipeline/Aggregator/Machine.pm (unchanged)
Skip blib/lib/Data/Pipeline/Action/Count.pm (unchanged)
Skip blib/lib/Data/Pipeline/Adapter/RSS.pm (unchanged)
cp lib/Data/Pipeline/Parser.pm blib/lib/Data/Pipeline/Parser.pm
Skip blib/lib/Data/Pipeline.pm (unchanged)
Skip blib/lib/Data/Pipeline/Adapter/FetchPage.pm (unchanged)
Skip blib/lib/Data/Pipeline/Aggregator/Union.pm (unchanged)
Skip blib/lib/Data/Pipeline/Adapter/CSV.pm (unchanged)
Skip blib/lib/Data/Pipeline/Action/Filter.pm (unchanged)
Skip blib/lib/Data/Pipeline/Types.pm (unchanged)
Skip blib/lib/Data/Pipeline/Adapter.pm (unchanged)
Skip blib/lib/Data/Pipeline/Adapter/JSON.pm (unchanged)
Skip blib/lib/Data/Pipeline/Machine/Surrogate.pm (unchanged)
Skip blib/lib/Data/Pipeline/Action/Unique.pm (unchanged)
Skip blib/lib/Data/Pipeline/Action.pm (unchanged)
Skip blib/lib/Data/Pipeline/Action/Identity.pm (unchanged)
Skip blib/lib/Data/Pipeline/Action/StringReplace.pm (unchanged)
Skip blib/lib/Data/Pipeline/Action/Rename.pm (unchanged)
Skip blib/lib/Data/Pipeline/Action/ForEach.pm (unchanged)
Skip blib/lib/Data/Pipeline/Action/Regex.pm (unchanged)
Skip blib/lib/Data/Pipeline/Action/Truncate.pm (unchanged)
Skip blib/lib/Data/Pipeline/Action/Tail.pm (unchanged)
Skip blib/lib/Data/Pipeline/Iterator/Source.pm (unchanged)
Skip blib/lib/Data/Pipeline/Aggregator.pm (unchanged)
Skip blib/lib/Data/Pipeline/Adapter/UrlBuilder.pm (unchanged)
PERL_DL_NONLAZY=1 "/usr/perl5.20.3p/bin/perl" "-MExtUtils::Command::MM" "-MTest::Harness" "-e" "undef *Test::Harness::Switches; test_harness(0, 'inc', 'blib/lib', 'blib/arch')" t/*.t
Class::MOP::load_class is deprecated at /usr/perl5.20.3p/lib/site_perl/5.20.3/amd64-freebsd/Class/MOP.pm line 69.
	Class::MOP::load_class("Data::Pipeline::Aggregator::Machine") called at /home/cpansand/.cpan/build/2017030409/Data-Pipeline-0.02-7/blib/lib/Data/Pipeline/Machine.pm line 20
	Data::Pipeline::Machine::BEGIN() called at /home/cpansand/.cpan/build/2017030409/Data-Pipeline-0.02-7/blib/lib/Data/Pipeline/Machine.pm line 22
	eval {...} called at /home/cpansand/.cpan/build/2017030409/Data-Pipeline-0.02-7/blib/lib/Data/Pipeline/Machine.pm line 22
	require Data/Pipeline/Machine.pm called at /home/cpansand/.cpan/build/2017030409/Data-Pipeline-0.02-7/blib/lib/Data/Pipeline/Aggregator/Machine.pm line 6
	Data::Pipeline::Aggregator::Machine::BEGIN() called at /home/cpansand/.cpan/build/2017030409/Data-Pipeline-0.02-7/blib/lib/Data/Pipeline/Machine.pm line 22
	eval {...} called at /home/cpansand/.cpan/build/2017030409/Data-Pipeline-0.02-7/blib/lib/Data/Pipeline/Machine.pm line 22
	require Data/Pipeline/Aggregator/Machine.pm called at /home/cpansand/.cpan/build/2017030409/Data-Pipeline-0.02-7/blib/lib/Data/Pipeline/Adapter.pm line 9
	Data::Pipeline::Adapter::BEGIN() called at /home/cpansand/.cpan/build/2017030409/Data-Pipeline-0.02-7/blib/lib/Data/Pipeline/Machine.pm line 22
	eval {...} called at /home/cpansand/.cpan/build/2017030409/Data-Pipeline-0.02-7/blib/lib/Data/Pipeline/Machine.pm line 22
	require Data/Pipeline/Adapter.pm called at t/00-compile.t line 16
	main::BEGIN() called at /home/cpansand/.cpan/build/2017030409/Data-Pipeline-0.02-7/blib/lib/Data/Pipeline/Machine.pm line 22
	eval {...} called at /home/cpansand/.cpan/build/2017030409/Data-Pipeline-0.02-7/blib/lib/Data/Pipeline/Machine.pm line 22
	eval 'package main;
BEGIN { ${^WARNING_BITS} = $args[-1] if defined $args[-1] }
#line 16 t/00-compile.t
use Data::Pipeline::Adapter @{$args[0]};
1;
' called at /usr/perl5.20.3p/lib/site_perl/5.20.3/Test/More.pm line 1032
	Test::More::_eval("package main;\x{a}BEGIN { \${^WARNING_BITS} = \$args[-1] if defined"..., ARRAY(0x424fffa8), undef) called at /usr/perl5.20.3p/lib/site_perl/5.20.3/Test/More.pm line 1007
	Test::More::use_ok("Data::Pipeline::Adapter") called at t/00-compile.t line 16
	main::BEGIN() called at /home/cpansand/.cpan/build/2017030409/Data-Pipeline-0.02-7/blib/lib/Data/Pipeline/Machine.pm line 22
	eval {...} called at /home/cpansand/.cpan/build/2017030409/Data-Pipeline-0.02-7/blib/lib/Data/Pipeline/Machine.pm line 22
t/00-compile.t ......... ok
t/01-iteratorsource.t .. ok
t/02-iterator.t ........ ok
Class::MOP::load_class is deprecated at /usr/perl5.20.3p/lib/site_perl/5.20.3/amd64-freebsd/Class/MOP.pm line 69.
	Class::MOP::load_class("Data::Pipeline::Aggregator::Machine") called at /home/cpansand/.cpan/build/2017030409/Data-Pipeline-0.02-7/blib/lib/Data/Pipeline/Machine.pm line 20
	Data::Pipeline::Machine::BEGIN() called at /home/cpansand/.cpan/build/2017030409/Data-Pipeline-0.02-7/blib/lib/Data/Pipeline/Machine.pm line 22
	eval {...} called at /home/cpansand/.cpan/build/2017030409/Data-Pipeline-0.02-7/blib/lib/Data/Pipeline/Machine.pm line 22
	require Data/Pipeline/Machine.pm called at /home/cpansand/.cpan/build/2017030409/Data-Pipeline-0.02-7/blib/lib/Data/Pipeline/Aggregator/Machine.pm line 6
	Data::Pipeline::Aggregator::Machine::BEGIN() called at /home/cpansand/.cpan/build/2017030409/Data-Pipeline-0.02-7/blib/lib/Data/Pipeline/Machine.pm line 22
	eval {...} called at /home/cpansand/.cpan/build/2017030409/Data-Pipeline-0.02-7/blib/lib/Data/Pipeline/Machine.pm line 22
	require Data/Pipeline/Aggregator/Machine.pm called at /home/cpansand/.cpan/build/2017030409/Data-Pipeline-0.02-7/blib/lib/Data/Pipeline/Adapter.pm line 9
	Data::Pipeline::Adapter::BEGIN() called at /home/cpansand/.cpan/build/2017030409/Data-Pipeline-0.02-7/blib/lib/Data/Pipeline/Machine.pm line 22
	eval {...} called at /home/cpansand/.cpan/build/2017030409/Data-Pipeline-0.02-7/blib/lib/Data/Pipeline/Machine.pm line 22
	require Data/Pipeline/Adapter.pm called at /usr/perl5.20.3p/lib/site_perl/5.20.3/Module/Runtime.pm line 317
	Module::Runtime::require_module("Data::Pipeline::Adapter") called at /usr/perl5.20.3p/lib/site_perl/5.20.3/Module/Runtime.pm line 381
	eval {...} called at /usr/perl5.20.3p/lib/site_perl/5.20.3/Module/Runtime.pm line 381
	Module::Runtime::use_package_optimistically("Data::Pipeline::Adapter") called at /usr/perl5.20.3p/lib/site_perl/5.20.3/amd64-freebsd/Moose/Util.pm line 349
	Moose::Util::_load_user_class("Data::Pipeline::Adapter", undef) called at /usr/perl5.20.3p/lib/site_perl/5.20.3/amd64-freebsd/Moose/Meta/Class.pm line 567
	Moose::Meta::Class::superclasses(undef, "Data::Pipeline::Adapter") called at /usr/perl5.20.3p/lib/site_perl/5.20.3/amd64-freebsd/Moose.pm line 53
	Moose::extends(Moose::Meta::Class=HASH(0x448d2f60), "Data::Pipeline::Adapter") called at /usr/perl5.20.3p/lib/site_perl/5.20.3/amd64-freebsd/Moose/Exporter.pm line 419
	Moose::extends("Data::Pipeline::Adapter") called at /home/cpansand/.cpan/build/2017030409/Data-Pipeline-0.02-7/blib/lib/Data/Pipeline/Adapter/Array.pm line 4
	require Data/Pipeline/Adapter/Array.pm called at t/03-arraysource.t line 3
	main::BEGIN() called at /home/cpansand/.cpan/build/2017030409/Data-Pipeline-0.02-7/blib/lib/Data/Pipeline/Machine.pm line 22
	eval {...} called at /home/cpansand/.cpan/build/2017030409/Data-Pipeline-0.02-7/blib/lib/Data/Pipeline/Machine.pm line 22
Class::MOP::load_class is deprecated at /usr/perl5.20.3p/lib/site_perl/5.20.3/amd64-freebsd/Class/MOP.pm line 69.
	Class::MOP::load_class("Data::Pipeline::Iterator") called at /home/cpansand/.cpan/build/2017030409/Data-Pipeline-0.02-7/blib/lib/Data/Pipeline/Types.pm line 123
	Data::Pipeline::Types::__ANON__(Data::Pipeline::Iterator::Source=HASH(0x44ca04f8)) called at /usr/perl5.20.3p/lib/site_perl/5.20.3/amd64-freebsd/Moose/Meta/TypeCoercion.pm line 65
	Moose::Meta::TypeCoercion::__ANON__(Data::Pipeline::Iterator::Source=HASH(0x44ca04f8)) called at /usr/perl5.20.3p/lib/site_perl/5.20.3/amd64-freebsd/Moose/Meta/TypeCoercion.pm line 100
	Moose::Meta::TypeCoercion::coerce(Moose::Meta::TypeCoercion=HASH(0x44b21ab0), Data::Pipeline::Iterator::Source=HASH(0x44ca04f8)) called at /usr/perl5.20.3p/lib/site_perl/5.20.3/amd64-freebsd/Moose/Meta/TypeConstraint.pm line 145
	Moose::Meta::TypeConstraint::coerce(Moose::Meta::TypeConstraint=HASH(0x44b0dba0), Data::Pipeline::Iterator::Source=HASH(0x44ca04f8)) called at /usr/perl5.20.3p/lib/site_perl/5.20.3/MooseX/Types.pm line 494
	MooseX::Types::__ANON__(Data::Pipeline::Iterator::Source=HASH(0x44ca04f8)) called at t/03-arraysource.t line 17
t/03-arraysource.t ..... ok
Class::MOP::load_class is deprecated at /usr/perl5.20.3p/lib/site_perl/5.20.3/amd64-freebsd/Class/MOP.pm line 69.
	Class::MOP::load_class("Data::Pipeline::Aggregator::Machine") called at /home/cpansand/.cpan/build/2017030409/Data-Pipeline-0.02-7/blib/lib/Data/Pipeline/Machine.pm line 20
	Data::Pipeline::Machine::BEGIN() called at /home/cpansand/.cpan/build/2017030409/Data-Pipeline-0.02-7/blib/lib/Data/Pipeline/Machine.pm line 22
	eval {...} called at /home/cpansand/.cpan/build/2017030409/Data-Pipeline-0.02-7/blib/lib/Data/Pipeline/Machine.pm line 22
	require Data/Pipeline/Machine.pm called at /home/cpansand/.cpan/build/2017030409/Data-Pipeline-0.02-7/blib/lib/Data/Pipeline/Aggregator/Machine.pm line 6
	Data::Pipeline::Aggregator::Machine::BEGIN() called at /home/cpansand/.cpan/build/2017030409/Data-Pipeline-0.02-7/blib/lib/Data/Pipeline/Machine.pm line 22
	eval {...} called at /home/cpansand/.cpan/build/2017030409/Data-Pipeline-0.02-7/blib/lib/Data/Pipeline/Machine.pm line 22
	require Data/Pipeline/Aggregator/Machine.pm called at /home/cpansand/.cpan/build/2017030409/Data-Pipeline-0.02-7/blib/lib/Data/Pipeline/Adapter.pm line 9
	Data::Pipeline::Adapter::BEGIN() called at /home/cpansand/.cpan/build/2017030409/Data-Pipeline-0.02-7/blib/lib/Data/Pipeline/Machine.pm line 22
	eval {...} called at /home/cpansand/.cpan/build/2017030409/Data-Pipeline-0.02-7/blib/lib/Data/Pipeline/Machine.pm line 22
	require Data/Pipeline/Adapter.pm called at /usr/perl5.20.3p/lib/site_perl/5.20.3/Module/Runtime.pm line 317
	Module::Runtime::require_module("Data::Pipeline::Adapter") called at /usr/perl5.20.3p/lib/site_perl/5.20.3/Module/Runtime.pm line 381
	eval {...} called at /usr/perl5.20.3p/lib/site_perl/5.20.3/Module/Runtime.pm line 381
	Module::Runtime::use_package_optimistically("Data::Pipeline::Adapter") called at /usr/perl5.20.3p/lib/site_perl/5.20.3/amd64-freebsd/Moose/Util.pm line 349
	Moose::Util::_load_user_class("Data::Pipeline::Adapter", undef) called at /usr/perl5.20.3p/lib/site_perl/5.20.3/amd64-freebsd/Moose/Meta/Class.pm line 567
	Moose::Meta::Class::superclasses(undef, "Data::Pipeline::Adapter") called at /usr/perl5.20.3p/lib/site_perl/5.20.3/amd64-freebsd/Moose.pm line 53
	Moose::extends(Moose::Meta::Class=HASH(0x44ae9138), "Data::Pipeline::Adapter") called at /usr/perl5.20.3p/lib/site_perl/5.20.3/amd64-freebsd/Moose/Exporter.pm line 419
	Moose::extends("Data::Pipeline::Adapter") called at /home/cpansand/.cpan/build/2017030409/Data-Pipeline-0.02-7/blib/lib/Data/Pipeline/Adapter/Array.pm line 4
	require Data/Pipeline/Adapter/Array.pm called at t/04-count.t line 4
	main::BEGIN() called at /home/cpansand/.cpan/build/2017030409/Data-Pipeline-0.02-7/blib/lib/Data/Pipeline/Machine.pm line 22
	eval {...} called at /home/cpansand/.cpan/build/2017030409/Data-Pipeline-0.02-7/blib/lib/Data/Pipeline/Machine.pm line 22
t/04-count.t ........... ok
Class::MOP::load_class is deprecated at /usr/perl5.20.3p/lib/site_perl/5.20.3/amd64-freebsd/Class/MOP.pm line 69.
	Class::MOP::load_class("Data::Pipeline::Aggregator::Machine") called at /home/cpansand/.cpan/build/2017030409/Data-Pipeline-0.02-7/blib/lib/Data/Pipeline/Machine.pm line 20
	Data::Pipeline::Machine::BEGIN() called at /home/cpansand/.cpan/build/2017030409/Data-Pipeline-0.02-7/blib/lib/Data/Pipeline/Machine.pm line 22
	eval {...} called at /home/cpansand/.cpan/build/2017030409/Data-Pipeline-0.02-7/blib/lib/Data/Pipeline/Machine.pm line 22
	require Data/Pipeline/Machine.pm called at /home/cpansand/.cpan/build/2017030409/Data-Pipeline-0.02-7/blib/lib/Data/Pipeline/Aggregator/Machine.pm line 6
	Data::Pipeline::Aggregator::Machine::BEGIN() called at /home/cpansand/.cpan/build/2017030409/Data-Pipeline-0.02-7/blib/lib/Data/Pipeline/Machine.pm line 22
	eval {...} called at /home/cpansand/.cpan/build/2017030409/Data-Pipeline-0.02-7/blib/lib/Data/Pipeline/Machine.pm line 22
	require Data/Pipeline/Aggregator/Machine.pm called at /home/cpansand/.cpan/build/2017030409/Data-Pipeline-0.02-7/blib/lib/Data/Pipeline/Adapter.pm line 9
	Data::Pipeline::Adapter::BEGIN() called at /home/cpansand/.cpan/build/2017030409/Data-Pipeline-0.02-7/blib/lib/Data/Pipeline/Machine.pm line 22
	eval {...} called at /home/cpansand/.cpan/build/2017030409/Data-Pipeline-0.02-7/blib/lib/Data/Pipeline/Machine.pm line 22
	require Data/Pipeline/Adapter.pm called at /usr/perl5.20.3p/lib/site_perl/5.20.3/Module/Runtime.pm line 317
	Module::Runtime::require_module("Data::Pipeline::Adapter") called at /usr/perl5.20.3p/lib/site_perl/5.20.3/Module/Runtime.pm line 381
	eval {...} called at /usr/perl5.20.3p/lib/site_perl/5.20.3/Module/Runtime.pm line 381
	Module::Runtime::use_package_optimistically("Data::Pipeline::Adapter") called at /usr/perl5.20.3p/lib/site_perl/5.20.3/amd64-freebsd/Moose/Util.pm line 349
	Moose::Util::_load_user_class("Data::Pipeline::Adapter", undef) called at /usr/perl5.20.3p/lib/site_perl/5.20.3/amd64-freebsd/Moose/Meta/Class.pm line 567
	Moose::Meta::Class::superclasses(undef, "Data::Pipeline::Adapter") called at /usr/perl5.20.3p/lib/site_perl/5.20.3/amd64-freebsd/Moose.pm line 53
	Moose::extends(Moose::Meta::Class=HASH(0x448a3f18), "Data::Pipeline::Adapter") called at /usr/perl5.20.3p/lib/site_perl/5.20.3/amd64-freebsd/Moose/Exporter.pm line 419
	Moose::extends("Data::Pipeline::Adapter") called at /home/cpansand/.cpan/build/2017030409/Data-Pipeline-0.02-7/blib/lib/Data/Pipeline/Adapter/Array.pm line 4
	require Data/Pipeline/Adapter/Array.pm called at t/05-truncate.t line 4
	main::BEGIN() called at /home/cpansand/.cpan/build/2017030409/Data-Pipeline-0.02-7/blib/lib/Data/Pipeline/Machine.pm line 22
	eval {...} called at /home/cpansand/.cpan/build/2017030409/Data-Pipeline-0.02-7/blib/lib/Data/Pipeline/Machine.pm line 22
t/05-truncate.t ........ ok
Class::MOP::load_class is deprecated at /usr/perl5.20.3p/lib/site_perl/5.20.3/amd64-freebsd/Class/MOP.pm line 69.
	Class::MOP::load_class("Data::Pipeline::Aggregator::Pipeline") called at /home/cpansand/.cpan/build/2017030409/Data-Pipeline-0.02-7/blib/lib/Data/Pipeline.pm line 70
	eval {...} called at /home/cpansand/.cpan/build/2017030409/Data-Pipeline-0.02-7/blib/lib/Data/Pipeline.pm line 70
	Data::Pipeline::_find_class("Pipeline") called at /home/cpansand/.cpan/build/2017030409/Data-Pipeline-0.02-7/blib/lib/Data/Pipeline.pm line 23
	Data::Pipeline::import("Data::Pipeline", "Pipeline", "Truncate", "Count", "Array") called at t/06-pipeline.t line 4
	main::BEGIN() called at t/06-pipeline.t line 4
	eval {...} called at t/06-pipeline.t line 4
Class::MOP::load_class is deprecated at /usr/perl5.20.3p/lib/site_perl/5.20.3/amd64-freebsd/Class/MOP.pm line 69.
	Class::MOP::load_class("Data::Pipeline::Aggregator::Machine") called at /home/cpansand/.cpan/build/2017030409/Data-Pipeline-0.02-7/blib/lib/Data/Pipeline/Machine.pm line 20
	Data::Pipeline::Machine::BEGIN() called at /home/cpansand/.cpan/build/2017030409/Data-Pipeline-0.02-7/blib/lib/Data/Pipeline/Machine.pm line 22
	eval {...} called at /home/cpansand/.cpan/build/2017030409/Data-Pipeline-0.02-7/blib/lib/Data/Pipeline/Machine.pm line 22
	require Data/Pipeline/Machine.pm called at /home/cpansand/.cpan/build/2017030409/Data-Pipeline-0.02-7/blib/lib/Data/Pipeline/Aggregator/Pipeline.pm line 10
	Data::Pipeline::Aggregator::Pipeline::BEGIN() called at /home/cpansand/.cpan/build/2017030409/Data-Pipeline-0.02-7/blib/lib/Data/Pipeline/Machine.pm line 22
	eval {...} called at /home/cpansand/.cpan/build/2017030409/Data-Pipeline-0.02-7/blib/lib/Data/Pipeline/Machine.pm line 22
	require Data/Pipeline/Aggregator/Pipeline.pm called at /usr/perl5.20.3p/lib/site_perl/5.20.3/Module/Runtime.pm line 317
	Module::Runtime::require_module("Data::Pipeline::Aggregator::Pipeline") called at /usr/perl5.20.3p/lib/site_perl/5.20.3/Class/Load.pm line 174
	Class::Load::try {...} () called at /usr/perl5.20.3p/lib/site_perl/5.20.3/Try/Tiny.pm line 99
	eval {...} called at /usr/perl5.20.3p/lib/site_perl/5.20.3/Try/Tiny.pm line 94
	Try::Tiny::try(CODE(0x44a5dac8), Try::Tiny::Catch=REF(0x44af6780)) called at /usr/perl5.20.3p/lib/site_perl/5.20.3/Class/Load.pm line 180
	Class::Load::try_load_class("Data::Pipeline::Aggregator::Pipeline", undef) called at /usr/perl5.20.3p/lib/site_perl/5.20.3/Class/Load.pm line 35
	Class::Load::load_class("Data::Pipeline::Aggregator::Pipeline") called at /home/cpansand/.cpan/build/2017030409/Data-Pipeline-0.02-7/blib/lib/Data/Pipeline.pm line 70
	eval {...} called at /home/cpansand/.cpan/build/2017030409/Data-Pipeline-0.02-7/blib/lib/Data/Pipeline.pm line 70
	Data::Pipeline::_find_class("Pipeline") called at /home/cpansand/.cpan/build/2017030409/Data-Pipeline-0.02-7/blib/lib/Data/Pipeline.pm line 23
	Data::Pipeline::import("Data::Pipeline", "Pipeline", "Truncate", "Count", "Array") called at t/06-pipeline.t line 4
	main::BEGIN() called at /home/cpansand/.cpan/build/2017030409/Data-Pipeline-0.02-7/blib/lib/Data/Pipeline/Machine.pm line 22
	eval {...} called at /home/cpansand/.cpan/build/2017030409/Data-Pipeline-0.02-7/blib/lib/Data/Pipeline/Machine.pm line 22
Class::MOP::load_class is deprecated at /usr/perl5.20.3p/lib/site_perl/5.20.3/amd64-freebsd/Class/MOP.pm line 69.
	Class::MOP::load_class("Data::Pipeline::Iterator") called at /home/cpansand/.cpan/build/2017030409/Data-Pipeline-0.02-7/blib/lib/Data/Pipeline/Types.pm line 133
	Data::Pipeline::Types::__ANON__(Data::Pipeline::Adapter::Array=HASH(0x44cdc810)) called at /usr/perl5.20.3p/lib/site_perl/5.20.3/amd64-freebsd/Moose/Meta/TypeCoercion.pm line 65
	Moose::Meta::TypeCoercion::__ANON__(Data::Pipeline::Adapter::Array=HASH(0x44cdc810)) called at /usr/perl5.20.3p/lib/site_perl/5.20.3/amd64-freebsd/Moose/Meta/TypeCoercion.pm line 100
	Moose::Meta::TypeCoercion::coerce(Moose::Meta::TypeCoercion=HASH(0x44afa5d0), Data::Pipeline::Adapter::Array=HASH(0x44cdc810)) called at /usr/perl5.20.3p/lib/site_perl/5.20.3/amd64-freebsd/Moose/Meta/TypeConstraint.pm line 145
	Moose::Meta::TypeConstraint::coerce(Moose::Meta::TypeConstraint=HASH(0x44ae86c0), Data::Pipeline::Adapter::Array=HASH(0x44cdc810)) called at /usr/perl5.20.3p/lib/site_perl/5.20.3/MooseX/Types.pm line 494
	MooseX::Types::__ANON__(Data::Pipeline::Adapter::Array=HASH(0x44cdc810)) called at /home/cpansand/.cpan/build/2017030409/Data-Pipeline-0.02-7/blib/lib/Data/Pipeline/Aggregator/Pipeline.pm line 47
	Data::Pipeline::Aggregator::Pipeline::transform(Data::Pipeline::Aggregator::Pipeline=HASH(0x44cdc648), Data::Pipeline::Adapter::Array=HASH(0x44cdc810)) called at t/06-pipeline.t line 19
t/06-pipeline.t ........ ok
Class::MOP::load_class is deprecated at /usr/perl5.20.3p/lib/site_perl/5.20.3/amd64-freebsd/Class/MOP.pm line 69.
	Class::MOP::load_class("Data::Pipeline::Aggregator::Pipeline") called at /home/cpansand/.cpan/build/2017030409/Data-Pipeline-0.02-7/blib/lib/Data/Pipeline.pm line 70
	eval {...} called at /home/cpansand/.cpan/build/2017030409/Data-Pipeline-0.02-7/blib/lib/Data/Pipeline.pm line 70
	Data::Pipeline::_find_class("Pipeline") called at /home/cpansand/.cpan/build/2017030409/Data-Pipeline-0.02-7/blib/lib/Data/Pipeline.pm line 23
	Data::Pipeline::import("Data::Pipeline", "Pipeline", "Count", "CSV") called at t/07-csvsource.t line 23
	main::BEGIN() called at t/07-csvsource.t line 23
	eval {...} called at t/07-csvsource.t line 23
Class::MOP::load_class is deprecated at /usr/perl5.20.3p/lib/site_perl/5.20.3/amd64-freebsd/Class/MOP.pm line 69.
	Class::MOP::load_class("Data::Pipeline::Aggregator::Machine") called at /home/cpansand/.cpan/build/2017030409/Data-Pipeline-0.02-7/blib/lib/Data/Pipeline/Machine.pm line 20
	Data::Pipeline::Machine::BEGIN() called at /home/cpansand/.cpan/build/2017030409/Data-Pipeline-0.02-7/blib/lib/Data/Pipeline/Machine.pm line 22
	eval {...} called at /home/cpansand/.cpan/build/2017030409/Data-Pipeline-0.02-7/blib/lib/Data/Pipeline/Machine.pm line 22
	require Data/Pipeline/Machine.pm called at /home/cpansand/.cpan/build/2017030409/Data-Pipeline-0.02-7/blib/lib/Data/Pipeline/Aggregator/Pipeline.pm line 10
	Data::Pipeline::Aggregator::Pipeline::BEGIN() called at /home/cpansand/.cpan/build/2017030409/Data-Pipeline-0.02-7/blib/lib/Data/Pipeline/Machine.pm line 22
	eval {...} called at /home/cpansand/.cpan/build/2017030409/Data-Pipeline-0.02-7/blib/lib/Data/Pipeline/Machine.pm line 22
	require Data/Pipeline/Aggregator/Pipeline.pm called at /usr/perl5.20.3p/lib/site_perl/5.20.3/Module/Runtime.pm line 317
	Module::Runtime::require_module("Data::Pipeline::Aggregator::Pipeline") called at /usr/perl5.20.3p/lib/site_perl/5.20.3/Class/Load.pm line 174
	Class::Load::try {...} () called at /usr/perl5.20.3p/lib/site_perl/5.20.3/Try/Tiny.pm line 99
	eval {...} called at /usr/perl5.20.3p/lib/site_perl/5.20.3/Try/Tiny.pm line 94
	Try::Tiny::try(CODE(0x44a90e88), Try::Tiny::Catch=REF(0x44a408a0)) called at /usr/perl5.20.3p/lib/site_perl/5.20.3/Class/Load.pm line 180
	Class::Load::try_load_class("Data::Pipeline::Aggregator::Pipeline", undef) called at /usr/perl5.20.3p/lib/site_perl/5.20.3/Class/Load.pm line 35
	Class::Load::load_class("Data::Pipeline::Aggregator::Pipeline") called at /home/cpansand/.cpan/build/2017030409/Data-Pipeline-0.02-7/blib/lib/Data/Pipeline.pm line 70
	eval {...} called at /home/cpansand/.cpan/build/2017030409/Data-Pipeline-0.02-7/blib/lib/Data/Pipeline.pm line 70
	Data::Pipeline::_find_class("Pipeline") called at /home/cpansand/.cpan/build/2017030409/Data-Pipeline-0.02-7/blib/lib/Data/Pipeline.pm line 23
	Data::Pipeline::import("Data::Pipeline", "Pipeline", "Count", "CSV") called at t/07-csvsource.t line 23
	main::BEGIN() called at /home/cpansand/.cpan/build/2017030409/Data-Pipeline-0.02-7/blib/lib/Data/Pipeline/Machine.pm line 22
	eval {...} called at /home/cpansand/.cpan/build/2017030409/Data-Pipeline-0.02-7/blib/lib/Data/Pipeline/Machine.pm line 22
Class::MOP::load_class is deprecated at /usr/perl5.20.3p/lib/site_perl/5.20.3/amd64-freebsd/Class/MOP.pm line 69.
	Class::MOP::load_class("Data::Pipeline::Iterator") called at /home/cpansand/.cpan/build/2017030409/Data-Pipeline-0.02-7/blib/lib/Data/Pipeline/Types.pm line 133
	Data::Pipeline::Types::__ANON__(Data::Pipeline::Adapter::CSV=HASH(0x44f59288)) called at /usr/perl5.20.3p/lib/site_perl/5.20.3/amd64-freebsd/Moose/Meta/TypeCoercion.pm line 65
	Moose::Meta::TypeCoercion::__ANON__(Data::Pipeline::Adapter::CSV=HASH(0x44f59288)) called at /usr/perl5.20.3p/lib/site_perl/5.20.3/amd64-freebsd/Moose/Meta/TypeCoercion.pm line 100
	Moose::Meta::TypeCoercion::coerce(Moose::Meta::TypeCoercion=HASH(0x44aff630), Data::Pipeline::Adapter::CSV=HASH(0x44f59288)) called at /usr/perl5.20.3p/lib/site_perl/5.20.3/amd64-freebsd/Moose/Meta/TypeConstraint.pm line 145
	Moose::Meta::TypeConstraint::coerce(Moose::Meta::TypeConstraint=HASH(0x44aec720), Data::Pipeline::Adapter::CSV=HASH(0x44f59288)) called at /usr/perl5.20.3p/lib/site_perl/5.20.3/MooseX/Types.pm line 494
	MooseX::Types::__ANON__(Data::Pipeline::Adapter::CSV=HASH(0x44f59288)) called at /home/cpansand/.cpan/build/2017030409/Data-Pipeline-0.02-7/blib/lib/Data/Pipeline/Action.pm line 23
	Data::Pipeline::Action::transform(Data::Pipeline::Action::Count=HASH(0x448e36a8), Data::Pipeline::Adapter::CSV=HASH(0x44f59288)) called at t/07-csvsource.t line 26
t/07-csvsource.t ....... ok
Class::MOP::load_class is deprecated at /usr/perl5.20.3p/lib/site_perl/5.20.3/amd64-freebsd/Class/MOP.pm line 69.
	Class::MOP::load_class("Data::Pipeline::Adapter::Array") called at /home/cpansand/.cpan/build/2017030409/Data-Pipeline-0.02-7/blib/lib/Data/Pipeline/Types.pm line 78
	Data::Pipeline::Types::__ANON__(ARRAY(0x41cb2750)) called at /usr/perl5.20.3p/lib/site_perl/5.20.3/amd64-freebsd/Moose/Meta/TypeCoercion.pm line 65
	Moose::Meta::TypeCoercion::__ANON__(ARRAY(0x41cb2750)) called at /usr/perl5.20.3p/lib/site_perl/5.20.3/amd64-freebsd/Moose/Meta/TypeCoercion.pm line 100
	Moose::Meta::TypeCoercion::coerce(Moose::Meta::TypeCoercion=HASH(0x44ad71b0), ARRAY(0x41cb2750)) called at /usr/perl5.20.3p/lib/site_perl/5.20.3/amd64-freebsd/Moose/Meta/TypeConstraint.pm line 145
	Moose::Meta::TypeConstraint::coerce(Moose::Meta::TypeConstraint=HASH(0x42530de0), ARRAY(0x41cb2750)) called at /usr/perl5.20.3p/lib/site_perl/5.20.3/MooseX/Types.pm line 494
	MooseX::Types::__ANON__(ARRAY(0x41cb2750)) called at t/08-types.t line 28
Class::MOP::load_class is deprecated at /usr/perl5.20.3p/lib/site_perl/5.20.3/amd64-freebsd/Class/MOP.pm line 69.
	Class::MOP::load_class("Data::Pipeline::Aggregator::Machine") called at /home/cpansand/.cpan/build/2017030409/Data-Pipeline-0.02-7/blib/lib/Data/Pipeline/Machine.pm line 20
	Data::Pipeline::Machine::BEGIN() called at /home/cpansand/.cpan/build/2017030409/Data-Pipeline-0.02-7/blib/lib/Data/Pipeline/Machine.pm line 22
	eval {...} called at /home/cpansand/.cpan/build/2017030409/Data-Pipeline-0.02-7/blib/lib/Data/Pipeline/Machine.pm line 22
	require Data/Pipeline/Machine.pm called at /home/cpansand/.cpan/build/2017030409/Data-Pipeline-0.02-7/blib/lib/Data/Pipeline/Aggregator/Machine.pm line 6
	Data::Pipeline::Aggregator::Machine::BEGIN() called at /home/cpansand/.cpan/build/2017030409/Data-Pipeline-0.02-7/blib/lib/Data/Pipeline/Machine.pm line 22
	eval {...} called at /home/cpansand/.cpan/build/2017030409/Data-Pipeline-0.02-7/blib/lib/Data/Pipeline/Machine.pm line 22
	require Data/Pipeline/Aggregator/Machine.pm called at /home/cpansand/.cpan/build/2017030409/Data-Pipeline-0.02-7/blib/lib/Data/Pipeline/Adapter.pm line 9
	Data::Pipeline::Adapter::BEGIN() called at /home/cpansand/.cpan/build/2017030409/Data-Pipeline-0.02-7/blib/lib/Data/Pipeline/Machine.pm line 22
	eval {...} called at /home/cpansand/.cpan/build/2017030409/Data-Pipeline-0.02-7/blib/lib/Data/Pipeline/Machine.pm line 22
	require Data/Pipeline/Adapter.pm called at /usr/perl5.20.3p/lib/site_perl/5.20.3/Module/Runtime.pm line 317
	Module::Runtime::require_module("Data::Pipeline::Adapter") called at /usr/perl5.20.3p/lib/site_perl/5.20.3/Module/Runtime.pm line 381
	eval {...} called at /usr/perl5.20.3p/lib/site_perl/5.20.3/Module/Runtime.pm line 381
	Module::Runtime::use_package_optimistically("Data::Pipeline::Adapter") called at /usr/perl5.20.3p/lib/site_perl/5.20.3/amd64-freebsd/Moose/Util.pm line 349
	Moose::Util::_load_user_class("Data::Pipeline::Adapter", undef) called at /usr/perl5.20.3p/lib/site_perl/5.20.3/amd64-freebsd/Moose/Meta/Class.pm line 567
	Moose::Meta::Class::superclasses(undef, "Data::Pipeline::Adapter") called at /usr/perl5.20.3p/lib/site_perl/5.20.3/amd64-freebsd/Moose.pm line 53
	Moose::extends(Moose::Meta::Class=HASH(0x44b4a5b8), "Data::Pipeline::Adapter") called at /usr/perl5.20.3p/lib/site_perl/5.20.3/amd64-freebsd/Moose/Exporter.pm line 419
	Moose::extends("Data::Pipeline::Adapter") called at /home/cpansand/.cpan/build/2017030409/Data-Pipeline-0.02-7/blib/lib/Data/Pipeline/Adapter/Array.pm line 4
	require Data/Pipeline/Adapter/Array.pm called at /usr/perl5.20.3p/lib/site_perl/5.20.3/Module/Runtime.pm line 317
	Module::Runtime::require_module("Data::Pipeline::Adapter::Array") called at /usr/perl5.20.3p/lib/site_perl/5.20.3/Class/Load.pm line 174
	Class::Load::try {...} () called at /usr/perl5.20.3p/lib/site_perl/5.20.3/Try/Tiny.pm line 99
	eval {...} called at /usr/perl5.20.3p/lib/site_perl/5.20.3/Try/Tiny.pm line 94
	Try::Tiny::try(CODE(0x44af5288), Try::Tiny::Catch=REF(0x44b041c8)) called at /usr/perl5.20.3p/lib/site_perl/5.20.3/Class/Load.pm line 180
	Class::Load::try_load_class("Data::Pipeline::Adapter::Array", undef) called at /usr/perl5.20.3p/lib/site_perl/5.20.3/Class/Load.pm line 35
	Class::Load::load_class("Data::Pipeline::Adapter::Array") called at /home/cpansand/.cpan/build/2017030409/Data-Pipeline-0.02-7/blib/lib/Data/Pipeline/Types.pm line 78
	Data::Pipeline::Types::__ANON__(ARRAY(0x41cb2750)) called at /usr/perl5.20.3p/lib/site_perl/5.20.3/amd64-freebsd/Moose/Meta/TypeCoercion.pm line 65
	Moose::Meta::TypeCoercion::__ANON__(ARRAY(0x41cb2750)) called at /usr/perl5.20.3p/lib/site_perl/5.20.3/amd64-freebsd/Moose/Meta/TypeCoercion.pm line 100
	Moose::Meta::TypeCoercion::coerce(Moose::Meta::TypeCoercion=HASH(0x44ad71b0), ARRAY(0x41cb2750)) called at /usr/perl5.20.3p/lib/site_perl/5.20.3/amd64-freebsd/Moose/Meta/TypeConstraint.pm line 145
	Moose::Meta::TypeConstraint::coerce(Moose::Meta::TypeConstraint=HASH(0x42530de0), ARRAY(0x41cb2750)) called at /usr/perl5.20.3p/lib/site_perl/5.20.3/MooseX/Types.pm line 494
	MooseX::Types::__ANON__(ARRAY(0x41cb2750)) called at t/08-types.t line 28
t/08-types.t ........... ok
t/09-rename.t .......... ok
Class::MOP::load_class is deprecated at /usr/perl5.20.3p/lib/site_perl/5.20.3/amd64-freebsd/Class/MOP.pm line 69.
	Class::MOP::load_class("Data::Pipeline::Aggregator::Machine") called at /home/cpansand/.cpan/build/2017030409/Data-Pipeline-0.02-7/blib/lib/Data/Pipeline/Machine.pm line 20
	Data::Pipeline::Machine::BEGIN() called at /home/cpansand/.cpan/build/2017030409/Data-Pipeline-0.02-7/blib/lib/Data/Pipeline/Machine.pm line 22
	eval {...} called at /home/cpansand/.cpan/build/2017030409/Data-Pipeline-0.02-7/blib/lib/Data/Pipeline/Machine.pm line 22
	require Data/Pipeline/Machine.pm called at t/11-machine.t line 6
	My::Machine::BEGIN() called at /home/cpansand/.cpan/build/2017030409/Data-Pipeline-0.02-7/blib/lib/Data/Pipeline/Machine.pm line 22
	eval {...} called at /home/cpansand/.cpan/build/2017030409/Data-Pipeline-0.02-7/blib/lib/Data/Pipeline/Machine.pm line 22
Class::MOP::load_class is deprecated at /usr/perl5.20.3p/lib/site_perl/5.20.3/amd64-freebsd/Class/MOP.pm line 69.
	Class::MOP::load_class("Data::Pipeline::Aggregator::Array") called at /home/cpansand/.cpan/build/2017030409/Data-Pipeline-0.02-7/blib/lib/Data/Pipeline.pm line 70
	eval {...} called at /home/cpansand/.cpan/build/2017030409/Data-Pipeline-0.02-7/blib/lib/Data/Pipeline.pm line 70
	Data::Pipeline::_find_class("Array") called at /home/cpansand/.cpan/build/2017030409/Data-Pipeline-0.02-7/blib/lib/Data/Pipeline.pm line 23
	Data::Pipeline::import("Data::Pipeline", "Array", "Count", "CSV") called at t/11-machine.t line 7
	My::Machine::BEGIN() called at t/11-machine.t line 7
	eval {...} called at t/11-machine.t line 7
Class::MOP::load_class is deprecated at /usr/perl5.20.3p/lib/site_perl/5.20.3/amd64-freebsd/Class/MOP.pm line 69.
	Class::MOP::load_class("Data::Pipeline::Iterator") called at /home/cpansand/.cpan/build/2017030409/Data-Pipeline-0.02-7/blib/lib/Data/Pipeline/Types.pm line 133
	Data::Pipeline::Types::__ANON__(Data::Pipeline::Adapter::Array=HASH(0x44f26db0)) called at /usr/perl5.20.3p/lib/site_perl/5.20.3/amd64-freebsd/Moose/Meta/TypeCoercion.pm line 65
	Moose::Meta::TypeCoercion::__ANON__(Data::Pipeline::Adapter::Array=HASH(0x44f26db0)) called at /usr/perl5.20.3p/lib/site_perl/5.20.3/amd64-freebsd/Moose/Meta/TypeCoercion.pm line 100
	Moose::Meta::TypeCoercion::coerce(Moose::Meta::TypeCoercion=HASH(0x44af8d38), Data::Pipeline::Adapter::Array=HASH(0x44f26db0)) called at /usr/perl5.20.3p/lib/site_perl/5.20.3/amd64-freebsd/Moose/Meta/TypeConstraint.pm line 145
	Moose::Meta::TypeConstraint::coerce(Moose::Meta::TypeConstraint=HASH(0x44b10e28), Data::Pipeline::Adapter::Array=HASH(0x44f26db0)) called at /usr/perl5.20.3p/lib/site_perl/5.20.3/MooseX/Types.pm line 494
	MooseX::Types::__ANON__(Data::Pipeline::Adapter::Array=HASH(0x44f26db0)) called at /home/cpansand/.cpan/build/2017030409/Data-Pipeline-0.02-7/blib/lib/Data/Pipeline/Aggregator/Pipeline.pm line 30
	Data::Pipeline::Aggregator::Pipeline::from(Data::Pipeline::Aggregator::Pipeline=HASH(0x44da4330), "array", Data::Pipeline::Iterator=HASH(0x44f208d0)) called at /home/cpansand/.cpan/build/2017030409/Data-Pipeline-0.02-7/blib/lib/Data/Pipeline/Aggregator/Machine.pm line 124
	Data::Pipeline::Aggregator::Machine::__ANON__() called at /home/cpansand/.cpan/build/2017030409/Data-Pipeline-0.02-7/blib/lib/Data/Pipeline/Machine.pm line 162
	Data::Pipeline::Machine::with_options(CODE(0x44f265a0), HASH(0x44f26678)) called at /home/cpansand/.cpan/build/2017030409/Data-Pipeline-0.02-7/blib/lib/Data/Pipeline/Aggregator/Machine.pm line 125
	Data::Pipeline::Aggregator::Machine::from(Data::Pipeline::Aggregator::Machine=HASH(0x44a26600), "foo", "array", Data::Pipeline::Iterator=HASH(0x44f208d0)) called at /home/cpansand/.cpan/build/2017030409/Data-Pipeline-0.02-7/blib/lib/Data/Pipeline/Machine/Surrogate.pm line 38
	Data::Pipeline::Machine::Surrogate::from(Data::Pipeline::Machine::Surrogate=HASH(0x44f14300)) called at /home/cpansand/.cpan/build/2017030409/Data-Pipeline-0.02-7/blib/lib/Data/Pipeline/Types.pm line 143
	Data::Pipeline::Types::__ANON__(Data::Pipeline::Machine::Surrogate=HASH(0x44f14300)) called at /usr/perl5.20.3p/lib/site_perl/5.20.3/amd64-freebsd/Moose/Meta/TypeCoercion.pm line 65
	Moose::Meta::TypeCoercion::__ANON__(Data::Pipeline::Machine::Surrogate=HASH(0x44f14300)) called at /usr/perl5.20.3p/lib/site_perl/5.20.3/amd64-freebsd/Moose/Meta/TypeCoercion.pm line 100
	Moose::Meta::TypeCoercion::coerce(Moose::Meta::TypeCoercion=HASH(0x44af8d38), Data::Pipeline::Machine::Surrogate=HASH(0x44f14300)) called at /usr/perl5.20.3p/lib/site_perl/5.20.3/amd64-freebsd/Moose/Meta/TypeConstraint.pm line 145
	Moose::Meta::TypeConstraint::coerce(Moose::Meta::TypeConstraint=HASH(0x44b10e28), Data::Pipeline::Machine::Surrogate=HASH(0x44f14300)) called at /usr/perl5.20.3p/lib/site_perl/5.20.3/MooseX/Types.pm line 494
	MooseX::Types::__ANON__(Data::Pipeline::Machine::Surrogate=HASH(0x44f14300)) called at /home/cpansand/.cpan/build/2017030409/Data-Pipeline-0.02-7/blib/lib/Data/Pipeline/Aggregator/Pipeline.pm line 30
	Data::Pipeline::Aggregator::Pipeline::from(Data::Pipeline::Aggregator::Pipeline=HASH(0x44f20df8), "array", ARRAY(0x44f260f0)) called at /home/cpansand/.cpan/build/2017030409/Data-Pipeline-0.02-7/blib/lib/Data/Pipeline/Aggregator/Machine.pm line 124
	Data::Pipeline::Aggregator::Machine::__ANON__() called at /home/cpansand/.cpan/build/2017030409/Data-Pipeline-0.02-7/blib/lib/Data/Pipeline/Machine.pm line 162
	Data::Pipeline::Machine::with_options(CODE(0x44f20ae0), HASH(0x44f26378)) called at /home/cpansand/.cpan/build/2017030409/Data-Pipeline-0.02-7/blib/lib/Data/Pipeline/Aggregator/Machine.pm line 125
	Data::Pipeline::Aggregator::Machine::from(Data::Pipeline::Aggregator::Machine=HASH(0x44a26600), "array", ARRAY(0x44f260f0)) called at inline delegation in Data::Pipeline::Machine for _m->from (attribute declared in /home/cpansand/.cpan/build/2017030409/Data-Pipeline-0.02-7/blib/lib/Data/Pipeline/Machine.pm at line 31) line 18
	Data::Pipeline::Machine::from(My::Machine=HASH(0x44f10c90), "array", ARRAY(0x44f260f0)) called at t/11-machine.t line 42
t/11-machine.t ......... ok
Class::MOP::load_class is deprecated at /usr/perl5.20.3p/lib/site_perl/5.20.3/amd64-freebsd/Class/MOP.pm line 69.
	Class::MOP::load_class("Data::Pipeline::Aggregator::Pipeline") called at /home/cpansand/.cpan/build/2017030409/Data-Pipeline-0.02-7/blib/lib/Data/Pipeline.pm line 70
	eval {...} called at /home/cpansand/.cpan/build/2017030409/Data-Pipeline-0.02-7/blib/lib/Data/Pipeline.pm line 70
	Data::Pipeline::_find_class("Pipeline") called at /home/cpansand/.cpan/build/2017030409/Data-Pipeline-0.02-7/blib/lib/Data/Pipeline.pm line 23
	Data::Pipeline::import("Data::Pipeline", "Pipeline", "Count", "Array") called at t/12-options.t line 3
	main::BEGIN() called at t/12-options.t line 3
	eval {...} called at t/12-options.t line 3
Class::MOP::load_class is deprecated at /usr/perl5.20.3p/lib/site_perl/5.20.3/amd64-freebsd/Class/MOP.pm line 69.
	Class::MOP::load_class("Data::Pipeline::Aggregator::Machine") called at /home/cpansand/.cpan/build/2017030409/Data-Pipeline-0.02-7/blib/lib/Data/Pipeline/Machine.pm line 20
	Data::Pipeline::Machine::BEGIN() called at /home/cpansand/.cpan/build/2017030409/Data-Pipeline-0.02-7/blib/lib/Data/Pipeline/Machine.pm line 22
	eval {...} called at /home/cpansand/.cpan/build/2017030409/Data-Pipeline-0.02-7/blib/lib/Data/Pipeline/Machine.pm line 22
	require Data/Pipeline/Machine.pm called at /home/cpansand/.cpan/build/2017030409/Data-Pipeline-0.02-7/blib/lib/Data/Pipeline/Aggregator/Pipeline.pm line 10
	Data::Pipeline::Aggregator::Pipeline::BEGIN() called at /home/cpansand/.cpan/build/2017030409/Data-Pipeline-0.02-7/blib/lib/Data/Pipeline/Machine.pm line 22
	eval {...} called at /home/cpansand/.cpan/build/2017030409/Data-Pipeline-0.02-7/blib/lib/Data/Pipeline/Machine.pm line 22
	require Data/Pipeline/Aggregator/Pipeline.pm called at /usr/perl5.20.3p/lib/site_perl/5.20.3/Module/Runtime.pm line 317
	Module::Runtime::require_module("Data::Pipeline::Aggregator::Pipeline") called at /usr/perl5.20.3p/lib/site_perl/5.20.3/Class/Load.pm line 174
	Class::Load::try {...} () called at /usr/perl5.20.3p/lib/site_perl/5.20.3/Try/Tiny.pm line 99
	eval {...} called at /usr/perl5.20.3p/lib/site_perl/5.20.3/Try/Tiny.pm line 94
	Try::Tiny::try(CODE(0x44a93a80), Try::Tiny::Catch=REF(0x44ad9138)) called at /usr/perl5.20.3p/lib/site_perl/5.20.3/Class/Load.pm line 180
	Class::Load::try_load_class("Data::Pipeline::Aggregator::Pipeline", undef) called at /usr/perl5.20.3p/lib/site_perl/5.20.3/Class/Load.pm line 35
	Class::Load::load_class("Data::Pipeline::Aggregator::Pipeline") called at /home/cpansand/.cpan/build/2017030409/Data-Pipeline-0.02-7/blib/lib/Data/Pipeline.pm line 70
	eval {...} called at /home/cpansand/.cpan/build/2017030409/Data-Pipeline-0.02-7/blib/lib/Data/Pipeline.pm line 70
	Data::Pipeline::_find_class("Pipeline") called at /home/cpansand/.cpan/build/2017030409/Data-Pipeline-0.02-7/blib/lib/Data/Pipeline.pm line 23
	Data::Pipeline::import("Data::Pipeline", "Pipeline", "Count", "Array") called at t/12-options.t line 3
	main::BEGIN() called at /home/cpansand/.cpan/build/2017030409/Data-Pipeline-0.02-7/blib/lib/Data/Pipeline/Machine.pm line 22
	eval {...} called at /home/cpansand/.cpan/build/2017030409/Data-Pipeline-0.02-7/blib/lib/Data/Pipeline/Machine.pm line 22
Class::MOP::load_class is deprecated at /usr/perl5.20.3p/lib/site_perl/5.20.3/amd64-freebsd/Class/MOP.pm line 69.
	Class::MOP::load_class("Data::Pipeline::Adapter::Array") called at /home/cpansand/.cpan/build/2017030409/Data-Pipeline-0.02-7/blib/lib/Data/Pipeline/Types.pm line 83
	Data::Pipeline::Types::__ANON__("abcs") called at /usr/perl5.20.3p/lib/site_perl/5.20.3/amd64-freebsd/Moose/Meta/TypeCoercion.pm line 65
	Moose::Meta::TypeCoercion::__ANON__("abcs") called at /usr/perl5.20.3p/lib/site_perl/5.20.3/amd64-freebsd/Moose/Meta/TypeCoercion.pm line 100
	Moose::Meta::TypeCoercion::coerce(Moose::Meta::TypeCoercion=HASH(0x44aaaca8), "abcs") called at /usr/perl5.20.3p/lib/site_perl/5.20.3/amd64-freebsd/Moose/Meta/TypeConstraint.pm line 145
	Moose::Meta::TypeConstraint::coerce(Moose::Meta::TypeConstraint=HASH(0x43592600), "abcs") called at /usr/perl5.20.3p/lib/site_perl/5.20.3/MooseX/Types.pm line 494
	MooseX::Types::__ANON__("abcs") called at /usr/perl5.20.3p/lib/site_perl/5.20.3/Sub/Exporter/ForMethods.pm line 102
	Data::Pipeline::Types::to_Adapter("abcs") called at /home/cpansand/.cpan/build/2017030409/Data-Pipeline-0.02-7/blib/lib/Data/Pipeline/Types.pm line 128
	Data::Pipeline::Types::__ANON__("abcs") called at /usr/perl5.20.3p/lib/site_perl/5.20.3/amd64-freebsd/Moose/Meta/TypeCoercion.pm line 65
	Moose::Meta::TypeCoercion::__ANON__("abcs") called at /usr/perl5.20.3p/lib/site_perl/5.20.3/amd64-freebsd/Moose/Meta/TypeCoercion.pm line 100
	Moose::Meta::TypeCoercion::coerce(Moose::Meta::TypeCoercion=HASH(0x44b03540), "abcs") called at /usr/perl5.20.3p/lib/site_perl/5.20.3/amd64-freebsd/Moose/Meta/TypeConstraint.pm line 145
	Moose::Meta::TypeConstraint::coerce(Moose::Meta::TypeConstraint=HASH(0x44aef630), "abcs") called at /usr/perl5.20.3p/lib/site_perl/5.20.3/MooseX/Types.pm line 494
	MooseX::Types::__ANON__("abcs") called at /home/cpansand/.cpan/build/2017030409/Data-Pipeline-0.02-7/blib/lib/Data/Pipeline/Iterator/Options.pm line 45
	Data::Pipeline::Iterator::Options::build_source(Data::Pipeline::Iterator::Options=HASH(0x44d03b10)) called at /home/cpansand/.cpan/build/2017030409/Data-Pipeline-0.02-7/blib/lib/Data/Pipeline/Iterator/Options.pm line 24
	Data::Pipeline::Iterator::Options::__ANON__(Data::Pipeline::Iterator::Options=HASH(0x44d03b10)) called at accessor Data::Pipeline::Iterator::Options::source (defined at /home/cpansand/.cpan/build/2017030409/Data-Pipeline-0.02-7/blib/lib/Data/Pipeline/Iterator/Options.pm line 27) line 17
	Data::Pipeline::Iterator::Options::source(Data::Pipeline::Iterator::Options=HASH(0x44d03b10)) called at /home/cpansand/.cpan/build/2017030409/Data-Pipeline-0.02-7/blib/lib/Data/Pipeline/Iterator.pm line 53
	Data::Pipeline::Iterator::finished(Data::Pipeline::Iterator::Options=HASH(0x44d03b10)) called at t/12-options.t line 23
t/12-options.t ......... ok
Class::MOP::load_class is deprecated at /usr/perl5.20.3p/lib/site_perl/5.20.3/amd64-freebsd/Class/MOP.pm line 69.
	Class::MOP::load_class("Data::Pipeline::Aggregator::Pipeline") called at /home/cpansand/.cpan/build/2017030409/Data-Pipeline-0.02-7/blib/lib/Data/Pipeline.pm line 70
	eval {...} called at /home/cpansand/.cpan/build/2017030409/Data-Pipeline-0.02-7/blib/lib/Data/Pipeline.pm line 70
	Data::Pipeline::_find_class("Pipeline") called at /home/cpansand/.cpan/build/2017030409/Data-Pipeline-0.02-7/blib/lib/Data/Pipeline.pm line 23
	Data::Pipeline::import("Data::Pipeline", "Pipeline", "UrlBuilder") called at t/13-uribuilder.t line 3
	main::BEGIN() called at t/13-uribuilder.t line 3
	eval {...} called at t/13-uribuilder.t line 3
Class::MOP::load_class is deprecated at /usr/perl5.20.3p/lib/site_perl/5.20.3/amd64-freebsd/Class/MOP.pm line 69.
	Class::MOP::load_class("Data::Pipeline::Aggregator::Machine") called at /home/cpansand/.cpan/build/2017030409/Data-Pipeline-0.02-7/blib/lib/Data/Pipeline/Machine.pm line 20
	Data::Pipeline::Machine::BEGIN() called at /home/cpansand/.cpan/build/2017030409/Data-Pipeline-0.02-7/blib/lib/Data/Pipeline/Machine.pm line 22
	eval {...} called at /home/cpansand/.cpan/build/2017030409/Data-Pipeline-0.02-7/blib/lib/Data/Pipeline/Machine.pm line 22
	require Data/Pipeline/Machine.pm called at /home/cpansand/.cpan/build/2017030409/Data-Pipeline-0.02-7/blib/lib/Data/Pipeline/Aggregator/Pipeline.pm line 10
	Data::Pipeline::Aggregator::Pipeline::BEGIN() called at /home/cpansand/.cpan/build/2017030409/Data-Pipeline-0.02-7/blib/lib/Data/Pipeline/Machine.pm line 22
	eval {...} called at /home/cpansand/.cpan/build/2017030409/Data-Pipeline-0.02-7/blib/lib/Data/Pipeline/Machine.pm line 22
	require Data/Pipeline/Aggregator/Pipeline.pm called at /usr/perl5.20.3p/lib/site_perl/5.20.3/Module/Runtime.pm line 317
	Module::Runtime::require_module("Data::Pipeline::Aggregator::Pipeline") called at /usr/perl5.20.3p/lib/site_perl/5.20.3/Class/Load.pm line 174
	Class::Load::try {...} () called at /usr/perl5.20.3p/lib/site_perl/5.20.3/Try/Tiny.pm line 99
	eval {...} called at /usr/perl5.20.3p/lib/site_perl/5.20.3/Try/Tiny.pm line 94
	Try::Tiny::try(CODE(0x44a93f00), Try::Tiny::Catch=REF(0x44afdd20)) called at /usr/perl5.20.3p/lib/site_perl/5.20.3/Class/Load.pm line 180
	Class::Load::try_load_class("Data::Pipeline::Aggregator::Pipeline", undef) called at /usr/perl5.20.3p/lib/site_perl/5.20.3/Class/Load.pm line 35
	Class::Load::load_class("Data::Pipeline::Aggregator::Pipeline") called at /home/cpansand/.cpan/build/2017030409/Data-Pipeline-0.02-7/blib/lib/Data/Pipeline.pm line 70
	eval {...} called at /home/cpansand/.cpan/build/2017030409/Data-Pipeline-0.02-7/blib/lib/Data/Pipeline.pm line 70
	Data::Pipeline::_find_class("Pipeline") called at /home/cpansand/.cpan/build/2017030409/Data-Pipeline-0.02-7/blib/lib/Data/Pipeline.pm line 23
	Data::Pipeline::import("Data::Pipeline", "Pipeline", "UrlBuilder") called at t/13-uribuilder.t line 3
	main::BEGIN() called at /home/cpansand/.cpan/build/2017030409/Data-Pipeline-0.02-7/blib/lib/Data/Pipeline/Machine.pm line 22
	eval {...} called at /home/cpansand/.cpan/build/2017030409/Data-Pipeline-0.02-7/blib/lib/Data/Pipeline/Machine.pm line 22
Class::MOP::load_class is deprecated at /usr/perl5.20.3p/lib/site_perl/5.20.3/amd64-freebsd/Class/MOP.pm line 69.
	Class::MOP::load_class("Data::Pipeline::Iterator") called at /home/cpansand/.cpan/build/2017030409/Data-Pipeline-0.02-7/blib/lib/Data/Pipeline/Types.pm line 133
	Data::Pipeline::Types::__ANON__(Data::Pipeline::Adapter::UrlBuilder=HASH(0x44d68498)) called at /usr/perl5.20.3p/lib/site_perl/5.20.3/amd64-freebsd/Moose/Meta/TypeCoercion.pm line 65
	Moose::Meta::TypeCoercion::__ANON__(Data::Pipeline::Adapter::UrlBuilder=HASH(0x44d68498)) called at /usr/perl5.20.3p/lib/site_perl/5.20.3/amd64-freebsd/Moose/Meta/TypeCoercion.pm line 100
	Moose::Meta::TypeCoercion::coerce(Moose::Meta::TypeCoercion=HASH(0x44b03528), Data::Pipeline::Adapter::UrlBuilder=HASH(0x44d68498)) called at /usr/perl5.20.3p/lib/site_perl/5.20.3/amd64-freebsd/Moose/Meta/TypeConstraint.pm line 145
	Moose::Meta::TypeConstraint::coerce(Moose::Meta::TypeConstraint=HASH(0x44aef618), Data::Pipeline::Adapter::UrlBuilder=HASH(0x44d68498)) called at /usr/perl5.20.3p/lib/site_perl/5.20.3/MooseX/Types.pm line 494
	MooseX::Types::__ANON__(Data::Pipeline::Adapter::UrlBuilder=HASH(0x44d68498)) called at /home/cpansand/.cpan/build/2017030409/Data-Pipeline-0.02-7/blib/lib/Data/Pipeline/Aggregator/Pipeline.pm line 47
	Data::Pipeline::Aggregator::Pipeline::transform(Data::Pipeline::Aggregator::Pipeline=HASH(0x44d4dbe8), Data::Pipeline::Adapter::UrlBuilder=HASH(0x44d68498)) called at t/13-uribuilder.t line 16
t/13-uribuilder.t ...... ok
Class::MOP::load_class is deprecated at /usr/perl5.20.3p/lib/site_perl/5.20.3/amd64-freebsd/Class/MOP.pm line 69.
	Class::MOP::load_class("Data::Pipeline::Aggregator::Machine") called at /home/cpansand/.cpan/build/2017030409/Data-Pipeline-0.02-7/blib/lib/Data/Pipeline/Machine.pm line 20
	Data::Pipeline::Machine::BEGIN() called at /home/cpansand/.cpan/build/2017030409/Data-Pipeline-0.02-7/blib/lib/Data/Pipeline/Machine.pm line 22
	eval {...} called at /home/cpansand/.cpan/build/2017030409/Data-Pipeline-0.02-7/blib/lib/Data/Pipeline/Machine.pm line 22
	require Data/Pipeline/Machine.pm called at unkown line 638
	Data::Pipeline::Parser::BEGIN() called at /home/cpansand/.cpan/build/2017030409/Data-Pipeline-0.02-7/blib/lib/Data/Pipeline/Machine.pm line 22
	eval {...} called at /home/cpansand/.cpan/build/2017030409/Data-Pipeline-0.02-7/blib/lib/Data/Pipeline/Machine.pm line 22
	require Data/Pipeline/Parser.pm called at t/20-script.t line 3
	main::BEGIN() called at /home/cpansand/.cpan/build/2017030409/Data-Pipeline-0.02-7/blib/lib/Data/Pipeline/Machine.pm line 22
	eval {...} called at /home/cpansand/.cpan/build/2017030409/Data-Pipeline-0.02-7/blib/lib/Data/Pipeline/Machine.pm line 22
Class::MOP::load_class is deprecated at /usr/perl5.20.3p/lib/site_perl/5.20.3/amd64-freebsd/Class/MOP.pm line 69.
	Class::MOP::load_class("Data::Pipeline::Adapter::Array") called at unkown line 1005
	eval {...} called at unkown line 1005
	Data::Pipeline::Parser::_load_filter(Data::Pipeline::Parser=HASH(0x44df54f8), "Adapter", "Array") called at unkown line 988
	Data::Pipeline::Parser::load_actions(Data::Pipeline::Parser=HASH(0x44df54f8), "Adapter", "Array") called at unkown line 264
	Data::Pipeline::Parser::__ANON__() called at unkown line 61
	Data::Pipeline::Parser::__ANON__() called at unkown line 978
	Data::Pipeline::Parser::_eval_in_m(Data::Pipeline::Parser=HASH(0x44df54f8), "", CODE(0x44dc0150)) called at unkown line 883
	Data::Pipeline::Parser::parse(Data::Pipeline::Parser=HASH(0x44dc6f30), HASH(0x41c3c438), "\x{a}    IN: Array\x{a}    OUT: Array\x{a}    USE: Identity\x{a}\x{a}    PIPELINE"..., HASH(0x41cb27c8)) called at t/20-script.t line 9
Class::MOP::load_class is deprecated at /usr/perl5.20.3p/lib/site_perl/5.20.3/amd64-freebsd/Class/MOP.pm line 69.
	Class::MOP::load_class("Data::Pipeline::Iterator") called at /home/cpansand/.cpan/build/2017030409/Data-Pipeline-0.02-7/blib/lib/Data/Pipeline/Types.pm line 133
	Data::Pipeline::Types::__ANON__(Data::Pipeline::Adapter::Array=HASH(0x44d90468)) called at /usr/perl5.20.3p/lib/site_perl/5.20.3/amd64-freebsd/Moose/Meta/TypeCoercion.pm line 65
	Moose::Meta::TypeCoercion::__ANON__(Data::Pipeline::Adapter::Array=HASH(0x44d90468)) called at /usr/perl5.20.3p/lib/site_perl/5.20.3/amd64-freebsd/Moose/Meta/TypeCoercion.pm line 100
	Moose::Meta::TypeCoercion::coerce(Moose::Meta::TypeCoercion=HASH(0x44c52618), Data::Pipeline::Adapter::Array=HASH(0x44d90468)) called at /usr/perl5.20.3p/lib/site_perl/5.20.3/amd64-freebsd/Moose/Meta/TypeConstraint.pm line 145
	Moose::Meta::TypeConstraint::coerce(Moose::Meta::TypeConstraint=HASH(0x44c56708), Data::Pipeline::Adapter::Array=HASH(0x44d90468)) called at /usr/perl5.20.3p/lib/site_perl/5.20.3/MooseX/Types.pm line 494
	MooseX::Types::__ANON__(Data::Pipeline::Adapter::Array=HASH(0x44d90468)) called at /home/cpansand/.cpan/build/2017030409/Data-Pipeline-0.02-7/blib/lib/Data/Pipeline/Aggregator/Pipeline.pm line 30
	Data::Pipeline::Aggregator::Pipeline::from(Data::Pipeline::Aggregator::Pipeline=HASH(0x44dc0378), "array", ARRAY(0x41cb27c8)) called at /home/cpansand/.cpan/build/2017030409/Data-Pipeline-0.02-7/blib/lib/Data/Pipeline/Aggregator/Machine.pm line 124
	Data::Pipeline::Aggregator::Machine::__ANON__() called at /home/cpansand/.cpan/build/2017030409/Data-Pipeline-0.02-7/blib/lib/Data/Pipeline/Machine.pm line 162
	Data::Pipeline::Machine::with_options(CODE(0x42625d50), HASH(0x42536a20)) called at /home/cpansand/.cpan/build/2017030409/Data-Pipeline-0.02-7/blib/lib/Data/Pipeline/Aggregator/Machine.pm line 125
	Data::Pipeline::Aggregator::Machine::from(Data::Pipeline::Aggregator::Machine=HASH(0x4500ccc0), "array", ARRAY(0x41cb27c8)) called at unkown line 964
	Data::Pipeline::Parser::run(Data::Pipeline::Parser=HASH(0x44df54f8), "from", HASH(0x44dbff78), "to", ARRAY(0x42537cd8)) called at t/20-script.t line 24
t/20-script.t .......... ok
All tests successful.
Files=14, Tests=137, 11 wallclock secs ( 0.01 usr  0.15 sys +  1.26 cusr  3.14 csys =  4.55 CPU)
Result: PASS

------------------------------
PREREQUISITES
------------------------------

Prerequisite modules loaded:

requires:

    Module              Need Have    
    ------------------- ---- --------
    Moose               2.06 2.2001  

build_requires:

    Module              Need Have    
    ------------------- ---- --------
    ExtUtils::MakeMaker 6.36 7.24    
    Test::More          0    1.302075

configure_requires:

    Module              Need Have    
    ------------------- ---- --------
    ExtUtils::MakeMaker 6.36 7.24    


------------------------------
ENVIRONMENT AND OTHER CONTEXT
------------------------------

Environment variables:

    LC_ALL = de_DE.ISO8859-1
    PATH = /usr/local/bin:/usr/bin:/bin:/usr/local/sbin:/usr/sbin:/sbin:/home/cpansand/bin/freebsd10.3:/home/cpansand/bin/sh:/home/cpansand/bin:/usr/games:/home/cpansand/devel:/home/eserte/src/srezic-misc/scripts
    PERL5LIB = 
    PERL5OPT = 
    PERL5_CPANPLUS_IS_RUNNING = 32520
    PERL5_CPAN_IS_RUNNING = 32520
    PERL5_CPAN_IS_RUNNING_IN_RECURSION = 30031,32520
    PERLDOC = -MPod::Perldoc::ToTextOverstrike
    PERL_BATCH = yes
    PERL_CANARY_STABILITY_NOPROMPT = 1
    PERL_CPAN_REPORTER_CONFIG = /var/tmp/cpansmoker-1023/2017030409/cpanreporter_002_config.ini
    PERL_EXTUTILS_AUTOINSTALL = --defaultdeps
    SHELL = /usr/local/bin/zsh
    TERM = screen
    TMPDIR = /var/tmp/cpansmoker-1023/2017030409

Perl special variables (and OS-specific diagnostics, for MSWin32):

    $^X = /usr/perl5.20.3p/bin/perl
    $UID/$EUID = 1023 / 1023
    $GID = 1023 1023
    $EGID = 1023 1023

Perl module toolchain versions installed:

    Module              Have    
    ------------------- --------
    CPAN                2.16    
    CPAN::Meta          2.150010
    Cwd                 3.62    
    ExtUtils::CBuilder  0.280224
    ExtUtils::Command   7.24    
    ExtUtils::Install   2.04    
    ExtUtils::MakeMaker 7.24    
    ExtUtils::Manifest  1.70    
    ExtUtils::ParseXS   3.30    
    File::Spec          3.62    
    JSON                2.90    
    JSON::PP            2.27400 
    Module::Build       0.4220  
    Module::Signature   0.79    
    Parse::CPAN::Meta   2.150010
    Test::Harness       3.35    
    Test::More          1.302075
    YAML                1.22    
    YAML::Syck          1.29    
    version             0.9917  


--

Summary of my perl5 (revision 5 version 20 subversion 3) configuration:
   
  Platform:
    osname=freebsd, osvers=10.1-release, archname=amd64-freebsd
    uname='freebsd cvrsnica-freebsd-101.herceg.de 10.1-release freebsd 10.1-release #0 r274401: tue nov 11 21:02:49 utc 2014 root@releng1.nyi.freebsd.org:usrobjusrsrcsysgeneric amd64 '
    config_args='-ds -e -Dprefix=/usr/perl5.20.3p -Dcf_email=srezic@cpan.org'
    hint=recommended, useposix=true, d_sigaction=define
    useithreads=undef, usemultiplicity=undef
    use64bitint=define, use64bitall=define, uselongdouble=undef
    usemymalloc=n, bincompat5005=undef
  Compiler:
    cc='cc', ccflags ='-DHAS_FPSETMASK -DHAS_FLOATINGPOINT_H -fno-strict-aliasing -pipe -fstack-protector -I/usr/local/include',
    optimize='-O',
    cppflags='-DHAS_FPSETMASK -DHAS_FLOATINGPOINT_H -fno-strict-aliasing -pipe -fstack-protector -I/usr/local/include'
    ccversion='', gccversion='4.2.1 Compatible FreeBSD Clang 3.4.1 (tags/RELEASE_34/dot1-final 208032)', gccosandvers=''
    intsize=4, longsize=8, ptrsize=8, doublesize=8, byteorder=12345678
    d_longlong=define, longlongsize=8, d_longdbl=define, longdblsize=16
    ivtype='long', ivsize=8, nvtype='double', nvsize=8, Off_t='off_t', lseeksize=8
    alignbytes=8, prototype=define
  Linker and Libraries:
    ld='cc', ldflags ='-pthread -Wl,-E  -fstack-protector -L/usr/local/lib'
    libpth=/usr/lib /usr/local/lib /usr/include/clang/3.4.1 /usr/lib
    libs=-lpthread -lgdbm -lm -lcrypt -lutil -lc
    perllibs=-lpthread -lm -lcrypt -lutil -lc
    libc=, so=so, useshrplib=false, libperl=libperl.a
    gnulibc_version=''
  Dynamic Linking:
    dlsrc=dl_dlopen.xs, dlext=so, d_dlsymun=undef, ccdlflags=' '
    cccdlflags='-DPIC -fPIC', lddlflags='-shared  -L/usr/local/lib -fstack-protector'


Characteristics of this binary (from libperl): 
  Compile-time options: HAS_TIMES PERLIO_LAYERS PERL_DONT_CREATE_GVSV
                        PERL_HASH_FUNC_ONE_AT_A_TIME_HARD PERL_MALLOC_WRAP
                        PERL_NEW_COPY_ON_WRITE PERL_PRESERVE_IVUV
                        USE_64_BIT_ALL USE_64_BIT_INT USE_LARGE_FILES
                        USE_LOCALE USE_LOCALE_COLLATE USE_LOCALE_CTYPE
                        USE_LOCALE_NUMERIC USE_PERLIO USE_PERL_ATOF
  Built under freebsd
  Compiled at Sep 12 2015 22:44:25
  %ENV:
    PERL5LIB=""
    PERL5OPT=""
    PERL5_CPANPLUS_IS_RUNNING="32520"
    PERL5_CPAN_IS_RUNNING="32520"
    PERL5_CPAN_IS_RUNNING_IN_RECURSION="30031,32520"
    PERLDOC="-MPod::Perldoc::ToTextOverstrike"
    PERL_BATCH="yes"
    PERL_CANARY_STABILITY_NOPROMPT="1"
    PERL_CPAN_REPORTER_CONFIG="/var/tmp/cpansmoker-1023/2017030409/cpanreporter_002_config.ini"
    PERL_EXTUTILS_AUTOINSTALL="--defaultdeps"
  @INC:
    /usr/perl5.20.3p/lib/site_perl/5.20.3/amd64-freebsd
    /usr/perl5.20.3p/lib/site_perl/5.20.3
    /usr/perl5.20.3p/lib/5.20.3/amd64-freebsd
    /usr/perl5.20.3p/lib/5.20.3
    .