Mail-Mbox-MessageParser v1.5111 Perl 5 v5.16.3 i686-linux

Status
Pass
From
Chris Williams (BINGOS)
Dist
Mail-Mbox-MessageParser v1.5111
Platform
Perl 5 v5.16.3 i686-linux
Date
2018-07-18 14:34:28
ID
ad41bb9e-8a97-11e8-919d-ffef68b7f98c
This distribution has been tested as part of the CPAN Testers
project, supporting the Perl programming language.  See
http://wiki.cpantesters.org/ for more information or email
questions to cpan-testers-discuss@perl.org


--

Dear DCOPPIT,

This is a computer-generated error report created automatically by
CPANPLUS, version 0.9176. Testers personal comments may appear
at the end of this report.


Thank you for uploading your work to CPAN.  Congratulations!
All tests were successful.

TEST RESULTS:

Below is the error stack from stage 'make test':

PERL_DL_NONLAZY=1 "/home/cpan/pit/bare/perl-5.16.3/bin/perl" "-MExtUtils::Command::MM" "-MTest::Harness" "-e" "undef *Test::Harness::Switches; test_harness(1, 'blib/lib', 'blib/arch')" t/*.t
t/000_standard__compile.t ....... 
1..6
ok 1 - Compile test for blib/lib/Mail/Mbox/MessageParser.pm
ok 2 - Compile test for blib/lib/Mail/Mbox/MessageParser/MetaInfo.pm
ok 3 - Compile test for blib/lib/Mail/Mbox/MessageParser/Perl.pm
ok 4 - Compile test for blib/lib/Mail/Mbox/MessageParser/Config.pm
ok 5 - Compile test for blib/lib/Mail/Mbox/MessageParser/Grep.pm
ok 6 - Compile test for blib/lib/Mail/Mbox/MessageParser/Cache.pm
ok
t/000_standard__perl_critic.t ... skipped: Author test. Set $ENV{TEST_AUTHOR} to a true value to run.
t/000_standard__pod.t ........... skipped: Test::Pod required for testing POD
t/000_standard__pod_coverage.t .. skipped: Test::Pod::Coverage required for testing POD coverage
t/appended_mailbox.t ............ 
1..6
Testing modified mailbox with Perl implementation
Comparing /tmp/GANeKFl25C to t/mailboxes/mailarc-1.txt
Output /tmp/GANeKFl25C looks good.
ok 1 - Computing differences
Testing modified mailbox with Cache implementation
Comparing /tmp/9csaOQyvD7 to t/mailboxes/mailarc-1.txt
Output /tmp/9csaOQyvD7 looks good.
ok 2 - Computing differences
Testing modified mailbox with Grep implementation
ok 3 # skip GNU grep not available
Testing modified mailbox with Perl implementation
Comparing /tmp/hJHAhQb1vx to t/mailboxes/mailarc-1.txt
Output /tmp/hJHAhQb1vx looks good.
ok 4 - Computing differences
Testing modified mailbox with Cache implementation
Comparing /tmp/pVq6W_fc1Y to t/mailboxes/mailarc-1.txt
Output /tmp/pVq6W_fc1Y looks good.
ok 5 - Computing differences
Testing modified mailbox with Grep implementation
ok 6 # skip GNU grep not available
ok
t/bzip2.t ....................... 
1..1
Running test:
  "/bin/cat" "t/mailboxes/mailarc-2.txt.bz2" | "/bin/bzip2" -cd
Comparing /tmp/pPdF_F_K2P to t/results/mailarc-2.txt
Output /tmp/pPdF_F_K2P looks good.
Comparing /tmp/Kw7Ab6C2Pn to t/results/none
Output /tmp/Kw7Ab6C2Pn looks good.
ok 1 - Computing differences
ok
t/endline.t ..................... 
1..8
Testing filename: t/mailboxes/mailarc-1-dos.txt
ok 1 - Dos endline expected
ok 2 - Dos endline expected
ok 3 - Dos endline expected
ok 4 # skip GNU grep not available
Testing filename: t/mailboxes/mailarc-1.txt
ok 5 - Unix endline expected
ok 6 - Unix endline expected
ok 7 - Unix endline expected
ok 8 # skip GNU grep not available
ok
t/filehandle_compressed.t ....... 
1..16
Testing filename: t/mailboxes/mailarc-2.txt.bz2
Comparing /tmp/riG3DBJufw to t/mailboxes/mailarc-2.txt
Output /tmp/riG3DBJufw looks good.
ok 1 - Computing differences
Comparing /tmp/h9foIIF7sB to t/mailboxes/mailarc-2.txt
Output /tmp/h9foIIF7sB looks good.
ok 2 - Computing differences
Comparing /tmp/onWmLtpwLY to t/mailboxes/mailarc-2.txt
Output /tmp/onWmLtpwLY looks good.
ok 3 - Computing differences
ok 4 # skip GNU grep not available
Testing filename: t/mailboxes/mailarc-2.txt.gz
Comparing /tmp/Mb0eqaQRmu to t/mailboxes/mailarc-2.txt
Output /tmp/Mb0eqaQRmu looks good.
ok 5 - Computing differences
Comparing /tmp/HsAjHd_Dof to t/mailboxes/mailarc-2.txt
Output /tmp/HsAjHd_Dof looks good.
ok 6 - Computing differences
Comparing /tmp/V_xfqtRtl8 to t/mailboxes/mailarc-2.txt
Output /tmp/V_xfqtRtl8 looks good.
ok 7 - Computing differences
ok 8 # skip GNU grep not available
Testing filename: t/mailboxes/mailarc-2.txt.lz
ok 9 # skip lzip not available
ok 10 # skip lzip not available
ok 11 # skip lzip not available
ok 12 # skip lzip not available
Testing filename: t/mailboxes/mailarc-2.txt.xz
Comparing /tmp/Y_l107L9XT to t/mailboxes/mailarc-2.txt
Output /tmp/Y_l107L9XT looks good.
ok 13 - Computing differences
Comparing /tmp/Axm9G4nsTS to t/mailboxes/mailarc-2.txt
Output /tmp/Axm9G4nsTS looks good.
ok 14 - Computing differences
Comparing /tmp/YANc9YEKQZ to t/mailboxes/mailarc-2.txt
Output /tmp/YANc9YEKQZ looks good.
ok 15 - Computing differences
ok 16 # skip GNU grep not available
ok
t/filehandle_noncompressed.t .... 
1..44
Testing filename: t/mailboxes/binary_body.txt
Comparing /tmp/tFKP5q6_1v to t/mailboxes/binary_body.txt
Output /tmp/tFKP5q6_1v looks good.
ok 1 - Computing differences
Comparing /tmp/tHZ0cR42VQ to t/mailboxes/binary_body.txt
Output /tmp/tHZ0cR42VQ looks good.
ok 2 - Computing differences
Comparing /tmp/zqq1NaB4Vd to t/mailboxes/binary_body.txt
Output /tmp/zqq1NaB4Vd looks good.
ok 3 - Computing differences
ok 4 # skip GNU grep not available
Testing filename: t/mailboxes/hessbug.txt
Comparing /tmp/m0iAdSvs1i to t/mailboxes/hessbug.txt
Output /tmp/m0iAdSvs1i looks good.
ok 5 - Computing differences
Comparing /tmp/oEGD_BATtn to t/mailboxes/hessbug.txt
Output /tmp/oEGD_BATtn looks good.
ok 6 - Computing differences
Comparing /tmp/MWZjIvp50S to t/mailboxes/hessbug.txt
Output /tmp/MWZjIvp50S looks good.
ok 7 - Computing differences
ok 8 # skip GNU grep not available
Testing filename: t/mailboxes/invalid-boundaries.txt
Comparing /tmp/VD_MkUNueQ to t/mailboxes/invalid-boundaries.txt
Output /tmp/VD_MkUNueQ looks good.
ok 9 - Computing differences
Comparing /tmp/g5Cn29IFsK to t/mailboxes/invalid-boundaries.txt
Output /tmp/g5Cn29IFsK looks good.
ok 10 - Computing differences
Comparing /tmp/qgsYa107qS to t/mailboxes/invalid-boundaries.txt
Output /tmp/qgsYa107qS looks good.
ok 11 - Computing differences
ok 12 # skip GNU grep not available
Testing filename: t/mailboxes/mailarc-1-dos.txt
Comparing /tmp/qjVfmyO8tC to t/mailboxes/mailarc-1-dos.txt
Output /tmp/qjVfmyO8tC looks good.
ok 13 - Computing differences
Comparing /tmp/a3tufXSCdB to t/mailboxes/mailarc-1-dos.txt
Output /tmp/a3tufXSCdB looks good.
ok 14 - Computing differences
Comparing /tmp/G8gyRR8UX5 to t/mailboxes/mailarc-1-dos.txt
Output /tmp/G8gyRR8UX5 looks good.
ok 15 - Computing differences
ok 16 # skip GNU grep not available
Testing filename: t/mailboxes/mailarc-1.txt
Comparing /tmp/02Nq5pu8X2 to t/mailboxes/mailarc-1.txt
Output /tmp/02Nq5pu8X2 looks good.
ok 17 - Computing differences
Comparing /tmp/MlTPUv3_7r to t/mailboxes/mailarc-1.txt
Output /tmp/MlTPUv3_7r looks good.
ok 18 - Computing differences
Comparing /tmp/11i7JY5isd to t/mailboxes/mailarc-1.txt
Output /tmp/11i7JY5isd looks good.
ok 19 - Computing differences
ok 20 # skip GNU grep not available
Testing filename: t/mailboxes/mailarc-2.txt
Comparing /tmp/YYT5Dw1MVN to t/mailboxes/mailarc-2.txt
Output /tmp/YYT5Dw1MVN looks good.
ok 21 - Computing differences
Comparing /tmp/Y5jKgCyCho to t/mailboxes/mailarc-2.txt
Output /tmp/Y5jKgCyCho looks good.
ok 22 - Computing differences
Comparing /tmp/IZjcvuN8Qm to t/mailboxes/mailarc-2.txt
Output /tmp/IZjcvuN8Qm looks good.
ok 23 - Computing differences
ok 24 # skip GNU grep not available
Testing filename: t/mailboxes/mailarc-3.txt
Comparing /tmp/PVRoLCkF_7 to t/mailboxes/mailarc-3.txt
Output /tmp/PVRoLCkF_7 looks good.
ok 25 - Computing differences
Comparing /tmp/L025bAJxsC to t/mailboxes/mailarc-3.txt
Output /tmp/L025bAJxsC looks good.
ok 26 - Computing differences
Comparing /tmp/qiVnxot3KM to t/mailboxes/mailarc-3.txt
Output /tmp/qiVnxot3KM looks good.
ok 27 - Computing differences
ok 28 # skip GNU grep not available
Testing filename: t/mailboxes/mailseparators.txt
Comparing /tmp/wlR8nG6YWt to t/mailboxes/mailseparators.txt
Output /tmp/wlR8nG6YWt looks good.
ok 29 - Computing differences
Comparing /tmp/ccPsXwd59K to t/mailboxes/mailseparators.txt
Output /tmp/ccPsXwd59K looks good.
ok 30 - Computing differences
Comparing /tmp/JO6VZQ7G_Z to t/mailboxes/mailseparators.txt
Output /tmp/JO6VZQ7G_Z looks good.
ok 31 - Computing differences
ok 32 # skip GNU grep not available
Testing filename: t/mailboxes/malformed.txt
Comparing /tmp/J17lEurvfS to t/mailboxes/malformed.txt
Output /tmp/J17lEurvfS looks good.
ok 33 - Computing differences
Comparing /tmp/SoQEfl7m4g to t/mailboxes/malformed.txt
Output /tmp/SoQEfl7m4g looks good.
ok 34 - Computing differences
Comparing /tmp/1bcIoabCiY to t/mailboxes/malformed.txt
Output /tmp/1bcIoabCiY looks good.
ok 35 - Computing differences
ok 36 # skip GNU grep not available
Testing filename: t/mailboxes/newlines_at_beginning.txt
Comparing /tmp/s_z1RKFn0W to t/mailboxes/newlines_at_beginning.txt
Output /tmp/s_z1RKFn0W looks good.
ok 37 - Computing differences
Comparing /tmp/1XeAJDtVSi to t/mailboxes/newlines_at_beginning.txt
Output /tmp/1XeAJDtVSi looks good.
ok 38 - Computing differences
Comparing /tmp/MmGsFujxGb to t/mailboxes/newlines_at_beginning.txt
Output /tmp/MmGsFujxGb looks good.
ok 39 - Computing differences
ok 40 # skip GNU grep not available
Testing filename: t/mailboxes/vm-emacs.txt
Comparing /tmp/MidaMPU9iw to t/mailboxes/vm-emacs.txt
Output /tmp/MidaMPU9iw looks good.
ok 41 - Computing differences
Comparing /tmp/FdIrExS2qn to t/mailboxes/vm-emacs.txt
Output /tmp/FdIrExS2qn looks good.
ok 42 - Computing differences
Comparing /tmp/ewgGwyj0yM to t/mailboxes/vm-emacs.txt
Output /tmp/ewgGwyj0yM looks good.
ok 43 - Computing differences
ok 44 # skip GNU grep not available
ok
t/filename_compressed.t ......... 
1..4
Testing filename: t/mailboxes/mailarc-2.txt.bz2
Comparing /tmp/efpaIuH4AL to t/mailboxes/mailarc-2.txt
Output /tmp/efpaIuH4AL looks good.
ok 1 - Computing differences
Testing filename: t/mailboxes/mailarc-2.txt.gz
Comparing /tmp/N8cxgbXpAN to t/mailboxes/mailarc-2.txt
Output /tmp/N8cxgbXpAN looks good.
ok 2 - Computing differences
Testing filename: t/mailboxes/mailarc-2.txt.lz
ok 3 # skip lzip not available
Testing filename: t/mailboxes/mailarc-2.txt.xz
Comparing /tmp/CmcFfVeazc to t/mailboxes/mailarc-2.txt
Output /tmp/CmcFfVeazc looks good.
ok 4 - Computing differences
ok
t/filename_noncompressed.t ...... 
1..11
Testing filename: t/mailboxes/binary_body.txt
Comparing /tmp/oHffJi16xo to t/mailboxes/binary_body.txt
Output /tmp/oHffJi16xo looks good.
ok 1 - Computing differences
Testing filename: t/mailboxes/hessbug.txt
Comparing /tmp/oiWbB0jayp to t/mailboxes/hessbug.txt
Output /tmp/oiWbB0jayp looks good.
ok 2 - Computing differences
Testing filename: t/mailboxes/invalid-boundaries.txt
Comparing /tmp/WSYp6rtkB4 to t/mailboxes/invalid-boundaries.txt
Output /tmp/WSYp6rtkB4 looks good.
ok 3 - Computing differences
Testing filename: t/mailboxes/mailarc-1-dos.txt
Comparing /tmp/6W5XRESazP to t/mailboxes/mailarc-1-dos.txt
Output /tmp/6W5XRESazP looks good.
ok 4 - Computing differences
Testing filename: t/mailboxes/mailarc-1.txt
Comparing /tmp/7qnKDM4qyN to t/mailboxes/mailarc-1.txt
Output /tmp/7qnKDM4qyN looks good.
ok 5 - Computing differences
Testing filename: t/mailboxes/mailarc-2.txt
Comparing /tmp/VBLUJOFadB to t/mailboxes/mailarc-2.txt
Output /tmp/VBLUJOFadB looks good.
ok 6 - Computing differences
Testing filename: t/mailboxes/mailarc-3.txt
Comparing /tmp/AujRrzchNu to t/mailboxes/mailarc-3.txt
Output /tmp/AujRrzchNu looks good.
ok 7 - Computing differences
Testing filename: t/mailboxes/mailseparators.txt
Comparing /tmp/P17ZaeJugu to t/mailboxes/mailseparators.txt
Output /tmp/P17ZaeJugu looks good.
ok 8 - Computing differences
Testing filename: t/mailboxes/malformed.txt
Comparing /tmp/4frI6FE7pG to t/mailboxes/malformed.txt
Output /tmp/4frI6FE7pG looks good.
ok 9 - Computing differences
Testing filename: t/mailboxes/newlines_at_beginning.txt
Comparing /tmp/SVsePdTXRz to t/mailboxes/newlines_at_beginning.txt
Output /tmp/SVsePdTXRz looks good.
ok 10 - Computing differences
Testing filename: t/mailboxes/vm-emacs.txt
Comparing /tmp/FuDwZga8aq to t/mailboxes/vm-emacs.txt
Output /tmp/FuDwZga8aq looks good.
ok 11 - Computing differences
ok
t/grep.t ........................ 
1..4
Running test:
  unset LC_ALL LC_COLLATE LANG LC_CTYPE LC_MESSAGES; grep --extended-regexp --line-number --byte-offset --binary-files=text "^From [^:]+(:[0-9][0-9]){1,2}(  *([A-Z]{2,6}|[+-]?[0-9]{4})){1,3}( remote from .*)?
?$" t/mailboxes/mailarc-1.txt
ok 1 # skip 1
Running test:
  unset LC_ALL LC_COLLATE LANG LC_CTYPE LC_MESSAGES; grep --extended-regexp --line-number --byte-offset --binary-files=text "^From [^:]+(:[0-9][0-9]){1,2}(  *([A-Z]{2,6}|[+-]?[0-9]{4})){1,3}( remote from .*)?
?$" t/mailboxes/mailarc-2.txt
ok 2 # skip 1
Running test:
  unset LC_ALL LC_COLLATE LANG LC_CTYPE LC_MESSAGES; grep --extended-regexp --line-number --byte-offset --binary-files=text "^From [^:]+(:[0-9][0-9]){1,2}(  *([A-Z]{2,6}|[+-]?[0-9]{4})){1,3}( remote from .*)?
?$" t/mailboxes/mailarc-3.txt
ok 3 # skip 1
Running test:
  unset LC_ALL LC_COLLATE LANG LC_CTYPE LC_MESSAGES; grep --extended-regexp --line-number --byte-offset --binary-files=text "^From [^:]+(:[0-9][0-9]){1,2}(  *([A-Z]{2,6}|[+-]?[0-9]{4})){1,3}( remote from .*)?
?$" t/mailboxes/mailseparators.txt
ok 4 # skip 1
ok
t/gzip.t ........................ 
1..1
Running test:
  "/bin/cat" "t/mailboxes/mailarc-2.txt.gz" | "/bin/gzip" -cd
Comparing /tmp/CKrHvH9PFc to t/results/mailarc-2.txt
Output /tmp/CKrHvH9PFc looks good.
Comparing /tmp/uJqFhRgyAo to t/results/none
Output /tmp/uJqFhRgyAo looks good.
ok 1 - Computing differences
ok
t/length.t ...................... 
1..30
Testing filename: t/mailboxes/binary_body.txt
Comparing /tmp/CpAiLjTmbN to t/results/length_binary_body.stdout
Output /tmp/CpAiLjTmbN looks good.
ok 1 - Computing differences
Comparing /tmp/g7NJdWoTuo to t/results/length_binary_body.stdout
Output /tmp/g7NJdWoTuo looks good.
ok 2 - Computing differences
ok 3 # skip GNU grep not available
Testing filename: t/mailboxes/hessbug.txt
Comparing /tmp/Gg0VauDxeW to t/results/length_hessbug.stdout
Output /tmp/Gg0VauDxeW looks good.
ok 4 - Computing differences
Comparing /tmp/AUT9BdOzND to t/results/length_hessbug.stdout
Output /tmp/AUT9BdOzND looks good.
ok 5 - Computing differences
ok 6 # skip GNU grep not available
Testing filename: t/mailboxes/invalid-boundaries.txt
Comparing /tmp/2FHuyLCLkb to t/results/length_invalid-boundaries.stdout
Output /tmp/2FHuyLCLkb looks good.
ok 7 - Computing differences
Comparing /tmp/HUlUwi4Ltv to t/results/length_invalid-boundaries.stdout
Output /tmp/HUlUwi4Ltv looks good.
ok 8 - Computing differences
ok 9 # skip GNU grep not available
Testing filename: t/mailboxes/mailarc-1-dos.txt
Comparing /tmp/PvpAaMhte2 to t/results/length_mailarc-1-dos.stdout
Output /tmp/PvpAaMhte2 looks good.
ok 10 - Computing differences
Comparing /tmp/fCh5lEo69h to t/results/length_mailarc-1-dos.stdout
Output /tmp/fCh5lEo69h looks good.
ok 11 - Computing differences
ok 12 # skip GNU grep not available
Testing filename: t/mailboxes/mailarc-1.txt
Comparing /tmp/RsjTc5putU to t/results/length_mailarc-1.stdout
Output /tmp/RsjTc5putU looks good.
ok 13 - Computing differences
Comparing /tmp/wb9DfE7L0f to t/results/length_mailarc-1.stdout
Output /tmp/wb9DfE7L0f looks good.
ok 14 - Computing differences
ok 15 # skip GNU grep not available
Testing filename: t/mailboxes/mailarc-2.txt
Comparing /tmp/RYdTUGdqkA to t/results/length_mailarc-2.stdout
Output /tmp/RYdTUGdqkA looks good.
ok 16 - Computing differences
Comparing /tmp/oz_2SFbTmd to t/results/length_mailarc-2.stdout
Output /tmp/oz_2SFbTmd looks good.
ok 17 - Computing differences
ok 18 # skip GNU grep not available
Testing filename: t/mailboxes/mailarc-3.txt
Comparing /tmp/tzvja_BGku to t/results/length_mailarc-3.stdout
Output /tmp/tzvja_BGku looks good.
ok 19 - Computing differences
Comparing /tmp/pmMHq8UDK9 to t/results/length_mailarc-3.stdout
Output /tmp/pmMHq8UDK9 looks good.
ok 20 - Computing differences
ok 21 # skip GNU grep not available
Testing filename: t/mailboxes/mailseparators.txt
Comparing /tmp/1alUs6mB5M to t/results/length_mailseparators.stdout
Output /tmp/1alUs6mB5M looks good.
ok 22 - Computing differences
Comparing /tmp/wRtLJh9FKW to t/results/length_mailseparators.stdout
Output /tmp/wRtLJh9FKW looks good.
ok 23 - Computing differences
ok 24 # skip GNU grep not available
Testing filename: t/mailboxes/malformed.txt
Comparing /tmp/wJPv2vVRLv to t/results/length_malformed.stdout
Output /tmp/wJPv2vVRLv looks good.
ok 25 - Computing differences
Comparing /tmp/tAjoXpZPU6 to t/results/length_malformed.stdout
Output /tmp/tAjoXpZPU6 looks good.
ok 26 - Computing differences
ok 27 # skip GNU grep not available
Testing filename: t/mailboxes/newlines_at_beginning.txt
Comparing /tmp/Q9y_EVARIu to t/results/length_newlines_at_beginning.stdout
Output /tmp/Q9y_EVARIu looks good.
ok 28 - Computing differences
Comparing /tmp/VcDe5b0v0L to t/results/length_newlines_at_beginning.stdout
Output /tmp/VcDe5b0v0L looks good.
ok 29 - Computing differences
ok 30 # skip GNU grep not available
ok
t/line_number.t ................. 
1..30
Testing filename: t/mailboxes/binary_body.txt
Comparing /tmp/ZCBoHSVpr4 to t/results/line_number_binary_body.stdout
Output /tmp/ZCBoHSVpr4 looks good.
ok 1 - Computing differences
Comparing /tmp/up7mXdpn7i to t/results/line_number_binary_body.stdout
Output /tmp/up7mXdpn7i looks good.
ok 2 - Computing differences
ok 3 # skip GNU grep not available
Testing filename: t/mailboxes/hessbug.txt
Comparing /tmp/NCbCWh_PBt to t/results/line_number_hessbug.stdout
Output /tmp/NCbCWh_PBt looks good.
ok 4 - Computing differences
Comparing /tmp/YvMjowwY73 to t/results/line_number_hessbug.stdout
Output /tmp/YvMjowwY73 looks good.
ok 5 - Computing differences
ok 6 # skip GNU grep not available
Testing filename: t/mailboxes/invalid-boundaries.txt
Comparing /tmp/h_xciZlRJk to t/results/line_number_invalid-boundaries.stdout
Output /tmp/h_xciZlRJk looks good.
ok 7 - Computing differences
Comparing /tmp/XQR195aDcd to t/results/line_number_invalid-boundaries.stdout
Output /tmp/XQR195aDcd looks good.
ok 8 - Computing differences
ok 9 # skip GNU grep not available
Testing filename: t/mailboxes/mailarc-1-dos.txt
Comparing /tmp/RDhuLB4YH4 to t/results/line_number_mailarc-1-dos.stdout
Output /tmp/RDhuLB4YH4 looks good.
ok 10 - Computing differences
Comparing /tmp/RRkYdJIgax to t/results/line_number_mailarc-1-dos.stdout
Output /tmp/RRkYdJIgax looks good.
ok 11 - Computing differences
ok 12 # skip GNU grep not available
Testing filename: t/mailboxes/mailarc-1.txt
Comparing /tmp/uPzJw6aqLC to t/results/line_number_mailarc-1.stdout
Output /tmp/uPzJw6aqLC looks good.
ok 13 - Computing differences
Comparing /tmp/nzHzOkIaau to t/results/line_number_mailarc-1.stdout
Output /tmp/nzHzOkIaau looks good.
ok 14 - Computing differences
ok 15 # skip GNU grep not available
Testing filename: t/mailboxes/mailarc-2.txt
Comparing /tmp/m5C8Ce8IGq to t/results/line_number_mailarc-2.stdout
Output /tmp/m5C8Ce8IGq looks good.
ok 16 - Computing differences
Comparing /tmp/sbFEp5Djsj to t/results/line_number_mailarc-2.stdout
Output /tmp/sbFEp5Djsj looks good.
ok 17 - Computing differences
ok 18 # skip GNU grep not available
Testing filename: t/mailboxes/mailarc-3.txt
Comparing /tmp/LYhKGnSp_i to t/results/line_number_mailarc-3.stdout
Output /tmp/LYhKGnSp_i looks good.
ok 19 - Computing differences
Comparing /tmp/AbYkeaoPdf to t/results/line_number_mailarc-3.stdout
Output /tmp/AbYkeaoPdf looks good.
ok 20 - Computing differences
ok 21 # skip GNU grep not available
Testing filename: t/mailboxes/mailseparators.txt
Comparing /tmp/NXV9kqOegY to t/results/line_number_mailseparators.stdout
Output /tmp/NXV9kqOegY looks good.
ok 22 - Computing differences
Comparing /tmp/9cB_BtuKTw to t/results/line_number_mailseparators.stdout
Output /tmp/9cB_BtuKTw looks good.
ok 23 - Computing differences
ok 24 # skip GNU grep not available
Testing filename: t/mailboxes/malformed.txt
Comparing /tmp/7wjzeKbNi6 to t/results/line_number_malformed.stdout
Output /tmp/7wjzeKbNi6 looks good.
ok 25 - Computing differences
Comparing /tmp/nFAxyhmIM3 to t/results/line_number_malformed.stdout
Output /tmp/nFAxyhmIM3 looks good.
ok 26 - Computing differences
ok 27 # skip GNU grep not available
Testing filename: t/mailboxes/newlines_at_beginning.txt
Comparing /tmp/pRYeL9kJET to t/results/line_number_newlines_at_beginning.stdout
Output /tmp/pRYeL9kJET looks good.
ok 28 - Computing differences
Comparing /tmp/guxoCgjUjT to t/results/line_number_newlines_at_beginning.stdout
Output /tmp/guxoCgjUjT looks good.
ok 29 - Computing differences
ok 30 # skip GNU grep not available
ok
t/lzip.t ........................ 
1..1
Running test:
  "/bin/cat" "t/mailboxes/mailarc-2.txt.lz" | "lzip" -cd
ok 1 # skip lzip not available
ok
t/number.t ...................... 
1..30
Testing filename: t/mailboxes/binary_body.txt
Comparing /tmp/bFJk_veHs4 to t/results/number_binary_body.stdout
Output /tmp/bFJk_veHs4 looks good.
ok 1 - Computing differences
Comparing /tmp/ovxNfuBGZM to t/results/number_binary_body.stdout
Output /tmp/ovxNfuBGZM looks good.
ok 2 - Computing differences
ok 3 # skip GNU grep not available
Testing filename: t/mailboxes/hessbug.txt
Comparing /tmp/IjuojjvA9D to t/results/number_hessbug.stdout
Output /tmp/IjuojjvA9D looks good.
ok 4 - Computing differences
Comparing /tmp/8S6EtwIOeq to t/results/number_hessbug.stdout
Output /tmp/8S6EtwIOeq looks good.
ok 5 - Computing differences
ok 6 # skip GNU grep not available
Testing filename: t/mailboxes/invalid-boundaries.txt
Comparing /tmp/h41dn8OdWh to t/results/number_invalid-boundaries.stdout
Output /tmp/h41dn8OdWh looks good.
ok 7 - Computing differences
Comparing /tmp/vlkf0bA3lU to t/results/number_invalid-boundaries.stdout
Output /tmp/vlkf0bA3lU looks good.
ok 8 - Computing differences
ok 9 # skip GNU grep not available
Testing filename: t/mailboxes/mailarc-1-dos.txt
Comparing /tmp/SyqlYSpsKE to t/results/number_mailarc-1-dos.stdout
Output /tmp/SyqlYSpsKE looks good.
ok 10 - Computing differences
Comparing /tmp/HjODkoENGA to t/results/number_mailarc-1-dos.stdout
Output /tmp/HjODkoENGA looks good.
ok 11 - Computing differences
ok 12 # skip GNU grep not available
Testing filename: t/mailboxes/mailarc-1.txt
Comparing /tmp/AnnqLhorMa to t/results/number_mailarc-1.stdout
Output /tmp/AnnqLhorMa looks good.
ok 13 - Computing differences
Comparing /tmp/ogJtlrpSzA to t/results/number_mailarc-1.stdout
Output /tmp/ogJtlrpSzA looks good.
ok 14 - Computing differences
ok 15 # skip GNU grep not available
Testing filename: t/mailboxes/mailarc-2.txt
Comparing /tmp/aE4PTJ70EO to t/results/number_mailarc-2.stdout
Output /tmp/aE4PTJ70EO looks good.
ok 16 - Computing differences
Comparing /tmp/fnWEfGihTA to t/results/number_mailarc-2.stdout
Output /tmp/fnWEfGihTA looks good.
ok 17 - Computing differences
ok 18 # skip GNU grep not available
Testing filename: t/mailboxes/mailarc-3.txt
Comparing /tmp/vTluKdDWwl to t/results/number_mailarc-3.stdout
Output /tmp/vTluKdDWwl looks good.
ok 19 - Computing differences
Comparing /tmp/QRfhAru6_H to t/results/number_mailarc-3.stdout
Output /tmp/QRfhAru6_H looks good.
ok 20 - Computing differences
ok 21 # skip GNU grep not available
Testing filename: t/mailboxes/mailseparators.txt
Comparing /tmp/QFBgcVkjk8 to t/results/number_mailseparators.stdout
Output /tmp/QFBgcVkjk8 looks good.
ok 22 - Computing differences
Comparing /tmp/SHAJYA2XYg to t/results/number_mailseparators.stdout
Output /tmp/SHAJYA2XYg looks good.
ok 23 - Computing differences
ok 24 # skip GNU grep not available
Testing filename: t/mailboxes/malformed.txt
Comparing /tmp/4t_siHdqwY to t/results/number_malformed.stdout
Output /tmp/4t_siHdqwY looks good.
ok 25 - Computing differences
Comparing /tmp/TL8zrsG5Rr to t/results/number_malformed.stdout
Output /tmp/TL8zrsG5Rr looks good.
ok 26 - Computing differences
ok 27 # skip GNU grep not available
Testing filename: t/mailboxes/newlines_at_beginning.txt
Comparing /tmp/By0dHN8Zzd to t/results/number_newlines_at_beginning.stdout
Output /tmp/By0dHN8Zzd looks good.
ok 28 - Computing differences
Comparing /tmp/erwMEhh0QI to t/results/number_newlines_at_beginning.stdout
Output /tmp/erwMEhh0QI looks good.
ok 29 - Computing differences
ok 30 # skip GNU grep not available
ok
t/offset.t ...................... 
1..30
Testing filename: t/mailboxes/binary_body.txt
Comparing /tmp/Z65Pi1ondw to t/results/offset_binary_body.stdout
Output /tmp/Z65Pi1ondw looks good.
ok 1 - Computing differences
Comparing /tmp/XAkxGhRzFi to t/results/offset_binary_body.stdout
Output /tmp/XAkxGhRzFi looks good.
ok 2 - Computing differences
ok 3 # skip GNU grep not available
Testing filename: t/mailboxes/hessbug.txt
Comparing /tmp/ybqW1_5SZ_ to t/results/offset_hessbug.stdout
Output /tmp/ybqW1_5SZ_ looks good.
ok 4 - Computing differences
Comparing /tmp/iUXpp4h9GH to t/results/offset_hessbug.stdout
Output /tmp/iUXpp4h9GH looks good.
ok 5 - Computing differences
ok 6 # skip GNU grep not available
Testing filename: t/mailboxes/invalid-boundaries.txt
Comparing /tmp/57FrNxnIUY to t/results/offset_invalid-boundaries.stdout
Output /tmp/57FrNxnIUY looks good.
ok 7 - Computing differences
Comparing /tmp/7zbK8CSVmO to t/results/offset_invalid-boundaries.stdout
Output /tmp/7zbK8CSVmO looks good.
ok 8 - Computing differences
ok 9 # skip GNU grep not available
Testing filename: t/mailboxes/mailarc-1-dos.txt
Comparing /tmp/ER7VGYW9yE to t/results/offset_mailarc-1-dos.stdout
Output /tmp/ER7VGYW9yE looks good.
ok 10 - Computing differences
Comparing /tmp/i9Ca6RirLc to t/results/offset_mailarc-1-dos.stdout
Output /tmp/i9Ca6RirLc looks good.
ok 11 - Computing differences
ok 12 # skip GNU grep not available
Testing filename: t/mailboxes/mailarc-1.txt
Comparing /tmp/uRivupiswG to t/results/offset_mailarc-1.stdout
Output /tmp/uRivupiswG looks good.
ok 13 - Computing differences
Comparing /tmp/SEwblQnOwi to t/results/offset_mailarc-1.stdout
Output /tmp/SEwblQnOwi looks good.
ok 14 - Computing differences
ok 15 # skip GNU grep not available
Testing filename: t/mailboxes/mailarc-2.txt
Comparing /tmp/52dUDFki1b to t/results/offset_mailarc-2.stdout
Output /tmp/52dUDFki1b looks good.
ok 16 - Computing differences
Comparing /tmp/FtMs9jfGmF to t/results/offset_mailarc-2.stdout
Output /tmp/FtMs9jfGmF looks good.
ok 17 - Computing differences
ok 18 # skip GNU grep not available
Testing filename: t/mailboxes/mailarc-3.txt
Comparing /tmp/YAQhOq9XJq to t/results/offset_mailarc-3.stdout
Output /tmp/YAQhOq9XJq looks good.
ok 19 - Computing differences
Comparing /tmp/I1YjkMsbUl to t/results/offset_mailarc-3.stdout
Output /tmp/I1YjkMsbUl looks good.
ok 20 - Computing differences
ok 21 # skip GNU grep not available
Testing filename: t/mailboxes/mailseparators.txt
Comparing /tmp/dPD0F5jb79 to t/results/offset_mailseparators.stdout
Output /tmp/dPD0F5jb79 looks good.
ok 22 - Computing differences
Comparing /tmp/e02Ve2Z4zx to t/results/offset_mailseparators.stdout
Output /tmp/e02Ve2Z4zx looks good.
ok 23 - Computing differences
ok 24 # skip GNU grep not available
Testing filename: t/mailboxes/malformed.txt
Comparing /tmp/geYn8NILqf to t/results/offset_malformed.stdout
Output /tmp/geYn8NILqf looks good.
ok 25 - Computing differences
Comparing /tmp/EM7oCrdpU0 to t/results/offset_malformed.stdout
Output /tmp/EM7oCrdpU0 looks good.
ok 26 - Computing differences
ok 27 # skip GNU grep not available
Testing filename: t/mailboxes/newlines_at_beginning.txt
Comparing /tmp/7CfRRlZa_X to t/results/offset_newlines_at_beginning.stdout
Output /tmp/7CfRRlZa_X looks good.
ok 28 - Computing differences
Comparing /tmp/3rPr1Igto3 to t/results/offset_newlines_at_beginning.stdout
Output /tmp/3rPr1Igto3 looks good.
ok 29 - Computing differences
ok 30 # skip GNU grep not available
ok
t/prologue.t .................... 
1..33
Testing filename: t/mailboxes/binary_body.txt
Comparing /tmp/vOdAMduNnw to t/mailboxes/binary_body.txt
Output /tmp/vOdAMduNnw looks good.
ok 1 - Computing differences
Comparing /tmp/RlfAILhFzb to t/mailboxes/binary_body.txt
Output /tmp/RlfAILhFzb looks good.
ok 2 - Computing differences
ok 3 # skip GNU grep not available
Testing filename: t/mailboxes/hessbug.txt
Comparing /tmp/XF6yDWhxo6 to t/mailboxes/hessbug.txt
Output /tmp/XF6yDWhxo6 looks good.
ok 4 - Computing differences
Comparing /tmp/JCISEyix37 to t/mailboxes/hessbug.txt
Output /tmp/JCISEyix37 looks good.
ok 5 - Computing differences
ok 6 # skip GNU grep not available
Testing filename: t/mailboxes/invalid-boundaries.txt
Comparing /tmp/l6pt9Hk3rx to t/mailboxes/invalid-boundaries.txt
Output /tmp/l6pt9Hk3rx looks good.
ok 7 - Computing differences
Comparing /tmp/1QS4dlhinq to t/mailboxes/invalid-boundaries.txt
Output /tmp/1QS4dlhinq looks good.
ok 8 - Computing differences
ok 9 # skip GNU grep not available
Testing filename: t/mailboxes/mailarc-1-dos.txt
Comparing /tmp/6uMpJiMP2P to t/mailboxes/mailarc-1-dos.txt
Output /tmp/6uMpJiMP2P looks good.
ok 10 - Computing differences
Comparing /tmp/JZDqg6GRnd to t/mailboxes/mailarc-1-dos.txt
Output /tmp/JZDqg6GRnd looks good.
ok 11 - Computing differences
ok 12 # skip GNU grep not available
Testing filename: t/mailboxes/mailarc-1.txt
Comparing /tmp/HkUuhwGDrU to t/mailboxes/mailarc-1.txt
Output /tmp/HkUuhwGDrU looks good.
ok 13 - Computing differences
Comparing /tmp/NfeYVVmPuv to t/mailboxes/mailarc-1.txt
Output /tmp/NfeYVVmPuv looks good.
ok 14 - Computing differences
ok 15 # skip GNU grep not available
Testing filename: t/mailboxes/mailarc-2.txt
Comparing /tmp/0Oo7vCFN56 to t/mailboxes/mailarc-2.txt
Output /tmp/0Oo7vCFN56 looks good.
ok 16 - Computing differences
Comparing /tmp/_kM8qm0Z1u to t/mailboxes/mailarc-2.txt
Output /tmp/_kM8qm0Z1u looks good.
ok 17 - Computing differences
ok 18 # skip GNU grep not available
Testing filename: t/mailboxes/mailarc-3.txt
Comparing /tmp/TQYjsovLDu to t/mailboxes/mailarc-3.txt
Output /tmp/TQYjsovLDu looks good.
ok 19 - Computing differences
Comparing /tmp/KB9nnDucpS to t/mailboxes/mailarc-3.txt
Output /tmp/KB9nnDucpS looks good.
ok 20 - Computing differences
ok 21 # skip GNU grep not available
Testing filename: t/mailboxes/mailseparators.txt
Comparing /tmp/5qPiQLkJBt to t/mailboxes/mailseparators.txt
Output /tmp/5qPiQLkJBt looks good.
ok 22 - Computing differences
Comparing /tmp/ejOXWmlkrY to t/mailboxes/mailseparators.txt
Output /tmp/ejOXWmlkrY looks good.
ok 23 - Computing differences
ok 24 # skip GNU grep not available
Testing filename: t/mailboxes/malformed.txt
Comparing /tmp/hEtOxm39bL to t/mailboxes/malformed.txt
Output /tmp/hEtOxm39bL looks good.
ok 25 - Computing differences
Comparing /tmp/_L5ZU1TC0m to t/mailboxes/malformed.txt
Output /tmp/_L5ZU1TC0m looks good.
ok 26 - Computing differences
ok 27 # skip GNU grep not available
Testing filename: t/mailboxes/newlines_at_beginning.txt
Comparing /tmp/6jQXnv_OAp to t/mailboxes/newlines_at_beginning.txt
Output /tmp/6jQXnv_OAp looks good.
ok 28 - Computing differences
Comparing /tmp/bRDSYPGH_L to t/mailboxes/newlines_at_beginning.txt
Output /tmp/bRDSYPGH_L looks good.
ok 29 - Computing differences
ok 30 # skip GNU grep not available
Testing filename: t/mailboxes/vm-emacs.txt
Comparing /tmp/Wy1zuRnw1q to t/mailboxes/vm-emacs.txt
Output /tmp/Wy1zuRnw1q looks good.
ok 31 - Computing differences
Comparing /tmp/6pgV0r8GyR to t/mailboxes/vm-emacs.txt
Output /tmp/6pgV0r8GyR looks good.
ok 32 - Computing differences
ok 33 # skip GNU grep not available
ok
t/reset.t ....................... 
1..60
Testing filename: t/mailboxes/binary_body.txt
Testing partial mailbox reset with Perl implementation
Comparing /tmp/0pysUHDg8o to t/results/reset_binary_body.stdout
Output /tmp/0pysUHDg8o looks good.
ok 1 - Computing differences
Testing partial mailbox reset with Cache implementation
Comparing /tmp/jrNAINUJdD to t/results/reset_binary_body.stdout
Output /tmp/jrNAINUJdD looks good.
ok 2 - Computing differences
Testing partial mailbox reset with Grep implementation
ok 3 # skip GNU grep not available
Testing full mailbox reset with Perl implementation
Comparing /tmp/GxzAHvoGMJ to t/results/reset_binary_body.stdout
Output /tmp/GxzAHvoGMJ looks good.
ok 4 - Computing differences
Testing full mailbox reset with Cache implementation
Comparing /tmp/A0e2UJCc1P to t/results/reset_binary_body.stdout
Output /tmp/A0e2UJCc1P looks good.
ok 5 - Computing differences
Testing full mailbox reset with Grep implementation
ok 6 # skip GNU grep not available
Testing filename: t/mailboxes/hessbug.txt
Testing partial mailbox reset with Perl implementation
Comparing /tmp/lRa6NSeN1s to t/results/reset_hessbug.stdout
Output /tmp/lRa6NSeN1s looks good.
ok 7 - Computing differences
Testing partial mailbox reset with Cache implementation
Comparing /tmp/9BVPlTdQKN to t/results/reset_hessbug.stdout
Output /tmp/9BVPlTdQKN looks good.
ok 8 - Computing differences
Testing partial mailbox reset with Grep implementation
ok 9 # skip GNU grep not available
Testing full mailbox reset with Perl implementation
Comparing /tmp/kjjXvF7BNj to t/results/reset_hessbug.stdout
Output /tmp/kjjXvF7BNj looks good.
ok 10 - Computing differences
Testing full mailbox reset with Cache implementation
Comparing /tmp/JwxeyFmsBZ to t/results/reset_hessbug.stdout
Output /tmp/JwxeyFmsBZ looks good.
ok 11 - Computing differences
Testing full mailbox reset with Grep implementation
ok 12 # skip GNU grep not available
Testing filename: t/mailboxes/invalid-boundaries.txt
Testing partial mailbox reset with Perl implementation
Comparing /tmp/6jmT7NytIQ to t/results/reset_invalid-boundaries.stdout
Output /tmp/6jmT7NytIQ looks good.
ok 13 - Computing differences
Testing partial mailbox reset with Cache implementation
Comparing /tmp/r9MizpKXzQ to t/results/reset_invalid-boundaries.stdout
Output /tmp/r9MizpKXzQ looks good.
ok 14 - Computing differences
Testing partial mailbox reset with Grep implementation
ok 15 # skip GNU grep not available
Testing full mailbox reset with Perl implementation
Comparing /tmp/xyhCX37l9H to t/results/reset_invalid-boundaries.stdout
Output /tmp/xyhCX37l9H looks good.
ok 16 - Computing differences
Testing full mailbox reset with Cache implementation
Comparing /tmp/oFmqKLeFns to t/results/reset_invalid-boundaries.stdout
Output /tmp/oFmqKLeFns looks good.
ok 17 - Computing differences
Testing full mailbox reset with Grep implementation
ok 18 # skip GNU grep not available
Testing filename: t/mailboxes/mailarc-1-dos.txt
Testing partial mailbox reset with Perl implementation
Comparing /tmp/aLariIk_mJ to t/results/reset_mailarc-1-dos.stdout
Output /tmp/aLariIk_mJ looks good.
ok 19 - Computing differences
Testing partial mailbox reset with Cache implementation
Comparing /tmp/axTLle8usp to t/results/reset_mailarc-1-dos.stdout
Output /tmp/axTLle8usp looks good.
ok 20 - Computing differences
Testing partial mailbox reset with Grep implementation
ok 21 # skip GNU grep not available
Testing full mailbox reset with Perl implementation
Comparing /tmp/Qda0tM9A1n to t/results/reset_mailarc-1-dos.stdout
Output /tmp/Qda0tM9A1n looks good.
ok 22 - Computing differences
Testing full mailbox reset with Cache implementation
Comparing /tmp/ikRrB74EYN to t/results/reset_mailarc-1-dos.stdout
Output /tmp/ikRrB74EYN looks good.
ok 23 - Computing differences
Testing full mailbox reset with Grep implementation
ok 24 # skip GNU grep not available
Testing filename: t/mailboxes/mailarc-1.txt
Testing partial mailbox reset with Perl implementation
Comparing /tmp/G2Vts2V1kt to t/results/reset_mailarc-1.stdout
Output /tmp/G2Vts2V1kt looks good.
ok 25 - Computing differences
Testing partial mailbox reset with Cache implementation
Comparing /tmp/0cw4VX1bnS to t/results/reset_mailarc-1.stdout
Output /tmp/0cw4VX1bnS looks good.
ok 26 - Computing differences
Testing partial mailbox reset with Grep implementation
ok 27 # skip GNU grep not available
Testing full mailbox reset with Perl implementation
Comparing /tmp/RFVD9fH_m9 to t/results/reset_mailarc-1.stdout
Output /tmp/RFVD9fH_m9 looks good.
ok 28 - Computing differences
Testing full mailbox reset with Cache implementation
Comparing /tmp/7MS8IelWB_ to t/results/reset_mailarc-1.stdout
Output /tmp/7MS8IelWB_ looks good.
ok 29 - Computing differences
Testing full mailbox reset with Grep implementation
ok 30 # skip GNU grep not available
Testing filename: t/mailboxes/mailarc-2.txt
Testing partial mailbox reset with Perl implementation
Comparing /tmp/pVUrM_xoNH to t/results/reset_mailarc-2.stdout
Output /tmp/pVUrM_xoNH looks good.
ok 31 - Computing differences
Testing partial mailbox reset with Cache implementation
Comparing /tmp/PoYgr5INNW to t/results/reset_mailarc-2.stdout
Output /tmp/PoYgr5INNW looks good.
ok 32 - Computing differences
Testing partial mailbox reset with Grep implementation
ok 33 # skip GNU grep not available
Testing full mailbox reset with Perl implementation
Comparing /tmp/f4eVo5MRFF to t/results/reset_mailarc-2.stdout
Output /tmp/f4eVo5MRFF looks good.
ok 34 - Computing differences
Testing full mailbox reset with Cache implementation
Comparing /tmp/LR0Zfj21N6 to t/results/reset_mailarc-2.stdout
Output /tmp/LR0Zfj21N6 looks good.
ok 35 - Computing differences
Testing full mailbox reset with Grep implementation
ok 36 # skip GNU grep not available
Testing filename: t/mailboxes/mailarc-3.txt
Testing partial mailbox reset with Perl implementation
Comparing /tmp/mvZMYvtGyg to t/results/reset_mailarc-3.stdout
Output /tmp/mvZMYvtGyg looks good.
ok 37 - Computing differences
Testing partial mailbox reset with Cache implementation
Comparing /tmp/AIgOKI66UV to t/results/reset_mailarc-3.stdout
Output /tmp/AIgOKI66UV looks good.
ok 38 - Computing differences
Testing partial mailbox reset with Grep implementation
ok 39 # skip GNU grep not available
Testing full mailbox reset with Perl implementation
Comparing /tmp/akfBxDFU6V to t/results/reset_mailarc-3.stdout
Output /tmp/akfBxDFU6V looks good.
ok 40 - Computing differences
Testing full mailbox reset with Cache implementation
Comparing /tmp/E8MROe_Rk5 to t/results/reset_mailarc-3.stdout
Output /tmp/E8MROe_Rk5 looks good.
ok 41 - Computing differences
Testing full mailbox reset with Grep implementation
ok 42 # skip GNU grep not available
Testing filename: t/mailboxes/mailseparators.txt
Testing partial mailbox reset with Perl implementation
Comparing /tmp/CEp7IF1UT7 to t/results/reset_mailseparators.stdout
Output /tmp/CEp7IF1UT7 looks good.
ok 43 - Computing differences
Testing partial mailbox reset with Cache implementation
Comparing /tmp/DwhL0Lf2v6 to t/results/reset_mailseparators.stdout
Output /tmp/DwhL0Lf2v6 looks good.
ok 44 - Computing differences
Testing partial mailbox reset with Grep implementation
ok 45 # skip GNU grep not available
Testing full mailbox reset with Perl implementation
Comparing /tmp/mbkyaUMLZM to t/results/reset_mailseparators.stdout
Output /tmp/mbkyaUMLZM looks good.
ok 46 - Computing differences
Testing full mailbox reset with Cache implementation
Comparing /tmp/KA6rCagMjv to t/results/reset_mailseparators.stdout
Output /tmp/KA6rCagMjv looks good.
ok 47 - Computing differences
Testing full mailbox reset with Grep implementation
ok 48 # skip GNU grep not available
Testing filename: t/mailboxes/malformed.txt
Testing partial mailbox reset with Perl implementation
Comparing /tmp/_FRzl0xQhZ to t/results/reset_malformed.stdout
Output /tmp/_FRzl0xQhZ looks good.
ok 49 - Computing differences
Testing partial mailbox reset with Cache implementation
Comparing /tmp/XLNlgdUzkS to t/results/reset_malformed.stdout
Output /tmp/XLNlgdUzkS looks good.
ok 50 - Computing differences
Testing partial mailbox reset with Grep implementation
ok 51 # skip GNU grep not available
Testing full mailbox reset with Perl implementation
Comparing /tmp/iODgWmADl0 to t/results/reset_malformed.stdout
Output /tmp/iODgWmADl0 looks good.
ok 52 - Computing differences
Testing full mailbox reset with Cache implementation
Comparing /tmp/rOIyMhLJH9 to t/results/reset_malformed.stdout
Output /tmp/rOIyMhLJH9 looks good.
ok 53 - Computing differences
Testing full mailbox reset with Grep implementation
ok 54 # skip GNU grep not available
Testing filename: t/mailboxes/newlines_at_beginning.txt
Testing partial mailbox reset with Perl implementation
Comparing /tmp/b1FSjU14_N to t/results/reset_newlines_at_beginning.stdout
Output /tmp/b1FSjU14_N looks good.
ok 55 - Computing differences
Testing partial mailbox reset with Cache implementation
Comparing /tmp/akNIqTq41H to t/results/reset_newlines_at_beginning.stdout
Output /tmp/akNIqTq41H looks good.
ok 56 - Computing differences
Testing partial mailbox reset with Grep implementation
ok 57 # skip GNU grep not available
Testing full mailbox reset with Perl implementation
Comparing /tmp/oVyZtzK_Gt to t/results/reset_newlines_at_beginning.stdout
Output /tmp/oVyZtzK_Gt looks good.
ok 58 - Computing differences
Testing full mailbox reset with Cache implementation
Comparing /tmp/fEd3UO8Ncl to t/results/reset_newlines_at_beginning.stdout
Output /tmp/fEd3UO8Ncl looks good.
ok 59 - Computing differences
Testing full mailbox reset with Grep implementation
ok 60 # skip GNU grep not available
ok
t/separators.t .................. 
1..6
Testing filename: t/mailboxes/separators2.sep
ok 1 - Number of emails in t/mailboxes/separators2.sep
ok 2 - Number of emails in t/mailboxes/separators2.sep
ok 3 # skip GNU grep not available
Testing filename: t/mailboxes/separators1.sep
ok 4 - Number of emails in t/mailboxes/separators1.sep
ok 5 - Number of emails in t/mailboxes/separators1.sep
ok 6 # skip GNU grep not available
ok
t/stdin_compressed.t ............ 
1..4
Testing filename: t/mailboxes/mailarc-2.txt.bz2
Comparing /tmp/YSG71hOFQP to t/mailboxes/mailarc-2.txt
Output /tmp/YSG71hOFQP looks good.
ok 1 - Computing differences
Testing filename: t/mailboxes/mailarc-2.txt.gz
Comparing /tmp/5xFdowpei1 to t/mailboxes/mailarc-2.txt
Output /tmp/5xFdowpei1 looks good.
ok 2 - Computing differences
Testing filename: t/mailboxes/mailarc-2.txt.lz
ok 3 # skip lzip not available
Testing filename: t/mailboxes/mailarc-2.txt.xz
Comparing /tmp/TwU5FWKHW5 to t/mailboxes/mailarc-2.txt
Output /tmp/TwU5FWKHW5 looks good.
ok 4 - Computing differences
ok
t/stdin_uncompressed.t .......... 
1..11
Testing filename: t/mailboxes/binary_body.txt
Comparing /tmp/rgTzoiSDu4 to t/mailboxes/binary_body.txt
Output /tmp/rgTzoiSDu4 looks good.
ok 1 - Computing differences
Testing filename: t/mailboxes/hessbug.txt
Comparing /tmp/DO8mqRKyBG to t/mailboxes/hessbug.txt
Output /tmp/DO8mqRKyBG looks good.
ok 2 - Computing differences
Testing filename: t/mailboxes/invalid-boundaries.txt
Comparing /tmp/BWuewf8qjd to t/mailboxes/invalid-boundaries.txt
Output /tmp/BWuewf8qjd looks good.
ok 3 - Computing differences
Testing filename: t/mailboxes/mailarc-1-dos.txt
Comparing /tmp/5GIIM7qe8u to t/mailboxes/mailarc-1-dos.txt
Output /tmp/5GIIM7qe8u looks good.
ok 4 - Computing differences
Testing filename: t/mailboxes/mailarc-1.txt
Comparing /tmp/oEkNvrJnSp to t/mailboxes/mailarc-1.txt
Output /tmp/oEkNvrJnSp looks good.
ok 5 - Computing differences
Testing filename: t/mailboxes/mailarc-2.txt
Comparing /tmp/dAjX7Utycx to t/mailboxes/mailarc-2.txt
Output /tmp/dAjX7Utycx looks good.
ok 6 - Computing differences
Testing filename: t/mailboxes/mailarc-3.txt
Comparing /tmp/0accqGUQ65 to t/mailboxes/mailarc-3.txt
Output /tmp/0accqGUQ65 looks good.
ok 7 - Computing differences
Testing filename: t/mailboxes/mailseparators.txt
Comparing /tmp/0Sl_Yf3_UN to t/mailboxes/mailseparators.txt
Output /tmp/0Sl_Yf3_UN looks good.
ok 8 - Computing differences
Testing filename: t/mailboxes/malformed.txt
Comparing /tmp/_qqptvCfgT to t/mailboxes/malformed.txt
Output /tmp/_qqptvCfgT looks good.
ok 9 - Computing differences
Testing filename: t/mailboxes/newlines_at_beginning.txt
Comparing /tmp/yjYz07EoEe to t/mailboxes/newlines_at_beginning.txt
Output /tmp/yjYz07EoEe looks good.
ok 10 - Computing differences
Testing filename: t/mailboxes/vm-emacs.txt
Comparing /tmp/n7iammfWrF to t/mailboxes/vm-emacs.txt
Output /tmp/n7iammfWrF looks good.
ok 11 - Computing differences
ok
t/undef_return_value.t .......... 
1..33
Testing Perl 
Comparing /tmp/iSLF94OzcV to t/mailboxes/binary_body.txt
Output /tmp/iSLF94OzcV looks good.
ok 1 - Computing differences
Testing Cache implementation
Comparing /tmp/cIAiWjQwR6 to t/mailboxes/binary_body.txt
Output /tmp/cIAiWjQwR6 looks good.
ok 2 - Computing differences
ok 3 # skip GNU grep not available
Testing Perl 
Comparing /tmp/v7XJTmXL1O to t/mailboxes/hessbug.txt
Output /tmp/v7XJTmXL1O looks good.
ok 4 - Computing differences
Testing Cache implementation
Comparing /tmp/GWuPArVfwA to t/mailboxes/hessbug.txt
Output /tmp/GWuPArVfwA looks good.
ok 5 - Computing differences
ok 6 # skip GNU grep not available
Testing Perl 
Comparing /tmp/YaO7AZEsNs to t/mailboxes/invalid-boundaries.txt
Output /tmp/YaO7AZEsNs looks good.
ok 7 - Computing differences
Testing Cache implementation
Comparing /tmp/oQDC2QZ0_J to t/mailboxes/invalid-boundaries.txt
Output /tmp/oQDC2QZ0_J looks good.
ok 8 - Computing differences
ok 9 # skip GNU grep not available
Testing Perl 
Comparing /tmp/P_w0YLNqtx to t/mailboxes/mailarc-1-dos.txt
Output /tmp/P_w0YLNqtx looks good.
ok 10 - Computing differences
Testing Cache implementation
Comparing /tmp/9o6nK8cfPS to t/mailboxes/mailarc-1-dos.txt
Output /tmp/9o6nK8cfPS looks good.
ok 11 - Computing differences
ok 12 # skip GNU grep not available
Testing Perl 
Comparing /tmp/8DbjAd8mAZ to t/mailboxes/mailarc-1.txt
Output /tmp/8DbjAd8mAZ looks good.
ok 13 - Computing differences
Testing Cache implementation
Comparing /tmp/Dh4dfrrU1E to t/mailboxes/mailarc-1.txt
Output /tmp/Dh4dfrrU1E looks good.
ok 14 - Computing differences
ok 15 # skip GNU grep not available
Testing Perl 
Comparing /tmp/7BPvecbtcl to t/mailboxes/mailarc-2.txt
Output /tmp/7BPvecbtcl looks good.
ok 16 - Computing differences
Testing Cache implementation
Comparing /tmp/42asqikMnB to t/mailboxes/mailarc-2.txt
Output /tmp/42asqikMnB looks good.
ok 17 - Computing differences
ok 18 # skip GNU grep not available
Testing Perl 
Comparing /tmp/zqQjibu7tA to t/mailboxes/mailarc-3.txt
Output /tmp/zqQjibu7tA looks good.
ok 19 - Computing differences
Testing Cache implementation
Comparing /tmp/PCNH2HCJvv to t/mailboxes/mailarc-3.txt
Output /tmp/PCNH2HCJvv looks good.
ok 20 - Computing differences
ok 21 # skip GNU grep not available
Testing Perl 
Comparing /tmp/2bXdM1xwiS to t/mailboxes/mailseparators.txt
Output /tmp/2bXdM1xwiS looks good.
ok 22 - Computing differences
Testing Cache implementation
Comparing /tmp/AE3i9GSNHw to t/mailboxes/mailseparators.txt
Output /tmp/AE3i9GSNHw looks good.
ok 23 - Computing differences
ok 24 # skip GNU grep not available
Testing Perl 
Comparing /tmp/kg8vBW97VT to t/mailboxes/malformed.txt
Output /tmp/kg8vBW97VT looks good.
ok 25 - Computing differences
Testing Cache implementation
Comparing /tmp/u8Kzx3JeR3 to t/mailboxes/malformed.txt
Output /tmp/u8Kzx3JeR3 looks good.
ok 26 - Computing differences
ok 27 # skip GNU grep not available
Testing Perl 
Comparing /tmp/Z0bcrgireV to t/mailboxes/newlines_at_beginning.txt
Output /tmp/Z0bcrgireV looks good.
ok 28 - Computing differences
Testing Cache implementation
Comparing /tmp/nsDVPo6z_N to t/mailboxes/newlines_at_beginning.txt
Output /tmp/nsDVPo6z_N looks good.
ok 29 - Computing differences
ok 30 # skip GNU grep not available
Testing Perl 
Comparing /tmp/DhlL8WRZRk to t/mailboxes/vm-emacs.txt
Output /tmp/DhlL8WRZRk looks good.
ok 31 - Computing differences
Testing Cache implementation
Comparing /tmp/2RaV1FYq6p to t/mailboxes/vm-emacs.txt
Output /tmp/2RaV1FYq6p looks good.
ok 32 - Computing differences
ok 33 # skip GNU grep not available
ok
t/xz.t .......................... 
1..1
Running test:
  "/bin/cat" "t/mailboxes/mailarc-2.txt.xz" | "/usr/bin/xz" -cd
Comparing /tmp/RUVnlhdcHK to t/results/mailarc-2.txt
Output /tmp/RUVnlhdcHK looks good.
Comparing /tmp/m5BouIt4lI to t/results/none
Output /tmp/m5BouIt4lI looks good.
ok 1 - Computing differences
ok
All tests successful.
Files=25, Tests=370,  4 wallclock secs ( 0.13 usr  0.02 sys +  3.03 cusr  0.66 csys =  3.84 CPU)
Result: PASS


PREREQUISITES:

Here is a list of prerequisites you specified and versions we
managed to load:

	  Module Name                        Have     Want
	  ExtUtils::MakeMaker                7.34     6.36
	  File::Path                         2.15     2.08
	  File::Slurper                     0.012        0
	  FileHandle::Unget                0.1634        0
	  Storable                           3.11        0
	  Test::Compile                    v1.3.0        0
	  Test::More                     1.302136        0
	  Text::Diff                         1.45        0
	  UNIVERSAL::require                 0.18        0
	  URI::Escape                        3.31        0

Perl module toolchain versions installed:
	Module Name                        Have
	CPANPLUS                         0.9176
	CPANPLUS::Dist::Build              0.90
	Cwd                                3.74
	ExtUtils::CBuilder             0.280230
	ExtUtils::Command                  7.34
	ExtUtils::Install                  2.14
	ExtUtils::MakeMaker                7.34
	ExtUtils::Manifest                 1.71
	ExtUtils::ParseXS                  3.35
	File::Spec                         3.74
	Module::Build                    0.4224
	Pod::Parser                        1.51
	Pod::Simple                        3.20
	Test2                          1.302136
	Test::Harness                      3.42
	Test::More                     1.302136
	version                          0.9924

******************************** NOTE ********************************
The comments above are created mechanically, possibly without manual
checking by the sender.  As there are many people performing automatic
tests on each upload to CPAN, it is likely that you will receive
identical messages about the same problem.

If you believe that the message is mistaken, please reply to the first
one with correction and/or additional informations, and do not take
it personally.  We appreciate your patience. :)
**********************************************************************

Additional comments:


This report was machine-generated by CPANPLUS::Dist::YACSmoke 1.02.
Powered by minismokebox version 0.68

------------------------------
ENVIRONMENT AND OTHER CONTEXT
------------------------------

Environment variables:

    AUTOMATED_TESTING = 1
    LANG = en_GB.UTF-8
    LANGUAGE = en_GB:en
    NONINTERACTIVE_TESTING = 1
    PATH = /usr/local/bin:/usr/bin:/bin:/usr/local/games:/usr/games
    PERL5LIB = :/home/cpan/pit/bare/conf/perl-5.16.3/.cpanplus/5.16.3/build/tIpMeKkXwa/Test-Needs-0.002005/blib/lib:/home/cpan/pit/bare/conf/perl-5.16.3/.cpanplus/5.16.3/build/tIpMeKkXwa/Test-Needs-0.002005/blib/arch:/home/cpan/pit/bare/conf/perl-5.16.3/.cpanplus/5.16.3/build/skCJZ0ttoN/URI-1.74/blib/lib:/home/cpan/pit/bare/conf/perl-5.16.3/.cpanplus/5.16.3/build/skCJZ0ttoN/URI-1.74/blib/arch:/home/cpan/pit/bare/conf/perl-5.16.3/.cpanplus/5.16.3/build/Qbs9BDw5HG/Test-Warnings-0.026/blib/lib:/home/cpan/pit/bare/conf/perl-5.16.3/.cpanplus/5.16.3/build/Qbs9BDw5HG/Test-Warnings-0.026/blib/arch:/home/cpan/pit/bare/conf/perl-5.16.3/.cpanplus/5.16.3/build/XKy9hVbMa7/File-Slurper-0.012/blib/lib:/home/cpan/pit/bare/conf/perl-5.16.3/.cpanplus/5.16.3/build/XKy9hVbMa7/File-Slurper-0.012/blib/arch:/home/cpan/pit/bare/conf/perl-5.16.3/.cpanplus/5.16.3/build/NWeHBLDaxl/UNIVERSAL-require-0.18/blib/lib:/home/cpan/pit/bare/conf/perl-5.16.3/.cpanplus/5.16.3/build/NWeHBLDaxl/UNIVERSAL-require-0.18/blib/arch:/home/cpan/pit/bare/conf/perl-5.16.3/.cpanplus/5.16.3/build/nt4o1Z2siQ/Test-Compile-v1.3.0/blib/lib:/home/cpan/pit/bare/conf/perl-5.16.3/.cpanplus/5.16.3/build/nt4o1Z2siQ/Test-Compile-v1.3.0/blib/arch:/home/cpan/pit/bare/conf/perl-5.16.3/.cpanplus/5.16.3/build/YuZEnLY0pX/FileHandle-Unget-0.1634/blib/lib:/home/cpan/pit/bare/conf/perl-5.16.3/.cpanplus/5.16.3/build/YuZEnLY0pX/FileHandle-Unget-0.1634/blib/arch:/home/cpan/pit/bare/conf/perl-5.16.3/.cpanplus/5.16.3/build/yvwhdPZAgj/Algorithm-Diff-1.1903/blib/lib:/home/cpan/pit/bare/conf/perl-5.16.3/.cpanplus/5.16.3/build/yvwhdPZAgj/Algorithm-Diff-1.1903/blib/arch:/home/cpan/pit/bare/conf/perl-5.16.3/.cpanplus/5.16.3/build/QneHQlp3bk/Text-Diff-1.45/blib/lib:/home/cpan/pit/bare/conf/perl-5.16.3/.cpanplus/5.16.3/build/QneHQlp3bk/Text-Diff-1.45/blib/arch:/home/cpan/pit/bare/conf/perl-5.16.3/.cpanplus/5.16.3/build/wL0q5g23qh/Mail-Mbox-MessageParser-1.5111/blib/lib:/home/cpan/pit/bare/conf/perl-5.16.3/.cpanplus/5.16.3/build/wL0q5g23qh/Mail-Mbox-MessageParser-1.5111/blib/arch
    PERL5_CPANPLUS_IS_RUNNING = 31349
    PERL5_CPANPLUS_IS_VERSION = 0.9176
    PERL5_MINISMOKEBOX = 0.68
    PERL5_YACSMOKE_BASE = /home/cpan/pit/bare/conf/perl-5.16.3
    PERL_EXTUTILS_AUTOINSTALL = --defaultdeps
    PERL_MM_USE_DEFAULT = 1
    SHELL = /bin/bash
    TERM = screen

Perl special variables (and OS-specific diagnostics, for MSWin32):

    Perl: $^X = /home/cpan/pit/bare/perl-5.16.3/bin/perl
    UID:  $<  = 1001
    EUID: $>  = 1001
    GID:  $(  = 1001 1001
    EGID: $)  = 1001 1001


-------------------------------


--

Summary of my perl5 (revision 5 version 16 subversion 3) configuration:
   
  Platform:
    osname=linux, osvers=4.16.0-1-686, archname=i686-linux
    uname='linux dodo 4.16.0-1-686 #1 smp debian 4.16.5-1 (2018-04-29) i686 gnulinux '
    config_args='-des -Dprefix=/home/cpan/pit/bare/perl-5.16.3'
    hint=recommended, useposix=true, d_sigaction=define
    useithreads=undef, usemultiplicity=undef
    useperlio=define, d_sfio=undef, uselargefiles=define, usesocks=undef
    use64bitint=undef, use64bitall=undef, uselongdouble=undef
    usemymalloc=n, bincompat5005=undef
  Compiler:
    cc='cc', ccflags ='-fno-strict-aliasing -pipe -fstack-protector -I/usr/local/include -D_LARGEFILE_SOURCE -D_FILE_OFFSET_BITS=64',
    optimize='-O2',
    cppflags='-fno-strict-aliasing -pipe -fstack-protector -I/usr/local/include'
    ccversion='', gccversion='7.3.0', gccosandvers=''
    intsize=4, longsize=4, ptrsize=4, doublesize=8, byteorder=1234
    d_longlong=define, longlongsize=8, d_longdbl=define, longdblsize=12
    ivtype='long', ivsize=4, nvtype='double', nvsize=8, Off_t='off_t', lseeksize=8
    alignbytes=4, prototype=define
  Linker and Libraries:
    ld='cc', ldflags =' -fstack-protector -L/usr/local/lib'
    libpth=/usr/local/lib /lib/i386-linux-gnu /lib/../lib /usr/lib/i386-linux-gnu /usr/lib/../lib /lib /usr/lib
    libs=-lnsl -lgdbm -ldl -lm -lcrypt -lutil -lc
    perllibs=-lnsl -ldl -lm -lcrypt -lutil -lc
    libc=libc-2.27.so, so=so, useshrplib=false, libperl=libperl.a
    gnulibc_version='2.27'
  Dynamic Linking:
    dlsrc=dl_dlopen.xs, dlext=so, d_dlsymun=undef, ccdlflags='-Wl,-E'
    cccdlflags='-fPIC', lddlflags='-shared -O2 -L/usr/local/lib -fstack-protector'


Characteristics of this binary (from libperl): 
  Compile-time options: HAS_TIMES PERLIO_LAYERS PERL_DONT_CREATE_GVSV
                        PERL_MALLOC_WRAP PERL_PRESERVE_IVUV USE_LARGE_FILES
                        USE_LOCALE USE_LOCALE_COLLATE USE_LOCALE_CTYPE
                        USE_LOCALE_NUMERIC USE_PERLIO USE_PERL_ATOF
  Locally applied patches:
	Devel::PatchPerl 1.48
  Built under linux
  Compiled at May 13 2018 19:35:32
  %ENV:
    PERL5LIB=":/home/cpan/pit/bare/conf/perl-5.16.3/.cpanplus/5.16.3/build/tIpMeKkXwa/Test-Needs-0.002005/blib/lib:/home/cpan/pit/bare/conf/perl-5.16.3/.cpanplus/5.16.3/build/tIpMeKkXwa/Test-Needs-0.002005/blib/arch:/home/cpan/pit/bare/conf/perl-5.16.3/.cpanplus/5.16.3/build/skCJZ0ttoN/URI-1.74/blib/lib:/home/cpan/pit/bare/conf/perl-5.16.3/.cpanplus/5.16.3/build/skCJZ0ttoN/URI-1.74/blib/arch:/home/cpan/pit/bare/conf/perl-5.16.3/.cpanplus/5.16.3/build/Qbs9BDw5HG/Test-Warnings-0.026/blib/lib:/home/cpan/pit/bare/conf/perl-5.16.3/.cpanplus/5.16.3/build/Qbs9BDw5HG/Test-Warnings-0.026/blib/arch:/home/cpan/pit/bare/conf/perl-5.16.3/.cpanplus/5.16.3/build/XKy9hVbMa7/File-Slurper-0.012/blib/lib:/home/cpan/pit/bare/conf/perl-5.16.3/.cpanplus/5.16.3/build/XKy9hVbMa7/File-Slurper-0.012/blib/arch:/home/cpan/pit/bare/conf/perl-5.16.3/.cpanplus/5.16.3/build/NWeHBLDaxl/UNIVERSAL-require-0.18/blib/lib:/home/cpan/pit/bare/conf/perl-5.16.3/.cpanplus/5.16.3/build/NWeHBLDaxl/UNIVERSAL-require-0.18/blib/arch:/home/cpan/pit/bare/conf/perl-5.16.3/.cpanplus/5.16.3/build/nt4o1Z2siQ/Test-Compile-v1.3.0/blib/lib:/home/cpan/pit/bare/conf/perl-5.16.3/.cpanplus/5.16.3/build/nt4o1Z2siQ/Test-Compile-v1.3.0/blib/arch:/home/cpan/pit/bare/conf/perl-5.16.3/.cpanplus/5.16.3/build/YuZEnLY0pX/FileHandle-Unget-0.1634/blib/lib:/home/cpan/pit/bare/conf/perl-5.16.3/.cpanplus/5.16.3/build/YuZEnLY0pX/FileHandle-Unget-0.1634/blib/arch:/home/cpan/pit/bare/conf/perl-5.16.3/.cpanplus/5.16.3/build/yvwhdPZAgj/Algorithm-Diff-1.1903/blib/lib:/home/cpan/pit/bare/conf/perl-5.16.3/.cpanplus/5.16.3/build/yvwhdPZAgj/Algorithm-Diff-1.1903/blib/arch:/home/cpan/pit/bare/conf/perl-5.16.3/.cpanplus/5.16.3/build/QneHQlp3bk/Text-Diff-1.45/blib/lib:/home/cpan/pit/bare/conf/perl-5.16.3/.cpanplus/5.16.3/build/QneHQlp3bk/Text-Diff-1.45/blib/arch:/home/cpan/pit/bare/conf/perl-5.16.3/.cpanplus/5.16.3/build/wL0q5g23qh/Mail-Mbox-MessageParser-1.5111/blib/lib:/home/cpan/pit/bare/conf/perl-5.16.3/.cpanplus/5.16.3/build/wL0q5g23qh/Mail-Mbox-MessageParser-1.5111/blib/arch"
    PERL5_CPANPLUS_IS_RUNNING="31349"
    PERL5_CPANPLUS_IS_VERSION="0.9176"
    PERL5_MINISMOKEBOX="0.68"
    PERL5_YACSMOKE_BASE="/home/cpan/pit/bare/conf/perl-5.16.3"
    PERL_EXTUTILS_AUTOINSTALL="--defaultdeps"
    PERL_MM_USE_DEFAULT="1"
  @INC:
    /home/cpan/pit/bare/conf/perl-5.16.3/.cpanplus/5.16.3/build/tIpMeKkXwa/Test-Needs-0.002005/blib/lib
    /home/cpan/pit/bare/conf/perl-5.16.3/.cpanplus/5.16.3/build/tIpMeKkXwa/Test-Needs-0.002005/blib/arch
    /home/cpan/pit/bare/conf/perl-5.16.3/.cpanplus/5.16.3/build/skCJZ0ttoN/URI-1.74/blib/lib
    /home/cpan/pit/bare/conf/perl-5.16.3/.cpanplus/5.16.3/build/skCJZ0ttoN/URI-1.74/blib/arch
    /home/cpan/pit/bare/conf/perl-5.16.3/.cpanplus/5.16.3/build/Qbs9BDw5HG/Test-Warnings-0.026/blib/lib
    /home/cpan/pit/bare/conf/perl-5.16.3/.cpanplus/5.16.3/build/Qbs9BDw5HG/Test-Warnings-0.026/blib/arch
    /home/cpan/pit/bare/conf/perl-5.16.3/.cpanplus/5.16.3/build/XKy9hVbMa7/File-Slurper-0.012/blib/lib
    /home/cpan/pit/bare/conf/perl-5.16.3/.cpanplus/5.16.3/build/XKy9hVbMa7/File-Slurper-0.012/blib/arch
    /home/cpan/pit/bare/conf/perl-5.16.3/.cpanplus/5.16.3/build/NWeHBLDaxl/UNIVERSAL-require-0.18/blib/lib
    /home/cpan/pit/bare/conf/perl-5.16.3/.cpanplus/5.16.3/build/NWeHBLDaxl/UNIVERSAL-require-0.18/blib/arch
    /home/cpan/pit/bare/conf/perl-5.16.3/.cpanplus/5.16.3/build/nt4o1Z2siQ/Test-Compile-v1.3.0/blib/lib
    /home/cpan/pit/bare/conf/perl-5.16.3/.cpanplus/5.16.3/build/nt4o1Z2siQ/Test-Compile-v1.3.0/blib/arch
    /home/cpan/pit/bare/conf/perl-5.16.3/.cpanplus/5.16.3/build/YuZEnLY0pX/FileHandle-Unget-0.1634/blib/lib
    /home/cpan/pit/bare/conf/perl-5.16.3/.cpanplus/5.16.3/build/YuZEnLY0pX/FileHandle-Unget-0.1634/blib/arch
    /home/cpan/pit/bare/conf/perl-5.16.3/.cpanplus/5.16.3/build/yvwhdPZAgj/Algorithm-Diff-1.1903/blib/lib
    /home/cpan/pit/bare/conf/perl-5.16.3/.cpanplus/5.16.3/build/yvwhdPZAgj/Algorithm-Diff-1.1903/blib/arch
    /home/cpan/pit/bare/conf/perl-5.16.3/.cpanplus/5.16.3/build/QneHQlp3bk/Text-Diff-1.45/blib/lib
    /home/cpan/pit/bare/conf/perl-5.16.3/.cpanplus/5.16.3/build/QneHQlp3bk/Text-Diff-1.45/blib/arch
    /home/cpan/pit/bare/conf/perl-5.16.3/.cpanplus/5.16.3/build/wL0q5g23qh/Mail-Mbox-MessageParser-1.5111/blib/lib
    /home/cpan/pit/bare/conf/perl-5.16.3/.cpanplus/5.16.3/build/wL0q5g23qh/Mail-Mbox-MessageParser-1.5111/blib/arch
    /home/cpan/pit/bare/perl-5.16.3/lib/site_perl/5.16.3/i686-linux
    /home/cpan/pit/bare/perl-5.16.3/lib/site_perl/5.16.3
    /home/cpan/pit/bare/perl-5.16.3/lib/5.16.3/i686-linux
    /home/cpan/pit/bare/perl-5.16.3/lib/5.16.3
    .