Dist-Zilla-Config-Slicer v0.202 Perl 5 v5.20.2 amd64-freebsd

Status
Pass
From
David Cantrell (DCANTRELL)
Dist
Dist-Zilla-Config-Slicer v0.202
Platform
Perl 5 v5.20.2 amd64-freebsd
Date
2020-12-12 16:47:09
ID
ad3d37e8-3c99-11eb-81f6-81fe7c482270
This distribution has been tested as part of the CPAN Testers
project, supporting the Perl programming language.  See
http://wiki.cpantesters.org/ for more information or email
questions to cpan-testers-discuss@perl.org


--
Dear Randy Stauner,

This is a computer-generated report for Dist-Zilla-Config-Slicer-0.202
on perl 5.20.2, created by CPAN-Reporter-1.2018.

Thank you for uploading your work to CPAN.  Congratulations!
All tests were successful.

Sections of this report:

    * Tester comments
    * Program output
    * Prerequisites
    * Environment and other context

------------------------------
TESTER COMMENTS
------------------------------

Additional comments from tester:

this report is from an automated smoke testing program
and was not reviewed by a human for accuracy

------------------------------
PROGRAM OUTPUT
------------------------------

Output from '/usr/bin/make test':

PERL_DL_NONLAZY=1 "/usr/home/david/cpantesting/perl-5.20.2/bin/perl" "-MExtUtils::Command::MM" "-MTest::Harness" "-e" "undef *Test::Harness::Switches; test_harness(0, 'blib/lib', 'blib/arch')" t/*.t
t/00-compile.t ......... ok
# 
# Versions for all modules listed in MYMETA.json (including optional ones):
# 
# === Configure Requires ===
# 
#     Module              Want Have
#     ------------------- ---- ----
#     ExtUtils::MakeMaker  any 7.56
# 
# === Build Requires ===
# 
#     Module              Want Have
#     ------------------- ---- ----
#     ExtUtils::MakeMaker  any 7.56
# 
# === Test Requires ===
# 
#     Module                                Want     Have
#     ------------------------------------- ---- --------
#     Dist::Zilla::Role::PluginBundle        any    6.017
#     Dist::Zilla::Role::PluginBundle::Easy  any    6.017
#     ExtUtils::MakeMaker                    any     7.56
#     File::Spec                             any  3.48_01
#     File::Temp                             any   0.2304
#     IO::Handle                             any     1.35
#     IPC::Open3                             any     1.16
#     Test::More                            0.96 1.302183
#     lib                                    any     0.63
# 
# === Test Recommends ===
# 
#     Module         Want     Have
#     ---------- -------- --------
#     CPAN::Meta 2.120900 2.150010
# 
# === Runtime Requires ===
# 
#     Module                            Want   Have
#     --------------------------------- ---- ------
#     Config::MVP::Slicer                any  0.303
#     Dist::Zilla::PluginBundle::Filter  any  6.017
#     Dist::Zilla::Util                    4  6.017
#     Moose                              any 2.2013
#     Moose::Role                        any 2.2013
#     strict                             any   1.08
#     warnings                           any   1.23
# 
t/00-report-prereqs.t .. ok
t/bundle-filter.t ...... ok
t/bundle-role.t ........ ok
t/slicer.t ............. ok
All tests successful.
Files=5, Tests=27,  6 wallclock secs ( 0.08 usr  0.02 sys +  4.99 cusr  0.73 csys =  5.82 CPU)
Result: PASS

------------------------------
PREREQUISITES
------------------------------

Prerequisite modules loaded:

requires:

    Module                                Need  Have    
    ------------------------------------- ----- --------
    Config::MVP::Slicer                   0     0.303   
    Dist::Zilla::PluginBundle::Filter     0     6.017   
    Dist::Zilla::Util                     4     6.017   
    Moose                                 0     2.2013  
    Moose::Role                           0     2.2013  
    perl                                  5.006 5.020002
    strict                                0     1.08    
    warnings                              0     1.23    

build_requires:

    Module                                Need  Have    
    ------------------------------------- ----- --------
    Dist::Zilla::Role::PluginBundle       0     6.017   
    Dist::Zilla::Role::PluginBundle::Easy 0     6.017   
    ExtUtils::MakeMaker                   0     7.56    
    File::Spec                            0     3.48_01 
    File::Temp                            0     0.2304  
    IO::Handle                            0     1.35    
    IPC::Open3                            0     1.16    
    lib                                   0     0.63    
    Test::More                            0.96  1.302183

configure_requires:

    Module                                Need  Have    
    ------------------------------------- ----- --------
    ExtUtils::MakeMaker                   0     7.56    
    perl                                  5.006 5.020002


------------------------------
ENVIRONMENT AND OTHER CONTEXT
------------------------------

Environment variables:

    AUTOMATED_TESTING = 1
    NONINTERACTIVE_TESTING = 1
    PATH = /home/david/perl5/perlbrew/bin:/home/david/perl5/perlbrew/perls/perl-5.30.2/bin:/sbin:/bin:/usr/sbin:/usr/bin:/usr/local/sbin:/usr/local/bin:/home/david/bin
    PERL = 5.20.2
    PERL5LIB = 
    PERL5OPT = 
    PERL5_CPANPLUS_IS_RUNNING = 77530
    PERL5_CPAN_IS_RUNNING = 77530
    PERLBREW_HOME = /home/david/.perlbrew
    PERLBREW_MANPATH = /home/david/perl5/perlbrew/perls/perl-5.30.2/man
    PERLBREW_PATH = /home/david/perl5/perlbrew/bin:/home/david/perl5/perlbrew/perls/perl-5.30.2/bin
    PERLBREW_PERL = perl-5.30.2
    PERLBREW_ROOT = /home/david/perl5/perlbrew
    PERLBREW_SHELLRC_VERSION = 0.89
    PERLBREW_VERSION = 0.89
    PERLVER = 5.20.2
    PERL_INLINE_DIRECTORY = /home/david/.Inline-5.20.2
    PERL_MM_USE_DEFAULT = 1
    PERL_USE_UNSAFE_INC = 0
    SHELL = /usr/local/bin/bash
    TERM = screen

Perl special variables (and OS-specific diagnostics, for MSWin32):

    $^X = /usr/home/david/cpantesting/perl-5.20.2/bin/perl
    $UID/$EUID = 1001 / 1001
    $GID = 1001 1001 0
    $EGID = 1001 1001 0

Perl module toolchain versions installed:

    Module              Have    
    ------------------- --------
    CPAN                2.05    
    CPAN::Meta          2.150010
    Cwd                 3.48_01 
    ExtUtils::CBuilder  0.280217
    ExtUtils::Command   7.56    
    ExtUtils::Install   2.06    
    ExtUtils::MakeMaker 7.56    
    ExtUtils::Manifest  1.70    
    ExtUtils::ParseXS   3.35    
    File::Spec          3.48_01 
    JSON                4.02    
    JSON::PP            4.05    
    Module::Build       0.4231  
    Module::Signature   n/a     
    Parse::CPAN::Meta   2.150010
    Test::Harness       3.42    
    Test::More          1.302183
    YAML                1.30    
    YAML::Syck          1.34    
    version             0.9928  


--

Summary of my perl5 (revision 5 version 20 subversion 2) configuration:
   
  Platform:
    osname=freebsd, osvers=12.2-release, archname=amd64-freebsd
    uname='freebsd cpantesting-freebsd 12.2-release freebsd 12.2-release r366954 generic amd64 '
    config_args='-de -Dprefix=/home/david/cpantesting/perl-5.20.2'
    hint=recommended, useposix=true, d_sigaction=define
    useithreads=undef, usemultiplicity=undef
    use64bitint=define, use64bitall=define, uselongdouble=undef
    usemymalloc=n, bincompat5005=undef
  Compiler:
    cc='cc', ccflags ='-DHAS_FPSETMASK -DHAS_FLOATINGPOINT_H -fno-strict-aliasing -pipe -fstack-protector -I/usr/local/include',
    optimize='-O',
    cppflags='-DHAS_FPSETMASK -DHAS_FLOATINGPOINT_H -fno-strict-aliasing -pipe -fstack-protector -I/usr/local/include'
    ccversion='', gccversion='FreeBSD Clang 10.0.1 (git@github.com:llvm/llvm-project.git llvmorg-10.0.1-0-gef32c611aa2)', gccosandvers=''
    intsize=4, longsize=8, ptrsize=8, doublesize=8, byteorder=12345678
    d_longlong=define, longlongsize=8, d_longdbl=define, longdblsize=16
    ivtype='long', ivsize=8, nvtype='double', nvsize=8, Off_t='off_t', lseeksize=8
    alignbytes=8, prototype=define
  Linker and Libraries:
    ld='cc', ldflags ='-Wl,-E  -fstack-protector -L/usr/local/lib'
    libpth=/usr/lib /usr/local/lib /usr/lib/clang/10.0.1/lib /usr/lib
    libs=-lgdbm -ldl -lm -lcrypt -lutil -lc
    perllibs=-ldl -lm -lcrypt -lutil -lc
    libc=, so=so, useshrplib=false, libperl=libperl.a
    gnulibc_version=''
  Dynamic Linking:
    dlsrc=dl_dlopen.xs, dlext=so, d_dlsymun=undef, ccdlflags=' '
    cccdlflags='-DPIC -fPIC', lddlflags='-shared  -L/usr/local/lib -fstack-protector'


Characteristics of this binary (from libperl): 
  Compile-time options: HAS_TIMES PERLIO_LAYERS PERL_DONT_CREATE_GVSV
                        PERL_HASH_FUNC_ONE_AT_A_TIME_HARD PERL_MALLOC_WRAP
                        PERL_NEW_COPY_ON_WRITE PERL_PRESERVE_IVUV
                        USE_64_BIT_ALL USE_64_BIT_INT USE_LARGE_FILES
                        USE_LOCALE USE_LOCALE_COLLATE USE_LOCALE_CTYPE
                        USE_LOCALE_NUMERIC USE_PERLIO USE_PERL_ATOF
  Built under freebsd
  Compiled at Dec 11 2020 09:52:34
  %ENV:
    PERL="5.20.2"
    PERL5LIB=""
    PERL5OPT=""
    PERL5_CPANPLUS_IS_RUNNING="77530"
    PERL5_CPAN_IS_RUNNING="77530"
    PERLBREW_HOME="/home/david/.perlbrew"
    PERLBREW_MANPATH="/home/david/perl5/perlbrew/perls/perl-5.30.2/man"
    PERLBREW_PATH="/home/david/perl5/perlbrew/bin:/home/david/perl5/perlbrew/perls/perl-5.30.2/bin"
    PERLBREW_PERL="perl-5.30.2"
    PERLBREW_ROOT="/home/david/perl5/perlbrew"
    PERLBREW_SHELLRC_VERSION="0.89"
    PERLBREW_VERSION="0.89"
    PERLVER="5.20.2"
    PERL_INLINE_DIRECTORY="/home/david/.Inline-5.20.2"
    PERL_MM_USE_DEFAULT="1"
    PERL_USE_UNSAFE_INC="0"
  @INC:
    /home/david/cpantesting/perl-5.20.2/lib/site_perl/5.20.2/amd64-freebsd
    /home/david/cpantesting/perl-5.20.2/lib/site_perl/5.20.2
    /home/david/cpantesting/perl-5.20.2/lib/5.20.2/amd64-freebsd
    /home/david/cpantesting/perl-5.20.2/lib/5.20.2
    .