Mojolicious-Plugin-Export v0.008 Perl 5 v5.34.3 x86_64-linux-ld
- Status
- Pass
- From
- Andreas J. König (ANDK)
- Dist
-
Mojolicious-Plugin-Export v0.008
- Platform
- Perl 5 v5.34.3 x86_64-linux-ld
- Date
- 2023-12-27 05:56:28
- ID
- ad331efe-a47c-11ee-b1b9-60a5b2d696d7
This distribution has been tested as part of the CPAN Testers
project, supporting the Perl programming language. See
http://wiki.cpantesters.org/ for more information or email
questions to cpan-testers-discuss@perl.org
--
Dear Doug Bell,
This is a computer-generated report for Mojolicious-Plugin-Export-0.008
on perl 5.34.3, created by CPAN-Reporter-1.2019.
Thank you for uploading your work to CPAN. Congratulations!
All tests were successful.
Sections of this report:
* Tester comments
* Program output
* Prerequisites
* Environment and other context
------------------------------
TESTER COMMENTS
------------------------------
Additional comments from tester:
this report is from an automated smoke testing program
and was not reviewed by a human for accuracy
------------------------------
PROGRAM OUTPUT
------------------------------
Output from '/usr/bin/make test':
PERL_DL_NONLAZY=1 "/tmp/basesmoker-reloperl-rGUl/bin/perl" "-MExtUtils::Command::MM" "-MTest::Harness" "-e" "undef *Test::Harness::Switches; test_harness(0, 'blib/lib', 'blib/arch')" t/*.t
t/00-compile.t ......... ok
#
# Versions for all modules listed in MYMETA.json (including optional ones):
#
# === Configure Requires ===
#
# Module Want Have
# ------------------- ---- ----
# ExtUtils::MakeMaker any 7.70
#
# === Build Requires ===
#
# Module Want Have
# ------------------- ---- ----
# ExtUtils::MakeMaker any 7.70
#
# === Test Requires ===
#
# Module Want Have
# ------------------- ---- --------
# ExtUtils::MakeMaker any 7.70
# File::Spec any 3.80
# IO::Handle any 1.51
# IPC::Open3 any 1.21
# Test::More any 1.302198
#
# === Test Recommends ===
#
# Module Want Have
# ---------- -------- --------
# CPAN::Meta 2.120900 2.150010
#
# === Runtime Requires ===
#
# Module Want Have
# ----------- ---- ----
# Mojolicious 8 9.35
#
t/00-report-prereqs.t .. ok
[2023-12-27 05:55:42.46018] [558335] [trace] [-EBQvLp5exFa] GET "/"
[2023-12-27 05:55:42.46173] [558335] [trace] [-EBQvLp5exFa] Rendering template "index.html.ep" from DATA section
[2023-12-27 05:55:42.46280] [558335] [trace] [-EBQvLp5exFa] 200 OK (0.00261s, 383.142/s)
[2023-12-27 05:55:42.46667] [558335] [trace] [0ZKCHfUVNW4L] GET "/docs"
[2023-12-27 05:55:42.46720] [558335] [trace] [0ZKCHfUVNW4L] Rendering template "docs.html.ep" from DATA section
[2023-12-27 05:55:42.46785] [558335] [trace] [0ZKCHfUVNW4L] 200 OK (0.001175s, 851.064/s)
[2023-12-27 05:55:42.47053] [558335] [trace] [WtEdE_qOJUnp] GET "/about"
[2023-12-27 05:55:42.47107] [558335] [trace] [WtEdE_qOJUnp] Rendering template "about.html.ep" from DATA section
[2023-12-27 05:55:42.47173] [558335] [trace] [WtEdE_qOJUnp] 200 OK (0.001184s, 844.595/s)
[2023-12-27 05:55:42.47438] [558335] [trace] [JTdbVdDgTooR] GET "/NOT_FOUND"
[2023-12-27 05:55:42.47492] [558335] [trace] [JTdbVdDgTooR] Template "not_found.development.html.ep" not found
[2023-12-27 05:55:42.47509] [558335] [trace] [JTdbVdDgTooR] Template "not_found.html.ep" not found
[2023-12-27 05:55:42.47524] [558335] [trace] [JTdbVdDgTooR] Rendering template "mojo/debug.html.ep"
[2023-12-27 05:55:42.48997] [558335] [trace] Your secret passphrase needs to be changed (see FAQ for more)
[2023-12-27 05:55:42.49365] [558335] [trace] [JTdbVdDgTooR] 404 Not Found (0.01925s, 51.948/s)
[2023-12-27 05:55:42.49666] [558335] [trace] [9L8mPZraHKnP] GET "/redirect"
[2023-12-27 05:55:42.49701] [558335] [trace] [9L8mPZraHKnP] Routing to a callback
[2023-12-27 05:55:42.49725] [558335] [trace] [9L8mPZraHKnP] 302 Found (0.000578s, 1730.104/s)
[2023-12-27 05:55:42.50153] [558335] [trace] [pqQqqNgJ9biL] GET "/docs/more"
[2023-12-27 05:55:42.50186] [558335] [trace] [pqQqqNgJ9biL] Routing to a callback
[2023-12-27 05:55:42.50203] [558335] [trace] [pqQqqNgJ9biL] Rendering inline template "2da2aed28011bbc3541e0de248c276ca"
[2023-12-27 05:55:42.50267] [558335] [trace] [pqQqqNgJ9biL] 200 OK (0.001154s, 866.551/s)
Mojo::File::spurt is deprecated in favor of Mojo::File::spew at /tmp/loop_over_bdir-2070-HtePjb/Mojolicious-Plugin-Export-0.008-0/blib/lib/Mojolicious/Plugin/Export.pm line 277.
Mojo::File::spurt is deprecated in favor of Mojo::File::spew at /tmp/loop_over_bdir-2070-HtePjb/Mojolicious-Plugin-Export-0.008-0/blib/lib/Mojolicious/Plugin/Export.pm line 277.
Mojo::File::spurt is deprecated in favor of Mojo::File::spew at /tmp/loop_over_bdir-2070-HtePjb/Mojolicious-Plugin-Export-0.008-0/blib/lib/Mojolicious/Plugin/Export.pm line 277.
Mojo::File::spurt is deprecated in favor of Mojo::File::spew at /tmp/loop_over_bdir-2070-HtePjb/Mojolicious-Plugin-Export-0.008-0/blib/lib/Mojolicious/Plugin/Export.pm line 277.
Mojo::File::spurt is deprecated in favor of Mojo::File::spew at /tmp/loop_over_bdir-2070-HtePjb/Mojolicious-Plugin-Export-0.008-0/blib/lib/Mojolicious/Plugin/Export.pm line 277.
Mojo::File::spurt is deprecated in favor of Mojo::File::spew at t/command.t line 80.
[2023-12-27 05:55:42.51822] [558335] [trace] [Bw9GRVrdEA5V] GET "/"
[2023-12-27 05:55:42.51856] [558335] [trace] [Bw9GRVrdEA5V] Rendering cached template "index.html.ep" from DATA section
[2023-12-27 05:55:42.51877] [558335] [trace] [Bw9GRVrdEA5V] 200 OK (0.00054s, 1851.852/s)
[2023-12-27 05:55:42.52206] [558335] [trace] [svANVo0pgpDd] GET "/docs"
[2023-12-27 05:55:42.52238] [558335] [trace] [svANVo0pgpDd] Rendering cached template "docs.html.ep" from DATA section
[2023-12-27 05:55:42.52257] [558335] [trace] [svANVo0pgpDd] 200 OK (0.000501s, 1996.008/s)
[2023-12-27 05:55:42.52513] [558335] [trace] [rEw_xX52f7TX] GET "/about"
[2023-12-27 05:55:42.52545] [558335] [trace] [rEw_xX52f7TX] Rendering cached template "about.html.ep" from DATA section
[2023-12-27 05:55:42.52567] [558335] [trace] [rEw_xX52f7TX] 200 OK (0.000523s, 1912.046/s)
[2023-12-27 05:55:42.52810] [558335] [trace] [azNcjemwVT9P] GET "/NOT_FOUND"
[2023-12-27 05:55:42.52858] [558335] [trace] [azNcjemwVT9P] Template "not_found.development.html.ep" not found
[2023-12-27 05:55:42.52874] [558335] [trace] [azNcjemwVT9P] Template "not_found.html.ep" not found
[2023-12-27 05:55:42.52885] [558335] [trace] [azNcjemwVT9P] Rendering cached template "mojo/debug.html.ep"
[2023-12-27 05:55:42.53340] [558335] [trace] [azNcjemwVT9P] 404 Not Found (0.00526s, 190.114/s)
[2023-12-27 05:55:42.53611] [558335] [trace] [sS_FctPsbuyh] GET "/redirect"
[2023-12-27 05:55:42.53632] [558335] [trace] [sS_FctPsbuyh] Routing to a callback
[2023-12-27 05:55:42.53652] [558335] [trace] [sS_FctPsbuyh] 302 Found (0.000402s, 2487.562/s)
[2023-12-27 05:55:42.54058] [558335] [trace] [dv27yfuyEay5] GET "/docs/more"
[2023-12-27 05:55:42.54079] [558335] [trace] [dv27yfuyEay5] Routing to a callback
[2023-12-27 05:55:42.54095] [558335] [trace] [dv27yfuyEay5] Rendering cached inline template "2da2aed28011bbc3541e0de248c276ca"
[2023-12-27 05:55:42.54112] [558335] [trace] [dv27yfuyEay5] 200 OK (0.000526s, 1901.141/s)
Mojo::File::spurt is deprecated in favor of Mojo::File::spew at /tmp/loop_over_bdir-2070-HtePjb/Mojolicious-Plugin-Export-0.008-0/blib/lib/Mojolicious/Plugin/Export.pm line 277.
Mojo::File::spurt is deprecated in favor of Mojo::File::spew at /tmp/loop_over_bdir-2070-HtePjb/Mojolicious-Plugin-Export-0.008-0/blib/lib/Mojolicious/Plugin/Export.pm line 277.
Mojo::File::spurt is deprecated in favor of Mojo::File::spew at /tmp/loop_over_bdir-2070-HtePjb/Mojolicious-Plugin-Export-0.008-0/blib/lib/Mojolicious/Plugin/Export.pm line 277.
Mojo::File::spurt is deprecated in favor of Mojo::File::spew at /tmp/loop_over_bdir-2070-HtePjb/Mojolicious-Plugin-Export-0.008-0/blib/lib/Mojolicious/Plugin/Export.pm line 277.
Mojo::File::spurt is deprecated in favor of Mojo::File::spew at /tmp/loop_over_bdir-2070-HtePjb/Mojolicious-Plugin-Export-0.008-0/blib/lib/Mojolicious/Plugin/Export.pm line 277.
[2023-12-27 05:55:42.55184] [558335] [trace] [CwGEC7YZdnhI] GET "/"
[2023-12-27 05:55:42.55218] [558335] [trace] [CwGEC7YZdnhI] Rendering cached template "index.html.ep" from DATA section
[2023-12-27 05:55:42.55239] [558335] [trace] [CwGEC7YZdnhI] 200 OK (0.000536s, 1865.672/s)
[2023-12-27 05:55:42.55551] [558335] [trace] [eQ8t02r-9brA] GET "/docs"
[2023-12-27 05:55:42.55580] [558335] [trace] [eQ8t02r-9brA] Rendering cached template "docs.html.ep" from DATA section
[2023-12-27 05:55:42.55599] [558335] [trace] [eQ8t02r-9brA] 200 OK (0.000475s, 2105.263/s)
[2023-12-27 05:55:42.55856] [558335] [trace] [q1hyDrRzvaCj] GET "/about"
[2023-12-27 05:55:42.55887] [558335] [trace] [q1hyDrRzvaCj] Rendering cached template "about.html.ep" from DATA section
[2023-12-27 05:55:42.55907] [558335] [trace] [q1hyDrRzvaCj] 200 OK (0.000494s, 2024.291/s)
[2023-12-27 05:55:42.56161] [558335] [trace] [wKam9AUWTYoV] GET "/NOT_FOUND"
[2023-12-27 05:55:42.56208] [558335] [trace] [wKam9AUWTYoV] Template "not_found.development.html.ep" not found
[2023-12-27 05:55:42.56224] [558335] [trace] [wKam9AUWTYoV] Template "not_found.html.ep" not found
[2023-12-27 05:55:42.56235] [558335] [trace] [wKam9AUWTYoV] Rendering cached template "mojo/debug.html.ep"
[2023-12-27 05:55:42.56683] [558335] [trace] [wKam9AUWTYoV] 404 Not Found (0.005199s, 192.345/s)
[2023-12-27 05:55:42.56966] [558335] [trace] [T5zfWo79GNGd] GET "/redirect"
[2023-12-27 05:55:42.56986] [558335] [trace] [T5zfWo79GNGd] Routing to a callback
[2023-12-27 05:55:42.57007] [558335] [trace] [T5zfWo79GNGd] 302 Found (0.000401s, 2493.766/s)
[2023-12-27 05:55:42.57423] [558335] [trace] [EFo96AmdwYXg] GET "/docs/more"
[2023-12-27 05:55:42.57444] [558335] [trace] [EFo96AmdwYXg] Routing to a callback
[2023-12-27 05:55:42.57460] [558335] [trace] [EFo96AmdwYXg] Rendering cached inline template "2da2aed28011bbc3541e0de248c276ca"
[2023-12-27 05:55:42.57477] [558335] [trace] [EFo96AmdwYXg] 200 OK (0.000528s, 1893.939/s)
Mojo::File::spurt is deprecated in favor of Mojo::File::spew at /tmp/loop_over_bdir-2070-HtePjb/Mojolicious-Plugin-Export-0.008-0/blib/lib/Mojolicious/Plugin/Export.pm line 277.
Mojo::File::spurt is deprecated in favor of Mojo::File::spew at /tmp/loop_over_bdir-2070-HtePjb/Mojolicious-Plugin-Export-0.008-0/blib/lib/Mojolicious/Plugin/Export.pm line 277.
Mojo::File::spurt is deprecated in favor of Mojo::File::spew at /tmp/loop_over_bdir-2070-HtePjb/Mojolicious-Plugin-Export-0.008-0/blib/lib/Mojolicious/Plugin/Export.pm line 277.
Mojo::File::spurt is deprecated in favor of Mojo::File::spew at /tmp/loop_over_bdir-2070-HtePjb/Mojolicious-Plugin-Export-0.008-0/blib/lib/Mojolicious/Plugin/Export.pm line 277.
Mojo::File::spurt is deprecated in favor of Mojo::File::spew at /tmp/loop_over_bdir-2070-HtePjb/Mojolicious-Plugin-Export-0.008-0/blib/lib/Mojolicious/Plugin/Export.pm line 277.
[2023-12-27 05:55:42.58518] [558335] [trace] [eoC241ruJZiY] GET "/docs"
[2023-12-27 05:55:42.58556] [558335] [trace] [eoC241ruJZiY] Rendering cached template "docs.html.ep" from DATA section
[2023-12-27 05:55:42.58577] [558335] [trace] [eoC241ruJZiY] 200 OK (0.000577s, 1733.102/s)
[2023-12-27 05:55:42.58841] [558335] [trace] [zEq4XHoOUdYJ] GET "/docs/more"
[2023-12-27 05:55:42.58862] [558335] [trace] [zEq4XHoOUdYJ] Routing to a callback
[2023-12-27 05:55:42.58878] [558335] [trace] [zEq4XHoOUdYJ] Rendering cached inline template "2da2aed28011bbc3541e0de248c276ca"
[2023-12-27 05:55:42.58896] [558335] [trace] [zEq4XHoOUdYJ] 200 OK (0.000536s, 1865.672/s)
Mojo::File::spurt is deprecated in favor of Mojo::File::spew at /tmp/loop_over_bdir-2070-HtePjb/Mojolicious-Plugin-Export-0.008-0/blib/lib/Mojolicious/Plugin/Export.pm line 277.
Mojo::File::spurt is deprecated in favor of Mojo::File::spew at /tmp/loop_over_bdir-2070-HtePjb/Mojolicious-Plugin-Export-0.008-0/blib/lib/Mojolicious/Plugin/Export.pm line 277.
[2023-12-27 05:55:42.59771] [558335] [trace] [x61LujR2HIU6] GET "/"
[2023-12-27 05:55:42.59805] [558335] [trace] [x61LujR2HIU6] Rendering cached template "index.html.ep" from DATA section
[2023-12-27 05:55:42.59826] [558335] [trace] [x61LujR2HIU6] 200 OK (0.00054s, 1851.852/s)
[2023-12-27 05:55:42.60132] [558335] [trace] [tVcohXDV2Ny7] GET "/docs"
[2023-12-27 05:55:42.60167] [558335] [trace] [tVcohXDV2Ny7] Rendering cached template "docs.html.ep" from DATA section
[2023-12-27 05:55:42.60187] [558335] [trace] [tVcohXDV2Ny7] 200 OK (0.000537s, 1862.197/s)
[2023-12-27 05:55:42.60437] [558335] [trace] [COv6-2hqtztY] GET "/about"
[2023-12-27 05:55:42.60467] [558335] [trace] [COv6-2hqtztY] Rendering cached template "about.html.ep" from DATA section
[2023-12-27 05:55:42.60486] [558335] [trace] [COv6-2hqtztY] 200 OK (0.000478s, 2092.050/s)
[2023-12-27 05:55:42.60743] [558335] [trace] [SifnrO81kJia] GET "/NOT_FOUND"
[2023-12-27 05:55:42.60792] [558335] [trace] [SifnrO81kJia] Template "not_found.development.html.ep" not found
[2023-12-27 05:55:42.60808] [558335] [trace] [SifnrO81kJia] Template "not_found.html.ep" not found
[2023-12-27 05:55:42.60819] [558335] [trace] [SifnrO81kJia] Rendering cached template "mojo/debug.html.ep"
[2023-12-27 05:55:42.61263] [558335] [trace] [SifnrO81kJia] 404 Not Found (0.005177s, 193.162/s)
[2023-12-27 05:55:42.61540] [558335] [trace] [TuDUxxhT688m] GET "/redirect"
[2023-12-27 05:55:42.61560] [558335] [trace] [TuDUxxhT688m] Routing to a callback
[2023-12-27 05:55:42.61581] [558335] [trace] [TuDUxxhT688m] 302 Found (0.000397s, 2518.892/s)
[2023-12-27 05:55:42.61979] [558335] [trace] [xACPnFjnV3OK] GET "/docs/more"
[2023-12-27 05:55:42.62000] [558335] [trace] [xACPnFjnV3OK] Routing to a callback
[2023-12-27 05:55:42.62015] [558335] [trace] [xACPnFjnV3OK] Rendering cached inline template "2da2aed28011bbc3541e0de248c276ca"
[2023-12-27 05:55:42.62032] [558335] [trace] [xACPnFjnV3OK] 200 OK (0.000516s, 1937.984/s)
Mojo::File::spurt is deprecated in favor of Mojo::File::spew at /tmp/loop_over_bdir-2070-HtePjb/Mojolicious-Plugin-Export-0.008-0/blib/lib/Mojolicious/Plugin/Export.pm line 277.
Mojo::File::spurt is deprecated in favor of Mojo::File::spew at /tmp/loop_over_bdir-2070-HtePjb/Mojolicious-Plugin-Export-0.008-0/blib/lib/Mojolicious/Plugin/Export.pm line 277.
Mojo::File::spurt is deprecated in favor of Mojo::File::spew at /tmp/loop_over_bdir-2070-HtePjb/Mojolicious-Plugin-Export-0.008-0/blib/lib/Mojolicious/Plugin/Export.pm line 277.
Mojo::File::spurt is deprecated in favor of Mojo::File::spew at /tmp/loop_over_bdir-2070-HtePjb/Mojolicious-Plugin-Export-0.008-0/blib/lib/Mojolicious/Plugin/Export.pm line 277.
Mojo::File::spurt is deprecated in favor of Mojo::File::spew at /tmp/loop_over_bdir-2070-HtePjb/Mojolicious-Plugin-Export-0.008-0/blib/lib/Mojolicious/Plugin/Export.pm line 277.
[2023-12-27 05:55:42.63189] [558335] [trace] [ZidIFPmSWrsu] GET "/"
[2023-12-27 05:55:42.63222] [558335] [trace] [ZidIFPmSWrsu] Rendering cached template "index.html.ep" from DATA section
[2023-12-27 05:55:42.63242] [558335] [trace] [ZidIFPmSWrsu] 200 OK (0.000531s, 1883.239/s)
[2023-12-27 05:55:42.63555] [558335] [trace] [yjzQ1_GV5xmD] GET "/docs"
[2023-12-27 05:55:42.63585] [558335] [trace] [yjzQ1_GV5xmD] Rendering cached template "docs.html.ep" from DATA section
[2023-12-27 05:55:42.63605] [558335] [trace] [yjzQ1_GV5xmD] 200 OK (0.000485s, 2061.856/s)
[2023-12-27 05:55:42.63861] [558335] [trace] [oEX51QFBwwwH] GET "/about"
[2023-12-27 05:55:42.63891] [558335] [trace] [oEX51QFBwwwH] Rendering cached template "about.html.ep" from DATA section
[2023-12-27 05:55:42.63910] [558335] [trace] [oEX51QFBwwwH] 200 OK (0.000483s, 2070.393/s)
[2023-12-27 05:55:42.64169] [558335] [trace] [I7Uodee9hsuK] GET "/NOT_FOUND"
[2023-12-27 05:55:42.64218] [558335] [trace] [I7Uodee9hsuK] Template "not_found.development.html.ep" not found
[2023-12-27 05:55:42.64234] [558335] [trace] [I7Uodee9hsuK] Template "not_found.html.ep" not found
[2023-12-27 05:55:42.64245] [558335] [trace] [I7Uodee9hsuK] Rendering cached template "mojo/debug.html.ep"
[2023-12-27 05:55:42.64700] [558335] [trace] [I7Uodee9hsuK] 404 Not Found (0.005281s, 189.358/s)
[2023-12-27 05:55:42.64978] [558335] [trace] [KAmZFBK4GzY0] GET "/redirect"
[2023-12-27 05:55:42.64998] [558335] [trace] [KAmZFBK4GzY0] Routing to a callback
[2023-12-27 05:55:42.65019] [558335] [trace] [KAmZFBK4GzY0] 302 Found (0.000399s, 2506.266/s)
[2023-12-27 05:55:42.65440] [558335] [trace] [JBlNATzq6fpk] GET "/docs/more"
[2023-12-27 05:55:42.65461] [558335] [trace] [JBlNATzq6fpk] Routing to a callback
[2023-12-27 05:55:42.65476] [558335] [trace] [JBlNATzq6fpk] Rendering cached inline template "2da2aed28011bbc3541e0de248c276ca"
[2023-12-27 05:55:42.65494] [558335] [trace] [JBlNATzq6fpk] 200 OK (0.00053s, 1886.792/s)
Mojo::File::spurt is deprecated in favor of Mojo::File::spew at /tmp/loop_over_bdir-2070-HtePjb/Mojolicious-Plugin-Export-0.008-0/blib/lib/Mojolicious/Plugin/Export.pm line 277.
Mojo::File::spurt is deprecated in favor of Mojo::File::spew at /tmp/loop_over_bdir-2070-HtePjb/Mojolicious-Plugin-Export-0.008-0/blib/lib/Mojolicious/Plugin/Export.pm line 277.
Mojo::File::spurt is deprecated in favor of Mojo::File::spew at /tmp/loop_over_bdir-2070-HtePjb/Mojolicious-Plugin-Export-0.008-0/blib/lib/Mojolicious/Plugin/Export.pm line 277.
Mojo::File::spurt is deprecated in favor of Mojo::File::spew at /tmp/loop_over_bdir-2070-HtePjb/Mojolicious-Plugin-Export-0.008-0/blib/lib/Mojolicious/Plugin/Export.pm line 277.
Mojo::File::spurt is deprecated in favor of Mojo::File::spew at /tmp/loop_over_bdir-2070-HtePjb/Mojolicious-Plugin-Export-0.008-0/blib/lib/Mojolicious/Plugin/Export.pm line 277.
[2023-12-27 05:55:42.66602] [558335] [trace] [bo9ci2hanrN4] GET "/docs"
[2023-12-27 05:55:42.66634] [558335] [trace] [bo9ci2hanrN4] Rendering cached template "docs.html.ep" from DATA section
[2023-12-27 05:55:42.66654] [558335] [trace] [bo9ci2hanrN4] 200 OK (0.000505s, 1980.198/s)
[2023-12-27 05:55:42.66904] [558335] [trace] [r0ODUx_Rx_GO] GET "/docs/more"
[2023-12-27 05:55:42.66923] [558335] [trace] [r0ODUx_Rx_GO] Routing to a callback
[2023-12-27 05:55:42.66939] [558335] [trace] [r0ODUx_Rx_GO] Rendering cached inline template "2da2aed28011bbc3541e0de248c276ca"
[2023-12-27 05:55:42.66959] [558335] [trace] [r0ODUx_Rx_GO] 200 OK (0.000536s, 1865.672/s)
Mojo::File::spurt is deprecated in favor of Mojo::File::spew at /tmp/loop_over_bdir-2070-HtePjb/Mojolicious-Plugin-Export-0.008-0/blib/lib/Mojolicious/Plugin/Export.pm line 277.
Mojo::File::spurt is deprecated in favor of Mojo::File::spew at /tmp/loop_over_bdir-2070-HtePjb/Mojolicious-Plugin-Export-0.008-0/blib/lib/Mojolicious/Plugin/Export.pm line 277.
t/command.t ............ ok
[2023-12-27 05:55:43.15066] [558341] [trace] [X03be0Btd749] GET "/"
[2023-12-27 05:55:43.15208] [558341] [trace] [X03be0Btd749] Rendering template "index.html.ep" from DATA section
[2023-12-27 05:55:43.15302] [558341] [trace] [X03be0Btd749] 200 OK (0.002346s, 426.257/s)
Mojo::File::spurt is deprecated in favor of Mojo::File::spew at /tmp/loop_over_bdir-2070-HtePjb/Mojolicious-Plugin-Export-0.008-0/blib/lib/Mojolicious/Plugin/Export.pm line 277.
Mojo::File::spurt is deprecated in favor of Mojo::File::spew at /tmp/loop_over_bdir-2070-HtePjb/Mojolicious-Plugin-Export-0.008-0/blib/lib/Mojolicious/Plugin/Export.pm line 277.
t/plugin.t ............. ok
All tests successful.
Files=4, Tests=55, 2 wallclock secs ( 0.04 usr 0.01 sys + 1.61 cusr 0.26 csys = 1.92 CPU)
Result: PASS
------------------------------
PREREQUISITES
------------------------------
Prerequisite modules loaded:
requires:
Module Need Have
------------------- ----- --------
Mojolicious 8 9.35
perl 5.014 5.034003
build_requires:
Module Need Have
------------------- ----- --------
ExtUtils::MakeMaker 0 7.70
File::Spec 0 3.80
IO::Handle 0 1.51
IPC::Open3 0 1.21
Test::More 0 1.302198
configure_requires:
Module Need Have
------------------- ----- --------
ExtUtils::MakeMaker 0 7.70
------------------------------
ENVIRONMENT AND OTHER CONTEXT
------------------------------
Environment variables:
AUTOMATED_TESTING = 1
LANG = en_US.UTF-8
PATH = /home/sand/bin:/usr/local/bin:/usr/local/sbin:/usr/sbin:/usr/bin:/sbin:/bin:/usr/games:/usr/local/games:/snap/bin:/usr/local/perl/bin:/usr/X11/bin
PERL = /tmp/basesmoker-reloperl-rGUl/bin/perl
PERL5LIB = /tmp/loop_over_bdir-2070-HtePjb/Lingua-BioYaTeA-0.11-0/blib/arch:/tmp/loop_over_bdir-2070-HtePjb/Lingua-BioYaTeA-0.11-0/blib/lib:/tmp/loop_over_bdir-2070-HtePjb/Alien-SNMP-MIBDEV-2.020000-0/blib/arch:/tmp/loop_over_bdir-2070-HtePjb/Alien-SNMP-MIBDEV-2.020000-0/blib/lib:/tmp/loop_over_bdir-2070-HtePjb/RDF-NLP-SPARQLQuery-0.1-0/blib/arch:/tmp/loop_over_bdir-2070-HtePjb/RDF-NLP-SPARQLQuery-0.1-0/blib/lib:/tmp/loop_over_bdir-2070-HtePjb/DBIx-Migration-Directories-0.12-0/blib/arch:/tmp/loop_over_bdir-2070-HtePjb/DBIx-Migration-Directories-0.12-0/blib/lib:/tmp/loop_over_bdir-2070-HtePjb/MP3-PodcastFetch-1.05-0/blib/arch:/tmp/loop_over_bdir-2070-HtePjb/MP3-PodcastFetch-1.05-0/blib/lib:/tmp/loop_over_bdir-2070-HtePjb/App-nrun-v1.1.2-0/blib/arch:/tmp/loop_over_bdir-2070-HtePjb/App-nrun-v1.1.2-0/blib/lib:/tmp/loop_over_bdir-2070-HtePjb/Business-Shipping-DataFiles-1.02-0/blib/arch:/tmp/loop_over_bdir-2070-HtePjb/Business-Shipping-DataFiles-1.02-0/blib/lib:/tmp/loop_over_bdir-2070-HtePjb/downsexta-0/blib/arch:/tmp/loop_over_bdir-2070-HtePjb/downsexta-0/blib/lib:/tmp/loop_over_bdir-2070-HtePjb/Devel-Required-0.16-0/blib/arch:/tmp/loop_over_bdir-2070-HtePjb/Devel-Required-0.16-0/blib/lib:/tmp/loop_over_bdir-2070-HtePjb/Net-Async-WebService-lxd-0.03-0/blib/arch:/tmp/loop_over_bdir-2070-HtePjb/Net-Async-WebService-lxd-0.03-0/blib/lib:/tmp/loop_over_bdir-2070-HtePjb/AllKnowingDNS-1.7-0/blib/arch:/tmp/loop_over_bdir-2070-HtePjb/AllKnowingDNS-1.7-0/blib/lib:/tmp/loop_over_bdir-2070-HtePjb/perl-Hardware-UPS-Perl-0.43-0/blib/arch:/tmp/loop_over_bdir-2070-HtePjb/perl-Hardware-UPS-Perl-0.43-0/blib/lib:/tmp/loop_over_bdir-2070-HtePjb/Lingua-YaTeA-0.626-0/blib/arch:/tmp/loop_over_bdir-2070-HtePjb/Lingua-YaTeA-0.626-0/blib/lib:/tmp/loop_over_bdir-2070-HtePjb/Sysync-0.35-0/blib/arch:/tmp/loop_over_bdir-2070-HtePjb/Sysync-0.35-0/blib/lib:/tmp/loop_over_bdir-2070-HtePjb/mmds-1.902-0/blib/arch:/tmp/loop_over_bdir-2070-HtePjb/mmds-1.902-0/blib/lib:/tmp/loop_over_bdir-2070-HtePjb/Linux-InitFS-0.2-0/blib/arch:/tmp/loop_over_bdir-2070-HtePjb/Linux-InitFS-0.2-0/blib/lib:/tmp/loop_over_bdir-2070-HtePjb/Dpkg-1.22.2-0/blib/arch:/tmp/loop_over_bdir-2070-HtePjb/Dpkg-1.22.2-0/blib/lib:/tmp/loop_over_bdir-2070-HtePjb/App-rmcd-0.280-0/blib/arch:/tmp/loop_over_bdir-2070-HtePjb/App-rmcd-0.280-0/blib/lib:/tmp/loop_over_bdir-2070-HtePjb/triceps-2.1.0-0/blib/arch:/tmp/loop_over_bdir-2070-HtePjb/triceps-2.1.0-0/blib/lib:/tmp/loop_over_bdir-2070-HtePjb/dta-tokwrap-0.98-0/blib/arch:/tmp/loop_over_bdir-2070-HtePjb/dta-tokwrap-0.98-0/blib/lib:/tmp/loop_over_bdir-2070-HtePjb/EJBCA-CrlPublish-0.60-0/blib/arch:/tmp/loop_over_bdir-2070-HtePjb/EJBCA-CrlPublish-0.60-0/blib/lib:/tmp/loop_over_bdir-2070-HtePjb/shishi-0.0.1-0/blib/arch:/tmp/loop_over_bdir-2070-HtePjb/shishi-0.0.1-0/blib/lib:/tmp/loop_over_bdir-2070-HtePjb/HTML-Menu-TreeView-1.22-0/blib/arch:/tmp/loop_over_bdir-2070-HtePjb/HTML-Menu-TreeView-1.22-0/blib/lib
PERL5OPT =
PERL5_CPANPLUS_IS_RUNNING = 2078
PERL5_CPAN_IS_RUNNING = 2078
PERL_CANARY_STABILITY_NOPROMPT = 1
PERL_MM_USE_DEFAULT = 1
PERL_USE_UNSAFE_INC = 1
SHELL = /usr/bin/zsh
TERM = screen
Perl special variables (and OS-specific diagnostics, for MSWin32):
$^X = /tmp/basesmoker-reloperl-rGUl/bin/perl
$UID/$EUID = 1005 / 1005
$GID = 1005 1005
$EGID = 1005 1005
Perl module toolchain versions installed:
Module Have
------------------- --------
CPAN 2.36
CPAN::Meta 2.150010
Cwd 3.80
ExtUtils::CBuilder 0.280236
ExtUtils::Command 7.70
ExtUtils::Install 2.20
ExtUtils::MakeMaker 7.70
ExtUtils::Manifest 1.75
ExtUtils::ParseXS 3.51
File::Spec 3.80
JSON 4.10
JSON::PP 4.16
Module::Build 0.4234
Module::Signature 0.88
Parse::CPAN::Meta 2.150010
Test2 1.302198
Test::Harness 3.48
Test::More 1.302198
YAML 1.30
YAML::Syck 1.34
version 0.9930
--
Summary of my perl5 (revision 5 version 34 subversion 3) configuration:
Commit id: 81db88e83a981f603c5207a1fc4cc41da8dd5d79
Platform:
osname=linux
osvers=5.4.0-167-generic
archname=x86_64-linux-ld
uname='linux k93focal 5.4.0-167-generic #184-ubuntu smp tue oct 31 09:21:49 utc 2023 x86_64 x86_64 x86_64 gnulinux '
config_args='-Dprefix=/home/sand/src/perl/repoperls/installed-perls/host/k93focal/v5.34.3/d3e4 -Dmyhostname=k93focal -Dinstallusrbinperl=n -Uversiononly -Dusedevel -des -Ui_db -Dlibswanted=cl pthread socket inet nsl gdbm dbm malloc dl ld sun m crypt sec util c cposix posix ucb BSD gdbm_compat -Uuseithreads -Duselongdouble -DEBUGGING=both'
hint=recommended
useposix=true
d_sigaction=define
useithreads=undef
usemultiplicity=undef
use64bitint=define
use64bitall=define
uselongdouble=define
usemymalloc=n
default_inc_excludes_dot=define
Compiler:
cc='cc'
ccflags ='-fwrapv -DDEBUGGING -fno-strict-aliasing -pipe -fstack-protector-strong -I/usr/local/include -D_LARGEFILE_SOURCE -D_FILE_OFFSET_BITS=64'
optimize='-O2 -g'
cppflags='-fwrapv -DDEBUGGING -fno-strict-aliasing -pipe -fstack-protector-strong -I/usr/local/include'
ccversion=''
gccversion='9.4.0'
gccosandvers=''
intsize=4
longsize=8
ptrsize=8
doublesize=8
byteorder=12345678
doublekind=3
d_longlong=define
longlongsize=8
d_longdbl=define
longdblsize=16
longdblkind=3
ivtype='long'
ivsize=8
nvtype='long double'
nvsize=16
Off_t='off_t'
lseeksize=8
alignbytes=16
prototype=define
Linker and Libraries:
ld='cc'
ldflags =' -fstack-protector-strong -L/usr/local/lib'
libpth=/usr/local/lib /usr/lib/x86_64-linux-gnu /usr/lib /usr/lib64
libs=-lpthread -lnsl -ldl -lm -lcrypt -lutil -lc
perllibs=-lpthread -lnsl -ldl -lm -lcrypt -lutil -lc
libc=libc-2.31.so
so=so
useshrplib=false
libperl=libperl.a
gnulibc_version='2.31'
Dynamic Linking:
dlsrc=dl_dlopen.xs
dlext=so
d_dlsymun=undef
ccdlflags='-Wl,-E'
cccdlflags='-fPIC'
lddlflags='-shared -O2 -g -L/usr/local/lib -fstack-protector-strong'
Characteristics of this binary (from libperl):
Compile-time options:
DEBUGGING
HAS_TIMES
PERLIO_LAYERS
PERL_COPY_ON_WRITE
PERL_DONT_CREATE_GVSV
PERL_MALLOC_WRAP
PERL_OP_PARENT
PERL_PRESERVE_IVUV
PERL_USE_DEVEL
USE_64_BIT_ALL
USE_64_BIT_INT
USE_LARGE_FILES
USE_LOCALE
USE_LOCALE_COLLATE
USE_LOCALE_CTYPE
USE_LOCALE_NUMERIC
USE_LOCALE_TIME
USE_LONG_DOUBLE
USE_PERLIO
USE_PERL_ATOF
Built under linux
Compiled at Dec 7 2023 08:39:36
%ENV:
PERL="/tmp/basesmoker-reloperl-rGUl/bin/perl"
PERL5LIB="/tmp/loop_over_bdir-2070-HtePjb/Lingua-BioYaTeA-0.11-0/blib/arch:/tmp/loop_over_bdir-2070-HtePjb/Lingua-BioYaTeA-0.11-0/blib/lib:/tmp/loop_over_bdir-2070-HtePjb/Alien-SNMP-MIBDEV-2.020000-0/blib/arch:/tmp/loop_over_bdir-2070-HtePjb/Alien-SNMP-MIBDEV-2.020000-0/blib/lib:/tmp/loop_over_bdir-2070-HtePjb/RDF-NLP-SPARQLQuery-0.1-0/blib/arch:/tmp/loop_over_bdir-2070-HtePjb/RDF-NLP-SPARQLQuery-0.1-0/blib/lib:/tmp/loop_over_bdir-2070-HtePjb/DBIx-Migration-Directories-0.12-0/blib/arch:/tmp/loop_over_bdir-2070-HtePjb/DBIx-Migration-Directories-0.12-0/blib/lib:/tmp/loop_over_bdir-2070-HtePjb/MP3-PodcastFetch-1.05-0/blib/arch:/tmp/loop_over_bdir-2070-HtePjb/MP3-PodcastFetch-1.05-0/blib/lib:/tmp/loop_over_bdir-2070-HtePjb/App-nrun-v1.1.2-0/blib/arch:/tmp/loop_over_bdir-2070-HtePjb/App-nrun-v1.1.2-0/blib/lib:/tmp/loop_over_bdir-2070-HtePjb/Business-Shipping-DataFiles-1.02-0/blib/arch:/tmp/loop_over_bdir-2070-HtePjb/Business-Shipping-DataFiles-1.02-0/blib/lib:/tmp/loop_over_bdir-2070-HtePjb/downsexta-0/blib/arch:/tmp/loop_over_bdir-2070-HtePjb/downsexta-0/blib/lib:/tmp/loop_over_bdir-2070-HtePjb/Devel-Required-0.16-0/blib/arch:/tmp/loop_over_bdir-2070-HtePjb/Devel-Required-0.16-0/blib/lib:/tmp/loop_over_bdir-2070-HtePjb/Net-Async-WebService-lxd-0.03-0/blib/arch:/tmp/loop_over_bdir-2070-HtePjb/Net-Async-WebService-lxd-0.03-0/blib/lib:/tmp/loop_over_bdir-2070-HtePjb/AllKnowingDNS-1.7-0/blib/arch:/tmp/loop_over_bdir-2070-HtePjb/AllKnowingDNS-1.7-0/blib/lib:/tmp/loop_over_bdir-2070-HtePjb/perl-Hardware-UPS-Perl-0.43-0/blib/arch:/tmp/loop_over_bdir-2070-HtePjb/perl-Hardware-UPS-Perl-0.43-0/blib/lib:/tmp/loop_over_bdir-2070-HtePjb/Lingua-YaTeA-0.626-0/blib/arch:/tmp/loop_over_bdir-2070-HtePjb/Lingua-YaTeA-0.626-0/blib/lib:/tmp/loop_over_bdir-2070-HtePjb/Sysync-0.35-0/blib/arch:/tmp/loop_over_bdir-2070-HtePjb/Sysync-0.35-0/blib/lib:/tmp/loop_over_bdir-2070-HtePjb/mmds-1.902-0/blib/arch:/tmp/loop_over_bdir-2070-HtePjb/mmds-1.902-0/blib/lib:/tmp/loop_over_bdir-2070-HtePjb/Linux-InitFS-0.2-0/blib/arch:/tmp/loop_over_bdir-2070-HtePjb/Linux-InitFS-0.2-0/blib/lib:/tmp/loop_over_bdir-2070-HtePjb/Dpkg-1.22.2-0/blib/arch:/tmp/loop_over_bdir-2070-HtePjb/Dpkg-1.22.2-0/blib/lib:/tmp/loop_over_bdir-2070-HtePjb/App-rmcd-0.280-0/blib/arch:/tmp/loop_over_bdir-2070-HtePjb/App-rmcd-0.280-0/blib/lib:/tmp/loop_over_bdir-2070-HtePjb/triceps-2.1.0-0/blib/arch:/tmp/loop_over_bdir-2070-HtePjb/triceps-2.1.0-0/blib/lib:/tmp/loop_over_bdir-2070-HtePjb/dta-tokwrap-0.98-0/blib/arch:/tmp/loop_over_bdir-2070-HtePjb/dta-tokwrap-0.98-0/blib/lib:/tmp/loop_over_bdir-2070-HtePjb/EJBCA-CrlPublish-0.60-0/blib/arch:/tmp/loop_over_bdir-2070-HtePjb/EJBCA-CrlPublish-0.60-0/blib/lib:/tmp/loop_over_bdir-2070-HtePjb/shishi-0.0.1-0/blib/arch:/tmp/loop_over_bdir-2070-HtePjb/shishi-0.0.1-0/blib/lib:/tmp/loop_over_bdir-2070-HtePjb/HTML-Menu-TreeView-1.22-0/blib/arch:/tmp/loop_over_bdir-2070-HtePjb/HTML-Menu-TreeView-1.22-0/blib/lib"
PERL5OPT=""
PERL5_CPANPLUS_IS_RUNNING="2078"
PERL5_CPAN_IS_RUNNING="2078"
PERL_CANARY_STABILITY_NOPROMPT="1"
PERL_MM_USE_DEFAULT="1"
PERL_USE_UNSAFE_INC="1"
@INC:
/tmp/loop_over_bdir-2070-HtePjb/Lingua-BioYaTeA-0.11-0/blib/arch
/tmp/loop_over_bdir-2070-HtePjb/Lingua-BioYaTeA-0.11-0/blib/lib
/tmp/loop_over_bdir-2070-HtePjb/Alien-SNMP-MIBDEV-2.020000-0/blib/arch
/tmp/loop_over_bdir-2070-HtePjb/Alien-SNMP-MIBDEV-2.020000-0/blib/lib
/tmp/loop_over_bdir-2070-HtePjb/RDF-NLP-SPARQLQuery-0.1-0/blib/arch
/tmp/loop_over_bdir-2070-HtePjb/RDF-NLP-SPARQLQuery-0.1-0/blib/lib
/tmp/loop_over_bdir-2070-HtePjb/DBIx-Migration-Directories-0.12-0/blib/arch
/tmp/loop_over_bdir-2070-HtePjb/DBIx-Migration-Directories-0.12-0/blib/lib
/tmp/loop_over_bdir-2070-HtePjb/MP3-PodcastFetch-1.05-0/blib/arch
/tmp/loop_over_bdir-2070-HtePjb/MP3-PodcastFetch-1.05-0/blib/lib
/tmp/loop_over_bdir-2070-HtePjb/App-nrun-v1.1.2-0/blib/arch
/tmp/loop_over_bdir-2070-HtePjb/App-nrun-v1.1.2-0/blib/lib
/tmp/loop_over_bdir-2070-HtePjb/Business-Shipping-DataFiles-1.02-0/blib/arch
/tmp/loop_over_bdir-2070-HtePjb/Business-Shipping-DataFiles-1.02-0/blib/lib
/tmp/loop_over_bdir-2070-HtePjb/downsexta-0/blib/arch
/tmp/loop_over_bdir-2070-HtePjb/downsexta-0/blib/lib
/tmp/loop_over_bdir-2070-HtePjb/Devel-Required-0.16-0/blib/arch
/tmp/loop_over_bdir-2070-HtePjb/Devel-Required-0.16-0/blib/lib
/tmp/loop_over_bdir-2070-HtePjb/Net-Async-WebService-lxd-0.03-0/blib/arch
/tmp/loop_over_bdir-2070-HtePjb/Net-Async-WebService-lxd-0.03-0/blib/lib
/tmp/loop_over_bdir-2070-HtePjb/AllKnowingDNS-1.7-0/blib/arch
/tmp/loop_over_bdir-2070-HtePjb/AllKnowingDNS-1.7-0/blib/lib
/tmp/loop_over_bdir-2070-HtePjb/perl-Hardware-UPS-Perl-0.43-0/blib/arch
/tmp/loop_over_bdir-2070-HtePjb/perl-Hardware-UPS-Perl-0.43-0/blib/lib
/tmp/loop_over_bdir-2070-HtePjb/Lingua-YaTeA-0.626-0/blib/arch
/tmp/loop_over_bdir-2070-HtePjb/Lingua-YaTeA-0.626-0/blib/lib
/tmp/loop_over_bdir-2070-HtePjb/Sysync-0.35-0/blib/arch
/tmp/loop_over_bdir-2070-HtePjb/Sysync-0.35-0/blib/lib
/tmp/loop_over_bdir-2070-HtePjb/mmds-1.902-0/blib/arch
/tmp/loop_over_bdir-2070-HtePjb/mmds-1.902-0/blib/lib
/tmp/loop_over_bdir-2070-HtePjb/Linux-InitFS-0.2-0/blib/arch
/tmp/loop_over_bdir-2070-HtePjb/Linux-InitFS-0.2-0/blib/lib
/tmp/loop_over_bdir-2070-HtePjb/Dpkg-1.22.2-0/blib/arch
/tmp/loop_over_bdir-2070-HtePjb/Dpkg-1.22.2-0/blib/lib
/tmp/loop_over_bdir-2070-HtePjb/App-rmcd-0.280-0/blib/arch
/tmp/loop_over_bdir-2070-HtePjb/App-rmcd-0.280-0/blib/lib
/tmp/loop_over_bdir-2070-HtePjb/triceps-2.1.0-0/blib/arch
/tmp/loop_over_bdir-2070-HtePjb/triceps-2.1.0-0/blib/lib
/tmp/loop_over_bdir-2070-HtePjb/dta-tokwrap-0.98-0/blib/arch
/tmp/loop_over_bdir-2070-HtePjb/dta-tokwrap-0.98-0/blib/lib
/tmp/loop_over_bdir-2070-HtePjb/EJBCA-CrlPublish-0.60-0/blib/arch
/tmp/loop_over_bdir-2070-HtePjb/EJBCA-CrlPublish-0.60-0/blib/lib
/tmp/loop_over_bdir-2070-HtePjb/shishi-0.0.1-0/blib/arch
/tmp/loop_over_bdir-2070-HtePjb/shishi-0.0.1-0/blib/lib
/tmp/loop_over_bdir-2070-HtePjb/HTML-Menu-TreeView-1.22-0/blib/arch
/tmp/loop_over_bdir-2070-HtePjb/HTML-Menu-TreeView-1.22-0/blib/lib
/home/sand/src/perl/repoperls/installed-perls/host/k93focal/v5.34.3/d3e4/lib/site_perl/5.34.3/x86_64-linux-ld
/home/sand/src/perl/repoperls/installed-perls/host/k93focal/v5.34.3/d3e4/lib/site_perl/5.34.3
/home/sand/src/perl/repoperls/installed-perls/host/k93focal/v5.34.3/d3e4/lib/5.34.3/x86_64-linux-ld
/home/sand/src/perl/repoperls/installed-perls/host/k93focal/v5.34.3/d3e4/lib/5.34.3
.