Back
From: metabase:user:a1b6b924-84ee-11e6-8239-d43a0d2f07b9
Subject: PASS PerlIO-utf8_strict-0.007 v5.26.0 RC1 GNU/Linux
Date: 2017-06-06T11:17:07Z
This distribution has been tested as part of the CPAN Testers
project, supporting the Perl programming language. See
http://wiki.cpantesters.org/ for more information or email
questions to cpan-testers-discuss@perl.org
--
Dear LEONT,
This is a computer-generated report for PerlIO-utf8_strict-0.007
on perl 5.26.0, created by App::cpanminus::reporter 0.17 (1.7043).
Thank you for uploading your work to CPAN. Congratulations!
All tests were successful.
Sections of this report:
* Tester comments
* Program output
* Prerequisites
* Environment and other context
------------------------------
TESTER COMMENTS
------------------------------
Additional comments from tester:
none provided
------------------------------
PROGRAM OUTPUT
------------------------------
Output from '':
Building and testing PerlIO-utf8_strict-0.007
cp lib/PerlIO/utf8_strict.pm blib/lib/PerlIO/utf8_strict.pm
Running Mkbootstrap for utf8_strict ()
chmod 644 "utf8_strict.bs"
"/home/eric/perl5/perlbrew/perls/perl-5.26.0-RC1/bin/perl" -MExtUtils::Command::MM -e 'cp_nonempty' -- utf8_strict.bs blib/arch/auto/PerlIO/utf8_strict/utf8_strict.bs 644
"/home/eric/perl5/perlbrew/perls/perl-5.26.0-RC1/bin/perl" "/home/eric/perl5/perlbrew/perls/perl-5.26.0-RC1/lib/5.26.0/ExtUtils/xsubpp" -typemap '/home/eric/perl5/perlbrew/perls/perl-5.26.0-RC1/lib/5.26.0/ExtUtils/typemap' utf8_strict.xs > utf8_strict.xsc
mv utf8_strict.xsc utf8_strict.c
cc -c -fwrapv -fno-strict-aliasing -pipe -fstack-protector-strong -I/usr/local/include -D_LARGEFILE_SOURCE -D_FILE_OFFSET_BITS=64 -O2 -DVERSION=\"0.007\" -DXS_VERSION=\"0.007\" -fPIC "-I/home/eric/perl5/perlbrew/perls/perl-5.26.0-RC1/lib/5.26.0/x86_64-linux/CORE" utf8_strict.c
utf8_strict.xs: In function âboot_PerlIO__utf8_strictâ:
utf8_strict.xs:368:28: warning: passing argument 1 of âPerlIO_define_layerâ discards âconstâ qualifier from pointer target type [-Wdiscarded-qualifiers]
PerlIO_define_layer(aTHX_ &PerlIO_utf8_strict);
^
In file included from /home/eric/perl5/perlbrew/perls/perl-5.26.0-RC1/lib/5.26.0/x86_64-linux/CORE/iperlsys.h:51:0,
from /home/eric/perl5/perlbrew/perls/perl-5.26.0-RC1/lib/5.26.0/x86_64-linux/CORE/perl.h:3880,
from utf8_strict.xs:2:
/home/eric/perl5/perlbrew/perls/perl-5.26.0-RC1/lib/5.26.0/x86_64-linux/CORE/perlio.h:76:20: note: expected âPerlIO_funcs * {aka struct _PerlIO_funcs *}â but argument is of type âconst PerlIO_funcs * {aka const struct _PerlIO_funcs *}â
PERL_CALLCONV void PerlIO_define_layer(pTHX_ PerlIO_funcs *tab);
^
rm -f blib/arch/auto/PerlIO/utf8_strict/utf8_strict.so
cc -shared -O2 -L/usr/local/lib -fstack-protector-strong utf8_strict.o -o blib/arch/auto/PerlIO/utf8_strict/utf8_strict.so \
\
chmod 755 blib/arch/auto/PerlIO/utf8_strict/utf8_strict.so
Manifying 1 pod document
"/home/eric/perl5/perlbrew/perls/perl-5.26.0-RC1/bin/perl" -MExtUtils::Command::MM -e 'cp_nonempty' -- utf8_strict.bs blib/arch/auto/PerlIO/utf8_strict/utf8_strict.bs 644
PERL_DL_NONLAZY=1 "/home/eric/perl5/perlbrew/perls/perl-5.26.0-RC1/bin/perl" "-MExtUtils::Command::MM" "-MTest::Harness" "-e" "undef *Test::Harness::Switches; test_harness(0, 'blib/lib', 'blib/arch')" t/*.t
t/basics.t ............. ok
t/bug.t ................ ok
t/incomplete.t ......... ok
t/non-shortest-form.t .. ok
t/noncharacters.t ...... ok
t/super.t .............. ok
t/surrogates.t ......... ok
t/unicode.t ............ ok
All tests successful.
Files=8, Tests=5816, 1 wallclock secs ( 0.35 usr 0.04 sys + 0.86 cusr 0.18 csys = 1.43 CPU)
Result: PASS
------------------------------
PREREQUISITES
------------------------------
Prerequisite modules loaded:
No requirements found
------------------------------
ENVIRONMENT AND OTHER CONTEXT
------------------------------
Environment variables:
LANG = nl_NL.UTF-8
LANGUAGE = nl_NL:nl:en
LC_ADDRESS = nl_NL.UTF-8
LC_IDENTIFICATION = nl_NL.UTF-8
LC_MEASUREMENT = nl_NL.UTF-8
LC_MONETARY = nl_NL.UTF-8
LC_NAME = nl_NL.UTF-8
LC_NUMERIC = nl_NL.UTF-8
LC_PAPER = nl_NL.UTF-8
LC_TELEPHONE = nl_NL.UTF-8
LC_TIME = nl_NL.UTF-8
PATH = /home/eric/perl5/perlbrew/bin:/home/eric/perl5/perlbrew/perls/perl-5.26.0-RC1/bin:/home/eric/p6/share/perl6/vendor/bin:/home/eric/p6/share/perl6/site/bin:/home/eric/p6/share/perl6/bin:/home/eric/p6/bin:/home/eric/bin:/usr/local/sbin:/usr/local/bin:/usr/sbin:/usr/bin:/sbin:/bin:/usr/games:/usr/local/games:/snap/bin
PERL5LIB = /home/eric/Programmeren/lib
PERLBREW_BASHRC_VERSION = 0.78
PERLBREW_HOME = /home/eric/.perlbrew
PERLBREW_MANPATH = /home/eric/perl5/perlbrew/perls/perl-5.26.0-RC1/man
PERLBREW_PATH = /home/eric/perl5/perlbrew/bin:/home/eric/perl5/perlbrew/perls/perl-5.26.0-RC1/bin
PERLBREW_PERL = perl-5.26.0-RC1
PERLBREW_ROOT = /home/eric/perl5/perlbrew
PERLBREW_VERSION = 0.78
PERL_UNICODE = AS
SHELL = /bin/bash
TERM = xterm
Perl special variables (and OS-specific diagnostics, for MSWin32):
EGID = 1000 4 24 27 30 46 115 131 134 1000 1001
EUID = 1000
EXECUTABLE_NAME = /home/eric/perl5/perlbrew/perls/perl-5.26.0-RC1/bin/perl
GID = 1000 4 24 27 30 46 115 131 134 1000 1001
UID = 1000
Perl module toolchain versions installed:
Module Have
------------------- ----------
CPAN 2.18
CPAN::Meta 2.150010
Cwd 3.67
ExtUtils::CBuilder 0.280225
ExtUtils::Command 7.28
ExtUtils::Install 2.06
ExtUtils::MakeMaker 7.28
ExtUtils::Manifest 1.70
ExtUtils::ParseXS 3.34
File::Spec 3.67
JSON 2.94
JSON::PP 2.27400_02
Module::Build 0.4224
Module::Signature n/a
Parse::CPAN::Meta 2.150010
Test::Harness 3.38
Test::More 1.302085
YAML 1.23
YAML::Syck n/a
version 0.9917
--
Summary of my perl5 (revision 5 version 26 subversion 0) configuration:
Platform:
osname=linux
osvers=4.4.0-66-generic
archname=x86_64-linux
uname='linux hp-envy-e 4.4.0-66-generic #87-ubuntu smp fri mar 3 15:29:05 utc 2017 x86_64 x86_64 x86_64 gnulinux '
config_args='-de -Dprefix=/home/eric/perl5/perlbrew/perls/perl-5.26.0-RC1 -Aeval:scriptdir=/home/eric/perl5/perlbrew/perls/perl-5.26.0-RC1/bin'
hint=recommended
useposix=true
d_sigaction=define
useithreads=undef
usemultiplicity=undef
use64bitint=define
use64bitall=define
uselongdouble=undef
usemymalloc=n
default_inc_excludes_dot=define
bincompat5005=undef
Compiler:
cc='cc'
ccflags ='-fwrapv -fno-strict-aliasing -pipe -fstack-protector-strong -I/usr/local/include -D_LARGEFILE_SOURCE -D_FILE_OFFSET_BITS=64'
optimize='-O2'
cppflags='-fwrapv -fno-strict-aliasing -pipe -fstack-protector-strong -I/usr/local/include'
ccversion=''
gccversion='5.4.0 20160609'
gccosandvers=''
intsize=4
longsize=8
ptrsize=8
doublesize=8
byteorder=12345678
doublekind=3
d_longlong=define
longlongsize=8
d_longdbl=define
longdblsize=16
longdblkind=3
ivtype='long'
ivsize=8
nvtype='double'
nvsize=8
Off_t='off_t'
lseeksize=8
alignbytes=8
prototype=define
Linker and Libraries:
ld='cc'
ldflags =' -fstack-protector-strong -L/usr/local/lib'
libpth=/usr/local/lib /usr/lib/gcc/x86_64-linux-gnu/5/include-fixed /usr/include/x86_64-linux-gnu /usr/lib /lib/x86_64-linux-gnu /lib/../lib /usr/lib/x86_64-linux-gnu /usr/lib/../lib /lib
libs=-lpthread -lnsl -ldl -lm -lcrypt -lutil -lc
perllibs=-lpthread -lnsl -ldl -lm -lcrypt -lutil -lc
libc=libc-2.23.so
so=so
useshrplib=false
libperl=libperl.a
gnulibc_version='2.23'
Dynamic Linking:
dlsrc=dl_dlopen.xs
dlext=so
d_dlsymun=undef
ccdlflags='-Wl,-E'
cccdlflags='-fPIC'
lddlflags='-shared -O2 -L/usr/local/lib -fstack-protector-strong'
Characteristics of this binary (from libperl):
Compile-time options:
HAS_TIMES
PERLIO_LAYERS
PERL_COPY_ON_WRITE
PERL_DONT_CREATE_GVSV
PERL_MALLOC_WRAP
PERL_OP_PARENT
PERL_PRESERVE_IVUV
USE_64_BIT_ALL
USE_64_BIT_INT
USE_LARGE_FILES
USE_LOCALE
USE_LOCALE_COLLATE
USE_LOCALE_CTYPE
USE_LOCALE_NUMERIC
USE_LOCALE_TIME
USE_PERLIO
USE_PERL_ATOF
Locally applied patches:
RC1
Devel::PatchPerl 1.38
Built under linux
Compiled at Jun 6 2017 12:28:06
%ENV:
PERL5LIB="/home/eric/Programmeren/lib"
PERLBREW_BASHRC_VERSION="0.78"
PERLBREW_HOME="/home/eric/.perlbrew"
PERLBREW_MANPATH="/home/eric/perl5/perlbrew/perls/perl-5.26.0-RC1/man"
PERLBREW_PATH="/home/eric/perl5/perlbrew/bin:/home/eric/perl5/perlbrew/perls/perl-5.26.0-RC1/bin"
PERLBREW_PERL="perl-5.26.0-RC1"
PERLBREW_ROOT="/home/eric/perl5/perlbrew"
PERLBREW_VERSION="0.78"
PERL_UNICODE="AS"
@INC:
/home/eric/Programmeren/lib
/home/eric/perl5/perlbrew/perls/perl-5.26.0-RC1/lib/site_perl/5.26.0/x86_64-linux
/home/eric/perl5/perlbrew/perls/perl-5.26.0-RC1/lib/site_perl/5.26.0
/home/eric/perl5/perlbrew/perls/perl-5.26.0-RC1/lib/5.26.0/x86_64-linux
/home/eric/perl5/perlbrew/perls/perl-5.26.0-RC1/lib/5.26.0