Back
From: metabase:user:3103e02c-2aae-11df-837a-5e0a49663a4f
Subject: PASS Class-MOP-1.08 v5.12.2 GNU/Linux
Date: 2010-09-25T22:31:44Z
This distribution has been tested as part of the CPAN Testers
project, supporting the Perl programming language. See
http://wiki.cpantesters.org/ for more information or email
questions to cpan-testers-discuss@perl.org
--
Dear Dave Rolsky,
This is a computer-generated report for Class-MOP-1.08
on perl 5.12.2, created by CPAN-Reporter-1.1801.
Thank you for uploading your work to CPAN. Congratulations!
All tests were successful.
Sections of this report:
* Tester comments
* Program output
* Prerequisites
* Environment and other context
------------------------------
TESTER COMMENTS
------------------------------
Additional comments from tester:
none provided
------------------------------
PROGRAM OUTPUT
------------------------------
Output from '/usr/bin/make test':
/home/doug/perl5/perlbrew/perls/perl-5.12.2/bin/perl "-Iinc" "-MModule::Install::ExtraTests" "-e" "Module::Install::ExtraTests::__harness('Test::Harness', 0, 'xt/author', '', '', 0, 'blib/lib', 'blib/arch')" t/*.t
t/000_load.t .............................. ok
t/001_basic.t ............................. ok
t/002_class_precedence_list.t ............. ok
t/003_methods.t ........................... ok
t/004_advanced_methods.t .................. ok
t/005_attributes.t ........................ ok
t/006_new_and_clone_metaclasses.t ......... ok
t/010_self_introspection.t ................ ok
t/011_create_class.t ...................... ok
t/012_package_variables.t ................. ok
t/013_add_attribute_alternate.t ........... ok
t/014_attribute_introspection.t ........... ok
t/015_metaclass_inheritance.t ............. ok
t/016_class_errors_and_edge_cases.t ....... ok
t/017_add_method_modifier.t ............... ok
t/018_anon_class.t ........................ ok
t/019_anon_class_keep_alive.t ............. ok
t/020_attribute.t ......................... ok
t/021_attribute_errors_and_edge_cases.t ... ok
t/022_attribute_duplication.t ............. ok
t/023_attribute_get_read_write.t .......... ok
t/024_attribute_initializer.t ............. ok
t/025_attribute_non_alpha_name.t .......... ok
t/030_method.t ............................ ok
t/031_method_modifiers.t .................. ok
t/032_universal_methods.t ................. ok
t/040_metaclass.t ......................... ok
t/041_metaclass_incompatibility.t ......... ok
t/042_metaclass_incompatibility_dyn.t ..... ok
t/043_instance_metaclass_incompat.t ....... ok
t/044_instance_metaclass_incompat_dyn.t ... ok
t/045_metaclass_loads_classes.t ........... ok
t/046_rebless_instance.t .................. ok
t/047_rebless_with_extra_params.t ......... ok
t/048_anon_class_create_init.t ............ ok
t/049_metaclass_reinitialize.t ............ ok
t/050_scala_style_mixin_composition.t ..... skipped: Test requires module 'SUPER' but it's not found
t/060_instance.t .......................... ok
t/061_instance_inline.t ................... ok
t/062_custom_instance.t ................... ok
t/070_immutable_metaclass.t ............... ok
t/071_immutable_w_custom_metaclass.t ...... ok
t/072_immutable_w_constructors.t .......... ok
t/073_make_mutable.t ...................... ok
t/074_immutable_custom_trait.t ............ ok
t/080_meta_package.t ...................... ok
t/081_meta_package_extension.t ............ ok
t/082_get_code_info.t ..................... ok
t/083_load_class.t ........................ ok
t/085_load_class_gvstash_detect_bug.t ..... ok
t/086_rebless_instance_away.t ............. ok
t/087_subclasses.t ........................ ok
t/100_BinaryTree_test.t ................... ok
t/101_InstanceCountingClass_test.t ........ ok
t/102_InsideOutClass_test.t ............... ok
t/103_Perl6Attribute_test.t ............... ok
t/104_AttributesWithHistory_test.t ........ ok
t/105_ClassEncapsulatedAttributes_test.t .. ok
t/106_LazyClass_test.t .................... ok
t/107_C3MethodDispatchOrder_test.t ........ skipped: Test requires module 'Algorithm::C3' but it's not found
t/108_ArrayBasedStorage_test.t ............ ok
t/200_Class_C3_compatibility.t ............ ok
t/300_random_eval_bug.t ................... ok
t/301_RT_27329_fix.t ...................... ok
t/302_modify_parent_method.t .............. ok
t/303_RT_39001_fix.t ...................... ok
t/304_constant_codeinfo.t ................. ok
t/305_RT_41255.t .......................... ok
t/306_rebless_overload.t .................. ok
t/307_null_stash.t ........................ ok
t/308_insertion_order.t ................... ok
t/309_subname.t ........................... ok
t/310_inline_structor.t ................... skipped: Test requires module 'Test::Output' but it's not found
t/311_inline_and_dollar_at.t .............. ok
t/312_anon_class_leak.t ................... skipped: Test requires module 'Test::LeakTrace' but it's not found
t/313_before_after_dollar_under.t ......... ok
t/314_class_is_pristine.t ................. ok
t/315_magic.t ............................. ok
t/316_numeric_defaults.t .................. ok
t/500_deprecated.t ........................ ok
All tests successful.
Files=80, Tests=2442, 19 wallclock secs ( 0.25 usr 1.20 sys + 9.03 cusr 7.67 csys = 18.15 CPU)
Result: PASS
------------------------------
PREREQUISITES
------------------------------
Prerequisite modules loaded:
requires:
Module Need Have
--------------------------- ---- -----
Carp 0 1.17
Data::OptList 0 0.106
Devel::GlobalDestruction 0 0.02
ExtUtils::MakeMaker 6.42 6.56
File::Spec 0 3.33
List::MoreUtils 0.12 0.22
MRO::Compat 0.05 0.11
Package::DeprecationManager 0.04 0.04
Package::Stash 0 0.08
Scalar::Util 1.18 1.23
Sub::Name 0.04 0.05
Task::Weaken 0 1.03
Test::Exception 0.27 0.29
Test::More 0.88 0.96
Test::Requires 0.05 0.05
Try::Tiny 0.02 0.06
configure_requires:
Module Need Have
--------------------------- ---- -----
ExtUtils::MakeMaker 6.42 6.56
------------------------------
ENVIRONMENT AND OTHER CONTEXT
------------------------------
Environment variables:
LANG = en_US.UTF-8
PATH = /home/doug/perl5/perlbrew/bin:/home/doug/perl5/perlbrew/perls/current/bin:/usr/local/bin/Cope:/sbin:/bin:/usr/sbin:/usr/bin:/usr/games:/usr/local/sbin:/usr/local/bin:/usr/X11R6/bin:/home/doug/bin
PERL5LIB =
PERL5OPT =
PERL5_CPANPLUS_IS_RUNNING = 13965
PERL5_CPAN_IS_RUNNING = 13965
SHELL = bash
TERM = screen
Perl special variables (and OS-specific diagnostics, for MSWin32):
$^X = /home/doug/perl5/perlbrew/perls/perl-5.12.2/bin/perl
$UID/$EUID = 1000 / 1000
$GID = 1000 4 20 24 46 109 110 111 1000
$EGID = 1000 4 20 24 46 109 110 111 1000
Perl module toolchain versions installed:
Module Have
------------------- -------
CPAN 1.94_56
Cwd 3.33
ExtUtils::CBuilder 0.2703
ExtUtils::Command 1.16
ExtUtils::Install 1.55
ExtUtils::MakeMaker 6.56
ExtUtils::Manifest 1.58
ExtUtils::ParseXS 2.2206
File::Spec 3.33
Module::Build 0.3607
Module::Signature n/a
Test::Harness 3.22
Test::More 0.96
YAML 0.72
YAML::Syck n/a
version 0.82
--
Summary of my perl5 (revision 5 version 12 subversion 2) configuration:
Platform:
osname=linux, osvers=2.6.32-24-generic-pae, archname=i686-linux
uname='linux tgao 2.6.32-24-generic-pae #43-ubuntu smp thu sep 16 15:30:27 utc 2010 i686 gnulinux '
config_args='-de -Dprefix=/home/doug/perl5/perlbrew/perls/perl-5.12.2'
hint=recommended, useposix=true, d_sigaction=define
useithreads=undef, usemultiplicity=undef
useperlio=define, d_sfio=undef, uselargefiles=define, usesocks=undef
use64bitint=undef, use64bitall=undef, uselongdouble=undef
usemymalloc=n, bincompat5005=undef
Compiler:
cc='cc', ccflags ='-fno-strict-aliasing -pipe -fstack-protector -I/usr/local/include -D_LARGEFILE_SOURCE -D_FILE_OFFSET_BITS=64',
optimize='-O2',
cppflags='-fno-strict-aliasing -pipe -fstack-protector -I/usr/local/include'
ccversion='', gccversion='4.4.3', gccosandvers=''
intsize=4, longsize=4, ptrsize=4, doublesize=8, byteorder=1234
d_longlong=define, longlongsize=8, d_longdbl=define, longdblsize=12
ivtype='long', ivsize=4, nvtype='double', nvsize=8, Off_t='off_t', lseeksize=8
alignbytes=4, prototype=define
Linker and Libraries:
ld='cc', ldflags =' -fstack-protector -L/usr/local/lib'
libpth=/usr/local/lib /lib /usr/lib /usr/lib64
libs=-lnsl -ldl -lm -lcrypt -lutil -lc
perllibs=-lnsl -ldl -lm -lcrypt -lutil -lc
libc=/lib/libc-2.11.1.so, so=so, useshrplib=false, libperl=libperl.a
gnulibc_version='2.11.1'
Dynamic Linking:
dlsrc=dl_dlopen.xs, dlext=so, d_dlsymun=undef, ccdlflags='-Wl,-E'
cccdlflags='-fPIC', lddlflags='-shared -O2 -L/usr/local/lib -fstack-protector'
Characteristics of this binary (from libperl):
Compile-time options: PERL_DONT_CREATE_GVSV PERL_MALLOC_WRAP
USE_LARGE_FILES USE_PERLIO USE_PERL_ATOF
Built under linux
Compiled at Sep 23 2010 17:24:42
%ENV:
PERL5LIB=""
PERL5OPT=""
PERL5_CPANPLUS_IS_RUNNING="13965"
PERL5_CPAN_IS_RUNNING="13965"
@INC:
/home/doug/perl5/perlbrew/perls/perl-5.12.2/lib/site_perl/5.12.2/i686-linux
/home/doug/perl5/perlbrew/perls/perl-5.12.2/lib/site_perl/5.12.2
/home/doug/perl5/perlbrew/perls/perl-5.12.2/lib/5.12.2/i686-linux
/home/doug/perl5/perlbrew/perls/perl-5.12.2/lib/5.12.2
.