Acme-MetaSyntactic v1.015 Perl 5 v5.18.4 x86_64-linux-thread-multi
- Status
- Pass
- From
- David Cantrell (DCANTRELL)
- Dist
-
Acme-MetaSyntactic v1.015
- Platform
- Perl 5 v5.18.4 x86_64-linux-thread-multi
- Date
- 2021-05-05 12:37:38
- ID
- acee864a-ad9e-11eb-a773-e4effa334126
This distribution has been tested as part of the CPAN Testers
project, supporting the Perl programming language. See
http://wiki.cpantesters.org/ for more information or email
questions to cpan-testers-discuss@perl.org
--
Dear Philippe Bruhat (BooK),
This is a computer-generated report for Acme-MetaSyntactic-1.015
on perl 5.18.4, created by CPAN-Reporter-1.2018.
Thank you for uploading your work to CPAN. Congratulations!
All tests were successful.
Sections of this report:
* Tester comments
* Program output
* Prerequisites
* Environment and other context
------------------------------
TESTER COMMENTS
------------------------------
Additional comments from tester:
this report is from an automated smoke testing program
and was not reviewed by a human for accuracy
------------------------------
PROGRAM OUTPUT
------------------------------
Output from '/usr/bin/make test':
PERL_DL_NONLAZY=1 "/home/david/cpantesting/perl-5.18.4/bin/perl" "-MExtUtils::Command::MM" "-MTest::Harness" "-e" "undef *Test::Harness::Switches; test_harness(0, 'blib/lib', 'blib/arch')" t/*.t
t/00-compile.t .......... ok
#
# Versions for all modules listed in MYMETA.json (including optional ones):
#
# === Configure Requires ===
#
# Module Want Have
# ------------------- ---- ----
# ExtUtils::MakeMaker any 7.62
#
# === Build Requires ===
#
# Module Want Have
# ------------------- ---- ----
# ExtUtils::MakeMaker any 7.62
#
# === Test Requires ===
#
# Module Want Have
# --------------------- ---- --------
# Cwd any 3.40
# ExtUtils::MakeMaker any 7.62
# File::Find any 1.23
# File::Spec any 3.40
# File::Spec::Functions any 3.40
# IO::Handle any 1.34
# IPC::Open3 any 1.13
# Test::More any 1.302183
# lib any 0.63
#
# === Test Recommends ===
#
# Module Want Have
# ---------- -------- --------
# CPAN::Meta 2.120900 2.150010
#
# === Runtime Requires ===
#
# Module Want Have
# --------------------- ---- --------
# Carp any 1.29
# File::Basename any 2.84
# File::Glob any 1.20_01
# File::Spec any 3.40
# Getopt::Long any 2.39
# LWP::UserAgent any 6.53
# List::Util any 1.56
# Test::Builder::Module any 1.302183
# Win32::Locale any missing
# base any 2.18
# strict any 1.07
# warnings any 1.18
#
#
# *** WARNING WARNING WARNING WARNING WARNING WARNING WARNING WARNING ***
#
# The following REQUIRED prerequisites were not satisfied:
#
# Win32::Locale is not installed (any version required)
#
t/00-report-prereqs.t ... ok
# Tested Acme::MetaSyntactic 1.015, Perl 5.018004, /home/david/cpantesting/perl-5.18.4/bin/perl
t/00load.t .............. ok
t/05class.t ............. ok
t/07data.t .............. ok
t/10meta.t .............. ok
t/11namespace.t ......... ok
t/12fail.t .............. ok
t/12live.t .............. ok
t/15func.t .............. ok
t/16import.t ............ ok
t/20theme.t ............. ok
t/29meta.t .............. ok
t/30list.t .............. ok
t/31any.t ............... ok
t/32multi.t ............. ok
t/33locale.t ............ ok
t/33locale_territory.t .. ok
t/33locale_win32.t ...... ok
t/34data.t .............. ok
Failed to get content at fail (400 URL must be absolute at t/35remote.t line 89.
t/35remote.t ............ ok
Failed to get content at fail (400 URL must be absolute at t/35remote2.t line 47.
t/35remote2.t ........... ok
t/40inc.t ............... ok
t/50usecase.t ........... ok
t/author-pod-syntax.t ... skipped: these tests are for testing by the author
t/release-distmeta.t .... skipped: these tests are for release candidate testing
All tests successful.
Files=26, Tests=257, 109 wallclock secs ( 0.88 usr 0.27 sys + 22.71 cusr 3.37 csys = 27.23 CPU)
Result: PASS
------------------------------
PREREQUISITES
------------------------------
Prerequisite modules loaded:
requires:
Module Need Have
--------------------- ----- --------
base 0 2.18
Carp 0 1.29
File::Basename 0 2.84
File::Glob 0 1.20_01
File::Spec 0 3.40
Getopt::Long 0 2.39
List::Util 0 1.56
LWP::UserAgent 0 6.53
perl 5.006 5.018004
strict 0 1.07
Test::Builder::Module 0 1.302183
warnings 0 1.18
! Win32::Locale 0 n/a
build_requires:
Module Need Have
--------------------- ----- --------
Cwd 0 3.40
ExtUtils::MakeMaker 0 7.62
File::Find 0 1.23
File::Spec 0 3.40
File::Spec::Functions 0 3.40
IO::Handle 0 1.34
IPC::Open3 0 1.13
lib 0 0.63
Test::More 0 1.302183
configure_requires:
Module Need Have
--------------------- ----- --------
ExtUtils::MakeMaker 0 7.62
------------------------------
ENVIRONMENT AND OTHER CONTEXT
------------------------------
Environment variables:
AUTOMATED_TESTING = 1
LANG = en_GB.UTF-8
LANGUAGE = en_GB:en
LC_TERMINAL = iTerm2
LC_TERMINAL_VERSION = 3.4.6
NONINTERACTIVE_TESTING = 1
PATH = /home/david/perl5/perlbrew/bin:/home/david/perl5/perlbrew/perls/perl-5.30.2/bin:/usr/local/bin:/usr/bin:/bin:/usr/local/games:/usr/games
PERL = 5.18.4
PERL5LIB =
PERL5OPT =
PERL5_CPANPLUS_IS_RUNNING = 2137
PERL5_CPAN_IS_RUNNING = 2137
PERLBREW_HOME = /home/david/.perlbrew
PERLBREW_MANPATH = /home/david/perl5/perlbrew/perls/perl-5.30.2/man
PERLBREW_PATH = /home/david/perl5/perlbrew/bin:/home/david/perl5/perlbrew/perls/perl-5.30.2/bin
PERLBREW_PERL = perl-5.30.2
PERLBREW_ROOT = /home/david/perl5/perlbrew
PERLBREW_SHELLRC_VERSION = 0.89
PERLBREW_VERSION = 0.89
PERLVER = 5.18.4
PERL_INLINE_DIRECTORY = /home/david/.Inline-5.18.4
PERL_MM_USE_DEFAULT = 1
PERL_USE_UNSAFE_INC = 0
SHELL = /bin/bash
TERM = screen
Perl special variables (and OS-specific diagnostics, for MSWin32):
$^X = /home/david/cpantesting/perl-5.18.4/bin/perl
$UID/$EUID = 1000 / 1000
$GID = 1000 24 25 27 29 30 44 46 109 1000
$EGID = 1000 24 25 27 29 30 44 46 109 1000
Perl module toolchain versions installed:
Module Have
------------------- --------
CPAN 2.00
CPAN::Meta 2.150010
Cwd 3.40
ExtUtils::CBuilder 0.280210
ExtUtils::Command 7.62
ExtUtils::Install 2.06
ExtUtils::MakeMaker 7.62
ExtUtils::Manifest 1.70
ExtUtils::ParseXS 3.18
File::Spec 3.40
JSON 4.03
JSON::PP 4.02
Module::Build 0.4231
Module::Signature n/a
Parse::CPAN::Meta 2.150010
Test::Harness 3.42
Test::More 1.302183
YAML n/a
YAML::Syck n/a
version 0.9902
--
Summary of my perl5 (revision 5 version 18 subversion 4) configuration:
Platform:
osname=linux, osvers=4.9.0-8-amd64, archname=x86_64-linux-thread-multi
uname='linux pigsty 4.9.0-8-amd64 #1 smp debian 4.9.144-3 (2019-02-02) x86_64 gnulinux '
config_args='-de -Duse64bitall -Dusethreads -Dprefix=/home/david/cpantesting/perl-5.18.4 -A ccflags=-fwrapv'
hint=previous, useposix=true, d_sigaction=define
useithreads=define, usemultiplicity=define
useperlio=define, d_sfio=undef, uselargefiles=define, usesocks=undef
use64bitint=define, use64bitall=define, uselongdouble=undef
usemymalloc=n, bincompat5005=undef
Compiler:
cc='cc', ccflags ='-D_REENTRANT -D_GNU_SOURCE -fno-strict-aliasing -pipe -fstack-protector -I/usr/local/include -D_LARGEFILE_SOURCE -D_FILE_OFFSET_BITS=64 -fwrapv -fwrapv',
optimize='-O2',
cppflags='-D_REENTRANT -D_GNU_SOURCE -fno-strict-aliasing -pipe -fstack-protector -I/usr/local/include -D_REENTRANT -D_GNU_SOURCE -fno-strict-aliasing -pipe -fstack-protector -I/usr/local/include -D_LARGEFILE_SOURCE -D_FILE_OFFSET_BITS=64 -fwrapv -D_REENTRANT -D_GNU_SOURCE -fno-strict-aliasing -pipe -fstack-protector -I/usr/local/include -D_LARGEFILE_SOURCE -D_FILE_OFFSET_BITS=64 -fwrapv -fwrapv'
ccversion='', gccversion='6.3.0 20170516', gccosandvers=''
intsize=4, longsize=8, ptrsize=8, doublesize=8, byteorder=12345678
d_longlong=define, longlongsize=8, d_longdbl=define, longdblsize=16
ivtype='long', ivsize=8, nvtype='double', nvsize=8, Off_t='off_t', lseeksize=8
alignbytes=8, prototype=define
Linker and Libraries:
ld='cc', ldflags =' -fstack-protector -L/usr/local/lib'
libpth=/usr/local/lib /lib/x86_64-linux-gnu /lib/../lib /usr/lib/x86_64-linux-gnu /usr/lib/../lib /lib /usr/lib
libs=-lnsl -ldb -ldl -lm -lcrypt -lutil -lpthread -lc
perllibs=-lnsl -ldl -lm -lcrypt -lutil -lpthread -lc
libc=libc-2.24.so, so=so, useshrplib=false, libperl=libperl.a
gnulibc_version='2.24'
Dynamic Linking:
dlsrc=dl_dlopen.xs, dlext=so, d_dlsymun=undef, ccdlflags='-Wl,-E'
cccdlflags='-fPIC', lddlflags='-shared -O2 -L/usr/local/lib -fstack-protector'
Characteristics of this binary (from libperl):
Compile-time options: HAS_TIMES MULTIPLICITY PERLIO_LAYERS
PERL_DONT_CREATE_GVSV
PERL_HASH_FUNC_ONE_AT_A_TIME_HARD
PERL_IMPLICIT_CONTEXT PERL_MALLOC_WRAP
PERL_PRESERVE_IVUV PERL_SAWAMPERSAND USE_64_BIT_ALL
USE_64_BIT_INT USE_ITHREADS USE_LARGE_FILES
USE_LOCALE USE_LOCALE_COLLATE USE_LOCALE_CTYPE
USE_LOCALE_NUMERIC USE_PERLIO USE_PERL_ATOF
USE_REENTRANT_API
Locally applied patches:
Devel::PatchPerl 1.56
Built under linux
Compiled at Apr 25 2019 17:34:00
%ENV:
PERL="5.18.4"
PERL5LIB=""
PERL5OPT=""
PERL5_CPANPLUS_IS_RUNNING="2137"
PERL5_CPAN_IS_RUNNING="2137"
PERLBREW_HOME="/home/david/.perlbrew"
PERLBREW_MANPATH="/home/david/perl5/perlbrew/perls/perl-5.30.2/man"
PERLBREW_PATH="/home/david/perl5/perlbrew/bin:/home/david/perl5/perlbrew/perls/perl-5.30.2/bin"
PERLBREW_PERL="perl-5.30.2"
PERLBREW_ROOT="/home/david/perl5/perlbrew"
PERLBREW_SHELLRC_VERSION="0.89"
PERLBREW_VERSION="0.89"
PERLVER="5.18.4"
PERL_INLINE_DIRECTORY="/home/david/.Inline-5.18.4"
PERL_MM_USE_DEFAULT="1"
PERL_USE_UNSAFE_INC="0"
@INC:
/home/david/cpantesting/perl-5.18.4/lib/site_perl/5.18.4/x86_64-linux-thread-multi
/home/david/cpantesting/perl-5.18.4/lib/site_perl/5.18.4
/home/david/cpantesting/perl-5.18.4/lib/5.18.4/x86_64-linux-thread-multi
/home/david/cpantesting/perl-5.18.4/lib/5.18.4
.