Report for IO-Socket-Multicast-1.12

Back
From: metabase:user:322078bc-2aae-11df-837a-5e0a49663a4f
Subject: PASS IO-Socket-Multicast-1.12 v5.12.1 FreeBSD
Date: 2011-07-30T21:41:25Z

This distribution has been tested as part of the CPAN Testers
project, supporting the Perl programming language.  See
http://wiki.cpantesters.org/ for more information or email
questions to cpan-testers-discuss@perl.org


--

Dear Andrew Bramble,

This is a computer-generated error report created automatically by
CPANPLUS, version 0.9109. Testers personal comments may appear
at the end of this report.

MAKE TEST passed: PERL_DL_NONLAZY=1 /usr/home/cpan/pit/rel/perl-5.12.1/bin/perl "-MExtUtils::Command::MM" "-e" "test_harness(0, 'blib/lib', 'blib/arch')" t/*.t
t/01_use.t ........ ok
t/03_multicast.t .. ok
t/04_send.t ....... skipped: Developer testing only
All tests successful.
Files=3, Tests=15,  1 wallclock secs ( 0.00 usr  0.11 sys +  0.05 cusr  0.32 csys =  0.48 CPU)
Result: PASS

[MSG] [Sat Jul 30 22:40:13 2011] Sending test report for 'IO-Socket-Multicast-1.12'

This report was machine-generated by CPANPLUS::Dist::YACSmoke 0.64.
Powered by minismokebox version 0.54

------------------------------
ENVIRONMENT AND OTHER CONTEXT
------------------------------

Environment variables:

    AUTOMATED_TESTING = 1
    PATH = /sbin:/bin:/usr/sbin:/usr/bin:/usr/games:/usr/local/sbin:/usr/local/bin:/home/cpan/bin
    PERL5LIB = :/usr/home/cpan/pit/rel/conf/perl-5.12.1/.cpanplus/5.12.1/build/Class-XSAccessor-1.11/blib/lib:/usr/home/cpan/pit/rel/conf/perl-5.12.1/.cpanplus/5.12.1/build/Class-XSAccessor-1.11/blib/arch:/usr/home/cpan/pit/rel/conf/perl-5.12.1/.cpanplus/5.12.1/build/Graph-0.94/blib/lib:/usr/home/cpan/pit/rel/conf/perl-5.12.1/.cpanplus/5.12.1/build/Graph-0.94/blib/arch:/usr/home/cpan/pit/rel/conf/perl-5.12.1/.cpanplus/5.12.1/build/IO-Interface-1.06/blib/lib:/usr/home/cpan/pit/rel/conf/perl-5.12.1/.cpanplus/5.12.1/build/IO-Interface-1.06/blib/arch:/usr/home/cpan/pit/rel/conf/perl-5.12.1/.cpanplus/5.12.1/build/IO-Socket-Multicast-1.12/blib/lib:/usr/home/cpan/pit/rel/conf/perl-5.12.1/.cpanplus/5.12.1/build/IO-Socket-Multicast-1.12/blib/arch
    PERL5_CPANPLUS_IS_RUNNING = 75349
    PERL5_CPANPLUS_IS_VERSION = 0.9109
    PERL5_MINISMOKEBOX = 0.54
    PERL5_YACSMOKE_BASE = /usr/home/cpan/pit/rel/conf/perl-5.12.1
    PERL_EXTUTILS_AUTOINSTALL = --defaultdeps
    PERL_MM_USE_DEFAULT = 1
    SHELL = /usr/local/bin/bash
    TERM = screen

Perl special variables (and OS-specific diagnostics, for MSWin32):

    Perl: $^X = /usr/home/cpan/pit/rel/perl-5.12.1/bin/perl
    UID:  $<  = 1001
    EUID: $>  = 1001
    GID:  $(  = 1001 1001
    EGID: $)  = 1001 1001


-------------------------------


--

Summary of my perl5 (revision 5 version 12 subversion 1) configuration:
   
  Platform:
    osname=freebsd, osvers=8.1-release, archname=i386-freebsd-thread-multi-64int
    uname='freebsd snooze.bingosnet.co.uk 8.1-release freebsd 8.1-release #0: mon jul 19 02:55:53 utc 2010 root@almeida.cse.buffalo.edu:usrobjusrsrcsysgeneric i386 '
    config_args='-des -Dprefix=/usr/home/cpan/pit/rel/perl-5.12.1 -Dusethreads -Duse64bitint'
    hint=recommended, useposix=true, d_sigaction=define
    useithreads=define, usemultiplicity=define
    useperlio=define, d_sfio=undef, uselargefiles=define, usesocks=undef
    use64bitint=define, use64bitall=undef, uselongdouble=undef
    usemymalloc=n, bincompat5005=undef
  Compiler:
    cc='cc', ccflags ='-DHAS_FPSETMASK -DHAS_FLOATINGPOINT_H -fno-strict-aliasing -pipe -fstack-protector -I/usr/local/include',
    optimize='-O',
    cppflags='-DHAS_FPSETMASK -DHAS_FLOATINGPOINT_H -fno-strict-aliasing -pipe -fstack-protector -I/usr/local/include'
    ccversion='', gccversion='4.2.1 20070719  [FreeBSD]', gccosandvers=''
    intsize=4, longsize=4, ptrsize=4, doublesize=8, byteorder=12345678
    d_longlong=define, longlongsize=8, d_longdbl=define, longdblsize=12
    ivtype='long long', ivsize=8, nvtype='double', nvsize=8, Off_t='off_t', lseeksize=8
    alignbytes=4, prototype=define
  Linker and Libraries:
    ld='cc', ldflags ='-pthread -Wl,-E  -fstack-protector -L/usr/local/lib'
    libpth=/usr/lib /usr/local/lib
    libs=-lgdbm -lm -lcrypt
    perllibs=-lm -lcrypt
    libc=, so=so, useshrplib=false, libperl=libperl.a
    gnulibc_version=''
  Dynamic Linking:
    dlsrc=dl_dlopen.xs, dlext=so, d_dlsymun=undef, ccdlflags=' '
    cccdlflags='-DPIC -fPIC', lddlflags='-shared  -L/usr/local/lib -fstack-protector'


Characteristics of this binary (from libperl): 
  Compile-time options: MULTIPLICITY PERL_DONT_CREATE_GVSV
                        PERL_IMPLICIT_CONTEXT PERL_MALLOC_WRAP USE_64_BIT_INT
                        USE_ITHREADS USE_LARGE_FILES USE_PERLIO USE_PERL_ATOF
                        USE_REENTRANT_API
  Built under freebsd
  Compiled at Aug 12 2010 18:18:00
  %ENV:
    PERL5LIB=":/usr/home/cpan/pit/rel/conf/perl-5.12.1/.cpanplus/5.12.1/build/Class-XSAccessor-1.11/blib/lib:/usr/home/cpan/pit/rel/conf/perl-5.12.1/.cpanplus/5.12.1/build/Class-XSAccessor-1.11/blib/arch:/usr/home/cpan/pit/rel/conf/perl-5.12.1/.cpanplus/5.12.1/build/Graph-0.94/blib/lib:/usr/home/cpan/pit/rel/conf/perl-5.12.1/.cpanplus/5.12.1/build/Graph-0.94/blib/arch:/usr/home/cpan/pit/rel/conf/perl-5.12.1/.cpanplus/5.12.1/build/IO-Interface-1.06/blib/lib:/usr/home/cpan/pit/rel/conf/perl-5.12.1/.cpanplus/5.12.1/build/IO-Interface-1.06/blib/arch:/usr/home/cpan/pit/rel/conf/perl-5.12.1/.cpanplus/5.12.1/build/IO-Socket-Multicast-1.12/blib/lib:/usr/home/cpan/pit/rel/conf/perl-5.12.1/.cpanplus/5.12.1/build/IO-Socket-Multicast-1.12/blib/arch"
    PERL5_CPANPLUS_IS_RUNNING="75349"
    PERL5_CPANPLUS_IS_VERSION="0.9109"
    PERL5_MINISMOKEBOX="0.54"
    PERL5_YACSMOKE_BASE="/usr/home/cpan/pit/rel/conf/perl-5.12.1"
    PERL_EXTUTILS_AUTOINSTALL="--defaultdeps"
    PERL_MM_USE_DEFAULT="1"
  @INC:
    /usr/home/cpan/pit/rel/conf/perl-5.12.1/.cpanplus/5.12.1/build/Class-XSAccessor-1.11/blib/lib
    /usr/home/cpan/pit/rel/conf/perl-5.12.1/.cpanplus/5.12.1/build/Class-XSAccessor-1.11/blib/arch
    /usr/home/cpan/pit/rel/conf/perl-5.12.1/.cpanplus/5.12.1/build/Graph-0.94/blib/lib
    /usr/home/cpan/pit/rel/conf/perl-5.12.1/.cpanplus/5.12.1/build/Graph-0.94/blib/arch
    /usr/home/cpan/pit/rel/conf/perl-5.12.1/.cpanplus/5.12.1/build/IO-Interface-1.06/blib/lib
    /usr/home/cpan/pit/rel/conf/perl-5.12.1/.cpanplus/5.12.1/build/IO-Interface-1.06/blib/arch
    /usr/home/cpan/pit/rel/conf/perl-5.12.1/.cpanplus/5.12.1/build/IO-Socket-Multicast-1.12/blib/lib
    /usr/home/cpan/pit/rel/conf/perl-5.12.1/.cpanplus/5.12.1/build/IO-Socket-Multicast-1.12/blib/arch
    /usr/home/cpan/pit/rel/perl-5.12.1/lib/site_perl/5.12.1/i386-freebsd-thread-multi-64int
    /usr/home/cpan/pit/rel/perl-5.12.1/lib/site_perl/5.12.1
    /usr/home/cpan/pit/rel/perl-5.12.1/lib/5.12.1/i386-freebsd-thread-multi-64int
    /usr/home/cpan/pit/rel/perl-5.12.1/lib/5.12.1
    .