Bio-DB-BioFetch v1.7.3 Perl 5 v5.24.4 x86_64-linux-thread-multi

Status
Pass
From
David Cantrell (DCANTRELL)
Dist
Bio-DB-BioFetch v1.7.3
Platform
Perl 5 v5.24.4 x86_64-linux-thread-multi
Date
2020-01-21 10:13:31
ID
ace2a35a-3c36-11ea-8cda-9f54052d0de1
This distribution has been tested as part of the CPAN Testers
project, supporting the Perl programming language.  See
http://wiki.cpantesters.org/ for more information or email
questions to cpan-testers-discuss@perl.org


--
Dear Colin Diesh,

This is a computer-generated report for Bio-DB-BioFetch-1.7.3
on perl 5.24.4, created by CPAN-Reporter-1.2018.

Thank you for uploading your work to CPAN.  Congratulations!
All tests were successful.

Sections of this report:

    * Tester comments
    * Program output
    * Prerequisites
    * Environment and other context

------------------------------
TESTER COMMENTS
------------------------------

Additional comments from tester:

this report is from an automated smoke testing program
and was not reviewed by a human for accuracy

------------------------------
PROGRAM OUTPUT
------------------------------

Output from '/usr/bin/make test':

PERL_DL_NONLAZY=1 "/home/david/cpantesting/perl-5.24.4/bin/perl" "-MExtUtils::Command::MM" "-MTest::Harness" "-e" "undef *Test::Harness::Switches; test_harness(0, 'blib/lib', 'blib/arch')" t/*.t
t/00-compile.t ........... ok
t/author-eol.t ........... skipped: these tests are for testing by the author
t/author-mojibake.t ...... skipped: these tests are for testing by the author
t/author-pod-coverage.t .. skipped: these tests are for testing by the author
t/author-pod-syntax.t .... skipped: these tests are for testing by the author

--------------------- WARNING ---------------------
MSG: No feature key in putative feature table line: FT   CHAIN           1..125

---------------------------------------------------

--------------------- WARNING ---------------------
MSG: failed to parse feature table line for seq YNB3_YEAST
FT   CHAIN           1..125

---------------------------------------------------

--------------------- WARNING ---------------------
MSG: No feature key in putative feature table line: FT                   /note="Putative uncharacterized protein YNL013C"

---------------------------------------------------

--------------------- WARNING ---------------------
MSG: failed to parse feature table line for seq YNB3_YEAST
FT                   /note="Putative uncharacterized protein YNL013C"

---------------------------------------------------

--------------------- WARNING ---------------------
MSG: No feature key in putative feature table line: FT                   /id="PRO_0000203464"

---------------------------------------------------

--------------------- WARNING ---------------------
MSG: failed to parse feature table line for seq YNB3_YEAST
FT                   /id="PRO_0000203464"

---------------------------------------------------

--------------------- WARNING ---------------------
MSG: No feature key in putative feature table line: FT   TRANSMEM        28..48

---------------------------------------------------

--------------------- WARNING ---------------------
MSG: failed to parse feature table line for seq YNB3_YEAST
FT   TRANSMEM        28..48

---------------------------------------------------

--------------------- WARNING ---------------------
MSG: No feature key in putative feature table line: FT                   /note="Helical"

---------------------------------------------------

--------------------- WARNING ---------------------
MSG: failed to parse feature table line for seq YNB3_YEAST
FT                   /note="Helical"

---------------------------------------------------

--------------------- WARNING ---------------------
MSG: No feature key in putative feature table line: FT                   /evidence="ECO:0000255"

---------------------------------------------------

--------------------- WARNING ---------------------
MSG: failed to parse feature table line for seq YNB3_YEAST
FT                   /evidence="ECO:0000255"

---------------------------------------------------

--------------------- WARNING ---------------------
MSG: No feature key in putative feature table line: FT   TRANSMEM        54..74

---------------------------------------------------

--------------------- WARNING ---------------------
MSG: failed to parse feature table line for seq YNB3_YEAST
FT   TRANSMEM        54..74

---------------------------------------------------

--------------------- WARNING ---------------------
MSG: No feature key in putative feature table line: FT                   /note="Helical"

---------------------------------------------------

--------------------- WARNING ---------------------
MSG: failed to parse feature table line for seq YNB3_YEAST
FT                   /note="Helical"

---------------------------------------------------

--------------------- WARNING ---------------------
MSG: No feature key in putative feature table line: FT                   /evidence="ECO:0000255"

---------------------------------------------------

--------------------- WARNING ---------------------
MSG: failed to parse feature table line for seq YNB3_YEAST
FT                   /evidence="ECO:0000255"

---------------------------------------------------

--------------------- WARNING ---------------------
MSG: No feature key in putative feature table line: FT   INIT_MET        1

---------------------------------------------------

--------------------- WARNING ---------------------
MSG: failed to parse feature table line for seq LMNB1_MOUSE
FT   INIT_MET        1

---------------------------------------------------

--------------------- WARNING ---------------------
MSG: No feature key in putative feature table line: FT                   /note="Removed"

---------------------------------------------------

--------------------- WARNING ---------------------
MSG: failed to parse feature table line for seq LMNB1_MOUSE
FT                   /note="Removed"

---------------------------------------------------

--------------------- WARNING ---------------------
MSG: No feature key in putative feature table line: FT                   /evidence="ECO:0000250|UniProtKB:P20700"

---------------------------------------------------

--------------------- WARNING ---------------------
MSG: failed to parse feature table line for seq LMNB1_MOUSE
FT                   /evidence="ECO:0000250|UniProtKB:P20700"

---------------------------------------------------

--------------------- WARNING ---------------------
MSG: No feature key in putative feature table line: FT   CHAIN           2..585

---------------------------------------------------

--------------------- WARNING ---------------------
MSG: failed to parse feature table line for seq LMNB1_MOUSE
FT   CHAIN           2..585

---------------------------------------------------

--------------------- WARNING ---------------------
MSG: No feature key in putative feature table line: FT                   /note="Lamin-B1"

---------------------------------------------------

--------------------- WARNING ---------------------
MSG: failed to parse feature table line for seq LMNB1_MOUSE
FT                   /note="Lamin-B1"

---------------------------------------------------

--------------------- WARNING ---------------------
MSG: No feature key in putative feature table line: FT                   /id="PRO_0000063817"

---------------------------------------------------

--------------------- WARNING ---------------------
MSG: failed to parse feature table line for seq LMNB1_MOUSE
FT                   /id="PRO_0000063817"

---------------------------------------------------

--------------------- WARNING ---------------------
MSG: No feature key in putative feature table line: FT   PROPEP          586..588

---------------------------------------------------

--------------------- WARNING ---------------------
MSG: failed to parse feature table line for seq LMNB1_MOUSE
FT   PROPEP          586..588

---------------------------------------------------

--------------------- WARNING ---------------------
MSG: No feature key in putative feature table line: FT                   /note="Removed in mature form"

---------------------------------------------------

--------------------- WARNING ---------------------
MSG: failed to parse feature table line for seq LMNB1_MOUSE
FT                   /note="Removed in mature form"

---------------------------------------------------

--------------------- WARNING ---------------------
MSG: No feature key in putative feature table line: FT                   /evidence="ECO:0000250"

---------------------------------------------------

--------------------- WARNING ---------------------
MSG: failed to parse feature table line for seq LMNB1_MOUSE
FT                   /evidence="ECO:0000250"

---------------------------------------------------

--------------------- WARNING ---------------------
MSG: No feature key in putative feature table line: FT                   /id="PRO_0000403467"

---------------------------------------------------

--------------------- WARNING ---------------------
MSG: failed to parse feature table line for seq LMNB1_MOUSE
FT                   /id="PRO_0000403467"

---------------------------------------------------

--------------------- WARNING ---------------------
MSG: No feature key in putative feature table line: FT   DOMAIN          33..389

---------------------------------------------------

--------------------- WARNING ---------------------
MSG: failed to parse feature table line for seq LMNB1_MOUSE
FT   DOMAIN          33..389

---------------------------------------------------

--------------------- WARNING ---------------------
MSG: No feature key in putative feature table line: FT                   /note="IF rod"

---------------------------------------------------

--------------------- WARNING ---------------------
MSG: failed to parse feature table line for seq LMNB1_MOUSE
FT                   /note="IF rod"

---------------------------------------------------

--------------------- WARNING ---------------------
MSG: No feature key in putative feature table line: FT                   /evidence="ECO:0000255|PROSITE-ProRule:PRU01188"

---------------------------------------------------

--------------------- WARNING ---------------------
MSG: failed to parse feature table line for seq LMNB1_MOUSE
FT                   /evidence="ECO:0000255|PROSITE-ProRule:PRU01188"

---------------------------------------------------

--------------------- WARNING ---------------------
MSG: No feature key in putative feature table line: FT   DOMAIN          431..547

---------------------------------------------------

--------------------- WARNING ---------------------
MSG: failed to parse feature table line for seq LMNB1_MOUSE
FT   DOMAIN          431..547

---------------------------------------------------

--------------------- WARNING ---------------------
MSG: No feature key in putative feature table line: FT                   /note="LTD"

---------------------------------------------------

--------------------- WARNING ---------------------
MSG: failed to parse feature table line for seq LMNB1_MOUSE
FT                   /note="LTD"

---------------------------------------------------

--------------------- WARNING ---------------------
MSG: No feature key in putative feature table line: FT                   /evidence="ECO:0000255|PROSITE-ProRule:PRU01187"

---------------------------------------------------

--------------------- WARNING ---------------------
MSG: failed to parse feature table line for seq LMNB1_MOUSE
FT                   /evidence="ECO:0000255|PROSITE-ProRule:PRU01187"

---------------------------------------------------

--------------------- WARNING ---------------------
MSG: No feature key in putative feature table line: FT   REGION          2..35

---------------------------------------------------

--------------------- WARNING ---------------------
MSG: failed to parse feature table line for seq LMNB1_MOUSE
FT   REGION          2..35

---------------------------------------------------

--------------------- WARNING ---------------------
MSG: No feature key in putative feature table line: FT                   /note="Head"

---------------------------------------------------

--------------------- WARNING ---------------------
MSG: failed to parse feature table line for seq LMNB1_MOUSE
FT                   /note="Head"

---------------------------------------------------

--------------------- WARNING ---------------------
MSG: No feature key in putative feature table line: FT   REGION          36..70

---------------------------------------------------

--------------------- WARNING ---------------------
MSG: failed to parse feature table line for seq LMNB1_MOUSE
FT   REGION          36..70

---------------------------------------------------

--------------------- WARNING ---------------------
MSG: No feature key in putative feature table line: FT                   /note="Coil 1A"

---------------------------------------------------

--------------------- WARNING ---------------------
MSG: failed to parse feature table line for seq LMNB1_MOUSE
FT                   /note="Coil 1A"

---------------------------------------------------

--------------------- WARNING ---------------------
MSG: No feature key in putative feature table line: FT   REGION          71..82

---------------------------------------------------

--------------------- WARNING ---------------------
MSG: failed to parse feature table line for seq LMNB1_MOUSE
FT   REGION          71..82

---------------------------------------------------

--------------------- WARNING ---------------------
MSG: No feature key in putative feature table line: FT                   /note="Linker 1"

---------------------------------------------------

--------------------- WARNING ---------------------
MSG: failed to parse feature table line for seq LMNB1_MOUSE
FT                   /note="Linker 1"

---------------------------------------------------

--------------------- WARNING ---------------------
MSG: No feature key in putative feature table line: FT   REGION          83..216

---------------------------------------------------

--------------------- WARNING ---------------------
MSG: failed to parse feature table line for seq LMNB1_MOUSE
FT   REGION          83..216

---------------------------------------------------

--------------------- WARNING ---------------------
MSG: No feature key in putative feature table line: FT                   /note="Coil 1B"

---------------------------------------------------

--------------------- WARNING ---------------------
MSG: failed to parse feature table line for seq LMNB1_MOUSE
FT                   /note="Coil 1B"

---------------------------------------------------

--------------------- WARNING ---------------------
MSG: No feature key in putative feature table line: FT   REGION          217..244

---------------------------------------------------

--------------------- WARNING ---------------------
MSG: failed to parse feature table line for seq LMNB1_MOUSE
FT   REGION          217..244

---------------------------------------------------

--------------------- WARNING ---------------------
MSG: No feature key in putative feature table line: FT                   /note="Linker 2"

---------------------------------------------------

--------------------- WARNING ---------------------
MSG: failed to parse feature table line for seq LMNB1_MOUSE
FT                   /note="Linker 2"

---------------------------------------------------

--------------------- WARNING ---------------------
MSG: No feature key in putative feature table line: FT   REGION          245..387

---------------------------------------------------

--------------------- WARNING ---------------------
MSG: failed to parse feature table line for seq LMNB1_MOUSE
FT   REGION          245..387

---------------------------------------------------

--------------------- WARNING ---------------------
MSG: No feature key in putative feature table line: FT                   /note="Coil 2"

---------------------------------------------------

--------------------- WARNING ---------------------
MSG: failed to parse feature table line for seq LMNB1_MOUSE
FT                   /note="Coil 2"

---------------------------------------------------

--------------------- WARNING ---------------------
MSG: No feature key in putative feature table line: FT   REGION          388..588

---------------------------------------------------

--------------------- WARNING ---------------------
MSG: failed to parse feature table line for seq LMNB1_MOUSE
FT   REGION          388..588

---------------------------------------------------

--------------------- WARNING ---------------------
MSG: No feature key in putative feature table line: FT                   /note="Tail"

---------------------------------------------------

--------------------- WARNING ---------------------
MSG: failed to parse feature table line for seq LMNB1_MOUSE
FT                   /note="Tail"

---------------------------------------------------

--------------------- WARNING ---------------------
MSG: No feature key in putative feature table line: FT   MOTIF           416..421

---------------------------------------------------

--------------------- WARNING ---------------------
MSG: failed to parse feature table line for seq LMNB1_MOUSE
FT   MOTIF           416..421

---------------------------------------------------

--------------------- WARNING ---------------------
MSG: No feature key in putative feature table line: FT                   /note="Nuclear localization signal"

---------------------------------------------------

--------------------- WARNING ---------------------
MSG: failed to parse feature table line for seq LMNB1_MOUSE
FT                   /note="Nuclear localization signal"

---------------------------------------------------

--------------------- WARNING ---------------------
MSG: No feature key in putative feature table line: FT                   /evidence="ECO:0000255"

---------------------------------------------------

--------------------- WARNING ---------------------
MSG: failed to parse feature table line for seq LMNB1_MOUSE
FT                   /evidence="ECO:0000255"

---------------------------------------------------

--------------------- WARNING ---------------------
MSG: No feature key in putative feature table line: FT   COMPBIAS        553..561

---------------------------------------------------

--------------------- WARNING ---------------------
MSG: failed to parse feature table line for seq LMNB1_MOUSE
FT   COMPBIAS        553..561

---------------------------------------------------

--------------------- WARNING ---------------------
MSG: No feature key in putative feature table line: FT                   /note="Glu-rich (highly acidic; could be involved in

---------------------------------------------------

--------------------- WARNING ---------------------
MSG: failed to parse feature table line for seq LMNB1_MOUSE
FT                   /note="Glu-rich (highly acidic; could be involved in

---------------------------------------------------

--------------------- WARNING ---------------------
MSG: No feature key in putative feature table line: FT                   chromatin binding)"

---------------------------------------------------

--------------------- WARNING ---------------------
MSG: failed to parse feature table line for seq LMNB1_MOUSE
FT                   chromatin binding)"

---------------------------------------------------

--------------------- WARNING ---------------------
MSG: No feature key in putative feature table line: FT   MOD_RES         2

---------------------------------------------------

--------------------- WARNING ---------------------
MSG: failed to parse feature table line for seq LMNB1_MOUSE
FT   MOD_RES         2

---------------------------------------------------

--------------------- WARNING ---------------------
MSG: No feature key in putative feature table line: FT                   /note="N-acetylalanine"

---------------------------------------------------

--------------------- WARNING ---------------------
MSG: failed to parse feature table line for seq LMNB1_MOUSE
FT                   /note="N-acetylalanine"

---------------------------------------------------

--------------------- WARNING ---------------------
MSG: No feature key in putative feature table line: FT                   /evidence="ECO:0000250|UniProtKB:P20700"

---------------------------------------------------

--------------------- WARNING ---------------------
MSG: failed to parse feature table line for seq LMNB1_MOUSE
FT                   /evidence="ECO:0000250|UniProtKB:P20700"

---------------------------------------------------

--------------------- WARNING ---------------------
MSG: No feature key in putative feature table line: FT   MOD_RES         3

---------------------------------------------------

--------------------- WARNING ---------------------
MSG: failed to parse feature table line for seq LMNB1_MOUSE
FT   MOD_RES         3

---------------------------------------------------

--------------------- WARNING ---------------------
MSG: No feature key in putative feature table line: FT                   /note="Phosphothreonine"

---------------------------------------------------

--------------------- WARNING ---------------------
MSG: failed to parse feature table line for seq LMNB1_MOUSE
FT                   /note="Phosphothreonine"

---------------------------------------------------

--------------------- WARNING ---------------------
MSG: No feature key in putative feature table line: FT                   /evidence="ECO:0000250|UniProtKB:P20700"

---------------------------------------------------

--------------------- WARNING ---------------------
MSG: failed to parse feature table line for seq LMNB1_MOUSE
FT                   /evidence="ECO:0000250|UniProtKB:P20700"

---------------------------------------------------

--------------------- WARNING ---------------------
MSG: No feature key in putative feature table line: FT   MOD_RES         5

---------------------------------------------------

--------------------- WARNING ---------------------
MSG: failed to parse feature table line for seq LMNB1_MOUSE
FT   MOD_RES         5

---------------------------------------------------

--------------------- WARNING ---------------------
MSG: No feature key in putative feature table line: FT                   /note="Phosphothreonine"

---------------------------------------------------

--------------------- WARNING ---------------------
MSG: failed to parse feature table line for seq LMNB1_MOUSE
FT                   /note="Phosphothreonine"

---------------------------------------------------

--------------------- WARNING ---------------------
MSG: No feature key in putative feature table line: FT                   /evidence="ECO:0000250|UniProtKB:P20700"

---------------------------------------------------

--------------------- WARNING ---------------------
MSG: failed to parse feature table line for seq LMNB1_MOUSE
FT                   /evidence="ECO:0000250|UniProtKB:P20700"

---------------------------------------------------

--------------------- WARNING ---------------------
MSG: No feature key in putative feature table line: FT   MOD_RES         15

---------------------------------------------------

--------------------- WARNING ---------------------
MSG: failed to parse feature table line for seq LMNB1_MOUSE
FT   MOD_RES         15

---------------------------------------------------

--------------------- WARNING ---------------------
MSG: No feature key in putative feature table line: FT                   /note="Omega-N-methylarginine"

---------------------------------------------------

--------------------- WARNING ---------------------
MSG: failed to parse feature table line for seq LMNB1_MOUSE
FT                   /note="Omega-N-methylarginine"

---------------------------------------------------

--------------------- WARNING ---------------------
MSG: No feature key in putative feature table line: FT                   /evidence="ECO:0000250|UniProtKB:P20700"

---------------------------------------------------

--------------------- WARNING ---------------------
MSG: failed to parse feature table line for seq LMNB1_MOUSE
FT                   /evidence="ECO:0000250|UniProtKB:P20700"

---------------------------------------------------

--------------------- WARNING ---------------------
MSG: No feature key in putative feature table line: FT   MOD_RES         17

---------------------------------------------------

--------------------- WARNING ---------------------
MSG: failed to parse feature table line for seq LMNB1_MOUSE
FT   MOD_RES         17

---------------------------------------------------

--------------------- WARNING ---------------------
MSG: No feature key in putative feature table line: FT                   /note="Phosphoserine"

---------------------------------------------------

--------------------- WARNING ---------------------
MSG: failed to parse feature table line for seq LMNB1_MOUSE
FT                   /note="Phosphoserine"

---------------------------------------------------

--------------------- WARNING ---------------------
MSG: No feature key in putative feature table line: FT                   /evidence="ECO:0000244|PubMed:21183079"

---------------------------------------------------

--------------------- WARNING ---------------------
MSG: failed to parse feature table line for seq LMNB1_MOUSE
FT                   /evidence="ECO:0000244|PubMed:21183079"

---------------------------------------------------

--------------------- WARNING ---------------------
MSG: No feature key in putative feature table line: FT   MOD_RES         21

---------------------------------------------------

--------------------- WARNING ---------------------
MSG: failed to parse feature table line for seq LMNB1_MOUSE
FT   MOD_RES         21

---------------------------------------------------

--------------------- WARNING ---------------------
MSG: No feature key in putative feature table line: FT                   /note="Phosphothreonine"

---------------------------------------------------

--------------------- WARNING ---------------------
MSG: failed to parse feature table line for seq LMNB1_MOUSE
FT                   /note="Phosphothreonine"

---------------------------------------------------

--------------------- WARNING ---------------------
MSG: No feature key in putative feature table line: FT                   /evidence="ECO:0000244|PubMed:17242355,

---------------------------------------------------

--------------------- WARNING ---------------------
MSG: failed to parse feature table line for seq LMNB1_MOUSE
FT                   /evidence="ECO:0000244|PubMed:17242355,

---------------------------------------------------

--------------------- WARNING ---------------------
MSG: No feature key in putative feature table line: FT                   ECO:0000244|PubMed:21183079"

---------------------------------------------------

--------------------- WARNING ---------------------
MSG: failed to parse feature table line for seq LMNB1_MOUSE
FT                   ECO:0000244|PubMed:21183079"

---------------------------------------------------

--------------------- WARNING ---------------------
MSG: No feature key in putative feature table line: FT   MOD_RES         24

---------------------------------------------------

--------------------- WARNING ---------------------
MSG: failed to parse feature table line for seq LMNB1_MOUSE
FT   MOD_RES         24

---------------------------------------------------

--------------------- WARNING ---------------------
MSG: No feature key in putative feature table line: FT                   /note="Phosphoserine"

---------------------------------------------------

--------------------- WARNING ---------------------
MSG: failed to parse feature table line for seq LMNB1_MOUSE
FT                   /note="Phosphoserine"

---------------------------------------------------

--------------------- WARNING ---------------------
MSG: No feature key in putative feature table line: FT                   /evidence="ECO:0000244|PubMed:19144319"

---------------------------------------------------

--------------------- WARNING ---------------------
MSG: failed to parse feature table line for seq LMNB1_MOUSE
FT                   /evidence="ECO:0000244|PubMed:19144319"

---------------------------------------------------

--------------------- WARNING ---------------------
MSG: No feature key in putative feature table line: FT   MOD_RES         26

---------------------------------------------------

--------------------- WARNING ---------------------
MSG: failed to parse feature table line for seq LMNB1_MOUSE
FT   MOD_RES         26

---------------------------------------------------

--------------------- WARNING ---------------------
MSG: No feature key in putative feature table line: FT                   /note="Phosphothreonine"

---------------------------------------------------

--------------------- WARNING ---------------------
MSG: failed to parse feature table line for seq LMNB1_MOUSE
FT                   /note="Phosphothreonine"

---------------------------------------------------

--------------------- WARNING ---------------------
MSG: No feature key in putative feature table line: FT                   /evidence="ECO:0000250|UniProtKB:P20700"

---------------------------------------------------

--------------------- WARNING ---------------------
MSG: failed to parse feature table line for seq LMNB1_MOUSE
FT                   /evidence="ECO:0000250|UniProtKB:P20700"

---------------------------------------------------

--------------------- WARNING ---------------------
MSG: No feature key in putative feature table line: FT   MOD_RES         29

---------------------------------------------------

--------------------- WARNING ---------------------
MSG: failed to parse feature table line for seq LMNB1_MOUSE
FT   MOD_RES         29

---------------------------------------------------

--------------------- WARNING ---------------------
MSG: No feature key in putative feature table line: FT                   /note="Phosphoserine"

---------------------------------------------------

--------------------- WARNING ---------------------
MSG: failed to parse feature table line for seq LMNB1_MOUSE
FT                   /note="Phosphoserine"

---------------------------------------------------

--------------------- WARNING ---------------------
MSG: No feature key in putative feature table line: FT                   /evidence="ECO:0000250|UniProtKB:P20700"

---------------------------------------------------

--------------------- WARNING ---------------------
MSG: failed to parse feature table line for seq LMNB1_MOUSE
FT                   /evidence="ECO:0000250|UniProtKB:P20700"

---------------------------------------------------

--------------------- WARNING ---------------------
MSG: No feature key in putative feature table line: FT   MOD_RES         112

---------------------------------------------------

--------------------- WARNING ---------------------
MSG: failed to parse feature table line for seq LMNB1_MOUSE
FT   MOD_RES         112

---------------------------------------------------

--------------------- WARNING ---------------------
MSG: No feature key in putative feature table line: FT                   /note="N6-acetyllysine"

---------------------------------------------------

--------------------- WARNING ---------------------
MSG: failed to parse feature table line for seq LMNB1_MOUSE
FT                   /note="N6-acetyllysine"

---------------------------------------------------

--------------------- WARNING ---------------------
MSG: No feature key in putative feature table line: FT                   /evidence="ECO:0000244|PubMed:23806337"

---------------------------------------------------

--------------------- WARNING ---------------------
MSG: failed to parse feature table line for seq LMNB1_MOUSE
FT                   /evidence="ECO:0000244|PubMed:23806337"

---------------------------------------------------

--------------------- WARNING ---------------------
MSG: No feature key in putative feature table line: FT   MOD_RES         127

---------------------------------------------------

--------------------- WARNING ---------------------
MSG: failed to parse feature table line for seq LMNB1_MOUSE
FT   MOD_RES         127

---------------------------------------------------

--------------------- WARNING ---------------------
MSG: No feature key in putative feature table line: FT                   /note="Phosphoserine"

---------------------------------------------------

--------------------- WARNING ---------------------
MSG: failed to parse feature table line for seq LMNB1_MOUSE
FT                   /note="Phosphoserine"

---------------------------------------------------

--------------------- WARNING ---------------------
MSG: No feature key in putative feature table line: FT                   /evidence="ECO:0000250|UniProtKB:P70615"

---------------------------------------------------

--------------------- WARNING ---------------------
MSG: failed to parse feature table line for seq LMNB1_MOUSE
FT                   /evidence="ECO:0000250|UniProtKB:P70615"

---------------------------------------------------

--------------------- WARNING ---------------------
MSG: No feature key in putative feature table line: FT   MOD_RES         158

---------------------------------------------------

--------------------- WARNING ---------------------
MSG: failed to parse feature table line for seq LMNB1_MOUSE
FT   MOD_RES         158

---------------------------------------------------

--------------------- WARNING ---------------------
MSG: No feature key in putative feature table line: FT                   /note="N6-acetyllysine; alternate"

---------------------------------------------------

--------------------- WARNING ---------------------
MSG: failed to parse feature table line for seq LMNB1_MOUSE
FT                   /note="N6-acetyllysine; alternate"

---------------------------------------------------

--------------------- WARNING ---------------------
MSG: No feature key in putative feature table line: FT                   /evidence="ECO:0000250|UniProtKB:P20700"

---------------------------------------------------

--------------------- WARNING ---------------------
MSG: failed to parse feature table line for seq LMNB1_MOUSE
FT                   /evidence="ECO:0000250|UniProtKB:P20700"

---------------------------------------------------

--------------------- WARNING ---------------------
MSG: No feature key in putative feature table line: FT   MOD_RES         159

---------------------------------------------------

--------------------- WARNING ---------------------
MSG: failed to parse feature table line for seq LMNB1_MOUSE
FT   MOD_RES         159

---------------------------------------------------

--------------------- WARNING ---------------------
MSG: No feature key in putative feature table line: FT                   /note="Phosphoserine"

---------------------------------------------------

--------------------- WARNING ---------------------
MSG: failed to parse feature table line for seq LMNB1_MOUSE
FT                   /note="Phosphoserine"

---------------------------------------------------

--------------------- WARNING ---------------------
MSG: No feature key in putative feature table line: FT                   /evidence="ECO:0000250|UniProtKB:P70615"

---------------------------------------------------

--------------------- WARNING ---------------------
MSG: failed to parse feature table line for seq LMNB1_MOUSE
FT                   /evidence="ECO:0000250|UniProtKB:P70615"

---------------------------------------------------

--------------------- WARNING ---------------------
MSG: No feature key in putative feature table line: FT   MOD_RES         201

---------------------------------------------------

--------------------- WARNING ---------------------
MSG: failed to parse feature table line for seq LMNB1_MOUSE
FT   MOD_RES         201

---------------------------------------------------

--------------------- WARNING ---------------------
MSG: No feature key in putative feature table line: FT                   /note="Phosphoserine"

---------------------------------------------------

--------------------- WARNING ---------------------
MSG: failed to parse feature table line for seq LMNB1_MOUSE
FT                   /note="Phosphoserine"

---------------------------------------------------

--------------------- WARNING ---------------------
MSG: No feature key in putative feature table line: FT                   /evidence="ECO:0000250|UniProtKB:P20700"

---------------------------------------------------

--------------------- WARNING ---------------------
MSG: failed to parse feature table line for seq LMNB1_MOUSE
FT                   /evidence="ECO:0000250|UniProtKB:P20700"

---------------------------------------------------

--------------------- WARNING ---------------------
MSG: No feature key in putative feature table line: FT   MOD_RES         233

---------------------------------------------------

--------------------- WARNING ---------------------
MSG: failed to parse feature table line for seq LMNB1_MOUSE
FT   MOD_RES         233

---------------------------------------------------

--------------------- WARNING ---------------------
MSG: No feature key in putative feature table line: FT                   /note="Phosphoserine"

---------------------------------------------------

--------------------- WARNING ---------------------
MSG: failed to parse feature table line for seq LMNB1_MOUSE
FT                   /note="Phosphoserine"

---------------------------------------------------

--------------------- WARNING ---------------------
MSG: No feature key in putative feature table line: FT                   /evidence="ECO:0000250|UniProtKB:P20700"

---------------------------------------------------

--------------------- WARNING ---------------------
MSG: failed to parse feature table line for seq LMNB1_MOUSE
FT                   /evidence="ECO:0000250|UniProtKB:P20700"

---------------------------------------------------

--------------------- WARNING ---------------------
MSG: No feature key in putative feature table line: FT   MOD_RES         272

---------------------------------------------------

--------------------- WARNING ---------------------
MSG: failed to parse feature table line for seq LMNB1_MOUSE
FT   MOD_RES         272

---------------------------------------------------

--------------------- WARNING ---------------------
MSG: No feature key in putative feature table line: FT                   /note="N6-acetyllysine; alternate"

---------------------------------------------------

--------------------- WARNING ---------------------
MSG: failed to parse feature table line for seq LMNB1_MOUSE
FT                   /note="N6-acetyllysine; alternate"

---------------------------------------------------

--------------------- WARNING ---------------------
MSG: No feature key in putative feature table line: FT                   /evidence="ECO:0000244|PubMed:23806337"

---------------------------------------------------

--------------------- WARNING ---------------------
MSG: failed to parse feature table line for seq LMNB1_MOUSE
FT                   /evidence="ECO:0000244|PubMed:23806337"

---------------------------------------------------

--------------------- WARNING ---------------------
MSG: No feature key in putative feature table line: FT   MOD_RES         279

---------------------------------------------------

--------------------- WARNING ---------------------
MSG: failed to parse feature table line for seq LMNB1_MOUSE
FT   MOD_RES         279

---------------------------------------------------

--------------------- WARNING ---------------------
MSG: No feature key in putative feature table line: FT                   /note="Phosphoserine"

---------------------------------------------------

--------------------- WARNING ---------------------
MSG: failed to parse feature table line for seq LMNB1_MOUSE
FT                   /note="Phosphoserine"

---------------------------------------------------

--------------------- WARNING ---------------------
MSG: No feature key in putative feature table line: FT                   /evidence="ECO:0000250|UniProtKB:P20700"

---------------------------------------------------

--------------------- WARNING ---------------------
MSG: failed to parse feature table line for seq LMNB1_MOUSE
FT                   /evidence="ECO:0000250|UniProtKB:P20700"

---------------------------------------------------

--------------------- WARNING ---------------------
MSG: No feature key in putative feature table line: FT   MOD_RES         303

---------------------------------------------------

--------------------- WARNING ---------------------
MSG: failed to parse feature table line for seq LMNB1_MOUSE
FT   MOD_RES         303

---------------------------------------------------

--------------------- WARNING ---------------------
MSG: No feature key in putative feature table line: FT                   /note="Phosphoserine"

---------------------------------------------------

--------------------- WARNING ---------------------
MSG: failed to parse feature table line for seq LMNB1_MOUSE
FT                   /note="Phosphoserine"

---------------------------------------------------

--------------------- WARNING ---------------------
MSG: No feature key in putative feature table line: FT                   /evidence="ECO:0000250|UniProtKB:P20700"

---------------------------------------------------

--------------------- WARNING ---------------------
MSG: failed to parse feature table line for seq LMNB1_MOUSE
FT                   /evidence="ECO:0000250|UniProtKB:P20700"

---------------------------------------------------

--------------------- WARNING ---------------------
MSG: No feature key in putative feature table line: FT   MOD_RES         331

---------------------------------------------------

--------------------- WARNING ---------------------
MSG: failed to parse feature table line for seq LMNB1_MOUSE
FT   MOD_RES         331

---------------------------------------------------

--------------------- WARNING ---------------------
MSG: No feature key in putative feature table line: FT                   /note="N6-acetyllysine; alternate"

---------------------------------------------------

--------------------- WARNING ---------------------
MSG: failed to parse feature table line for seq LMNB1_MOUSE
FT                   /note="N6-acetyllysine; alternate"

---------------------------------------------------

--------------------- WARNING ---------------------
MSG: No feature key in putative feature table line: FT                   /evidence="ECO:0000244|PubMed:23806337"

---------------------------------------------------

--------------------- WARNING ---------------------
MSG: failed to parse feature table line for seq LMNB1_MOUSE
FT                   /evidence="ECO:0000244|PubMed:23806337"

---------------------------------------------------

--------------------- WARNING ---------------------
MSG: No feature key in putative feature table line: FT   MOD_RES         376

---------------------------------------------------

--------------------- WARNING ---------------------
MSG: failed to parse feature table line for seq LMNB1_MOUSE
FT   MOD_RES         376

---------------------------------------------------

--------------------- WARNING ---------------------
MSG: No feature key in putative feature table line: FT                   /note="Phosphoserine"

---------------------------------------------------

--------------------- WARNING ---------------------
MSG: failed to parse feature table line for seq LMNB1_MOUSE
FT                   /note="Phosphoserine"

---------------------------------------------------

--------------------- WARNING ---------------------
MSG: No feature key in putative feature table line: FT                   /evidence="ECO:0000250|UniProtKB:P20700"

---------------------------------------------------

--------------------- WARNING ---------------------
MSG: failed to parse feature table line for seq LMNB1_MOUSE
FT                   /evidence="ECO:0000250|UniProtKB:P20700"

---------------------------------------------------

--------------------- WARNING ---------------------
MSG: No feature key in putative feature table line: FT   MOD_RES         414

---------------------------------------------------

--------------------- WARNING ---------------------
MSG: failed to parse feature table line for seq LMNB1_MOUSE
FT   MOD_RES         414

---------------------------------------------------

--------------------- WARNING ---------------------
MSG: No feature key in putative feature table line: FT                   /note="Omega-N-methylarginine"

---------------------------------------------------

--------------------- WARNING ---------------------
MSG: failed to parse feature table line for seq LMNB1_MOUSE
FT                   /note="Omega-N-methylarginine"

---------------------------------------------------

--------------------- WARNING ---------------------
MSG: No feature key in putative feature table line: FT                   /evidence="ECO:0000250|UniProtKB:P21619"

---------------------------------------------------

--------------------- WARNING ---------------------
MSG: failed to parse feature table line for seq LMNB1_MOUSE
FT                   /evidence="ECO:0000250|UniProtKB:P21619"

---------------------------------------------------

--------------------- WARNING ---------------------
MSG: No feature key in putative feature table line: FT   MOD_RES         484

---------------------------------------------------

--------------------- WARNING ---------------------
MSG: failed to parse feature table line for seq LMNB1_MOUSE
FT   MOD_RES         484

---------------------------------------------------

--------------------- WARNING ---------------------
MSG: No feature key in putative feature table line: FT                   /note="N6-acetyllysine"

---------------------------------------------------

--------------------- WARNING ---------------------
MSG: failed to parse feature table line for seq LMNB1_MOUSE
FT                   /note="N6-acetyllysine"

---------------------------------------------------

--------------------- WARNING ---------------------
MSG: No feature key in putative feature table line: FT                   /evidence="ECO:0000250|UniProtKB:P20700"

---------------------------------------------------

--------------------- WARNING ---------------------
MSG: failed to parse feature table line for seq LMNB1_MOUSE
FT                   /evidence="ECO:0000250|UniProtKB:P20700"

---------------------------------------------------

--------------------- WARNING ---------------------
MSG: No feature key in putative feature table line: FT   MOD_RES         535

---------------------------------------------------

--------------------- WARNING ---------------------
MSG: failed to parse feature table line for seq LMNB1_MOUSE
FT   MOD_RES         535

---------------------------------------------------

--------------------- WARNING ---------------------
MSG: No feature key in putative feature table line: FT                   /note="Phosphoserine"

---------------------------------------------------

--------------------- WARNING ---------------------
MSG: failed to parse feature table line for seq LMNB1_MOUSE
FT                   /note="Phosphoserine"

---------------------------------------------------

--------------------- WARNING ---------------------
MSG: No feature key in putative feature table line: FT                   /evidence="ECO:0000250|UniProtKB:P20700"

---------------------------------------------------

--------------------- WARNING ---------------------
MSG: failed to parse feature table line for seq LMNB1_MOUSE
FT                   /evidence="ECO:0000250|UniProtKB:P20700"

---------------------------------------------------

--------------------- WARNING ---------------------
MSG: No feature key in putative feature table line: FT   MOD_RES         585

---------------------------------------------------

--------------------- WARNING ---------------------
MSG: failed to parse feature table line for seq LMNB1_MOUSE
FT   MOD_RES         585

---------------------------------------------------

--------------------- WARNING ---------------------
MSG: No feature key in putative feature table line: FT                   /note="Cysteine methyl ester"

---------------------------------------------------

--------------------- WARNING ---------------------
MSG: failed to parse feature table line for seq LMNB1_MOUSE
FT                   /note="Cysteine methyl ester"

---------------------------------------------------

--------------------- WARNING ---------------------
MSG: No feature key in putative feature table line: FT                   /evidence="ECO:0000250"

---------------------------------------------------

--------------------- WARNING ---------------------
MSG: failed to parse feature table line for seq LMNB1_MOUSE
FT                   /evidence="ECO:0000250"

---------------------------------------------------

--------------------- WARNING ---------------------
MSG: No feature key in putative feature table line: FT   LIPID           585

---------------------------------------------------

--------------------- WARNING ---------------------
MSG: failed to parse feature table line for seq LMNB1_MOUSE
FT   LIPID           585

---------------------------------------------------

--------------------- WARNING ---------------------
MSG: No feature key in putative feature table line: FT                   /note="S-farnesyl cysteine"

---------------------------------------------------

--------------------- WARNING ---------------------
MSG: failed to parse feature table line for seq LMNB1_MOUSE
FT                   /note="S-farnesyl cysteine"

---------------------------------------------------

--------------------- WARNING ---------------------
MSG: No feature key in putative feature table line: FT                   /evidence="ECO:0000250"

---------------------------------------------------

--------------------- WARNING ---------------------
MSG: failed to parse feature table line for seq LMNB1_MOUSE
FT                   /evidence="ECO:0000250"

---------------------------------------------------

--------------------- WARNING ---------------------
MSG: No feature key in putative feature table line: FT   DISULFID        318

---------------------------------------------------

--------------------- WARNING ---------------------
MSG: failed to parse feature table line for seq LMNB1_MOUSE
FT   DISULFID        318

---------------------------------------------------

--------------------- WARNING ---------------------
MSG: No feature key in putative feature table line: FT                   /note="Interchain"

---------------------------------------------------

--------------------- WARNING ---------------------
MSG: failed to parse feature table line for seq LMNB1_MOUSE
FT                   /note="Interchain"

---------------------------------------------------

--------------------- WARNING ---------------------
MSG: No feature key in putative feature table line: FT                   /evidence="ECO:0000250"

---------------------------------------------------

--------------------- WARNING ---------------------
MSG: failed to parse feature table line for seq LMNB1_MOUSE
FT                   /evidence="ECO:0000250"

---------------------------------------------------

--------------------- WARNING ---------------------
MSG: No feature key in putative feature table line: FT   CROSSLNK        103

---------------------------------------------------

--------------------- WARNING ---------------------
MSG: failed to parse feature table line for seq LMNB1_MOUSE
FT   CROSSLNK        103

---------------------------------------------------

--------------------- WARNING ---------------------
MSG: No feature key in putative feature table line: FT                   /note="Glycyl lysine isopeptide (Lys-Gly) (interchain with

---------------------------------------------------

--------------------- WARNING ---------------------
MSG: failed to parse feature table line for seq LMNB1_MOUSE
FT                   /note="Glycyl lysine isopeptide (Lys-Gly) (interchain with

---------------------------------------------------

--------------------- WARNING ---------------------
MSG: No feature key in putative feature table line: FT                   G-Cter in SUMO2)"

---------------------------------------------------

--------------------- WARNING ---------------------
MSG: failed to parse feature table line for seq LMNB1_MOUSE
FT                   G-Cter in SUMO2)"

---------------------------------------------------

--------------------- WARNING ---------------------
MSG: No feature key in putative feature table line: FT                   /evidence="ECO:0000250|UniProtKB:P20700"

---------------------------------------------------

--------------------- WARNING ---------------------
MSG: failed to parse feature table line for seq LMNB1_MOUSE
FT                   /evidence="ECO:0000250|UniProtKB:P20700"

---------------------------------------------------

--------------------- WARNING ---------------------
MSG: No feature key in putative feature table line: FT   CROSSLNK        124

---------------------------------------------------

--------------------- WARNING ---------------------
MSG: failed to parse feature table line for seq LMNB1_MOUSE
FT   CROSSLNK        124

---------------------------------------------------

--------------------- WARNING ---------------------
MSG: No feature key in putative feature table line: FT                   /note="Glycyl lysine isopeptide (Lys-Gly) (interchain with

---------------------------------------------------

--------------------- WARNING ---------------------
MSG: failed to parse feature table line for seq LMNB1_MOUSE
FT                   /note="Glycyl lysine isopeptide (Lys-Gly) (interchain with

---------------------------------------------------

--------------------- WARNING ---------------------
MSG: No feature key in putative feature table line: FT                   G-Cter in SUMO2)"

---------------------------------------------------

--------------------- WARNING ---------------------
MSG: failed to parse feature table line for seq LMNB1_MOUSE
FT                   G-Cter in SUMO2)"

---------------------------------------------------

--------------------- WARNING ---------------------
MSG: No feature key in putative feature table line: FT                   /evidence="ECO:0000250|UniProtKB:P20700"

---------------------------------------------------

--------------------- WARNING ---------------------
MSG: failed to parse feature table line for seq LMNB1_MOUSE
FT                   /evidence="ECO:0000250|UniProtKB:P20700"

---------------------------------------------------

--------------------- WARNING ---------------------
MSG: No feature key in putative feature table line: FT   CROSSLNK        146

---------------------------------------------------

--------------------- WARNING ---------------------
MSG: failed to parse feature table line for seq LMNB1_MOUSE
FT   CROSSLNK        146

---------------------------------------------------

--------------------- WARNING ---------------------
MSG: No feature key in putative feature table line: FT                   /note="Glycyl lysine isopeptide (Lys-Gly) (interchain with

---------------------------------------------------

--------------------- WARNING ---------------------
MSG: failed to parse feature table line for seq LMNB1_MOUSE
FT                   /note="Glycyl lysine isopeptide (Lys-Gly) (interchain with

---------------------------------------------------

--------------------- WARNING ---------------------
MSG: No feature key in putative feature table line: FT                   G-Cter in SUMO2)"

---------------------------------------------------

--------------------- WARNING ---------------------
MSG: failed to parse feature table line for seq LMNB1_MOUSE
FT                   G-Cter in SUMO2)"

---------------------------------------------------

--------------------- WARNING ---------------------
MSG: No feature key in putative feature table line: FT                   /evidence="ECO:0000250|UniProtKB:P20700"

---------------------------------------------------

--------------------- WARNING ---------------------
MSG: failed to parse feature table line for seq LMNB1_MOUSE
FT                   /evidence="ECO:0000250|UniProtKB:P20700"

---------------------------------------------------

--------------------- WARNING ---------------------
MSG: No feature key in putative feature table line: FT   CROSSLNK        158

---------------------------------------------------

--------------------- WARNING ---------------------
MSG: failed to parse feature table line for seq LMNB1_MOUSE
FT   CROSSLNK        158

---------------------------------------------------

--------------------- WARNING ---------------------
MSG: No feature key in putative feature table line: FT                   /note="Glycyl lysine isopeptide (Lys-Gly) (interchain with

---------------------------------------------------

--------------------- WARNING ---------------------
MSG: failed to parse feature table line for seq LMNB1_MOUSE
FT                   /note="Glycyl lysine isopeptide (Lys-Gly) (interchain with

---------------------------------------------------

--------------------- WARNING ---------------------
MSG: No feature key in putative feature table line: FT                   G-Cter in SUMO2); alternate"

---------------------------------------------------

--------------------- WARNING ---------------------
MSG: failed to parse feature table line for seq LMNB1_MOUSE
FT                   G-Cter in SUMO2); alternate"

---------------------------------------------------

--------------------- WARNING ---------------------
MSG: No feature key in putative feature table line: FT                   /evidence="ECO:0000250|UniProtKB:P20700"

---------------------------------------------------

--------------------- WARNING ---------------------
MSG: failed to parse feature table line for seq LMNB1_MOUSE
FT                   /evidence="ECO:0000250|UniProtKB:P20700"

---------------------------------------------------

--------------------- WARNING ---------------------
MSG: No feature key in putative feature table line: FT   CROSSLNK        182

---------------------------------------------------

--------------------- WARNING ---------------------
MSG: failed to parse feature table line for seq LMNB1_MOUSE
FT   CROSSLNK        182

---------------------------------------------------

--------------------- WARNING ---------------------
MSG: No feature key in putative feature table line: FT                   /note="Glycyl lysine isopeptide (Lys-Gly) (interchain with

---------------------------------------------------

--------------------- WARNING ---------------------
MSG: failed to parse feature table line for seq LMNB1_MOUSE
FT                   /note="Glycyl lysine isopeptide (Lys-Gly) (interchain with

---------------------------------------------------

--------------------- WARNING ---------------------
MSG: No feature key in putative feature table line: FT                   G-Cter in SUMO2)"

---------------------------------------------------

--------------------- WARNING ---------------------
MSG: failed to parse feature table line for seq LMNB1_MOUSE
FT                   G-Cter in SUMO2)"

---------------------------------------------------

--------------------- WARNING ---------------------
MSG: No feature key in putative feature table line: FT                   /evidence="ECO:0000250|UniProtKB:P20700"

---------------------------------------------------

--------------------- WARNING ---------------------
MSG: failed to parse feature table line for seq LMNB1_MOUSE
FT                   /evidence="ECO:0000250|UniProtKB:P20700"

---------------------------------------------------

--------------------- WARNING ---------------------
MSG: No feature key in putative feature table line: FT   CROSSLNK        242

---------------------------------------------------

--------------------- WARNING ---------------------
MSG: failed to parse feature table line for seq LMNB1_MOUSE
FT   CROSSLNK        242

---------------------------------------------------

--------------------- WARNING ---------------------
MSG: No feature key in putative feature table line: FT                   /note="Glycyl lysine isopeptide (Lys-Gly) (interchain with

---------------------------------------------------

--------------------- WARNING ---------------------
MSG: failed to parse feature table line for seq LMNB1_MOUSE
FT                   /note="Glycyl lysine isopeptide (Lys-Gly) (interchain with

---------------------------------------------------

--------------------- WARNING ---------------------
MSG: No feature key in putative feature table line: FT                   G-Cter in SUMO2)"

---------------------------------------------------

--------------------- WARNING ---------------------
MSG: failed to parse feature table line for seq LMNB1_MOUSE
FT                   G-Cter in SUMO2)"

---------------------------------------------------

--------------------- WARNING ---------------------
MSG: No feature key in putative feature table line: FT                   /evidence="ECO:0000250|UniProtKB:P20700"

---------------------------------------------------

--------------------- WARNING ---------------------
MSG: failed to parse feature table line for seq LMNB1_MOUSE
FT                   /evidence="ECO:0000250|UniProtKB:P20700"

---------------------------------------------------

--------------------- WARNING ---------------------
MSG: No feature key in putative feature table line: FT   CROSSLNK        262

---------------------------------------------------

--------------------- WARNING ---------------------
MSG: failed to parse feature table line for seq LMNB1_MOUSE
FT   CROSSLNK        262

---------------------------------------------------

--------------------- WARNING ---------------------
MSG: No feature key in putative feature table line: FT                   /note="Glycyl lysine isopeptide (Lys-Gly) (interchain with

---------------------------------------------------

--------------------- WARNING ---------------------
MSG: failed to parse feature table line for seq LMNB1_MOUSE
FT                   /note="Glycyl lysine isopeptide (Lys-Gly) (interchain with

---------------------------------------------------

--------------------- WARNING ---------------------
MSG: No feature key in putative feature table line: FT                   G-Cter in SUMO2)"

---------------------------------------------------

--------------------- WARNING ---------------------
MSG: failed to parse feature table line for seq LMNB1_MOUSE
FT                   G-Cter in SUMO2)"

---------------------------------------------------

--------------------- WARNING ---------------------
MSG: No feature key in putative feature table line: FT                   /evidence="ECO:0000250|UniProtKB:P20700"

---------------------------------------------------

--------------------- WARNING ---------------------
MSG: failed to parse feature table line for seq LMNB1_MOUSE
FT                   /evidence="ECO:0000250|UniProtKB:P20700"

---------------------------------------------------

--------------------- WARNING ---------------------
MSG: No feature key in putative feature table line: FT   CROSSLNK        272

---------------------------------------------------

--------------------- WARNING ---------------------
MSG: failed to parse feature table line for seq LMNB1_MOUSE
FT   CROSSLNK        272

---------------------------------------------------

--------------------- WARNING ---------------------
MSG: No feature key in putative feature table line: FT                   /note="Glycyl lysine isopeptide (Lys-Gly) (interchain with

---------------------------------------------------

--------------------- WARNING ---------------------
MSG: failed to parse feature table line for seq LMNB1_MOUSE
FT                   /note="Glycyl lysine isopeptide (Lys-Gly) (interchain with

---------------------------------------------------

--------------------- WARNING ---------------------
MSG: No feature key in putative feature table line: FT                   G-Cter in SUMO2); alternate"

---------------------------------------------------

--------------------- WARNING ---------------------
MSG: failed to parse feature table line for seq LMNB1_MOUSE
FT                   G-Cter in SUMO2); alternate"

---------------------------------------------------

--------------------- WARNING ---------------------
MSG: No feature key in putative feature table line: FT                   /evidence="ECO:0000250|UniProtKB:P20700"

---------------------------------------------------

--------------------- WARNING ---------------------
MSG: failed to parse feature table line for seq LMNB1_MOUSE
FT                   /evidence="ECO:0000250|UniProtKB:P20700"

---------------------------------------------------

--------------------- WARNING ---------------------
MSG: No feature key in putative feature table line: FT   CROSSLNK        313

---------------------------------------------------

--------------------- WARNING ---------------------
MSG: failed to parse feature table line for seq LMNB1_MOUSE
FT   CROSSLNK        313

---------------------------------------------------

--------------------- WARNING ---------------------
MSG: No feature key in putative feature table line: FT                   /note="Glycyl lysine isopeptide (Lys-Gly) (interchain with

---------------------------------------------------

--------------------- WARNING ---------------------
MSG: failed to parse feature table line for seq LMNB1_MOUSE
FT                   /note="Glycyl lysine isopeptide (Lys-Gly) (interchain with

---------------------------------------------------

--------------------- WARNING ---------------------
MSG: No feature key in putative feature table line: FT                   G-Cter in SUMO2)"

---------------------------------------------------

--------------------- WARNING ---------------------
MSG: failed to parse feature table line for seq LMNB1_MOUSE
FT                   G-Cter in SUMO2)"

---------------------------------------------------

--------------------- WARNING ---------------------
MSG: No feature key in putative feature table line: FT                   /evidence="ECO:0000250|UniProtKB:P20700"

---------------------------------------------------

--------------------- WARNING ---------------------
MSG: failed to parse feature table line for seq LMNB1_MOUSE
FT                   /evidence="ECO:0000250|UniProtKB:P20700"

---------------------------------------------------

--------------------- WARNING ---------------------
MSG: No feature key in putative feature table line: FT   CROSSLNK        331

---------------------------------------------------

--------------------- WARNING ---------------------
MSG: failed to parse feature table line for seq LMNB1_MOUSE
FT   CROSSLNK        331

---------------------------------------------------

--------------------- WARNING ---------------------
MSG: No feature key in putative feature table line: FT                   /note="Glycyl lysine isopeptide (Lys-Gly) (interchain with

---------------------------------------------------

--------------------- WARNING ---------------------
MSG: failed to parse feature table line for seq LMNB1_MOUSE
FT                   /note="Glycyl lysine isopeptide (Lys-Gly) (interchain with

---------------------------------------------------

--------------------- WARNING ---------------------
MSG: No feature key in putative feature table line: FT                   G-Cter in SUMO2); alternate"

---------------------------------------------------

--------------------- WARNING ---------------------
MSG: failed to parse feature table line for seq LMNB1_MOUSE
FT                   G-Cter in SUMO2); alternate"

---------------------------------------------------

--------------------- WARNING ---------------------
MSG: No feature key in putative feature table line: FT                   /evidence="ECO:0000250|UniProtKB:P20700"

---------------------------------------------------

--------------------- WARNING ---------------------
MSG: failed to parse feature table line for seq LMNB1_MOUSE
FT                   /evidence="ECO:0000250|UniProtKB:P20700"

---------------------------------------------------

--------------------- WARNING ---------------------
MSG: No feature key in putative feature table line: FT   CROSSLNK        533

---------------------------------------------------

--------------------- WARNING ---------------------
MSG: failed to parse feature table line for seq LMNB1_MOUSE
FT   CROSSLNK        533

---------------------------------------------------

--------------------- WARNING ---------------------
MSG: No feature key in putative feature table line: FT                   /note="Glycyl lysine isopeptide (Lys-Gly) (interchain with

---------------------------------------------------

--------------------- WARNING ---------------------
MSG: failed to parse feature table line for seq LMNB1_MOUSE
FT                   /note="Glycyl lysine isopeptide (Lys-Gly) (interchain with

---------------------------------------------------

--------------------- WARNING ---------------------
MSG: No feature key in putative feature table line: FT                   G-Cter in SUMO2)"

---------------------------------------------------

--------------------- WARNING ---------------------
MSG: failed to parse feature table line for seq LMNB1_MOUSE
FT                   G-Cter in SUMO2)"

---------------------------------------------------

--------------------- WARNING ---------------------
MSG: No feature key in putative feature table line: FT                   /evidence="ECO:0000250|UniProtKB:P20700"

---------------------------------------------------

--------------------- WARNING ---------------------
MSG: failed to parse feature table line for seq LMNB1_MOUSE
FT                   /evidence="ECO:0000250|UniProtKB:P20700"

---------------------------------------------------

--------------------- WARNING ---------------------
MSG: No feature key in putative feature table line: FT   CROSSLNK        548

---------------------------------------------------

--------------------- WARNING ---------------------
MSG: failed to parse feature table line for seq LMNB1_MOUSE
FT   CROSSLNK        548

---------------------------------------------------

--------------------- WARNING ---------------------
MSG: No feature key in putative feature table line: FT                   /note="Glycyl lysine isopeptide (Lys-Gly) (interchain with

---------------------------------------------------

--------------------- WARNING ---------------------
MSG: failed to parse feature table line for seq LMNB1_MOUSE
FT                   /note="Glycyl lysine isopeptide (Lys-Gly) (interchain with

---------------------------------------------------

--------------------- WARNING ---------------------
MSG: No feature key in putative feature table line: FT                   G-Cter in SUMO2)"

---------------------------------------------------

--------------------- WARNING ---------------------
MSG: failed to parse feature table line for seq LMNB1_MOUSE
FT                   G-Cter in SUMO2)"

---------------------------------------------------

--------------------- WARNING ---------------------
MSG: No feature key in putative feature table line: FT                   /evidence="ECO:0000250|UniProtKB:P20700"

---------------------------------------------------

--------------------- WARNING ---------------------
MSG: failed to parse feature table line for seq LMNB1_MOUSE
FT                   /evidence="ECO:0000250|UniProtKB:P20700"

---------------------------------------------------

--------------------- WARNING ---------------------
MSG: No feature key in putative feature table line: FT   CONFLICT        581

---------------------------------------------------

--------------------- WARNING ---------------------
MSG: failed to parse feature table line for seq LMNB1_MOUSE
FT   CONFLICT        581

---------------------------------------------------

--------------------- WARNING ---------------------
MSG: No feature key in putative feature table line: FT                   /note="S -> W (in Ref. 1; CAA34677/AAC96023)"

---------------------------------------------------

--------------------- WARNING ---------------------
MSG: failed to parse feature table line for seq LMNB1_MOUSE
FT                   /note="S -> W (in Ref. 1; CAA34677/AAC96023)"

---------------------------------------------------

--------------------- WARNING ---------------------
MSG: No feature key in putative feature table line: FT                   /evidence="ECO:0000305"

---------------------------------------------------

--------------------- WARNING ---------------------
MSG: failed to parse feature table line for seq LMNB1_MOUSE
FT                   /evidence="ECO:0000305"

---------------------------------------------------
t/BioFetch.t ............. ok
All tests successful.
Files=6, Tests=37, 35 wallclock secs ( 0.05 usr  0.01 sys +  2.51 cusr  0.21 csys =  2.78 CPU)
Result: PASS

------------------------------
PREREQUISITES
------------------------------

Prerequisite modules loaded:

requires:

    Module                 Need  Have    
    ---------------------- ----- --------
    base                   0     2.23_01 
    Bio::DB::WebDBSeqI     0     1.7.7   
    Bio::Root::Root        0     1.7.7   
    Carp                   0     1.50    
    constant               0     1.33    
    HTTP::Request::Common  0     6.18    
    perl                   5.006 5.024004
    strict                 0     1.11    
    vars                   0     1.03    

build_requires:

    Module                 Need  Have    
    ---------------------- ----- --------
    Data::Stag             0     0.14    
    ExtUtils::MakeMaker    0     7.10_02 
    File::Spec             0     3.63_01 
    IO::Handle             0     1.36    
    IPC::Open3             0     1.20    
    Test::Exception        0     0.43    
    Test::More             0     1.302171
    Test::RequiresInternet 0     0.05    
    Test::Warn             0     0.36    
    warnings               0     1.36    

configure_requires:

    Module                 Need  Have    
    ---------------------- ----- --------
    ExtUtils::MakeMaker    0     7.10_02 


------------------------------
ENVIRONMENT AND OTHER CONTEXT
------------------------------

Environment variables:

    AUTOMATED_TESTING = 1
    LANG = en_US.UTF-8
    NONINTERACTIVE_TESTING = 1
    PATH = /usr/local/bin:/usr/bin:/bin:/usr/local/games:/usr/games
    PERL = 5.24.4
    PERL5LIB = 
    PERL5OPT = 
    PERL5_CPANPLUS_IS_RUNNING = 20708
    PERL5_CPAN_IS_RUNNING = 20708
    PERLVER = 5.24.4
    PERL_INLINE_DIRECTORY = /home/david/.Inline-5.24.4
    PERL_MM_USE_DEFAULT = 1
    PERL_USE_UNSAFE_INC = 0
    SHELL = /bin/bash
    TERM = screen

Perl special variables (and OS-specific diagnostics, for MSWin32):

    $^X = /home/david/cpantesting/perl-5.24.4/bin/perl
    $UID/$EUID = 1000 / 1000
    $GID = 1000 27 1000
    $EGID = 1000 27 1000

Perl module toolchain versions installed:

    Module              Have      
    ------------------- ----------
    CPAN                2.11_01   
    CPAN::Meta          2.150005  
    Cwd                 3.63_01   
    ExtUtils::CBuilder  0.280225  
    ExtUtils::Command   7.10_02   
    ExtUtils::Install   2.04      
    ExtUtils::MakeMaker 7.10_02   
    ExtUtils::Manifest  1.70      
    ExtUtils::ParseXS   3.31      
    File::Spec          3.63_01   
    JSON                4.02      
    JSON::PP            2.27300_01
    Module::Build       0.4229    
    Module::Signature   n/a       
    Parse::CPAN::Meta   1.4417_001
    Test::Harness       3.36_01   
    Test::More          1.302171  
    YAML                1.29      
    YAML::Syck          n/a       
    version             0.9916    


--

Summary of my perl5 (revision 5 version 24 subversion 4) configuration:
   
  Platform:
    osname=linux, osvers=4.9.0-8-amd64, archname=x86_64-linux-thread-multi
    uname='linux pigsty 4.9.0-8-amd64 #1 smp debian 4.9.144-3 (2019-02-02) x86_64 gnulinux '
    config_args='-de -Duse64bitall -Dusethreads -Dprefix=/home/david/cpantesting/perl-5.24.4'
    hint=recommended, useposix=true, d_sigaction=define
    useithreads=define, usemultiplicity=define
    use64bitint=define, use64bitall=define, uselongdouble=undef
    usemymalloc=n, bincompat5005=undef
  Compiler:
    cc='cc', ccflags ='-D_REENTRANT -D_GNU_SOURCE -fwrapv -fno-strict-aliasing -pipe -fstack-protector-strong -I/usr/local/include -D_LARGEFILE_SOURCE -D_FILE_OFFSET_BITS=64 -D_FORTIFY_SOURCE=2',
    optimize='-O2',
    cppflags='-D_REENTRANT -D_GNU_SOURCE -fwrapv -fno-strict-aliasing -pipe -fstack-protector-strong -I/usr/local/include'
    ccversion='', gccversion='6.3.0 20170516', gccosandvers=''
    intsize=4, longsize=8, ptrsize=8, doublesize=8, byteorder=12345678, doublekind=3
    d_longlong=define, longlongsize=8, d_longdbl=define, longdblsize=16, longdblkind=3
    ivtype='long', ivsize=8, nvtype='double', nvsize=8, Off_t='off_t', lseeksize=8
    alignbytes=8, prototype=define
  Linker and Libraries:
    ld='cc', ldflags =' -fstack-protector-strong -L/usr/local/lib'
    libpth=/usr/local/lib /usr/lib/gcc/x86_64-linux-gnu/6/include-fixed /usr/include/x86_64-linux-gnu /usr/lib /lib/x86_64-linux-gnu /lib/../lib /usr/lib/x86_64-linux-gnu /usr/lib/../lib /lib
    libs=-lpthread -lnsl -ldb -ldl -lm -lcrypt -lutil -lc
    perllibs=-lpthread -lnsl -ldl -lm -lcrypt -lutil -lc
    libc=libc-2.24.so, so=so, useshrplib=false, libperl=libperl.a
    gnulibc_version='2.24'
  Dynamic Linking:
    dlsrc=dl_dlopen.xs, dlext=so, d_dlsymun=undef, ccdlflags='-Wl,-E'
    cccdlflags='-fPIC', lddlflags='-shared -O2 -L/usr/local/lib -fstack-protector-strong'


Characteristics of this binary (from libperl): 
  Compile-time options: HAS_TIMES MULTIPLICITY PERLIO_LAYERS
                        PERL_COPY_ON_WRITE PERL_DONT_CREATE_GVSV
                        PERL_HASH_FUNC_ONE_AT_A_TIME_HARD
                        PERL_IMPLICIT_CONTEXT PERL_MALLOC_WRAP
                        PERL_PRESERVE_IVUV USE_64_BIT_ALL USE_64_BIT_INT
                        USE_ITHREADS USE_LARGE_FILES USE_LOCALE
                        USE_LOCALE_COLLATE USE_LOCALE_CTYPE
                        USE_LOCALE_NUMERIC USE_LOCALE_TIME USE_PERLIO
                        USE_PERL_ATOF USE_REENTRANT_API
  Built under linux
  Compiled at Apr 25 2019 01:35:31
  %ENV:
    PERL="5.24.4"
    PERL5LIB=""
    PERL5OPT=""
    PERL5_CPANPLUS_IS_RUNNING="20708"
    PERL5_CPAN_IS_RUNNING="20708"
    PERLVER="5.24.4"
    PERL_INLINE_DIRECTORY="/home/david/.Inline-5.24.4"
    PERL_MM_USE_DEFAULT="1"
    PERL_USE_UNSAFE_INC="0"
  @INC:
    /home/david/cpantesting/perl-5.24.4/lib/site_perl/5.24.4/x86_64-linux-thread-multi
    /home/david/cpantesting/perl-5.24.4/lib/site_perl/5.24.4
    /home/david/cpantesting/perl-5.24.4/lib/5.24.4/x86_64-linux-thread-multi
    /home/david/cpantesting/perl-5.24.4/lib/5.24.4
    .