Mojolicious-Plugin-FormFieldsFromJSON v1.03 Perl 5 v5.32.1 MSWin32-x86-multi-thread-64int
- Status
- Pass
- From
- gregor herrmann
- Dist
-
Mojolicious-Plugin-FormFieldsFromJSON v1.03
- Platform
- Perl 5 v5.32.1 MSWin32-x86-multi-thread-64int
- Date
- 2021-04-13 19:55:02
- ID
- acde98f5-6c46-1014-9cd6-ec1a47e303a4
This distribution has been tested as part of the CPAN Testers
project, supporting the Perl programming language. See
http://wiki.cpantesters.org/ for more information or email
questions to cpan-testers-discuss@perl.org
--
Dear Renee Baecker,
This is a computer-generated report for Mojolicious-Plugin-FormFieldsFromJSON-1.03
on perl 5.32.1, created by CPAN-Reporter-1.2018.
Thank you for uploading your work to CPAN. Congratulations!
All tests were successful.
Sections of this report:
* Tester comments
* Program output
* Prerequisites
* Environment and other context
------------------------------
TESTER COMMENTS
------------------------------
Additional comments from tester:
this report is from an automated smoke testing program
and was not reviewed by a human for accuracy
------------------------------
PROGRAM OUTPUT
------------------------------
Output from 'C:\strawberry\c\bin\gmake.EXE test':
"C:\Strawberry\perl\bin\perl.exe" "-MExtUtils::Command::MM" "-MTest::Harness" "-e" "undef *Test::Harness::Switches; test_harness(0, 'blib\lib', 'blib\arch')" t/*.t t/fields/*.t t/validation/*.t
Subroutine delay redefined at C:/Strawberry/perl/site/lib/Mojo/IOLoop.pm line 68.
t/02_two_fields.t ...................................... ok
Subroutine delay redefined at C:/Strawberry/perl/site/lib/Mojo/IOLoop.pm line 68.
t/03_template.t ........................................ ok
Subroutine delay redefined at C:/Strawberry/perl/site/lib/Mojo/IOLoop.pm line 68.
t/04_fieldtype_template.t .............................. ok
Subroutine delay redefined at C:/Strawberry/perl/site/lib/Mojo/IOLoop.pm line 68.
t/05_template_twofields.t .............................. ok
Subroutine delay redefined at C:/Strawberry/perl/site/lib/Mojo/IOLoop.pm line 68.
t/06_fieldtype_template_select.t ....................... ok
Subroutine delay redefined at C:/Strawberry/perl/site/lib/Mojo/IOLoop.pm line 68.
t/07_template_configured_in_json.t ..................... ok
Subroutine delay redefined at C:/Strawberry/perl/site/lib/Mojo/IOLoop.pm line 68.
t/08_forms.t ........................................... ok
Subroutine delay redefined at C:/Strawberry/perl/site/lib/Mojo/IOLoop.pm line 68.
t/09_fields.t .......................................... ok
Subroutine delay redefined at C:/Strawberry/perl/site/lib/Mojo/IOLoop.pm line 68.
t/10_global_attributes.t ............................... ok
Subroutine delay redefined at C:/Strawberry/perl/site/lib/Mojo/IOLoop.pm line 68.
t/11_global_attributes_plus_field_attributes.t ......... ok
Subroutine delay redefined at C:/Strawberry/perl/site/lib/Mojo/IOLoop.pm line 68.
t/12_global_attributes_multirequest.t .................. ok
Subroutine delay redefined at C:/Strawberry/perl/site/lib/Mojo/IOLoop.pm line 68.
t/13_alias.t ........................................... ok
Subroutine delay redefined at C:/Strawberry/perl/site/lib/Mojo/IOLoop.pm line 68.
t/14_translation.t ..................................... ok
Subroutine delay redefined at C:/Strawberry/perl/site/lib/Mojo/IOLoop.pm line 68.
t/15_additional_type.t ................................. ok
Subroutine delay redefined at C:/Strawberry/perl/site/lib/Mojo/IOLoop.pm line 68.
t/16_dynamic_config.t .................................. ok
Subroutine delay redefined at C:/Strawberry/perl/site/lib/Mojo/IOLoop.pm line 68.
t/17_template_info.t ................................... ok
Subroutine delay redefined at C:/Strawberry/perl/site/lib/Mojo/IOLoop.pm line 68.
t/18_template_message.t ................................ ok
Subroutine delay redefined at C:/Strawberry/perl/site/lib/Mojo/IOLoop.pm line 68.
t/19_multiple_path.t ................................... ok
Subroutine delay redefined at C:/Strawberry/perl/site/lib/Mojo/IOLoop.pm line 68.
t/20_form_field_by_name.t .............................. ok
Subroutine delay redefined at C:/Strawberry/perl/site/lib/Mojo/IOLoop.pm line 68.
t/21_form_fields_any_stash.t ........................... ok
Subroutine delay redefined at C:/Strawberry/perl/site/lib/Mojo/IOLoop.pm line 68.
t/22_form_fields_without_a_field.t ..................... ok
Subroutine delay redefined at C:/Strawberry/perl/site/lib/Mojo/IOLoop.pm line 68.
t/23_template_file.t ................................... ok
Subroutine delay redefined at C:/Strawberry/perl/site/lib/Mojo/IOLoop.pm line 68.
t/basic.t .............................................. ok
Subroutine delay redefined at C:/Strawberry/perl/site/lib/Mojo/IOLoop.pm line 68.
t/fields/01_textfield.t ................................ ok
Subroutine delay redefined at C:/Strawberry/perl/site/lib/Mojo/IOLoop.pm line 68.
t/fields/02_textfield_default.t ........................ ok
Subroutine delay redefined at C:/Strawberry/perl/site/lib/Mojo/IOLoop.pm line 68.
t/fields/03_textfield_attributes.t ..................... ok
Subroutine delay redefined at C:/Strawberry/perl/site/lib/Mojo/IOLoop.pm line 68.
t/fields/04_select.t ................................... ok
Subroutine delay redefined at C:/Strawberry/perl/site/lib/Mojo/IOLoop.pm line 68.
t/fields/05_select_preselect.t ......................... ok
Subroutine delay redefined at C:/Strawberry/perl/site/lib/Mojo/IOLoop.pm line 68.
t/fields/06_select_multiple.t .......................... ok
Subroutine delay redefined at C:/Strawberry/perl/site/lib/Mojo/IOLoop.pm line 68.
t/fields/07_select_preselect_multiple.t ................ ok
Subroutine delay redefined at C:/Strawberry/perl/site/lib/Mojo/IOLoop.pm line 68.
t/fields/08_select_disabled_value.t .................... ok
Subroutine delay redefined at C:/Strawberry/perl/site/lib/Mojo/IOLoop.pm line 68.
t/fields/09_select_hash.t .............................. ok
Subroutine delay redefined at C:/Strawberry/perl/site/lib/Mojo/IOLoop.pm line 68.
t/fields/10_select_optgroup.t .......................... ok
Subroutine delay redefined at C:/Strawberry/perl/site/lib/Mojo/IOLoop.pm line 68.
t/fields/11_select_umlaut.t ............................ ok
Subroutine delay redefined at C:/Strawberry/perl/site/lib/Mojo/IOLoop.pm line 68.
t/fields/12_hidden.t ................................... ok
Subroutine delay redefined at C:/Strawberry/perl/site/lib/Mojo/IOLoop.pm line 68.
t/fields/13_textfield_with_attributes.t ................ ok
Subroutine delay redefined at C:/Strawberry/perl/site/lib/Mojo/IOLoop.pm line 68.
t/fields/14_select_with_attributes.t ................... ok
Subroutine delay redefined at C:/Strawberry/perl/site/lib/Mojo/IOLoop.pm line 68.
t/fields/15_password.t ................................. ok
Subroutine delay redefined at C:/Strawberry/perl/site/lib/Mojo/IOLoop.pm line 68.
t/fields/16_textarea.t ................................. ok
Subroutine delay redefined at C:/Strawberry/perl/site/lib/Mojo/IOLoop.pm line 68.
t/fields/17_textarea_with_cols_and_rows.t .............. ok
Subroutine delay redefined at C:/Strawberry/perl/site/lib/Mojo/IOLoop.pm line 68.
t/fields/18_radio.t .................................... ok
Subroutine delay redefined at C:/Strawberry/perl/site/lib/Mojo/IOLoop.pm line 68.
t/fields/19_radio_group.t .............................. ok
Subroutine delay redefined at C:/Strawberry/perl/site/lib/Mojo/IOLoop.pm line 68.
t/fields/20_radio_group_one_config.t ................... ok
Subroutine delay redefined at C:/Strawberry/perl/site/lib/Mojo/IOLoop.pm line 68.
t/fields/21_radio_group_one_config_disabled.t .......... ok
Subroutine delay redefined at C:/Strawberry/perl/site/lib/Mojo/IOLoop.pm line 68.
t/fields/22_radio_group_one_config_disabled_code.t ..... ok
Subroutine delay redefined at C:/Strawberry/perl/site/lib/Mojo/IOLoop.pm line 68.
t/fields/23_radio_group_disabled_code.t ................ ok
Subroutine delay redefined at C:/Strawberry/perl/site/lib/Mojo/IOLoop.pm line 68.
t/fields/24_radio_group_one_config_preselect.t ......... ok
Subroutine delay redefined at C:/Strawberry/perl/site/lib/Mojo/IOLoop.pm line 68.
t/fields/25_radio_group_template.t ..................... ok
Subroutine delay redefined at C:/Strawberry/perl/site/lib/Mojo/IOLoop.pm line 68.
t/fields/26_radio_group_one_config_template.t .......... ok
Subroutine delay redefined at C:/Strawberry/perl/site/lib/Mojo/IOLoop.pm line 68.
t/fields/27_checkbox.t ................................. ok
Subroutine delay redefined at C:/Strawberry/perl/site/lib/Mojo/IOLoop.pm line 68.
t/fields/28_checkbox_group.t ........................... ok
Subroutine delay redefined at C:/Strawberry/perl/site/lib/Mojo/IOLoop.pm line 68.
t/fields/29_checkbox_group_one_config.t ................ ok
Subroutine delay redefined at C:/Strawberry/perl/site/lib/Mojo/IOLoop.pm line 68.
t/fields/30_checkbox_group_one_config_disabled.t ....... ok
Subroutine delay redefined at C:/Strawberry/perl/site/lib/Mojo/IOLoop.pm line 68.
t/fields/31_checkbox_group_one_config_disabled_code.t .. ok
Subroutine delay redefined at C:/Strawberry/perl/site/lib/Mojo/IOLoop.pm line 68.
t/fields/32_checkbox_group_disabled_code.t ............. ok
Subroutine delay redefined at C:/Strawberry/perl/site/lib/Mojo/IOLoop.pm line 68.
t/fields/33_checkbox_group_one_config_preselect.t ...... ok
Subroutine delay redefined at C:/Strawberry/perl/site/lib/Mojo/IOLoop.pm line 68.
t/fields/34_checkbox_group_template.t .................. ok
Subroutine delay redefined at C:/Strawberry/perl/site/lib/Mojo/IOLoop.pm line 68.
t/fields/35_checkbox_group_one_config_template.t ....... ok
Subroutine delay redefined at C:/Strawberry/perl/site/lib/Mojo/IOLoop.pm line 68.
t/fields/36_radio_after_element.t ...................... ok
Subroutine delay redefined at C:/Strawberry/perl/site/lib/Mojo/IOLoop.pm line 68.
t/fields/37_checkbox_after_element.t ................... ok
Subroutine delay redefined at C:/Strawberry/perl/site/lib/Mojo/IOLoop.pm line 68.
t/fields/38_radio_show_value.t ......................... ok
Subroutine delay redefined at C:/Strawberry/perl/site/lib/Mojo/IOLoop.pm line 68.
t/fields/39_checkbox_show_value.t ...................... ok
Subroutine delay redefined at C:/Strawberry/perl/site/lib/Mojo/IOLoop.pm line 68.
t/fields/40_radio_translate_sublabel.t ................. ok
Subroutine delay redefined at C:/Strawberry/perl/site/lib/Mojo/IOLoop.pm line 68.
t/fields/41_checkbox_translate_sublabel.t .............. ok
Subroutine delay redefined at C:/Strawberry/perl/site/lib/Mojo/IOLoop.pm line 68.
# 8.73
t/fields/42_select_data_passed.t ....................... ok
Subroutine delay redefined at C:/Strawberry/perl/site/lib/Mojo/IOLoop.pm line 68.
t/fields/43_textfield_data_passed.t .................... ok
Subroutine delay redefined at C:/Strawberry/perl/site/lib/Mojo/IOLoop.pm line 68.
t/fields/44_hidden_data_passed.t ....................... ok
Subroutine delay redefined at C:/Strawberry/perl/site/lib/Mojo/IOLoop.pm line 68.
t/fields/45_textarea_data_passed.t ..................... ok
Subroutine delay redefined at C:/Strawberry/perl/site/lib/Mojo/IOLoop.pm line 68.
t/fields/46_radio_group_data_passed.t .................. ok
Subroutine delay redefined at C:/Strawberry/perl/site/lib/Mojo/IOLoop.pm line 68.
t/fields/47_checkbox_group_data_passed.t ............... ok
Subroutine delay redefined at C:/Strawberry/perl/site/lib/Mojo/IOLoop.pm line 68.
t/fields/48_glue.t ..................................... ok
Subroutine delay redefined at C:/Strawberry/perl/site/lib/Mojo/IOLoop.pm line 68.
t/fields/49_select_preselect_stash.t ................... ok
Subroutine delay redefined at C:/Strawberry/perl/site/lib/Mojo/IOLoop.pm line 68.
t/fields/50_radio_preselect_stash.t .................... ok
Subroutine delay redefined at C:/Strawberry/perl/site/lib/Mojo/IOLoop.pm line 68.
t/fields/51_checkbox_preselect_stash.t ................. ok
Subroutine delay redefined at C:/Strawberry/perl/site/lib/Mojo/IOLoop.pm line 68.
t/fields/52_select_data_callback.t ..................... ok
Subroutine delay redefined at C:/Strawberry/perl/site/lib/Mojo/IOLoop.pm line 68.
t/validation/01_textfield.t ............................ ok
Subroutine delay redefined at C:/Strawberry/perl/site/lib/Mojo/IOLoop.pm line 68.
t/validation/02_textfield_required.t ................... ok
Subroutine delay redefined at C:/Strawberry/perl/site/lib/Mojo/IOLoop.pm line 68.
t/validation/03_unset_optional.t ....................... ok
Subroutine delay redefined at C:/Strawberry/perl/site/lib/Mojo/IOLoop.pm line 68.
t/validation/04_unset_required.t ....................... ok
Subroutine delay redefined at C:/Strawberry/perl/site/lib/Mojo/IOLoop.pm line 68.
t/validation/05_error_message.t ........................ ok
Subroutine delay redefined at C:/Strawberry/perl/site/lib/Mojo/IOLoop.pm line 68.
t/validation/06_specific_error_message.t ............... ok
Subroutine delay redefined at C:/Strawberry/perl/site/lib/Mojo/IOLoop.pm line 68.
t/validation/07_mixed_errors.t ......................... ok
Subroutine delay redefined at C:/Strawberry/perl/site/lib/Mojo/IOLoop.pm line 68.
t/validation/08_required_error_message.t ............... ok
Subroutine delay redefined at C:/Strawberry/perl/site/lib/Mojo/IOLoop.pm line 68.
t/validation/09_required_no_error_message.t ............ ok
Subroutine delay redefined at C:/Strawberry/perl/site/lib/Mojo/IOLoop.pm line 68.
t/validation/10_change_value.t ......................... ok
Subroutine delay redefined at C:/Strawberry/perl/site/lib/Mojo/IOLoop.pm line 68.
t/validation/11_textfield_filters.t .................... ok
Subroutine delay redefined at C:/Strawberry/perl/site/lib/Mojo/IOLoop.pm line 68.
t/validation/12_textfield_required_filters.t ........... ok
All tests successful.
Files=87, Tests=450, 320 wallclock secs ( 0.47 usr + 0.14 sys = 0.61 CPU)
Result: PASS
------------------------------
PREREQUISITES
------------------------------
Prerequisite modules loaded:
requires:
Module Need Have
------------------- ----- --------
Mojo::File 0 0
Mojolicious 6.50 8.73
perl 5.010 5.032001
build_requires:
Module Need Have
------------------- ----- --------
ExtUtils::MakeMaker 0 7.61_01
configure_requires:
Module Need Have
------------------- ----- --------
ExtUtils::MakeMaker 0 7.61_01
------------------------------
ENVIRONMENT AND OTHER CONTEXT
------------------------------
Environment variables:
AUTOMATED_TESTING = 1
COMSPEC = C:\WINDOWS.0\system32\cmd.exe
NONINTERACTIVE_TESTING = 1
NUMBER_OF_PROCESSORS = 1
PATH = C:\WINDOWS.0\system32;C:\strawberry\c\bin;C:\strawberry\perl\site\bin;C:\strawberry\perl\bin
PERL5LIB =
PERL5OPT =
PERL5_CPANPLUS_IS_RUNNING = 3528
PERL5_CPAN_IS_RUNNING = 3528
PERL5_CPAN_IS_RUNNING_IN_RECURSION = 2636,3528
PERL_CR_SMOKER_CURRENT = Mojolicious-Plugin-FormFieldsFromJSON-1.03
PERL_EXTUTILS_AUTOINSTALL = --defaultdeps
PERL_MM_USE_DEFAULT = 1
PERL_USE_UNSAFE_INC = 1
PROCESSOR_IDENTIFIER = x86 Family 6 Model 14 Stepping 8, GenuineIntel
TEMP = C:\DOKUME~1\smoker\LOKALE~1\Temp
TERM = dumb
Perl special variables (and OS-specific diagnostics, for MSWin32):
$^X = C:\Strawberry\perl\bin\perl.exe
$UID/$EUID = 0 / 0
$GID = 0
$EGID = 0
Win32::GetOSName = WinXP/.Net
Win32::GetOSVersion = Service Pack 3, 5, 1, 2600, 2, 3, 0, 256, 1
Win32::FsType = NTFS
Win32::IsAdminUser = 1
Perl module toolchain versions installed:
Module Have
------------------- --------
CPAN 2.28
CPAN::Meta 2.150010
Cwd 3.78
ExtUtils::CBuilder 0.280236
ExtUtils::Command 7.61_01
ExtUtils::Install 2.20
ExtUtils::MakeMaker 7.61_01
ExtUtils::Manifest 1.73
ExtUtils::ParseXS 3.35
File::Spec 3.78
JSON 4.03
JSON::PP 4.06
Module::Build 0.4231
Module::Signature 0.87
Parse::CPAN::Meta 2.150010
Test::Harness 3.42
Test::More 1.302183
YAML 1.30
YAML::Syck 1.34
version 0.9928
--
Summary of my perl5 (revision 5 version 32 subversion 1) configuration:
Platform:
osname=MSWin32
osvers=10.0.19042.746
archname=MSWin32-x86-multi-thread-64int
uname='Win32 strawberry-perl 5.32.1.1 #1 Sun Jan 24 12:17:47 2021 i386'
config_args='undef'
hint=recommended
useposix=true
d_sigaction=undef
useithreads=define
usemultiplicity=define
use64bitint=define
use64bitall=undef
uselongdouble=undef
usemymalloc=n
default_inc_excludes_dot=define
bincompat5005=undef
Compiler:
cc='gcc'
ccflags =' -DWIN32 -D__USE_MINGW_ANSI_STDIO -DPERL_TEXTMODE_SCRIPTS -DPERL_IMPLICIT_CONTEXT -DPERL_IMPLICIT_SYS -DUSE_PERLIO -fwrapv -fno-strict-aliasing -mms-bitfields'
optimize='-s -O2'
cppflags='-DWIN32'
ccversion=''
gccversion='8.3.0'
gccosandvers=''
intsize=4
longsize=4
ptrsize=4
doublesize=8
byteorder=12345678
doublekind=3
d_longlong=define
longlongsize=8
d_longdbl=define
longdblsize=12
longdblkind=3
ivtype='long long'
ivsize=8
nvtype='double'
nvsize=8
Off_t='long long'
lseeksize=8
alignbytes=8
prototype=define
Linker and Libraries:
ld='g++'
ldflags ='-s -L"C:\STRAWB~1\perl\lib\CORE" -L"C:\STRAWB~1\c\lib"'
libpth=C:\STRAWB~1\c\lib C:\STRAWB~1\c\i686-w64-mingw32\lib C:\STRAWB~1\c\lib\gcc\i686-w64-mingw32\8.3.0
libs= -lmoldname -lkernel32 -luser32 -lgdi32 -lwinspool -lcomdlg32 -ladvapi32 -lshell32 -lole32 -loleaut32 -lnetapi32 -luuid -lws2_32 -lmpr -lwinmm -lversion -lodbc32 -lodbccp32 -lcomctl32
perllibs= -lmoldname -lkernel32 -luser32 -lgdi32 -lwinspool -lcomdlg32 -ladvapi32 -lshell32 -lole32 -loleaut32 -lnetapi32 -luuid -lws2_32 -lmpr -lwinmm -lversion -lodbc32 -lodbccp32 -lcomctl32
libc=
so=dll
useshrplib=true
libperl=libperl532.a
gnulibc_version=''
Dynamic Linking:
dlsrc=dl_win32.xs
dlext=xs.dll
d_dlsymun=undef
ccdlflags=' '
cccdlflags=' '
lddlflags='-mdll -s -L"C:\STRAWB~1\perl\lib\CORE" -L"C:\STRAWB~1\c\lib"'
Characteristics of this binary (from libperl):
Compile-time options:
HAS_TIMES
HAVE_INTERP_INTERN
MULTIPLICITY
PERLIO_LAYERS
PERL_COPY_ON_WRITE
PERL_DONT_CREATE_GVSV
PERL_IMPLICIT_CONTEXT
PERL_IMPLICIT_SYS
PERL_MALLOC_WRAP
PERL_OP_PARENT
PERL_PRESERVE_IVUV
USE_64_BIT_INT
USE_ITHREADS
USE_LARGE_FILES
USE_LOCALE
USE_LOCALE_COLLATE
USE_LOCALE_CTYPE
USE_LOCALE_NUMERIC
USE_LOCALE_TIME
USE_PERLIO
USE_PERL_ATOF
Built under MSWin32
Compiled at Jan 24 2021 12:22:49
%ENV:
PERL5_CPANPLUS_IS_RUNNING="3528"
PERL5_CPAN_IS_RUNNING="3528"
PERL5_CPAN_IS_RUNNING_IN_RECURSION="2636,3528"
PERL_CR_SMOKER_CURRENT="Mojolicious-Plugin-FormFieldsFromJSON-1.03"
PERL_EXTUTILS_AUTOINSTALL="--defaultdeps"
PERL_MM_USE_DEFAULT="1"
PERL_USE_UNSAFE_INC="1"
@INC:
C:/Strawberry/perl/site/lib/MSWin32-x86-multi-thread-64int
C:/Strawberry/perl/site/lib
C:/Strawberry/perl/vendor/lib
C:/Strawberry/perl/lib
.