Text-MultiMarkdown v1.005 Perl 5 v5.41.11 x86_64-linux-thread-multi

Status
Pass
From
Carlos Guevara
Dist
Text-MultiMarkdown v1.005
Platform
Perl 5 v5.41.11 x86_64-linux-thread-multi
Date
2025-04-20 04:19:39
ID
acdd8c9a-1d9e-11f0-807d-94d48f72094e
This distribution has been tested as part of the CPAN Testers
project, supporting the Perl programming language.  See
http://wiki.cpantesters.org/ for more information or email
questions to cpan-testers-discuss@perl.org


--
Dear brian d foy,

This is a computer-generated report for Text-MultiMarkdown-1.005
on perl 5.41.11, created by CPAN-Reporter-1.2020.

Thank you for uploading your work to CPAN.  Congratulations!
All tests were successful.

Sections of this report:

    * Tester comments
    * Program output
    * Prerequisites
    * Environment and other context

------------------------------
TESTER COMMENTS
------------------------------

Additional comments from tester:

this report is from an automated smoke testing program
and was not reviewed by a human for accuracy

------------------------------
PROGRAM OUTPUT
------------------------------

Output from '/usr/bin/make test':

PERL_DL_NONLAZY=1 "/home/cpan/bin/perl/bin/perl5.41.11" "-MExtUtils::Command::MM" "-MTest::Harness" "-e" "undef *Test::Harness::Switches; test_harness(0, 'blib/lib', 'blib/arch')" t/*.t
t/01-use.t ................................. ok
t/02-pod.t ................................. skipped: set TEST_POD to enable this test
t/03-podcoverage.t ......................... skipped: Test::Pod::Coverage 1.04 required
t/03-podspelling.t ......................... skipped: Test::Spelling 0.11 not installed
t/04-markdown.t ............................ ok
t/05-options.t ............................. ok
t/06-wiki.t ................................ ok
t/07-fulldoc.t ............................. ok
t/08-exporter.t ............................ ok
t/09-base_url.t ............................ ok
t/10-use_metadata.t ........................ ok
t/11-docment_format.t ...................... ok
t/12-empty_element_suffix.t ................ ok
t/13-header-labels.t ....................... ok
t/13-heading_ids_spaces_to_dash.t .......... ok
t/13-multimarkdown-nometadata-firstpara.t .. ok
t/14-unicode.t ............................. ok
t/16-headingsinlists.t ..................... ok
t/17-olulreportedonlist.t .................. ok
t/18-codespanextra.t ....................... ok
t/20-fulldocs-text-multimarkdown.t ......... ok
t/22-fulldocs-multimarkdown-todo.t ......... ok
t/23-afulldocs-multimarkdown.t ............. ok
t/24-fulldocs-pythonmarkdown2-tm.t ......... ok
t/29-fulldocs-maruku-unittest.t ............ skipped: This test needs HTML::Tidy installed to pass correctly, skipping
t/30-disable_multimarkdown_features.t ...... ok
t/35-commandlinemultimarkdown.t ............ ok
t/36-footnotes.t ........................... ok
t/37-deflists.t ............................ ok
t/38-self_url.t ............................ ok
All tests successful.
Files=30, Tests=79,  3 wallclock secs ( 0.10 usr  0.03 sys +  2.42 cusr  0.57 csys =  3.12 CPU)
Result: PASS

------------------------------
PREREQUISITES
------------------------------

Prerequisite modules loaded:

requires:

    Module                Need    Have    
    --------------------- ------- --------
    Digest::MD5           0       2.59    
    Encode                0       3.21    
    HTML::Entities        0       3.83    
    perl                  5.008   5.041011
    Text::Markdown        v1.0.26 1.000031
    Text::Unidecode       0       1.30    

build_requires:

    Module                Need    Have    
    --------------------- ------- --------
    FindBin               0       1.54    
    List::Util            1.45    1.68_01 
    Test::Exception       0       0.43    
    Test::More            0.42    1.302210
    version               0.86    0.9933  

configure_requires:

    Module                Need    Have    
    --------------------- ------- --------
    ExtUtils::MakeMaker   6.64    7.74    
    File::Spec::Functions 0       3.94    


------------------------------
ENVIRONMENT AND OTHER CONTEXT
------------------------------

Environment variables:

    AUTOMATED_TESTING = 1
    DATE_MANIP_TEST_DM5 = 1
    LANG = C.UTF-8
    LC_COLLATE = C
    NONINTERACTIVE_TESTING = 1
    NO_NETWORK_TESTING = 1
    PATH = /home/cpan/bin/perl/bin:/usr/local/sbin:/usr/local/bin:/usr/sbin:/usr/bin:/sbin:/bin
    PERL5LIB = 
    PERL5OPT = 
    PERL5_CPANPLUS_IS_RUNNING = 13039
    PERL5_CPAN_IS_RUNNING = 13039
    PERL_MM_USE_DEFAULT = 1
    PERL_USE_UNSAFE_INC = 1
    SHELL = /bin/bash
    TERM = screen

Perl special variables (and OS-specific diagnostics, for MSWin32):

    $^X = /home/cpan/bin/perl/bin/perl5.41.11
    $UID/$EUID = 1001 / 1001
    $GID = 1001 1001
    $EGID = 1001 1001

Perl module toolchain versions installed:

    Module              Have    
    ------------------- --------
    CPAN                2.38    
    CPAN::Meta          2.150010
    Cwd                 3.94    
    ExtUtils::CBuilder  0.280240
    ExtUtils::Command   7.74    
    ExtUtils::Install   2.22    
    ExtUtils::MakeMaker 7.74    
    ExtUtils::Manifest  1.75    
    ExtUtils::ParseXS   3.57    
    File::Spec          3.94    
    JSON                n/a     
    JSON::PP            4.16    
    Module::Build       0.4234  
    Module::Signature   n/a     
    Parse::CPAN::Meta   2.150010
    Test2               1.302210
    Test::Harness       3.50    
    Test::More          1.302210
    YAML                1.31    
    YAML::Syck          n/a     
    version             0.9933  


--

Summary of my perl5 (revision 5 version 41 subversion 11) configuration:
  Commit id: 49e1c32066791d2d86ecb35bd4de885200e36e80
  Platform:
    osname=linux
    osvers=6.12.23-0-lts
    archname=x86_64-linux-thread-multi
    uname='linux cjg-alpine3 6.12.23-0-lts #1-alpine smp preempt_dynamic 2025-04-16 13:18:51 x86_64 linux '
    config_args='-des -Dprefix=/home/cpan/bin/perl -Dscriptdir=/home/cpan/bin/perl/bin -Dusedevel -Duse64bitall -Duseithreads'
    hint=recommended
    useposix=true
    d_sigaction=define
    useithreads=define
    usemultiplicity=define
    use64bitint=define
    use64bitall=define
    uselongdouble=undef
    usemymalloc=n
    default_inc_excludes_dot=define
  Compiler:
    cc='cc'
    ccflags ='-D_REENTRANT -D_GNU_SOURCE -D_GNU_SOURCE -fwrapv -fno-strict-aliasing -pipe -fstack-protector-strong -D_LARGEFILE_SOURCE -D_FILE_OFFSET_BITS=64'
    optimize='-O2'
    cppflags='-D_REENTRANT -D_GNU_SOURCE -D_GNU_SOURCE -fwrapv -fno-strict-aliasing -pipe -fstack-protector-strong'
    ccversion=''
    gccversion='14.2.0'
    gccosandvers=''
    intsize=4
    longsize=8
    ptrsize=8
    doublesize=8
    byteorder=12345678
    doublekind=3
    d_longlong=define
    longlongsize=8
    d_longdbl=define
    longdblsize=16
    longdblkind=3
    ivtype='long'
    ivsize=8
    nvtype='double'
    nvsize=8
    Off_t='off_t'
    lseeksize=8
    alignbytes=8
    prototype=define
  Linker and Libraries:
    ld='cc'
    ldflags =' -fstack-protector-strong -L/usr/local/lib'
    libpth=/usr/lib /usr/local/lib /lib
    libs=-lpthread -ldb -ldl -lm -lcrypt -lutil -lc
    perllibs=-lpthread -ldl -lm -lcrypt -lutil -lc
    libc=/usr/lib/libc.a
    so=so
    useshrplib=false
    libperl=libperl.a
    gnulibc_version=''
  Dynamic Linking:
    dlsrc=dl_dlopen.xs
    dlext=so
    d_dlsymun=undef
    ccdlflags='-Wl,-E'
    cccdlflags='-fPIC'
    lddlflags='-shared -O2 -L/usr/local/lib -fstack-protector-strong'


Characteristics of this binary (from libperl): 
  Compile-time options:
    HAS_LONG_DOUBLE
    HAS_STRTOLD
    HAS_TIMES
    MULTIPLICITY
    PERLIO_LAYERS
    PERL_COPY_ON_WRITE
    PERL_DONT_CREATE_GVSV
    PERL_HASH_FUNC_SIPHASH13
    PERL_HASH_USE_SBOX32
    PERL_MALLOC_WRAP
    PERL_OP_PARENT
    PERL_PRESERVE_IVUV
    PERL_USE_DEVEL
    PERL_USE_SAFE_PUTENV
    USE_64_BIT_ALL
    USE_64_BIT_INT
    USE_ITHREADS
    USE_LARGE_FILES
    USE_LOCALE
    USE_LOCALE_COLLATE
    USE_LOCALE_CTYPE
    USE_LOCALE_NUMERIC
    USE_LOCALE_TIME
    USE_PERLIO
    USE_PERL_ATOF
    USE_REENTRANT_API
    USE_THREAD_SAFE_LOCALE
  Built under linux
  Compiled at Apr 19 2025 23:21:37
  %ENV:
    PERL5LIB=""
    PERL5OPT=""
    PERL5_CPANPLUS_IS_RUNNING="13039"
    PERL5_CPAN_IS_RUNNING="13039"
    PERL_MM_USE_DEFAULT="1"
    PERL_USE_UNSAFE_INC="1"
  @INC:
    /home/cpan/bin/perl/lib/site_perl/5.41.11/x86_64-linux-thread-multi
    /home/cpan/bin/perl/lib/site_perl/5.41.11
    /home/cpan/bin/perl/lib/5.41.11/x86_64-linux-thread-multi
    /home/cpan/bin/perl/lib/5.41.11
    .