Report for Module-Install-ReadmeFromPod-0.22

Back
From: metabase:user:c086eaf4-c8a4-11e2-b158-c35ef8e388f9
Subject: PASS Module-Install-ReadmeFromPod-0.22 v5.10.1 Mac OS X
Date: 2014-06-05T00:59:41Z

This distribution has been tested as part of the CPAN Testers
project, supporting the Perl programming language.  See
http://wiki.cpantesters.org/ for more information or email
questions to cpan-testers-discuss@perl.org


--
Dear BINGOS,

This is a computer-generated report for Module-Install-ReadmeFromPod-0.22
on perl 5.10.1, created by App::cpanminus::reporter 0.10 (1.7001).

Thank you for uploading your work to CPAN.  Congratulations!
All tests were successful.

Sections of this report:

    * Tester comments
    * Program output
    * Prerequisites
    * Environment and other context

------------------------------
TESTER COMMENTS
------------------------------

Additional comments from tester:

none provided

------------------------------
PROGRAM OUTPUT
------------------------------

Output from '':

Building and testing Module-Install-ReadmeFromPod-0.22
cp lib/Module/Install/ReadmeFromPod.pm blib/lib/Module/Install/ReadmeFromPod.pm
Manifying blib/man3/Module::Install::ReadmeFromPod.0
PERL_DL_NONLAZY=1 /Users/ether/perl5/perlbrew/perls/10.1/bin/perl "-MExtUtils::Command::MM" "-MTest::Harness" "-e" "undef *Test::Harness::Switches; test_harness(0, 'inc', 'blib/lib', 'blib/arch')" t/*.t
# Testing Module::Install::ReadmeFromPod 0.22, Perl 5.010001, /Users/ether/perl5/perlbrew/perls/10.1/bin/perl
t/00_compile.t ....... ok
# include /Users/ether/.cpanm/work/1401929973.15547/Module-Install-ReadmeFromPod-0.22/dist/pZvka4HqIC/inc/Module/Install.pm
# include inc/Module/Install/Metadata.pm
# include inc/Module/Install/Base.pm
# include inc/Module/Install/ReadmeFromPod.pm
# readme_from README.pm to txt
# readme_from README.pm to htm
# readme_from README.pm to man
# include inc/Module/Install/WriteAll.pm
# include inc/Module/Install/Makefile.pm
# include inc/Module/Install/Win32.pm
# include inc/Module/Install/Can.pm
# include inc/Module/Install/Fetch.pm
# Generating a Unix-style Makefile
# Writing Makefile for Foo::Bar
# Writing MYMETA.yml and MYMETA.json
# Writing META.yml
# rm -f \
# 	  Bar.bso Bar.def \
# 	  Bar.exp Bar.x \
# 	   blib/arch/auto/Foo/Bar/extralibs.all \
# 	  blib/arch/auto/Foo/Bar/extralibs.ld Makefile.aperl \
# 	  *.a *.o \
# 	  *perl.core MYMETA.json \
# 	  MYMETA.yml blibdirs.ts \
# 	  core core.*perl.*.? \
# 	  core.[0-9] core.[0-9][0-9] \
# 	  core.[0-9][0-9][0-9] core.[0-9][0-9][0-9][0-9] \
# 	  core.[0-9][0-9][0-9][0-9][0-9] libBar.def \
# 	  mon.out perl \
# 	  perl perl.exe \
# 	  perlmain.c pm_to_blib \
# 	  pm_to_blib.ts so_locations \
# 	  tmon.out 
# rm -rf \
# 	  blib 
# mv Makefile Makefile.old > /dev/null 2>&1
# rm -f \
# 	  Makefile.old Makefile 
# rm -rf \
# 	  MYMETA.yml Foo-Bar-0.01 
# rm -f Foo-Bar-0.01.tar.gz
# rm -f MANIFEST.bak _build
# /Users/ether/perl5/perlbrew/perls/10.1/bin/perl "-Iinc" "-Ilib" "-MModule::Install::Admin" -e "remove_meta()"
# rm -rf inc
# /Users/ether/perl5/perlbrew/perls/10.1/bin/perl "-Iinc" "-MExtUtils::Manifest=fullcheck" -e fullcheck
# Problem opening MANIFEST: No such file or directory at /Users/ether/.perlbrew/libs/10.1@std/lib/perl5/ExtUtils/Manifest.pm line 347.
# Problem opening MANIFEST: No such file or directory at /Users/ether/.perlbrew/libs/10.1@std/lib/perl5/ExtUtils/Manifest.pm line 347.
# Not in MANIFEST: Makefile.PL
# Not in MANIFEST: README
# Not in MANIFEST: README.1
# Not in MANIFEST: README.htm
# Not in MANIFEST: README.pm
t/01_dist.t .......... ok
# include /Users/ether/.cpanm/work/1401929973.15547/Module-Install-ReadmeFromPod-0.22/dist/EVcOVBy3ig/inc/Module/Install.pm
# include inc/Module/Install/Metadata.pm
# include inc/Module/Install/Base.pm
# include inc/Module/Install/ReadmeFromPod.pm
# readme_from README.pm to text
# include inc/Module/Install/Makefile.pm
# readme_from README.pm to html
# readme_from README.pm to man
# include inc/Module/Install/WriteAll.pm
# include inc/Module/Install/Win32.pm
# include inc/Module/Install/Can.pm
# include inc/Module/Install/Fetch.pm
# Generating a Unix-style Makefile
# Writing Makefile for Foo::Bar
# Writing MYMETA.yml and MYMETA.json
# Writing META.yml
# rm -f \
# 	  Bar.bso Bar.def \
# 	  Bar.exp Bar.x \
# 	   blib/arch/auto/Foo/Bar/extralibs.all \
# 	  blib/arch/auto/Foo/Bar/extralibs.ld Makefile.aperl \
# 	  *.a *.o \
# 	  *perl.core MYMETA.json \
# 	  MYMETA.yml blibdirs.ts \
# 	  core core.*perl.*.? \
# 	  core.[0-9] core.[0-9][0-9] \
# 	  core.[0-9][0-9][0-9] core.[0-9][0-9][0-9][0-9] \
# 	  core.[0-9][0-9][0-9][0-9][0-9] libBar.def \
# 	  mon.out perl \
# 	  perl perl.exe \
# 	  perlmain.c pm_to_blib \
# 	  pm_to_blib.ts so_locations \
# 	  tmon.out 
# rm -rf \
# 	  Foobar.htm Foobar.man \
# 	  Foobar.txt blib 
# mv Makefile Makefile.old > /dev/null 2>&1
# rm -f \
# 	  Makefile.old Makefile 
# rm -rf \
# 	  MYMETA.yml Foo-Bar-0.01 
# rm -f Foo-Bar-0.01.tar.gz
# rm -f MANIFEST.bak _build
# /Users/ether/perl5/perlbrew/perls/10.1/bin/perl "-Iinc" "-Ilib" "-MModule::Install::Admin" -e "remove_meta()"
# rm -rf inc
# /Users/ether/perl5/perlbrew/perls/10.1/bin/perl "-Iinc" "-MExtUtils::Manifest=fullcheck" -e fullcheck
# Problem opening MANIFEST: No such file or directory at /Users/ether/.perlbrew/libs/10.1@std/lib/perl5/ExtUtils/Manifest.pm line 347.
# Problem opening MANIFEST: No such file or directory at /Users/ether/.perlbrew/libs/10.1@std/lib/perl5/ExtUtils/Manifest.pm line 347.
# Not in MANIFEST: Makefile.PL
# Not in MANIFEST: README.pm
t/02_clean.t ......... ok
# include /Users/ether/.cpanm/work/1401929973.15547/Module-Install-ReadmeFromPod-0.22/dist/9FISR3rn3x/inc/Module/Install.pm
# include inc/Module/Install/Metadata.pm
# include inc/Module/Install/Base.pm
# include inc/Module/Install/Makefile.pm
# include inc/Module/Install/ReadmeFromPod.pm
# readme_from README.pm to txt
# include inc/Module/Install/WriteAll.pm
# include inc/Module/Install/Win32.pm
# include inc/Module/Install/Can.pm
# include inc/Module/Install/Fetch.pm
# Generating a Unix-style Makefile
# Writing Makefile for Foo::Bar
# Writing MYMETA.yml and MYMETA.json
# Writing META.yml
# rm -f \
# 	  Bar.bso Bar.def \
# 	  Bar.exp Bar.x \
# 	   blib/arch/auto/Foo/Bar/extralibs.all \
# 	  blib/arch/auto/Foo/Bar/extralibs.ld Makefile.aperl \
# 	  *.a *.o \
# 	  *perl.core MYMETA.json \
# 	  MYMETA.yml blibdirs.ts \
# 	  core core.*perl.*.? \
# 	  core.[0-9] core.[0-9][0-9] \
# 	  core.[0-9][0-9][0-9] core.[0-9][0-9][0-9][0-9] \
# 	  core.[0-9][0-9][0-9][0-9][0-9] libBar.def \
# 	  mon.out perl \
# 	  perl perl.exe \
# 	  perlmain.c pm_to_blib \
# 	  pm_to_blib.ts so_locations \
# 	  tmon.out 
# rm -rf \
# 	  blib 
# mv Makefile Makefile.old > /dev/null 2>&1
# rm -f \
# 	  Makefile.old Makefile 
# rm -rf \
# 	  MYMETA.yml Foo-Bar-0.01 
# rm -f Foo-Bar-0.01.tar.gz
# rm -f MANIFEST.bak _build
# /Users/ether/perl5/perlbrew/perls/10.1/bin/perl "-Iinc" "-Ilib" "-MModule::Install::Admin" -e "remove_meta()"
# rm -rf inc
# /Users/ether/perl5/perlbrew/perls/10.1/bin/perl "-Iinc" "-MExtUtils::Manifest=fullcheck" -e fullcheck
# Problem opening MANIFEST: No such file or directory at /Users/ether/.perlbrew/libs/10.1@std/lib/perl5/ExtUtils/Manifest.pm line 347.
# Problem opening MANIFEST: No such file or directory at /Users/ether/.perlbrew/libs/10.1@std/lib/perl5/ExtUtils/Manifest.pm line 347.
# Not in MANIFEST: Makefile.PL
# Not in MANIFEST: README
# Not in MANIFEST: README.pm
t/03_all_from.t ...... ok
t/04_distpdf.t ....... skipped: App::pod2pdf not installed
t/05_cleanpdf.t ...... skipped: App::pod2pdf not installed
t/99_pod.t ........... ok
t/99_pod_coverage.t .. ok
All tests successful.
Files=8, Tests=20,  4 wallclock secs ( 0.05 usr  0.03 sys +  2.92 cusr  1.48 csys =  4.48 CPU)
Result: PASS

------------------------------
PREREQUISITES
------------------------------

Prerequisite modules loaded:

    No requirements found

------------------------------
ENVIRONMENT AND OTHER CONTEXT
------------------------------

Environment variables:

    LANG = en_CA.UTF-8
    PATH = /Users/ether/.perlbrew/libs/10.1@std/bin:/Users/ether/perl5/perlbrew/bin:/Users/ether/perl5/perlbrew/perls/10.1/bin:/Users/ether/bin:/Users/ether/git/misc/install/tequila/bin:/Users/ether/git/misc/install/generic/bin:/opt/local/bin:/opt/local/sbin:/Users/ether/src/CE/devtools:/Users/ether/git/CE/devtools:/Users/ether/src/CE/bin:/Users/ether/git/CE/bin:/usr/bin:/bin:/usr/sbin:/sbin:/usr/local/bin:/usr/X11/bin:/opt/local/share/git-core/contrib/workdir
    PERL5LIB = /Users/ether/.perlbrew/libs/10.1@std/lib/perl5
    PERLBREW_BASHRC_VERSION = 0.67
    PERLBREW_HOME = /Users/ether/.perlbrew
    PERLBREW_LIB = std
    PERLBREW_MANPATH = /Users/ether/.perlbrew/libs/10.1@std/man:/Users/ether/perl5/perlbrew/perls/10.1/man
    PERLBREW_PATH = /Users/ether/.perlbrew/libs/10.1@std/bin:/Users/ether/perl5/perlbrew/bin:/Users/ether/perl5/perlbrew/perls/10.1/bin
    PERLBREW_PERL = 10.1
    PERLBREW_ROOT = /Users/ether/perl5/perlbrew
    PERLBREW_VERSION = 0.67
    PERLDOC_PAGER = less -sicMr
    PERL_AUTOINSTALL_PREFER_CPAN = 1
    PERL_LOCAL_LIB_ROOT = /Users/ether/.perlbrew/libs/10.1@std
    PERL_MB_OPT = --install_base /Users/ether/.perlbrew/libs/10.1@std
    PERL_MM_OPT = INSTALL_BASE=/Users/ether/.perlbrew/libs/10.1@std
    SHELL = /bin/bash
    TERM = xterm-color

Perl special variables (and OS-specific diagnostics, for MSWin32):

    EGID = 20 20 402 204 100 98 81 80 79 61 12 404 401 403
    EUID = 503
    EXECUTABLE_NAME = /Users/ether/perl5/perlbrew/perls/10.1/bin/perl
    GID = 20 20 402 204 100 98 81 80 79 61 12 404 401 403
    UID = 503

Perl module toolchain versions installed:

    Module              Have    
    ------------------- --------
    CPAN                1.9402  
    CPAN::Meta          2.141520
    Cwd                 3.47    
    ExtUtils::CBuilder  0.280216
    ExtUtils::Command   1.18    
    ExtUtils::Install   1.67    
    ExtUtils::MakeMaker 6.99_01 
    ExtUtils::Manifest  1.63    
    ExtUtils::ParseXS   3.24    
    File::Spec          3.47    
    JSON                2.90    
    JSON::PP            2.27203 
    Module::Build       0.4205  
    Module::Signature   n/a     
    Parse::CPAN::Meta   1.4414  
    Test::Harness       3.30    
    Test::More          1.001003
    YAML                0.92    
    YAML::Syck          1.27    
    version             0.9908  


--

Summary of my perl5 (revision 5 version 10 subversion 1) configuration:
   
  Platform:
    osname=darwin, osvers=10.8.0, archname=darwin-2level
    uname='darwin tequila 10.8.0 darwin kernel version 10.8.0: tue jun 7 16:33:36 pdt 2011; root:xnu-1504.15.3~1release_i386 i386 '
    config_args='-de -Dprefix=/Users/ether/perl5/perlbrew/perls/10.1 -Dman1dir=none -Dman3dir=none -Aeval:scriptdir=/Users/ether/perl5/perlbrew/perls/10.1/bin'
    hint=recommended, useposix=true, d_sigaction=define
    useithreads=undef, usemultiplicity=undef
    useperlio=define, d_sfio=undef, uselargefiles=define, usesocks=undef
    use64bitint=define, use64bitall=define, uselongdouble=undef
    usemymalloc=n, bincompat5005=undef
  Compiler:
    cc='cc', ccflags ='-fno-common -DPERL_DARWIN -fno-strict-aliasing -pipe -fstack-protector -I/usr/local/include -I/opt/local/include',
    optimize='-O3',
    cppflags='-fno-common -DPERL_DARWIN -fno-strict-aliasing -pipe -fstack-protector -I/usr/local/include -I/opt/local/include'
    ccversion='', gccversion='4.2.1 (Apple Inc. build 5666) (dot 3)', gccosandvers=''
    intsize=4, longsize=8, ptrsize=8, doublesize=8, byteorder=12345678
    d_longlong=define, longlongsize=8, d_longdbl=define, longdblsize=16
    ivtype='long', ivsize=8, nvtype='double', nvsize=8, Off_t='off_t', lseeksize=8
    alignbytes=8, prototype=define
  Linker and Libraries:
    ld='env MACOSX_DEPLOYMENT_TARGET=10.3 cc', ldflags =' -fstack-protector -L/usr/local/lib -L/opt/local/lib'
    libpth=/usr/local/lib /opt/local/lib /usr/lib
    libs=-lgdbm -ldbm -ldl -lm -lutil -lc
    perllibs=-ldl -lm -lutil -lc
    libc=, so=dylib, useshrplib=false, libperl=libperl.a
    gnulibc_version=''
  Dynamic Linking:
    dlsrc=dl_dlopen.xs, dlext=bundle, d_dlsymun=undef, ccdlflags=' '
    cccdlflags=' ', lddlflags=' -bundle -undefined dynamic_lookup -L/usr/local/lib -L/opt/local/lib -fstack-protector'


Characteristics of this binary (from libperl): 
  Compile-time options: PERL_DONT_CREATE_GVSV PERL_MALLOC_WRAP USE_64_BIT_ALL
                        USE_64_BIT_INT USE_LARGE_FILES USE_PERLIO
  Built under darwin
  Compiled at Jun  4 2014 11:20:19
  %ENV:
    PERL5LIB="/Users/ether/.perlbrew/libs/10.1@std/lib/perl5"
    PERLBREW_BASHRC_VERSION="0.67"
    PERLBREW_HOME="/Users/ether/.perlbrew"
    PERLBREW_LIB="std"
    PERLBREW_MANPATH="/Users/ether/.perlbrew/libs/10.1@std/man:/Users/ether/perl5/perlbrew/perls/10.1/man"
    PERLBREW_PATH="/Users/ether/.perlbrew/libs/10.1@std/bin:/Users/ether/perl5/perlbrew/bin:/Users/ether/perl5/perlbrew/perls/10.1/bin"
    PERLBREW_PERL="10.1"
    PERLBREW_ROOT="/Users/ether/perl5/perlbrew"
    PERLBREW_VERSION="0.67"
    PERLDOC_PAGER="less -sicMr"
    PERL_AUTOINSTALL_PREFER_CPAN="1"
    PERL_LOCAL_LIB_ROOT="/Users/ether/.perlbrew/libs/10.1@std"
    PERL_MB_OPT="--install_base /Users/ether/.perlbrew/libs/10.1@std"
    PERL_MM_OPT="INSTALL_BASE=/Users/ether/.perlbrew/libs/10.1@std"
  @INC:
    /Users/ether/.perlbrew/libs/10.1@std/lib/perl5/darwin-2level
    /Users/ether/.perlbrew/libs/10.1@std/lib/perl5
    /Users/ether/perl5/perlbrew/perls/10.1/lib/5.10.1/darwin-2level
    /Users/ether/perl5/perlbrew/perls/10.1/lib/5.10.1
    /Users/ether/perl5/perlbrew/perls/10.1/lib/site_perl/5.10.1/darwin-2level
    /Users/ether/perl5/perlbrew/perls/10.1/lib/site_perl/5.10.1
    .