Back
From: metabase:user:30f4dfbe-2aae-11df-837a-5e0a49663a4f
Subject: PASS Dancer-Plugin-DebugToolbar-0.015 v5.12.1 Mac OS X
Date: 2011-08-14T02:25:28Z
This distribution has been tested as part of the CPAN Testers
project, supporting the Perl programming language. See
http://wiki.cpantesters.org/ for more information or email
questions to cpan-testers-discuss@perl.org
--
Dear Michal Wojciechowski,
This is a computer-generated report for Dancer-Plugin-DebugToolbar-0.015
on perl 5.12.1, created by CPAN-Reporter-1.2001.
Thank you for uploading your work to CPAN. Congratulations!
All tests were successful.
Sections of this report:
* Tester comments
* Program output
* Prerequisites
* Environment and other context
------------------------------
TESTER COMMENTS
------------------------------
Additional comments from tester:
this report is from an automated smoke testing program
and was not reviewed by a human for accuracy
------------------------------
PROGRAM OUTPUT
------------------------------
Output from '/usr/bin/make test':
Skip blib/lib/auto/share/dist/Dancer-Plugin-DebugToolbar/debugtoolbar/js/prettify/lang-wiki.js (unchanged)
Skip blib/lib/auto/share/dist/Dancer-Plugin-DebugToolbar/debugtoolbar/js/prettify/lang-css.js (unchanged)
Skip blib/lib/auto/share/dist/Dancer-Plugin-DebugToolbar/debugtoolbar/css/images/arrow-stop-180.png (unchanged)
Skip blib/lib/auto/share/dist/Dancer-Plugin-DebugToolbar/debugtoolbar/css/images/clock.png (unchanged)
Skip blib/lib/auto/share/dist/Dancer-Plugin-DebugToolbar/debugtoolbar/js/prettify/lang-apollo.js (unchanged)
Skip blib/lib/auto/share/dist/Dancer-Plugin-DebugToolbar/debugtoolbar/css/images/collapse.png (unchanged)
Skip blib/lib/auto/share/dist/Dancer-Plugin-DebugToolbar/debugtoolbar/js/prettify/lang-hs.js (unchanged)
Skip blib/lib/auto/share/dist/Dancer-Plugin-DebugToolbar/debugtoolbar/js/jquery.min.js (unchanged)
Skip blib/lib/auto/share/dist/Dancer-Plugin-DebugToolbar/debugtoolbar/js/yaml_min.js (unchanged)
Skip blib/lib/auto/share/dist/Dancer-Plugin-DebugToolbar/debugtoolbar/css/images/expand.png (unchanged)
Skip blib/lib/auto/share/dist/Dancer-Plugin-DebugToolbar/debugtoolbar/js/prettify/prettify.js (unchanged)
Skip blib/lib/auto/share/dist/Dancer-Plugin-DebugToolbar/debugtoolbar/html/debugtoolbar.html (unchanged)
Skip blib/lib/auto/share/dist/Dancer-Plugin-DebugToolbar/debugtoolbar/js/prettify/lang-n.js (unchanged)
Skip blib/lib/auto/share/dist/Dancer-Plugin-DebugToolbar/debugtoolbar/css/images/database.png (unchanged)
Skip blib/lib/auto/share/dist/Dancer-Plugin-DebugToolbar/debugtoolbar/js/prettify/lang-vb.js (unchanged)
Skip blib/lib/auto/share/dist/Dancer-Plugin-DebugToolbar/debugtoolbar/js/prettify/lang-proto.js (unchanged)
Skip blib/lib/auto/share/dist/Dancer-Plugin-DebugToolbar/debugtoolbar/css/window.css (unchanged)
Skip blib/lib/auto/share/dist/Dancer-Plugin-DebugToolbar/debugtoolbar/js/prettify/lang-sql.js (unchanged)
Skip blib/lib/auto/share/dist/Dancer-Plugin-DebugToolbar/debugtoolbar/js/toolbar.js (unchanged)
Skip blib/lib/auto/share/dist/Dancer-Plugin-DebugToolbar/debugtoolbar/css/toolbar.css (unchanged)
Skip blib/lib/auto/share/dist/Dancer-Plugin-DebugToolbar/debugtoolbar/css/images/report-paper.png (unchanged)
Skip blib/lib/auto/share/dist/Dancer-Plugin-DebugToolbar/debugtoolbar/js/prettify/lang-clj.js (unchanged)
Skip blib/lib/auto/share/dist/Dancer-Plugin-DebugToolbar/debugtoolbar/html/window.html (unchanged)
Skip blib/lib/auto/share/dist/Dancer-Plugin-DebugToolbar/debugtoolbar/css/images/dcr-header-logo-semitransparent.png (unchanged)
Skip blib/lib/auto/share/dist/Dancer-Plugin-DebugToolbar/debugtoolbar/js/prettify/lang-scala.js (unchanged)
Skip blib/lib/auto/share/dist/Dancer-Plugin-DebugToolbar/debugtoolbar/css/debugtoolbar.css (unchanged)
Skip blib/lib/auto/share/dist/Dancer-Plugin-DebugToolbar/debugtoolbar/css/images/arrow-branch-090.png (unchanged)
Skip blib/lib/auto/share/dist/Dancer-Plugin-DebugToolbar/debugtoolbar/css/images/application-import.png (unchanged)
Skip blib/lib/auto/share/dist/Dancer-Plugin-DebugToolbar/debugtoolbar/js/prettify/lang-vhdl.js (unchanged)
Skip blib/lib/auto/share/dist/Dancer-Plugin-DebugToolbar/debugtoolbar/css/images/perldancer.png (unchanged)
Skip blib/lib/auto/share/dist/Dancer-Plugin-DebugToolbar/debugtoolbar/js/prettify/lang-ml.js (unchanged)
Skip blib/lib/auto/share/dist/Dancer-Plugin-DebugToolbar/debugtoolbar/css/images/arrow-stop.png (unchanged)
Skip blib/lib/auto/share/dist/Dancer-Plugin-DebugToolbar/debugtoolbar/js/inheritance.js (unchanged)
Skip blib/lib/auto/share/dist/Dancer-Plugin-DebugToolbar/debugtoolbar/js/prettify/lang-yaml.js (unchanged)
Skip blib/lib/auto/share/dist/Dancer-Plugin-DebugToolbar/debugtoolbar/js/prettify/lang-xq.js (unchanged)
Skip blib/lib/auto/share/dist/Dancer-Plugin-DebugToolbar/debugtoolbar/css/prettify/prettify.css (unchanged)
Skip blib/lib/auto/share/dist/Dancer-Plugin-DebugToolbar/debugtoolbar/html/toolbar.html (unchanged)
Skip blib/lib/auto/share/dist/Dancer-Plugin-DebugToolbar/debugtoolbar/js/prettify/lang-lisp.js (unchanged)
Skip blib/lib/auto/share/dist/Dancer-Plugin-DebugToolbar/debugtoolbar/css/images/cross.png (unchanged)
Skip blib/lib/auto/share/dist/Dancer-Plugin-DebugToolbar/debugtoolbar/js/prettify/lang-lua.js (unchanged)
Skip blib/lib/auto/share/dist/Dancer-Plugin-DebugToolbar/debugtoolbar/js/prettify/lang-tex.js (unchanged)
Skip blib/lib/auto/share/dist/Dancer-Plugin-DebugToolbar/debugtoolbar/js/prettify/lang-go.js (unchanged)
PERL_DL_NONLAZY=1 /Users/nigel/perl5/perlbrew/perls/perl-5.12.1/bin/perl "-MExtUtils::Command::MM" "-e" "test_harness(0, 'blib/lib', 'blib/arch')" t/*.t
# Testing Dancer::Plugin::DebugToolbar 0.015, Perl 5.012001, /Users/nigel/perl5/perlbrew/perls/perl-5.12.1/bin/perl
t/00-load.t ....... ok
t/boilerplate.t ... ok
t/manifest.t ...... skipped: Author tests not required for installation
t/pod-coverage.t .. skipped: Test::Pod::Coverage 1.08 required for testing POD coverage
t/pod.t ........... skipped: Test::Pod 1.22 required for testing POD
All tests successful.
Test Summary Report
-------------------
t/boilerplate.t (Wstat: 0 Tests: 3 Failed: 0)
TODO passed: 1-3
Files=5, Tests=4, 1 wallclock secs ( 0.03 usr 0.02 sys + 0.26 cusr 0.05 csys = 0.36 CPU)
Result: PASS
------------------------------
PREREQUISITES
------------------------------
Prerequisite modules loaded:
requires:
Module Need Have
----------------------- ----- ------
Dancer 1.307 1.3071
File::ShareDir 1 1.03
File::ShareDir::Install 0 0.03
Test::More 0 0.98
Tie::Hash::Indexed 0 0.05
configure_requires:
Module Need Have
----------------------- ----- ------
File::ShareDir::Install 0 0.03
------------------------------
ENVIRONMENT AND OTHER CONTEXT
------------------------------
Environment variables:
AUTOMATED_TESTING = 1
LD_LIBRARY_PATH = /usr/local/lib
PATH = /Users/nigel/perl5/perlbrew/bin:/Users/nigel/perl5/perlbrew/perls/perl-5.12.1/bin:/usr/local/bin:/usr/bin:/bin:/usr/sbin:/sbin:/usr/local/bin:/usr/X11/bin:/Users/nigel/bin:/Users/nigel/perl/bin
PERL5LIB = /Users/nigel/.cpan/build/Dancer-1.3071-i9262c/blib/arch:/Users/nigel/.cpan/build/Dancer-1.3071-i9262c/blib/lib:/Users/nigel/.cpan/build/HTTP-Server-Simple-PSGI-0.14-y0Zt7E/blib/arch:/Users/nigel/.cpan/build/HTTP-Server-Simple-PSGI-0.14-y0Zt7E/blib/lib:/Users/nigel/.cpan/build/Tie-Hash-Indexed-0.05-NjpnPT/blib/arch:/Users/nigel/.cpan/build/Tie-Hash-Indexed-0.05-NjpnPT/blib/lib:/Users/nigel/.cpan/build/MIME-Types-1.31-7uqGZ8/blib/arch:/Users/nigel/.cpan/build/MIME-Types-1.31-7uqGZ8/blib/lib:/Users/nigel/.cpan/build/File-ShareDir-1.03-0vdwcF/blib/arch:/Users/nigel/.cpan/build/File-ShareDir-1.03-0vdwcF/blib/lib:/Users/nigel/.cpan/build/File-ShareDir-Install-0.03-u0ICse/blib/arch:/Users/nigel/.cpan/build/File-ShareDir-Install-0.03-u0ICse/blib/lib:/Users/nigel/.cpan/build/HTTP-Server-Simple-0.44-wFrH1E/blib/arch:/Users/nigel/.cpan/build/HTTP-Server-Simple-0.44-wFrH1E/blib/lib:/Users/nigel/.cpan/build/Class-Inspector-1.25-xd1oFr/blib/arch:/Users/nigel/.cpan/build/Class-Inspector-1.25-xd1oFr/blib/lib:/Users/nigel/.cpan/build/HTTP-Body-1.12-Os26ob/blib/arch:/Users/nigel/.cpan/build/HTTP-Body-1.12-Os26ob/blib/lib:/Users/nigel/.cpan/build/Test-Deep-0.108-2sQYc2/blib/arch:/Users/nigel/.cpan/build/Test-Deep-0.108-2sQYc2/blib/lib
PERL5OPT =
PERL5_CPANPLUS_IS_RUNNING = 45619
PERL5_CPAN_IS_RUNNING = 45619
PERL5_MINISMOKEBOX = 0.54
PERLBREW_PATH = /Users/nigel/perl5/perlbrew/bin:/Users/nigel/perl5/perlbrew/perls/perl-5.12.1/bin
PERLBREW_PERL = perl-5.12.1
PERLBREW_ROOT = /Users/nigel/perl5/perlbrew
PERLBREW_VERSION = 0.28
PERL_EXTUTILS_AUTOINSTALL = --defaultdeps
PERL_MM_USE_DEFAULT = 1
SHELL = /bin/sh
VERSIONER_PERL_PREFER_32_BIT = no
VERSIONER_PERL_VERSION = 5.12
Perl special variables (and OS-specific diagnostics, for MSWin32):
$^X = /Users/nigel/perl5/perlbrew/perls/perl-5.12.1/bin/perl
$UID/$EUID = 1077 / 1077
$GID = 20 20 402 12 33 61 79 80 81 98 100 204 401 403
$EGID = 20 20 402 12 33 61 79 80 81 98 100 204 401 403
Perl module toolchain versions installed:
Module Have
------------------- -------
CPAN 1.94_56
CPAN::Meta broken
Cwd 3.33
ExtUtils::CBuilder 0.27
ExtUtils::Command 1.16
ExtUtils::Install 1.55
ExtUtils::MakeMaker 6.58
ExtUtils::Manifest 1.57
ExtUtils::ParseXS 2.21
File::Spec 3.33
JSON 2.53
JSON::PP n/a
Module::Build 0.3603
Module::Signature n/a
Parse::CPAN::Meta 1.40
Test::Harness 3.17
Test::More 0.98
YAML n/a
YAML::Syck 1.17
version 0.91
--
Summary of my perl5 (revision 5 version 12 subversion 1) configuration:
Platform:
osname=darwin, osvers=10.8.0, archname=darwin-2level
uname='darwin nigel.int.kcilink.com 10.8.0 darwin kernel version 10.8.0: tue jun 7 16:33:36 pdt 2011; root:xnu-1504.15.3~1release_i386 i386 '
config_args='-de -Dprefix=/Users/nigel/perl5/perlbrew/perls/perl-5.12.1'
hint=recommended, useposix=true, d_sigaction=define
useithreads=undef, usemultiplicity=undef
useperlio=define, d_sfio=undef, uselargefiles=define, usesocks=undef
use64bitint=define, use64bitall=define, uselongdouble=undef
usemymalloc=n, bincompat5005=undef
Compiler:
cc='cc', ccflags ='-fno-common -DPERL_DARWIN -no-cpp-precomp -fno-strict-aliasing -pipe -fstack-protector -I/usr/local/include',
optimize='-O3',
cppflags='-no-cpp-precomp -fno-common -DPERL_DARWIN -no-cpp-precomp -fno-strict-aliasing -pipe -fstack-protector -I/usr/local/include'
ccversion='', gccversion='4.2.1 (Based on Apple Inc. build 5658) (LLVM build 2335.9)', gccosandvers=''
intsize=4, longsize=8, ptrsize=8, doublesize=8, byteorder=12345678
d_longlong=define, longlongsize=8, d_longdbl=define, longdblsize=16
ivtype='long', ivsize=8, nvtype='double', nvsize=8, Off_t='off_t', lseeksize=8
alignbytes=8, prototype=define
Linker and Libraries:
ld='env MACOSX_DEPLOYMENT_TARGET=10.3 cc', ldflags =' -fstack-protector -L/usr/local/lib'
libpth=/usr/local/lib /usr/lib
libs=-ldbm -ldl -lm -lutil -lc
perllibs=-ldl -lm -lutil -lc
libc=/usr/lib/libc.dylib, so=dylib, useshrplib=false, libperl=libperl.a
gnulibc_version=''
Dynamic Linking:
dlsrc=dl_dlopen.xs, dlext=bundle, d_dlsymun=undef, ccdlflags=' '
cccdlflags=' ', lddlflags=' -bundle -undefined dynamic_lookup -L/usr/local/lib -fstack-protector'
Characteristics of this binary (from libperl):
Compile-time options: PERL_DONT_CREATE_GVSV PERL_MALLOC_WRAP USE_64_BIT_ALL
USE_64_BIT_INT USE_LARGE_FILES USE_PERLIO
USE_PERL_ATOF
Built under darwin
Compiled at Jul 5 2011 16:32:11
%ENV:
PERL5LIB="/Users/nigel/.cpan/build/Dancer-1.3071-i9262c/blib/arch:/Users/nigel/.cpan/build/Dancer-1.3071-i9262c/blib/lib:/Users/nigel/.cpan/build/HTTP-Server-Simple-PSGI-0.14-y0Zt7E/blib/arch:/Users/nigel/.cpan/build/HTTP-Server-Simple-PSGI-0.14-y0Zt7E/blib/lib:/Users/nigel/.cpan/build/Tie-Hash-Indexed-0.05-NjpnPT/blib/arch:/Users/nigel/.cpan/build/Tie-Hash-Indexed-0.05-NjpnPT/blib/lib:/Users/nigel/.cpan/build/MIME-Types-1.31-7uqGZ8/blib/arch:/Users/nigel/.cpan/build/MIME-Types-1.31-7uqGZ8/blib/lib:/Users/nigel/.cpan/build/File-ShareDir-1.03-0vdwcF/blib/arch:/Users/nigel/.cpan/build/File-ShareDir-1.03-0vdwcF/blib/lib:/Users/nigel/.cpan/build/File-ShareDir-Install-0.03-u0ICse/blib/arch:/Users/nigel/.cpan/build/File-ShareDir-Install-0.03-u0ICse/blib/lib:/Users/nigel/.cpan/build/HTTP-Server-Simple-0.44-wFrH1E/blib/arch:/Users/nigel/.cpan/build/HTTP-Server-Simple-0.44-wFrH1E/blib/lib:/Users/nigel/.cpan/build/Class-Inspector-1.25-xd1oFr/blib/arch:/Users/nigel/.cpan/build/Class-Inspector-1.25-xd1oFr/blib/lib:/Users/nigel/.cpan/build/HTTP-Body-1.12-Os26ob/blib/arch:/Users/nigel/.cpan/build/HTTP-Body-1.12-Os26ob/blib/lib:/Users/nigel/.cpan/build/Test-Deep-0.108-2sQYc2/blib/arch:/Users/nigel/.cpan/build/Test-Deep-0.108-2sQYc2/blib/lib"
PERL5OPT=""
PERL5_CPANPLUS_IS_RUNNING="45619"
PERL5_CPAN_IS_RUNNING="45619"
PERL5_MINISMOKEBOX="0.54"
PERLBREW_PATH="/Users/nigel/perl5/perlbrew/bin:/Users/nigel/perl5/perlbrew/perls/perl-5.12.1/bin"
PERLBREW_PERL="perl-5.12.1"
PERLBREW_ROOT="/Users/nigel/perl5/perlbrew"
PERLBREW_VERSION="0.28"
PERL_EXTUTILS_AUTOINSTALL="--defaultdeps"
PERL_MM_USE_DEFAULT="1"
@INC:
/Users/nigel/.cpan/build/Dancer-1.3071-i9262c/blib/arch
/Users/nigel/.cpan/build/Dancer-1.3071-i9262c/blib/lib
/Users/nigel/.cpan/build/HTTP-Server-Simple-PSGI-0.14-y0Zt7E/blib/arch
/Users/nigel/.cpan/build/HTTP-Server-Simple-PSGI-0.14-y0Zt7E/blib/lib
/Users/nigel/.cpan/build/Tie-Hash-Indexed-0.05-NjpnPT/blib/arch
/Users/nigel/.cpan/build/Tie-Hash-Indexed-0.05-NjpnPT/blib/lib
/Users/nigel/.cpan/build/MIME-Types-1.31-7uqGZ8/blib/arch
/Users/nigel/.cpan/build/MIME-Types-1.31-7uqGZ8/blib/lib
/Users/nigel/.cpan/build/File-ShareDir-1.03-0vdwcF/blib/arch
/Users/nigel/.cpan/build/File-ShareDir-1.03-0vdwcF/blib/lib
/Users/nigel/.cpan/build/File-ShareDir-Install-0.03-u0ICse/blib/arch
/Users/nigel/.cpan/build/File-ShareDir-Install-0.03-u0ICse/blib/lib
/Users/nigel/.cpan/build/HTTP-Server-Simple-0.44-wFrH1E/blib/arch
/Users/nigel/.cpan/build/HTTP-Server-Simple-0.44-wFrH1E/blib/lib
/Users/nigel/.cpan/build/Class-Inspector-1.25-xd1oFr/blib/arch
/Users/nigel/.cpan/build/Class-Inspector-1.25-xd1oFr/blib/lib
/Users/nigel/.cpan/build/HTTP-Body-1.12-Os26ob/blib/arch
/Users/nigel/.cpan/build/HTTP-Body-1.12-Os26ob/blib/lib
/Users/nigel/.cpan/build/Test-Deep-0.108-2sQYc2/blib/arch
/Users/nigel/.cpan/build/Test-Deep-0.108-2sQYc2/blib/lib
/Users/nigel/perl5/perlbrew/perls/perl-5.12.1/lib/site_perl/5.12.1/darwin-2level
/Users/nigel/perl5/perlbrew/perls/perl-5.12.1/lib/site_perl/5.12.1
/Users/nigel/perl5/perlbrew/perls/perl-5.12.1/lib/5.12.1/darwin-2level
/Users/nigel/perl5/perlbrew/perls/perl-5.12.1/lib/5.12.1
.