Report for WebService-DataDog-1.0.3

Back
From: metabase:user:314402c4-2aae-11df-837a-5e0a49663a4f
Subject: PASS WebService-DataDog-1.0.3 v5.18.2 GNU/Linux
Date: 2015-04-19T20:57:22Z

This distribution has been tested as part of the CPAN Testers
project, supporting the Perl programming language.  See
http://wiki.cpantesters.org/ for more information or email
questions to cpan-testers-discuss@perl.org


--
Dear Jennifer Pinkham,

This is a computer-generated report for WebService-DataDog-1.0.3
on perl 5.18.2, created by CPAN-Reporter-1.2014.

Thank you for uploading your work to CPAN.  Congratulations!
All tests were successful.

Sections of this report:

    * Tester comments
    * Program output
    * Prerequisites
    * Environment and other context

------------------------------
TESTER COMMENTS
------------------------------

Additional comments from tester:

none provided

------------------------------
PROGRAM OUTPUT
------------------------------

Output from './Build test':

# Testing WebService::DataDog 1.0.3, Perl 5.018002, /opt/perl-5.18.2/bin/perl5.18.2
t/00-load.t .................... ok
t/10-new.t ..................... ok
t/15-build.t ................... skipped: Local connection information for DataDog required to run tests.
# Testing WebService::DataDog::Alert 1.0.3, Perl 5.018002, /opt/perl-5.18.2/bin/perl5.18.2
t/Alert/00-load.t .............. ok
t/Alert/10-retrieve_all.t ...... skipped: Local connection information for DataDog required to run tests.
t/Alert/20-create.t ............ skipped: Local connection information for DataDog required to run tests.
t/Alert/30-retrieve.t .......... skipped: Local connection information for DataDog required to run tests.
t/Alert/40-update.t ............ skipped: Local connection information for DataDog required to run tests.
t/Alert/50-mute_all.t .......... skipped: Local connection information for DataDog required to run tests.
t/Alert/60-unmute_all.t ........ skipped: Local connection information for DataDog required to run tests.
t/Alert/70-delete.t ............ skipped: Local connection information for DataDog required to run tests.
t/Alert/99-cleanup.t ........... ok
# Testing WebService::DataDog::Comment 1.0.3, Perl 5.018002, /opt/perl-5.18.2/bin/perl5.18.2
t/Comment/00-load.t ............ ok
t/Comment/10-create.t .......... skipped: Local connection information for DataDog required to run tests.
t/Comment/20-update.t .......... skipped: Local connection information for DataDog required to run tests.
t/Comment/30-delete.t .......... skipped: Local connection information for DataDog required to run tests.
t/Comment/99-cleanup.t ......... ok
# Testing WebService::DataDog::Dashboard 1.0.3, Perl 5.018002, /opt/perl-5.18.2/bin/perl5.18.2
t/Dashboard/00-load.t .......... ok
t/Dashboard/10-retrieve_all.t .. skipped: Local connection information for DataDog required to run tests.
t/Dashboard/20-create.t ........ skipped: Local connection information for DataDog required to run tests.
t/Dashboard/30-retrieve.t ...... skipped: Local connection information for DataDog required to run tests.
t/Dashboard/50-update.t ........ skipped: Local connection information for DataDog required to run tests.
t/Dashboard/60-delete.t ........ skipped: Local connection information for DataDog required to run tests.
t/Dashboard/99-cleanup.t ....... ok
# Testing WebService::DataDog::Event 1.0.3, Perl 5.018002, /opt/perl-5.18.2/bin/perl5.18.2
t/Event/00-load.t .............. ok
t/Event/20-search.t ............ skipped: Local connection information for DataDog required to run tests.
t/Event/30-retrieve.t .......... skipped: Local connection information for DataDog required to run tests.
t/Event/40-create.t ............ skipped: Local connection information for DataDog required to run tests.
t/Event/99-cleanup.t ........... ok
# Testing WebService::DataDog::Graph 1.0.3, Perl 5.018002, /opt/perl-5.18.2/bin/perl5.18.2
t/Graph/00-load.t .............. ok
t/Graph/10-snapshot.t .......... skipped: Local connection information for DataDog required to run tests.
# Testing WebService::DataDog::Metric 1.0.3, Perl 5.018002, /opt/perl-5.18.2/bin/perl5.18.2
t/Metric/00-load.t ............. ok
t/Metric/20-emit.t ............. skipped: Local connection information for DataDog required to run tests.
# Testing WebService::DataDog::Search 1.0.3, Perl 5.018002, /opt/perl-5.18.2/bin/perl5.18.2
t/Search/00-load.t ............. ok
t/Search/10-retrieve.t ......... skipped: Local connection information for DataDog required to run tests.
# Testing WebService::DataDog::Tag 1.0.3, Perl 5.018002, /opt/perl-5.18.2/bin/perl5.18.2
t/Tag/00-load.t ................ ok
t/Tag/10-retrieve_all.t ........ skipped: Local connection information for DataDog required to run tests.
t/Tag/20-retrieve.t ............ skipped: No tags found for the configured account.
t/Tag/30-update.t .............. skipped: No tags found for the configured account.
t/Tag/40-add.t ................. skipped: No tags found for the configured account.
t/Tag/50-delete.t .............. skipped: No tags found for the configured account.
t/Tag/99-cleanup.t ............. ok
# Testing WebService::DataDog::User 1.0.3, Perl 5.018002, /opt/perl-5.18.2/bin/perl5.18.2
t/User/00-load.t ............... ok
t/User/10-invite.t ............. skipped: Local connection information for DataDog required to run tests.
All tests successful.
Files=44, Tests=17, 12 wallclock secs ( 0.23 usr  0.12 sys + 10.37 cusr  0.86 csys = 11.58 CPU)
Result: PASS

------------------------------
PREREQUISITES
------------------------------

Prerequisite modules loaded:

requires:

    Module               Need   Have    
    -------------------- ------ --------
    Carp                 0      1.36    
    Class::Load          0      0.22    
    Data::Dumper         0      2.154   
    Data::Validate::Type v1.1.0 1.5.1   
    HTTP::Request        0      6.00    
    JSON                 0      2.90    
    LWP::UserAgent       0      6.13    
    perl                 5.006  5.018002
    Try::Tiny            0      0.22    

build_requires:

    Module               Need   Have    
    -------------------- ------ --------
    Scalar::Util         0      1.41    
    Storable             0      2.51    
    Test::FailWarnings   0      0.008   
    Test::Most           0      0.34    

configure_requires:

    Module               Need   Have    
    -------------------- ------ --------
    Module::Build        0      0.4211  


------------------------------
ENVIRONMENT AND OTHER CONTEXT
------------------------------

Environment variables:

    DBIC_NO_WARN_BAD_PERL = 1
    LANG = en_US.UTF-8
    LANGUAGE = en_US:en
    PATH = /usr/local/bin:/usr/bin:/bin:/usr/local/sbin:/usr/sbin:/sbin:/home/cpansand/bin/linux-gnu:/home/cpansand/bin/sh:/home/cpansand/bin:/usr/games:/home/cpansand/devel:/home/eserte/src/srezic-misc/scripts
    PERL5LIB = 
    PERL5OPT = 
    PERL5_CPANPLUS_IS_RUNNING = 817
    PERL5_CPAN_IS_RUNNING = 817
    PERL5_CPAN_IS_RUNNING_IN_RECURSION = 689,817
    PERLDOC = -MPod::Perldoc::ToTextOverstrike
    PERL_BATCH = yes
    PERL_CPAN_REPORTER_CONFIG = /run/user/1023/cpansmoker/cpanreporter_000_config.ini
    PERL_EXTUTILS_AUTOINSTALL = --defaultdeps
    PERL_HTML_DISPLAY_CLASS = HTML::Display::Mozilla
    SHELL = /bin/zsh
    TERM = screen
    TMPDIR = /run/user/1023/cpansmoker

Perl special variables (and OS-specific diagnostics, for MSWin32):

    $^X = /opt/perl-5.18.2/bin/perl5.18.2
    $UID/$EUID = 1023 / 1023
    $GID = 1023 1023
    $EGID = 1023 1023

Perl module toolchain versions installed:

    Module              Have    
    ------------------- --------
    CPAN                2.10    
    CPAN::Meta          2.150001
    Cwd                 3.47    
    ExtUtils::CBuilder  0.280210
    ExtUtils::Command   1.20    
    ExtUtils::Install   1.59    
    ExtUtils::MakeMaker 7.04    
    ExtUtils::Manifest  1.70    
    ExtUtils::ParseXS   3.24    
    File::Spec          3.47    
    JSON                2.90    
    JSON::PP            2.27203 
    Module::Build       0.4211  
    Module::Signature   0.78    
    Parse::CPAN::Meta   1.4414  
    Test::Harness       3.35    
    Test::More          1.001014
    YAML                1.15    
    YAML::Syck          1.29    
    version             0.9912  


--

Summary of my perl5 (revision 5 version 18 subversion 2) configuration:
   
  Platform:
    osname=linux, osvers=3.10-3-amd64, archname=x86_64-linux
    uname='linux cvrsnica-jessie 3.10-3-amd64 #1 smp debian 3.10.11-1 (2013-09-10) x86_64 gnulinux '
    config_args='-ds -e -Dprefix=/opt/perl-5.18.2'
    hint=recommended, useposix=true, d_sigaction=define
    useithreads=undef, usemultiplicity=undef
    useperlio=define, d_sfio=undef, uselargefiles=define, usesocks=undef
    use64bitint=define, use64bitall=define, uselongdouble=undef
    usemymalloc=n, bincompat5005=undef
  Compiler:
    cc='cc', ccflags ='-fno-strict-aliasing -pipe -fstack-protector -I/usr/local/include -D_LARGEFILE_SOURCE -D_FILE_OFFSET_BITS=64',
    optimize='-O2',
    cppflags='-fno-strict-aliasing -pipe -fstack-protector -I/usr/local/include'
    ccversion='', gccversion='4.8.2', gccosandvers=''
    intsize=4, longsize=8, ptrsize=8, doublesize=8, byteorder=12345678
    d_longlong=define, longlongsize=8, d_longdbl=define, longdblsize=16
    ivtype='long', ivsize=8, nvtype='double', nvsize=8, Off_t='off_t', lseeksize=8
    alignbytes=8, prototype=define
  Linker and Libraries:
    ld='cc', ldflags =' -fstack-protector -L/usr/local/lib'
    libpth=/usr/local/lib /lib/x86_64-linux-gnu /lib/../lib /usr/lib/x86_64-linux-gnu /usr/lib/../lib /lib /usr/lib
    libs=-lnsl -lgdbm -ldb -ldl -lm -lcrypt -lutil -lc -lgdbm_compat
    perllibs=-lnsl -ldl -lm -lcrypt -lutil -lc
    libc=, so=so, useshrplib=false, libperl=libperl.a
    gnulibc_version='2.17'
  Dynamic Linking:
    dlsrc=dl_dlopen.xs, dlext=so, d_dlsymun=undef, ccdlflags='-Wl,-E'
    cccdlflags='-fPIC', lddlflags='-shared -O2 -L/usr/local/lib -fstack-protector'


Characteristics of this binary (from libperl): 
  Compile-time options: HAS_TIMES PERLIO_LAYERS PERL_DONT_CREATE_GVSV
                        PERL_HASH_FUNC_ONE_AT_A_TIME_HARD PERL_MALLOC_WRAP
                        PERL_PRESERVE_IVUV PERL_SAWAMPERSAND USE_64_BIT_ALL
                        USE_64_BIT_INT USE_LARGE_FILES USE_LOCALE
                        USE_LOCALE_COLLATE USE_LOCALE_CTYPE
                        USE_LOCALE_NUMERIC USE_PERLIO USE_PERL_ATOF
  Built under linux
  Compiled at Feb 17 2014 21:05:35
  %ENV:
    PERL5LIB=""
    PERL5OPT=""
    PERL5_CPANPLUS_IS_RUNNING="817"
    PERL5_CPAN_IS_RUNNING="817"
    PERL5_CPAN_IS_RUNNING_IN_RECURSION="689,817"
    PERLDOC="-MPod::Perldoc::ToTextOverstrike"
    PERL_BATCH="yes"
    PERL_CPAN_REPORTER_CONFIG="/run/user/1023/cpansmoker/cpanreporter_000_config.ini"
    PERL_EXTUTILS_AUTOINSTALL="--defaultdeps"
    PERL_HTML_DISPLAY_CLASS="HTML::Display::Mozilla"
  @INC:
    /opt/perl-5.18.2/lib/site_perl/5.18.2/x86_64-linux
    /opt/perl-5.18.2/lib/site_perl/5.18.2
    /opt/perl-5.18.2/lib/5.18.2/x86_64-linux
    /opt/perl-5.18.2/lib/5.18.2
    .