Back
From: metabase:user:314402c4-2aae-11df-837a-5e0a49663a4f
Subject: PASS DBIx-Class-Result-ExternalAttribute-0.06 v5.8.9 FreeBSD
Date: 2014-12-30T09:53:15Z
This distribution has been tested as part of the CPAN Testers
project, supporting the Perl programming language. See
http://wiki.cpantesters.org/ for more information or email
questions to cpan-testers-discuss@perl.org
--
Dear Nicolas Oudard,
This is a computer-generated report for DBIx-Class-Result-ExternalAttribute-0.06
on perl 5.8.9, created by CPAN-Reporter-1.2011.
Thank you for uploading your work to CPAN. Congratulations!
All tests were successful.
Sections of this report:
* Tester comments
* Program output
* Prerequisites
* Environment and other context
------------------------------
TESTER COMMENTS
------------------------------
Additional comments from tester:
none provided
------------------------------
PROGRAM OUTPUT
------------------------------
Output from './Build test':
# Testing DBIx::Class::Result::ExternalAttribute 0.06, Perl 5.008009, /usr/perl5.8.9/bin/perl
t/00-load.t ................ ok
columns_data_with_external_attribute is deprecated, please use get_column_data_with_attribute at t/01-external_attribute.t line 37.
t/01-external_attribute.t .. ok
t/boilerplate.t ............ ok
t/manifest.t ............... skipped: Author tests not required for installation
t/pod-coverage.t ........... ok
t/pod.t .................... ok
All tests successful.
Test Summary Report
-------------------
t/boilerplate.t (Wstat: 0 Tests: 3 Failed: 0)
TODO passed: 2
Files=6, Tests=14, 7 wallclock secs ( 0.05 usr 0.02 sys + 1.05 cusr 0.14 csys = 1.27 CPU)
Result: PASS
------------------------------
PREREQUISITES
------------------------------
Prerequisite modules loaded:
requires:
Module Need Have
------------------------------- ------- --------
Carp 1.17 1.3301
DBIx::Class::Result::ColumnData 0.09 0.15
SQL::Translator 0.11007 0.11020
Test::More 0 1.001014
build_requires:
Module Need Have
------------------------------- ------- --------
Test::More 0 1.001014
configure_requires:
Module Need Have
------------------------------- ------- --------
Module::Build 0.38 0.4210
------------------------------
ENVIRONMENT AND OTHER CONTEXT
------------------------------
Environment variables:
DBIC_NO_WARN_BAD_PERL = 1
LC_ALL = de_DE.ISO8859-1
PATH = /usr/local/bin:/usr/bin:/bin:/usr/local/sbin:/usr/sbin:/sbin:/home/cpansand/bin/freebsd9.1:/home/cpansand/bin/sh:/home/cpansand/bin:/usr/games:/home/cpansand/devel:/usr/home/eserte/src/srezic-misc/scripts
PERL5LIB = /home/eserte/.cpan/build/DBIx-Class-Result-ColumnData-0.15-fY3io5/blib/arch:/home/eserte/.cpan/build/DBIx-Class-Result-ColumnData-0.15-fY3io5/blib/lib:/home/eserte/.cpan/build/DBIx-Class-Result-Validation-0.13-u9mnco/blib/arch:/home/eserte/.cpan/build/DBIx-Class-Result-Validation-0.13-u9mnco/blib/lib
PERL5OPT =
PERL5_CPANPLUS_IS_RUNNING = 22627
PERL5_CPAN_IS_RUNNING = 22627
PERL5_CPAN_IS_RUNNING_IN_RECURSION = 20714,22627
PERLDOC = -MPod::Perldoc::ToTextOverstrike
PERL_BATCH = yes
PERL_CPAN_REPORTER_CONFIG = /var/tmp/cpansmoker-1023/e15QCYLapy_config.ini
PERL_EXTUTILS_AUTOINSTALL = --defaultdeps
PERL_HASH_SEED = 0
PERL_HTML_DISPLAY_CLASS = HTML::Display::Mozilla
PERL_PERTURB_KEYS = NO
SHELL = /usr/local/bin/zsh
TERM = screen
TMPDIR = /var/tmp/cpansmoker-1023
Perl special variables (and OS-specific diagnostics, for MSWin32):
$^X = /usr/perl5.8.9/bin/perl
$UID/$EUID = 1023 / 1023
$GID = 1023 1023
$EGID = 1023 1023
Perl module toolchain versions installed:
Module Have
------------------- --------
CPAN 2.05
CPAN::Meta 2.143240
Cwd 3.47
ExtUtils::CBuilder 0.280220
ExtUtils::Command 1.16
ExtUtils::Install 2.04
ExtUtils::MakeMaker 7.04
ExtUtils::Manifest 1.69
ExtUtils::ParseXS 3.24
File::Spec 3.47
JSON 2.90
JSON::PP 2.27203
Module::Build 0.4210
Module::Signature 0.73
Parse::CPAN::Meta 1.4414
Test::Harness 3.32
Test::More 1.001014
YAML 1.12
YAML::Syck 1.29
version 0.9909
--
Summary of my perl5 (revision 5 version 8 subversion 9) configuration:
Platform:
osname=freebsd, osvers=9.2-release-p4, archname=amd64-freebsd
uname='freebsd cvrsnica-freebsd-92 9.2-release-p4 freebsd 9.2-release-p4 #0: tue apr 8 18:08:22 utc 2014 root@amd64-builder.daemonology.net:usrobjusrsrcsysgeneric amd64 '
config_args='-ds -e -Dprefix=/usr/perl5.8.9'
hint=recommended, useposix=true, d_sigaction=define
usethreads=undef use5005threads=undef useithreads=undef usemultiplicity=undef
useperlio=define d_sfio=undef uselargefiles=define usesocks=undef
use64bitint=define use64bitall=define uselongdouble=undef
usemymalloc=n, bincompat5005=undef
Compiler:
cc='cc', ccflags ='-DHAS_FPSETMASK -DHAS_FLOATINGPOINT_H -fno-strict-aliasing -pipe -I/usr/local/include',
optimize='-O',
cppflags='-DHAS_FPSETMASK -DHAS_FLOATINGPOINT_H -fno-strict-aliasing -pipe -I/usr/local/include'
ccversion='', gccversion='4.2.1 20070831 patched [FreeBSD]', gccosandvers=''
intsize=4, longsize=8, ptrsize=8, doublesize=8, byteorder=12345678
d_longlong=define, longlongsize=8, d_longdbl=define, longdblsize=16
ivtype='long', ivsize=8, nvtype='double', nvsize=8, Off_t='off_t', lseeksize=8
alignbytes=8, prototype=define
Linker and Libraries:
ld='cc', ldflags ='-Wl,-E -L/usr/local/lib'
libpth=/usr/lib /usr/local/lib
libs=-lgdbm -lm -lcrypt -lutil -lc
perllibs=-lm -lcrypt -lutil -lc
libc=, so=so, useshrplib=false, libperl=libperl.a
gnulibc_version=''
Dynamic Linking:
dlsrc=dl_dlopen.xs, dlext=so, d_dlsymun=undef, ccdlflags=' '
cccdlflags='-DPIC -fPIC', lddlflags='-shared -L/usr/local/lib'
Characteristics of this binary (from libperl):
Compile-time options: PERL_MALLOC_WRAP USE_64_BIT_ALL USE_64_BIT_INT
USE_FAST_STDIO USE_LARGE_FILES USE_PERLIO
Built under freebsd
Compiled at May 15 2014 22:27:57
%ENV:
PERL5LIB="/home/eserte/.cpan/build/DBIx-Class-Result-ColumnData-0.15-fY3io5/blib/arch:/home/eserte/.cpan/build/DBIx-Class-Result-ColumnData-0.15-fY3io5/blib/lib:/home/eserte/.cpan/build/DBIx-Class-Result-Validation-0.13-u9mnco/blib/arch:/home/eserte/.cpan/build/DBIx-Class-Result-Validation-0.13-u9mnco/blib/lib"
PERL5OPT=""
PERL5_CPANPLUS_IS_RUNNING="22627"
PERL5_CPAN_IS_RUNNING="22627"
PERL5_CPAN_IS_RUNNING_IN_RECURSION="20714,22627"
PERLDOC="-MPod::Perldoc::ToTextOverstrike"
PERL_BATCH="yes"
PERL_CPAN_REPORTER_CONFIG="/var/tmp/cpansmoker-1023/e15QCYLapy_config.ini"
PERL_EXTUTILS_AUTOINSTALL="--defaultdeps"
PERL_HASH_SEED="0"
PERL_HTML_DISPLAY_CLASS="HTML::Display::Mozilla"
PERL_PERTURB_KEYS="NO"
@INC:
/home/eserte/.cpan/build/DBIx-Class-Result-ColumnData-0.15-fY3io5/blib/arch
/home/eserte/.cpan/build/DBIx-Class-Result-ColumnData-0.15-fY3io5/blib/lib
/home/eserte/.cpan/build/DBIx-Class-Result-Validation-0.13-u9mnco/blib/arch
/home/eserte/.cpan/build/DBIx-Class-Result-Validation-0.13-u9mnco/blib/lib
/usr/perl5.8.9/lib/5.8.9/amd64-freebsd
/usr/perl5.8.9/lib/5.8.9
/usr/perl5.8.9/lib/site_perl/5.8.9/amd64-freebsd
/usr/perl5.8.9/lib/site_perl/5.8.9
.