Back
From: metabase:user:d49cdc72-1559-11e3-9efd-e82414baadac
Subject: PASS Catalyst-Action-REST-1.19 v5.21.9 GNU/Linux
Date: 2015-02-11T23:57:02Z
This distribution has been tested as part of the CPAN Testers
project, supporting the Perl programming language. See
http://wiki.cpantesters.org/ for more information or email
questions to cpan-testers-discuss@perl.org
--
Dear FREW,
This is a computer-generated report for Catalyst-Action-REST-1.19
on perl 5.21.9, created by App::cpanminus::reporter 0.12 (1.7025).
Thank you for uploading your work to CPAN. Congratulations!
All tests were successful.
Sections of this report:
* Tester comments
* Program output
* Prerequisites
* Environment and other context
------------------------------
TESTER COMMENTS
------------------------------
Additional comments from tester:
none provided
------------------------------
PROGRAM OUTPUT
------------------------------
Output from '':
Building and testing Catalyst-Action-REST-1.19
cp lib/Catalyst/TraitFor/Request/REST.pm blib/lib/Catalyst/TraitFor/Request/REST.pm
cp lib/Catalyst/Action/Deserialize.pm blib/lib/Catalyst/Action/Deserialize.pm
cp lib/Catalyst/Action/Serialize.pm blib/lib/Catalyst/Action/Serialize.pm
cp lib/Catalyst/Action/Serialize/YAML/HTML.pm blib/lib/Catalyst/Action/Serialize/YAML/HTML.pm
cp lib/Catalyst/Action/REST.pm blib/lib/Catalyst/Action/REST.pm
cp lib/Catalyst/Controller/REST.pm blib/lib/Catalyst/Controller/REST.pm
cp lib/Catalyst/Request/REST.pm blib/lib/Catalyst/Request/REST.pm
cp lib/Catalyst/Action/Deserialize/XML/Simple.pm blib/lib/Catalyst/Action/Deserialize/XML/Simple.pm
cp lib/Catalyst/Action/Serialize/JSONP.pm blib/lib/Catalyst/Action/Serialize/JSONP.pm
cp lib/Catalyst/Action/Serialize/XML/Simple.pm blib/lib/Catalyst/Action/Serialize/XML/Simple.pm
cp lib/Catalyst/Action/SerializeBase.pm blib/lib/Catalyst/Action/SerializeBase.pm
cp lib/Catalyst/TraitFor/Request/REST/ForBrowsers.pm blib/lib/Catalyst/TraitFor/Request/REST/ForBrowsers.pm
cp lib/Catalyst/Action/Deserialize/Callback.pm blib/lib/Catalyst/Action/Deserialize/Callback.pm
cp lib/Catalyst/Request/REST/ForBrowsers.pm blib/lib/Catalyst/Request/REST/ForBrowsers.pm
cp lib/Catalyst/Action/REST/ForBrowsers.pm blib/lib/Catalyst/Action/REST/ForBrowsers.pm
cp lib/Catalyst/Action/Deserialize/JSON.pm blib/lib/Catalyst/Action/Deserialize/JSON.pm
cp lib/Catalyst/Action/Serialize/JSON/XS.pm blib/lib/Catalyst/Action/Serialize/JSON/XS.pm
cp lib/Catalyst/Action/Deserialize/View.pm blib/lib/Catalyst/Action/Deserialize/View.pm
cp lib/Catalyst/Action/Serialize/JSON.pm blib/lib/Catalyst/Action/Serialize/JSON.pm
cp lib/Catalyst/Action/Serialize/YAML.pm blib/lib/Catalyst/Action/Serialize/YAML.pm
cp lib/Catalyst/Action/Deserialize/YAML.pm blib/lib/Catalyst/Action/Deserialize/YAML.pm
cp lib/Catalyst/Action/Deserialize/JSON/XS.pm blib/lib/Catalyst/Action/Deserialize/JSON/XS.pm
cp lib/Catalyst/Action/Serialize/Callback.pm blib/lib/Catalyst/Action/Serialize/Callback.pm
cp lib/Catalyst/Action/DeserializeMultiPart.pm blib/lib/Catalyst/Action/DeserializeMultiPart.pm
cp lib/Catalyst/Action/Serialize/View.pm blib/lib/Catalyst/Action/Serialize/View.pm
PERL_DL_NONLAZY=1 "/home/kent/perl5/perlbrew/perls/5.21.8-c/bin/perl5.21.9" "-MExtUtils::Command::MM" "-MTest::Harness" "-e" "undef *Test::Harness::Switches; test_harness(0, 'blib/lib', 'blib/arch')" t/*.t
t/callback.t ............................................ ok
t/catalyst-action-deserialize.t ......................... ok
t/catalyst-controller-rest.t ............................ ok
t/catalyst-action-serialize-query.t ..................... ok
t/catalyst-action-rest-action-dispatch.t ................ ok
t/catalyst-action-deserialize-multipart.t ............... ok
t/catalyst-traitfor-request-rest-forbrowsers.t .......... ok
t/catalyst-action-rest.t ................................ ok
t/catalyst-action-serialize-accept.t .................... ok
t/release-pod-syntax.t .................................. skipped: these tests are for release candidate testing
t/catalyst-action-serialize.t ........................... ok
t/catalyst-action-rest-action-dispatch-for-browsers.t ... ok
t/catalyst-traitfor-request-rest.t ...................... ok
t/catalyst-request-rest-custom-nonrest-request-class.t .. ok
t/json.t ................................................ ok
t/catalyst-request-rest-custom-rest-request-class.t ..... ok
t/jsonp.t ............................................... ok
t/view.t ................................................ ok
t/isa.t ................................................. ok
t/yaml.t ................................................ ok
t/xml-simple.t .......................................... ok
t/yaml-html.t ........................................... ok
All tests successful.
Files=22, Tests=301, 18 wallclock secs ( 0.23 usr 0.07 sys + 45.84 cusr 3.49 csys = 49.63 CPU)
Result: PASS
------------------------------
PREREQUISITES
------------------------------
Prerequisite modules loaded:
No requirements found
------------------------------
ENVIRONMENT AND OTHER CONTEXT
------------------------------
Environment variables:
LANGUAGE =
LC_CTYPE = en_NZ.UTF8
PATH = /home/kent/perl5/perlbrew/bin:/home/kent/perl5/perlbrew/perls/5.21.8-c/bin:/home/kent/.perl6/2013.04/bin:/home/kent/.gem/ruby/1.8/bin/:/home/kent/.rvm/gems/ruby-2.1.2/bin:/home/kent/.rvm/gems/ruby-2.1.2@global/bin:/home/kent/.rvm/rubies/ruby-2.1.2/bin:/usr/local/bin:/usr/bin:/bin:/opt/bin:/usr/x86_64-pc-linux-gnu/gcc-bin/4.9.2:/usr/games/bin:/home/kent/.rvm/bin:/home/kent/.rvm/bin
PERLBREW_BASHRC_VERSION = 0.72
PERLBREW_HOME = /home/kent/.perlbrew
PERLBREW_MANPATH = /home/kent/perl5/perlbrew/perls/5.21.8-c/man
PERLBREW_PATH = /home/kent/perl5/perlbrew/bin:/home/kent/perl5/perlbrew/perls/5.21.8-c/bin
PERLBREW_PERL = 5.21.8-c
PERLBREW_ROOT = /home/kent/perl5/perlbrew
PERLBREW_VERSION = 0.72
PERL_CPANM_OPT = --prompt --interactive --with-recommends --with-suggests --with-develop --verify --mirror http://cpan.metacpan.org/ --no-lwp
PERL_MM_OPT = INSTALLDIRS=site
SHELL = /bin/bash
TERM = xterm
Perl special variables (and OS-specific diagnostics, for MSWin32):
EGID = 1000 4 6 10 16 18 19 27 35 78 80 85 100 102 103 104 105 114 115 116 117 118 250 974 994 1000
EUID = 1000
EXECUTABLE_NAME = /home/kent/perl5/perlbrew/perls/5.21.8-c/bin/perl5.21.9
GID = 1000 4 6 10 16 18 19 27 35 78 80 85 100 102 103 104 105 114 115 116 117 118 250 974 994 1000
UID = 1000
Perl module toolchain versions installed:
Module Have
------------------- ------------
CPAN 2.05
CPAN::Meta 2.143240
Cwd 3.54
ExtUtils::CBuilder 0.280221
ExtUtils::Command 1.20
ExtUtils::Install 2.04
ExtUtils::MakeMaker 7.04
ExtUtils::Manifest 1.70
ExtUtils::ParseXS 3.27
File::Spec 3.53
JSON 2.90
JSON::PP 2.27300
Module::Build 0.4211
Module::Signature 0.73
Parse::CPAN::Meta 1.4414
Test::Harness 3.35
Test::More 1.301001_098
YAML 1.14
YAML::Syck 1.29
version 0.9912
--
Summary of my perl5 (revision 5 version 21 subversion 9) configuration:
Derived from: 5904c5c0c031fad19e61f5d279d624a91a196e02
Platform:
osname=linux, osvers=3.18.3-aufs, archname=x86_64-linux
uname='linux katipo2 3.18.3-aufs #21 smp preempt mon jan 26 09:49:29 nzdt 2015 x86_64 intel(r) core(tm) i5-2410m cpu @ 2.30ghz genuineintel gnulinux '
config_args='-de -Dprefix=/home/kent/perl5/perlbrew/perls/5.21.8-c -Dusecbacktrace -Doptimize=-O3 -march=native -mtune=native -g -ggdb3 -fprofile-use -finstrument-functions -Dman1dir=none -Dman3dir=none -Dusedevel -Accflags=-DPERL_HASH_FUNC_SDBM -DUSE_C_BACKTRACE_ON_ERROR -Aldflags= -fprofile-use -lbfd -Aeval:scriptdir=/home/kent/perl5/perlbrew/perls/5.21.8-c/bin'
hint=recommended, useposix=true, d_sigaction=define
useithreads=undef, usemultiplicity=undef
use64bitint=define, use64bitall=define, uselongdouble=undef
usemymalloc=n, bincompat5005=undef
Compiler:
cc='cc', ccflags ='-DPERL_HASH_FUNC_SDBM -DUSE_C_BACKTRACE_ON_ERROR -fwrapv -fno-strict-aliasing -pipe -fstack-protector-strong -DUSE_C_BACKTRACE -g -D_LARGEFILE_SOURCE -D_FILE_OFFSET_BITS=64',
optimize='-O3 -march=native -mtune=native -g -ggdb3 -fprofile-use -finstrument-functions',
cppflags='-DPERL_HASH_FUNC_SDBM -DUSE_C_BACKTRACE_ON_ERROR -fwrapv -fno-strict-aliasing -pipe -fstack-protector-strong'
ccversion='', gccversion='4.9.2', gccosandvers=''
intsize=4, longsize=8, ptrsize=8, doublesize=8, byteorder=12345678, doublekind=3
d_longlong=define, longlongsize=8, d_longdbl=define, longdblsize=16, longdblkind=3
ivtype='long', ivsize=8, nvtype='double', nvsize=8, Off_t='off_t', lseeksize=8
alignbytes=8, prototype=define
Linker and Libraries:
ld='cc', ldflags =' -fprofile-use -lbfd -fstack-protector-strong -L/usr/local/lib'
libpth=/usr/lib/gcc/x86_64-pc-linux-gnu/4.9.2/include-fixed /usr/lib /usr/local/lib /lib/../lib64 /usr/lib/../lib64 /lib /lib64 /usr/lib64 /usr/local/lib64
libs=-lpthread -lnsl -lnm -lgdbm -ldb -ldl -lm -lcrypt -lutil -lc -lgdbm_compat
perllibs=-lpthread -lnsl -lnm -ldl -lm -lcrypt -lutil -lc
libc=libc-2.20.so, so=so, useshrplib=false, libperl=libperl.a
gnulibc_version='2.20'
Dynamic Linking:
dlsrc=dl_dlopen.xs, dlext=so, d_dlsymun=undef, ccdlflags='-Wl,-E'
cccdlflags='-fPIC', lddlflags='-shared -O3 -march=native -mtune=native -g -ggdb3 -fprofile-use -finstrument-functions -L/usr/local/lib -fstack-protector-strong'
Characteristics of this binary (from libperl):
Compile-time options: HAS_TIMES PERLIO_LAYERS PERL_DONT_CREATE_GVSV
PERL_HASH_FUNC_SDBM PERL_MALLOC_WRAP
PERL_NEW_COPY_ON_WRITE PERL_PRESERVE_IVUV
PERL_USE_DEVEL USE_64_BIT_ALL USE_64_BIT_INT
USE_LARGE_FILES USE_LOCALE USE_LOCALE_COLLATE
USE_LOCALE_CTYPE USE_LOCALE_NUMERIC USE_LOCALE_TIME
USE_PERLIO USE_PERL_ATOF
Locally applied patches:
uncommitted-changes
Built under linux
Compiled at Feb 11 2015 00:19:40
%ENV:
PERLBREW_BASHRC_VERSION="0.72"
PERLBREW_HOME="/home/kent/.perlbrew"
PERLBREW_MANPATH="/home/kent/perl5/perlbrew/perls/5.21.8-c/man"
PERLBREW_PATH="/home/kent/perl5/perlbrew/bin:/home/kent/perl5/perlbrew/perls/5.21.8-c/bin"
PERLBREW_PERL="5.21.8-c"
PERLBREW_ROOT="/home/kent/perl5/perlbrew"
PERLBREW_VERSION="0.72"
PERL_CPANM_OPT=" --prompt --interactive --with-recommends --with-suggests --with-develop --verify --mirror http://cpan.metacpan.org/ --no-lwp"
PERL_MM_OPT=" INSTALLDIRS=site"
@INC:
/home/kent/perl5/perlbrew/perls/5.21.8-c/lib/site_perl/5.21.9/x86_64-linux
/home/kent/perl5/perlbrew/perls/5.21.8-c/lib/site_perl/5.21.9
/home/kent/perl5/perlbrew/perls/5.21.8-c/lib/5.21.9/x86_64-linux
/home/kent/perl5/perlbrew/perls/5.21.8-c/lib/5.21.9
.