Report for Webservice-InterMine-1.0405

Back
From: metabase:user:320bfe00-2aae-11df-837a-5e0a49663a4f
Subject: PASS Webservice-InterMine-1.0405 v5.27.2 GNU/Linux
Date: 2017-07-21T21:22:17Z

This distribution has been tested as part of the CPAN Testers
project, supporting the Perl programming language.  See
http://wiki.cpantesters.org/ for more information or email
questions to cpan-testers-discuss@perl.org


--
Dear InterMine,

This is a computer-generated report for Webservice-InterMine-1.0405
on perl 5.27.2, created by CPAN-Reporter-1.2018.

Thank you for uploading your work to CPAN.  Congratulations!
All tests were successful.

Sections of this report:

    * Tester comments
    * Program output
    * Prerequisites
    * Environment and other context

------------------------------
TESTER COMMENTS
------------------------------

Additional comments from tester:

this report is from an automated smoke testing program
and was not reviewed by a human for accuracy

------------------------------
PROGRAM OUTPUT
------------------------------

Output from '/usr/bin/make test':

PERL_DL_NONLAZY=1 "/tmp/basesmoker-reloperl-BmP5/bin/perl" "-MExtUtils::Command::MM" "-MTest::Harness" "-e" "undef *Test::Harness::Switches; test_harness(0, 'blib/lib', 'blib/arch')" t/*.t t/01_path/*.t t/06_service/*.t t/data/*.t t/10_acceptance/*.t t/03_constraint/*.t t/04_query/*.t t/tests/*.t t/tests/Test/*.t t/tests/Test/Webservice/*.t t/tests/Test/Webservice/InterMine/*.t t/tests/Test/Webservice/InterMine/Query/*.t t/tests/Test/Webservice/InterMine/Constraint/*.t t/tests/Test/Webservice/InterMine/Constraint/Roles/*.t t/02_pathfeature/*.t t/07_intermine/*.t t/05_template/*.t
# Testing Webservice::Webservice::InterMine 1.0405, Perl 5.027002, /tmp/basesmoker-reloperl-BmP5/bin/perl
t/00-load.t ................................ ok
t/01_path/01_validate.t .................... ok
t/02_pathfeature/01_pathfeature.t .......... ok
t/03_constraint/01_constraint.t ............ ok
t/03_constraint/02_constraint_factory.t .... ok
t/03_constraint/03_template_constraints.t .. ok
t/03_constraint/04_logic.t ................. ok
t/04_query/01_core.t ....................... ok
t/04_query/02_pathquery.t .................. ok
t/04_query/03_saved.t ...................... ok
t/04_query/03_scripted.t ................... ok
t/04_query/04_template.t ................... ok
t/04_query/05_good_and_bad_templates.t ..... ok
t/05_template/01_factory.t ................. ok
t/06_service/01_service.t .................. ok
t/06_service/02_result_iterator.t .......... ok
t/06_service/03_result_objects.t ........... ok
t/06_service/04_serviced_queries.t ......... ok
t/06_service/05_result_row.t ............... ok
t/06_service/06_test_export_exclusion.t .... ok
t/06_service/07_test_inclusion.t ........... ok
t/07_intermine/01_integration.t ............ ok
t/10_acceptance/01_live_test.t ............. skipped: Acceptance tests for release testing only
t/10_acceptance/02_lists.t ................. skipped: Acceptance tests for release testing only
t/10_acceptance/02_lists_with_tokens.t ..... skipped: Acceptance tests for release testing only
t/10_acceptance/04_paths.t ................. skipped: Acceptance tests for release testing only
t/10_acceptance/05_summaries.t ............. skipped: Acceptance tests for release testing only
t/10_acceptance/06_redirection.t ........... skipped: Acceptance tests for release testing only
t/10_acceptance/07_lazy_references.t ....... skipped: Acceptance tests for release testing only
t/10_acceptance/08_enrichment.t ............ skipped: Acceptance tests for release testing only
t/10_acceptance/09_widgets.t ............... skipped: Acceptance tests for release testing only
t/10_acceptance/10_id_resolution.t ......... skipped: Acceptance tests for release testing only
t/manifest.t ............................... skipped: Author tests not required for installation
t/moose-hygiene.t .......................... ok
t/pod-coverage.t ........................... skipped: Complete documentation coverage is coming shortly
t/pod.t .................................... ok
All tests successful.
Files=36, Tests=4583, 42 wallclock secs ( 0.52 usr  0.21 sys + 38.52 cusr  2.17 csys = 41.42 CPU)
Result: PASS

------------------------------
PREREQUISITES
------------------------------

Prerequisite modules loaded:

requires:

    Module                        Need   Have      
    ----------------------------- ------ ----------
    AppConfig                     0      1.71      
    Class::InsideOut              1.04   1.14      
    DateTime                      0      1.43      
    DateTime::Format::ISO8601     0      0.08      
    HTTP::Request::Common         0      6.13      
    HTTP::Response                0      6.13      
    InterMine::Model              0.9901 0.9901    
    IO::File                      0      1.16      
    IO::Handle                    0      1.36      
    JSON                          0      2.94      
    JSON::XS                      0      3.03      
    List::MoreUtils               0.22   0.419     
    LWP                           5.8    6.26      
    MIME::Base64                  0      3.15      
    Module::Build                 0.36   0.4224    
    Module::Find                  0.05   0.13      
    Moose                         0.95   2.2006    
    MooseX::Role::WithOverloading 0.03   0.17      
    MooseX::Types                 0.34   0.50      
    Perl6::Junction               0      1.60000   
    Pod::Usage                    0      1.69      
    Scalar::Util                  0      1.48      
    Set::CrossProduct             0      2.002     
    Set::Object                   0      1.35      
    Test::Class                   0      0.50      
    Test::Exception               0      0.43      
    Test::MockObject              0      1.20161202
    Test::MockObject::Extends     0      1.20161202
    Test::More                    0.9    1.302086  
    Test::XML                     0      0.08      
    Time::HiRes                   0      1.9743    
    URI                           1.37   1.71      
    XML::Compare                  0.04   0.05      
    XML::DOM                      0      1.46      
    XML::Parser::PerlSAX          0.08   0.08      
    XML::Rules                    0      1.16      

build_requires:

    Module                        Need   Have      
    ----------------------------- ------ ----------
    ExtUtils::MakeMaker           0      7.30      

configure_requires:

    Module                        Need   Have      
    ----------------------------- ------ ----------
    Module::Build                 0.36   0.4224    


------------------------------
ENVIRONMENT AND OTHER CONTEXT
------------------------------

Environment variables:

    AUTOMATED_TESTING = 1
    LANG = en_US.UTF-8
    PATH = /home/sand/bin:/usr/local/bin:/usr/bin:/bin:/usr/games:/usr/local/perl/bin:/usr/X11/bin:/sbin:/usr/sbin
    PERL5LIB = 
    PERL5OPT = 
    PERL5_CPANPLUS_IS_RUNNING = 20002
    PERL5_CPAN_IS_RUNNING = 20002
    PERL_CANARY_STABILITY_NOPROMPT = 1
    PERL_MM_USE_DEFAULT = 1
    PERL_USE_UNSAFE_INC = 1
    SHELL = /usr/bin/zsh
    TERM = screen

Perl special variables (and OS-specific diagnostics, for MSWin32):

    $^X = /tmp/basesmoker-reloperl-BmP5/bin/perl
    $UID/$EUID = 1005 / 1005
    $GID = 1005 1005
    $EGID = 1005 1005

Perl module toolchain versions installed:

    Module              Have    
    ------------------- --------
    CPAN                2.18    
    CPAN::Meta          2.150010
    Cwd                 3.68    
    ExtUtils::CBuilder  0.280228
    ExtUtils::Command   7.30    
    ExtUtils::Install   2.14    
    ExtUtils::MakeMaker 7.30    
    ExtUtils::Manifest  1.70    
    ExtUtils::ParseXS   3.34    
    File::Spec          3.68    
    JSON                2.94    
    JSON::PP            2.94    
    Module::Build       0.4224  
    Module::Signature   0.81    
    Parse::CPAN::Meta   2.150010
    Test::Harness       3.39    
    Test::More          1.302086
    YAML                1.23    
    YAML::Syck          1.30    
    version             0.9918  


--

Summary of my perl5 (revision 5 version 27 subversion 2) configuration:
  Commit id: cf07591c56a81be8313edfa55671e8e741db95b3
  Platform:
    osname=linux
    osvers=4.11.0-2-amd64
    archname=x86_64-linux-thread-multi-ld
    uname='linux k93x64sid 4.11.0-2-amd64 #1 smp debian 4.11.11-1 (2017-07-17) x86_64 gnulinux '
    config_args='-Dprefix=/home/sand/src/perl/repoperls/installed-perls/host/k93x64sid/v5.27.2/721c -Dmyhostname=k93x64sid -Dinstallusrbinperl=n -Uversiononly -Dusedevel -des -Ui_db -Dlibswanted=cl pthread socket inet nsl gdbm dbm malloc dl ld sun m crypt sec util c cposix posix ucb BSD gdbm_compat -Duseithreads -Duselongdouble'
    hint=recommended
    useposix=true
    d_sigaction=define
    useithreads=define
    usemultiplicity=define
    use64bitint=define
    use64bitall=define
    uselongdouble=define
    usemymalloc=n
    default_inc_excludes_dot=define
    bincompat5005=undef
  Compiler:
    cc='cc'
    ccflags ='-D_REENTRANT -D_GNU_SOURCE -fwrapv -fno-strict-aliasing -pipe -fstack-protector-strong -I/usr/local/include -D_LARGEFILE_SOURCE -D_FILE_OFFSET_BITS=64'
    optimize='-O2'
    cppflags='-D_REENTRANT -D_GNU_SOURCE -fwrapv -fno-strict-aliasing -pipe -fstack-protector-strong -I/usr/local/include'
    ccversion=''
    gccversion='6.4.0 20170704'
    gccosandvers=''
    intsize=4
    longsize=8
    ptrsize=8
    doublesize=8
    byteorder=12345678
    doublekind=3
    d_longlong=define
    longlongsize=8
    d_longdbl=define
    longdblsize=16
    longdblkind=3
    ivtype='long'
    ivsize=8
    nvtype='long double'
    nvsize=16
    Off_t='off_t'
    lseeksize=8
    alignbytes=16
    prototype=define
  Linker and Libraries:
    ld='cc'
    ldflags =' -fstack-protector-strong -L/usr/local/lib'
    libpth=/usr/local/lib /usr/lib/gcc/x86_64-linux-gnu/6/include-fixed /usr/include/x86_64-linux-gnu /usr/lib /lib/x86_64-linux-gnu /lib/../lib /usr/lib/x86_64-linux-gnu /usr/lib/../lib /lib
    libs=-lpthread -lnsl -ldl -lm -lcrypt -lutil -lc
    perllibs=-lpthread -lnsl -ldl -lm -lcrypt -lutil -lc
    libc=libc-2.24.so
    so=so
    useshrplib=false
    libperl=libperl.a
    gnulibc_version='2.24'
  Dynamic Linking:
    dlsrc=dl_dlopen.xs
    dlext=so
    d_dlsymun=undef
    ccdlflags='-Wl,-E'
    cccdlflags='-fPIC'
    lddlflags='-shared -O2 -L/usr/local/lib -fstack-protector-strong'


Characteristics of this binary (from libperl): 
  Compile-time options:
    HAS_TIMES
    MULTIPLICITY
    PERLIO_LAYERS
    PERL_COPY_ON_WRITE
    PERL_DONT_CREATE_GVSV
    PERL_IMPLICIT_CONTEXT
    PERL_MALLOC_WRAP
    PERL_OP_PARENT
    PERL_PRESERVE_IVUV
    PERL_USE_DEVEL
    USE_64_BIT_ALL
    USE_64_BIT_INT
    USE_ITHREADS
    USE_LARGE_FILES
    USE_LOCALE
    USE_LOCALE_COLLATE
    USE_LOCALE_CTYPE
    USE_LOCALE_NUMERIC
    USE_LOCALE_TIME
    USE_LONG_DOUBLE
    USE_PERLIO
    USE_PERL_ATOF
    USE_REENTRANT_API
  Built under linux
  Compiled at Jul 20 2017 22:36:10
  %ENV:
    PERL5LIB=""
    PERL5OPT=""
    PERL5_CPANPLUS_IS_RUNNING="20002"
    PERL5_CPAN_IS_RUNNING="20002"
    PERL_CANARY_STABILITY_NOPROMPT="1"
    PERL_MM_USE_DEFAULT="1"
    PERL_USE_UNSAFE_INC="1"
  @INC:
    /home/sand/src/perl/repoperls/installed-perls/host/k93x64sid/v5.27.2/721c/lib/site_perl/5.27.2/x86_64-linux-thread-multi-ld
    /home/sand/src/perl/repoperls/installed-perls/host/k93x64sid/v5.27.2/721c/lib/site_perl/5.27.2
    /home/sand/src/perl/repoperls/installed-perls/host/k93x64sid/v5.27.2/721c/lib/5.27.2/x86_64-linux-thread-multi-ld
    /home/sand/src/perl/repoperls/installed-perls/host/k93x64sid/v5.27.2/721c/lib/5.27.2
    .