Selenium-Remote-Driver v1.49 Perl 5 v5.28.3 arm64-freebsd
- Status
- Pass
- From
- Slaven Rezić
- Dist
-
Selenium-Remote-Driver v1.49
- Platform
- Perl 5 v5.28.3 arm64-freebsd
- Date
- 2024-02-05 23:09:54
- ID
- ac8baf9c-c47b-11ee-b7b7-f0d66d8775ea
This distribution has been tested as part of the CPAN Testers
project, supporting the Perl programming language. See
http://wiki.cpantesters.org/ for more information or email
questions to cpan-testers-discuss@perl.org
--
Dear George S. Baugh,
This is a computer-generated report for Selenium-Remote-Driver-1.49
on perl 5.28.3, created by CPAN-Reporter-1.2019.
Thank you for uploading your work to CPAN. Congratulations!
All tests were successful.
Sections of this report:
* Tester comments
* Program output
* Prerequisites
* Environment and other context
------------------------------
TESTER COMMENTS
------------------------------
Additional comments from tester:
none provided
------------------------------
PROGRAM OUTPUT
------------------------------
Output from '/usr/bin/make test':
PERL_DL_NONLAZY=1 "/usr/perl5.28.3/bin/perl" "-MExtUtils::Command::MM" "-MTest::Harness" "-e" "undef *Test::Harness::Switches; test_harness(0, 'blib/lib', 'blib/arch')" t/*.t
t/00-compile.t .......................... ok
t/00-load.t ............................. ok
t/01-driver-pac.t ....................... ok
t/01-driver.t ........................... ok
t/01-webdriver3.t ....................... ok
t/02-webelement.t ....................... ok
t/03-spec-coverage.t .................... skipped: Author tests not required for installation.
t/04-commands-implemented.t ............. skipped: Author tests not required for installation.
t/10-switch-to-window.t ................. ok
t/12-reuse-session.t .................... ok
t/13-waiter.t ........................... ok
t/author-critic.t ....................... skipped: these tests are for testing by the author
t/author-eol.t .......................... skipped: these tests are for testing by the author
t/author-minimum-version.t .............. skipped: these tests are for testing by the author
t/author-mojibake.t ..................... skipped: these tests are for testing by the author
t/author-no-tabs.t ...................... skipped: these tests are for testing by the author
t/author-pod-coverage.t ................. skipped: these tests are for testing by the author
t/author-pod-linkcheck.t ................ skipped: these tests are for testing by the author
t/author-pod-syntax.t ................... skipped: these tests are for testing by the author
t/author-portability.t .................. skipped: these tests are for testing by the author
t/author-synopsis.t ..................... skipped: these tests are for testing by the author
t/author-test-version.t ................. skipped: these tests are for testing by the author
t/CanSetWebdriverContext.t .............. ok
t/convenience.t ......................... ok
t/error.t ............................... ok
t/Finders.t ............................. ok
t/Firefox-Profile.t ..................... ok
t/release-distmeta.t .................... skipped: these tests are for release candidate testing
t/release-kwalitee.t .................... skipped: these tests are for release candidate testing
t/release-meta-json.t ................... skipped: these tests are for release candidate testing
t/release-unused-vars.t ................. skipped: these tests are for release candidate testing
t/Remote-Connection.t ................... ok
t/Test-Selenium-Remote-Driver-google.t .. ok
t/Test-Selenium-Remote-Driver.t ......... ok
t/Test-Selenium-Remote-WebElement.t ..... ok
All tests successful.
Files=35, Tests=385, 12 wallclock secs ( 0.21 usr 0.07 sys + 5.59 cusr 1.20 csys = 7.08 CPU)
Result: PASS
------------------------------
PREREQUISITES
------------------------------
Prerequisite modules loaded:
requires:
Module Need Have
--------------------- ------- --------
Archive::Zip 0 1.68
base 0 2.27
Carp 0 1.50
Clone 0 0.46
constant 0 1.33
Cwd 0 3.75
Data::Dumper 0 2.170
Exporter 0 5.73
File::Basename 0 2.85
File::Copy 0 2.33
File::Spec 0 3.75
File::Spec::Functions 0 3.75
File::Temp 0 0.2311
File::Which 0 1.27
HTTP::Headers 0 6.45
HTTP::Request 0 6.45
HTTP::Response 0 6.45
IO::Socket 0 1.55
IO::Socket::INET 0 1.55
IO::String 0 1.08
IO::Uncompress::Unzip 2.030 2.206
JSON 0 4.10
List::Util 1.33 1.63
LWP::UserAgent 0 6.72
MIME::Base64 0 3.15
Moo 1.005 2.005005
Moo::Role 0 2.005005
namespace::clean 0 0.27
perl 5.010 5.028003
Scalar::Util 0 1.63
strict 0 1.11
Sub::Install 0 0.929
Test::Builder 0 1.302198
Test::LongString 0 0.17
Time::HiRes 0 1.9759
Try::Tiny 0 0.31
warnings 0 1.42
XML::Simple 0 2.25
build_requires:
Module Need Have
--------------------- ------- --------
ExtUtils::MakeMaker 0 7.70
File::Spec 0 3.75
File::stat 0 1.08
FindBin 0 1.51
IO::Handle 0 1.55
IPC::Open3 0 1.20
lib 0 0.64
Test::Builder::Tester 0 1.302198
Test::Deep 0 1.204
Test::Fatal 0 0.017
Test::LWP::UserAgent 0 0.036
Test::MockModule v0.13.0 0.177.0
Test::More 0 1.302198
configure_requires:
Module Need Have
--------------------- ------- --------
ExtUtils::MakeMaker 0 7.70
------------------------------
ENVIRONMENT AND OTHER CONTEXT
------------------------------
Environment variables:
LANG = C.UTF-8
PATH = /usr/local/bin:/usr/bin:/bin:/usr/local/sbin:/usr/sbin:/sbin:/home/cpansand/bin/sh:/home/cpansand/bin:/usr/games:/home/cpansand/devel:/home/eserte/src/srezic-misc/scripts
PERL5LIB =
PERL5OPT =
PERL5_CPANPLUS_IS_RUNNING = 70527
PERL5_CPAN_IS_RUNNING = 70527
PERL5_CPAN_IS_RUNNING_IN_RECURSION = 68864,70527
PERL_BATCH = yes
PERL_CANARY_STABILITY_NOPROMPT = 1
PERL_CPAN_REPORTER_CONFIG = /var/tmp/cpansmoker-1023/2024020521/cpanreporter_000_config.ini
PERL_EXTUTILS_AUTOINSTALL = --defaultdeps
PERL_USE_UNSAFE_INC = 1
SHELL = /bin/sh
TMPDIR = /var/tmp/cpansmoker-1023/2024020521
Perl special variables (and OS-specific diagnostics, for MSWin32):
$^X = /usr/perl5.28.3/bin/perl
$UID/$EUID = 1023 / 1023
$GID = 1023 1023
$EGID = 1023 1023
Perl module toolchain versions installed:
Module Have
------------------- --------
CPAN 2.20
CPAN::Meta 2.150010
Cwd 3.75
ExtUtils::CBuilder 0.280236
ExtUtils::Command 7.70
ExtUtils::Install 2.22
ExtUtils::MakeMaker 7.70
ExtUtils::Manifest 1.70
ExtUtils::ParseXS 3.51
File::Spec 3.75
JSON 4.10
JSON::PP 4.16
Module::Build 0.4234
Module::Signature n/a
Parse::CPAN::Meta 2.150010
Test2 1.302198
Test::Harness 3.42
Test::More 1.302198
YAML 1.31
YAML::Syck 1.34
version 0.9930
--
Summary of my perl5 (revision 5 version 28 subversion 3) configuration:
Platform:
osname=freebsd
osvers=14.0-stable
archname=arm64-freebsd
uname='freebsd cloud9.bbbike.org 14.0-stable freebsd 14.0-stable #0 stable14-ac83f3fa4: mon dec 25 18:44:17 utc 2023 root@cloud9.bbbike.org:usrobjhomeprojectsfreebsd-srcarm64.aarch64sysgeneric arm64 '
config_args='-ds -e -Dprefix=/usr/perl5.28.3 -Dcf_email=srezic@cpan.org -Doptimize=-O2 -pipe'
hint=recommended
useposix=true
d_sigaction=define
useithreads=undef
usemultiplicity=undef
use64bitint=define
use64bitall=define
uselongdouble=undef
usemymalloc=n
default_inc_excludes_dot=define
bincompat5005=undef
Compiler:
cc='cc'
ccflags ='-DHAS_FPSETMASK -DHAS_FLOATINGPOINT_H -fno-strict-aliasing -pipe -fstack-protector-strong -I/usr/local/include'
optimize='-O2 -pipe'
cppflags='-DHAS_FPSETMASK -DHAS_FLOATINGPOINT_H -fno-strict-aliasing -pipe -fstack-protector-strong -I/usr/local/include'
ccversion=''
gccversion='FreeBSD Clang 16.0.6 (https://github.com/llvm/llvm-project.git llvmorg-16.0.6-0-g7cbf1a259152)'
gccosandvers=''
intsize=4
longsize=8
ptrsize=8
doublesize=8
byteorder=12345678
doublekind=3
d_longlong=define
longlongsize=8
d_longdbl=define
longdblsize=16
longdblkind=1
ivtype='long'
ivsize=8
nvtype='double'
nvsize=8
Off_t='off_t'
lseeksize=8
alignbytes=8
prototype=define
Linker and Libraries:
ld='cc'
ldflags ='-Wl,-E -fstack-protector-strong -L/usr/local/lib'
libpth=/usr/lib /usr/local/lib /usr/lib/clang/16/lib /usr/lib
libs=-lpthread -lgdbm -ldl -lm -lcrypt -lutil -lc
perllibs=-lpthread -ldl -lm -lcrypt -lutil -lc
libc=
so=so
useshrplib=false
libperl=libperl.a
gnulibc_version=''
Dynamic Linking:
dlsrc=dl_dlopen.xs
dlext=so
d_dlsymun=undef
ccdlflags=' '
cccdlflags='-DPIC -fPIC'
lddlflags='-shared -L/usr/local/lib -fstack-protector-strong'
Characteristics of this binary (from libperl):
Compile-time options:
HAS_TIMES
PERLIO_LAYERS
PERL_COPY_ON_WRITE
PERL_DONT_CREATE_GVSV
PERL_MALLOC_WRAP
PERL_OP_PARENT
PERL_PRESERVE_IVUV
USE_64_BIT_ALL
USE_64_BIT_INT
USE_LARGE_FILES
USE_LOCALE
USE_LOCALE_COLLATE
USE_LOCALE_CTYPE
USE_LOCALE_NUMERIC
USE_LOCALE_TIME
USE_PERLIO
USE_PERL_ATOF
Locally applied patches:
Devel::PatchPerl 2.08
Built under freebsd
Compiled at Dec 27 2023 08:38:14
%ENV:
PERL5LIB=""
PERL5OPT=""
PERL5_CPANPLUS_IS_RUNNING="70527"
PERL5_CPAN_IS_RUNNING="70527"
PERL5_CPAN_IS_RUNNING_IN_RECURSION="68864,70527"
PERL_BATCH="yes"
PERL_CANARY_STABILITY_NOPROMPT="1"
PERL_CPAN_REPORTER_CONFIG="/var/tmp/cpansmoker-1023/2024020521/cpanreporter_000_config.ini"
PERL_EXTUTILS_AUTOINSTALL="--defaultdeps"
PERL_USE_UNSAFE_INC="1"
@INC:
/usr/perl5.28.3/lib/site_perl/5.28.3/arm64-freebsd
/usr/perl5.28.3/lib/site_perl/5.28.3
/usr/perl5.28.3/lib/5.28.3/arm64-freebsd
/usr/perl5.28.3/lib/5.28.3
.