Acme-MetaSyntactic v1.015 Perl 5 v5.30.2 x86_64-linux-ld
- Status
- Pass
- From
- David Cantrell (DCANTRELL)
- Dist
-
Acme-MetaSyntactic v1.015
- Platform
- Perl 5 v5.30.2 x86_64-linux-ld
- Date
- 2021-05-05 12:44:47
- ID
- ac83f96e-ad9f-11eb-b42b-1b16fb334126
This distribution has been tested as part of the CPAN Testers
project, supporting the Perl programming language. See
http://wiki.cpantesters.org/ for more information or email
questions to cpan-testers-discuss@perl.org
--
Dear Philippe Bruhat (BooK),
This is a computer-generated report for Acme-MetaSyntactic-1.015
on perl 5.30.2, created by CPAN-Reporter-1.2018.
Thank you for uploading your work to CPAN. Congratulations!
All tests were successful.
Sections of this report:
* Tester comments
* Program output
* Prerequisites
* Environment and other context
------------------------------
TESTER COMMENTS
------------------------------
Additional comments from tester:
this report is from an automated smoke testing program
and was not reviewed by a human for accuracy
------------------------------
PROGRAM OUTPUT
------------------------------
Output from '/usr/bin/make test':
PERL_DL_NONLAZY=1 "/home/david/cpantesting/perl-5.30.2-longdouble/bin/perl" "-MExtUtils::Command::MM" "-MTest::Harness" "-e" "undef *Test::Harness::Switches; test_harness(0, 'blib/lib', 'blib/arch')" t/*.t
t/00-compile.t .......... ok
#
# Versions for all modules listed in MYMETA.json (including optional ones):
#
# === Configure Requires ===
#
# Module Want Have
# ------------------- ---- ----
# ExtUtils::MakeMaker any 7.34
#
# === Build Requires ===
#
# Module Want Have
# ------------------- ---- ----
# ExtUtils::MakeMaker any 7.34
#
# === Test Requires ===
#
# Module Want Have
# --------------------- ---- --------
# Cwd any 3.78
# ExtUtils::MakeMaker any 7.34
# File::Find any 1.36
# File::Spec any 3.78
# File::Spec::Functions any 3.78
# IO::Handle any 1.40
# IPC::Open3 any 1.20
# Test::More any 1.302183
# lib any 0.65
#
# === Test Recommends ===
#
# Module Want Have
# ---------- -------- --------
# CPAN::Meta 2.120900 2.150010
#
# === Runtime Requires ===
#
# Module Want Have
# --------------------- ---- --------
# Carp any 1.50
# File::Basename any 2.85
# File::Glob any 1.32
# File::Spec any 3.78
# Getopt::Long any 2.5
# LWP::UserAgent any 6.53
# List::Util any 1.56
# Test::Builder::Module any 1.302183
# Win32::Locale any missing
# base any 2.27
# strict any 1.11
# warnings any 1.44
#
#
# *** WARNING WARNING WARNING WARNING WARNING WARNING WARNING WARNING ***
#
# The following REQUIRED prerequisites were not satisfied:
#
# Win32::Locale is not installed (any version required)
#
t/00-report-prereqs.t ... ok
# Tested Acme::MetaSyntactic 1.015, Perl 5.030002, /home/david/cpantesting/perl-5.30.2-longdouble/bin/perl
t/00load.t .............. ok
t/05class.t ............. ok
t/07data.t .............. ok
t/10meta.t .............. ok
t/11namespace.t ......... ok
t/12fail.t .............. ok
t/12live.t .............. ok
t/15func.t .............. ok
t/16import.t ............ ok
t/20theme.t ............. ok
t/29meta.t .............. ok
t/30list.t .............. ok
t/31any.t ............... ok
t/32multi.t ............. ok
t/33locale.t ............ ok
t/33locale_territory.t .. ok
t/33locale_win32.t ...... ok
t/34data.t .............. ok
Failed to get content at fail (400 URL must be absolute at t/35remote.t line 89.
t/35remote.t ............ ok
Failed to get content at fail (400 URL must be absolute at t/35remote2.t line 47.
t/35remote2.t ........... ok
t/40inc.t ............... ok
t/50usecase.t ........... ok
t/author-pod-syntax.t ... skipped: these tests are for testing by the author
t/release-distmeta.t .... skipped: these tests are for release candidate testing
All tests successful.
Files=26, Tests=257, 116 wallclock secs ( 0.70 usr 0.18 sys + 25.09 cusr 3.46 csys = 29.43 CPU)
Result: PASS
------------------------------
PREREQUISITES
------------------------------
Prerequisite modules loaded:
requires:
Module Need Have
--------------------- ----- --------
base 0 2.27
Carp 0 1.50
File::Basename 0 2.85
File::Glob 0 1.32
File::Spec 0 3.78
Getopt::Long 0 2.5
List::Util 0 1.56
LWP::UserAgent 0 6.53
perl 5.006 5.030002
strict 0 1.11
Test::Builder::Module 0 1.302183
warnings 0 1.44
! Win32::Locale 0 n/a
build_requires:
Module Need Have
--------------------- ----- --------
Cwd 0 3.78
ExtUtils::MakeMaker 0 7.34
File::Find 0 1.36
File::Spec 0 3.78
File::Spec::Functions 0 3.78
IO::Handle 0 1.40
IPC::Open3 0 1.20
lib 0 0.65
Test::More 0 1.302183
configure_requires:
Module Need Have
--------------------- ----- --------
ExtUtils::MakeMaker 0 7.34
------------------------------
ENVIRONMENT AND OTHER CONTEXT
------------------------------
Environment variables:
AUTOMATED_TESTING = 1
LANG = en_GB.UTF-8
LANGUAGE = en_GB:en
LC_TERMINAL = iTerm2
LC_TERMINAL_VERSION = 3.4.6
NONINTERACTIVE_TESTING = 1
PATH = /home/david/perl5/perlbrew/bin:/home/david/perl5/perlbrew/perls/perl-5.30.2/bin:/usr/local/bin:/usr/bin:/bin:/usr/local/games:/usr/games
PERL = 5.30.2-longdouble
PERL5LIB =
PERL5OPT =
PERL5_CPANPLUS_IS_RUNNING = 11920
PERL5_CPAN_IS_RUNNING = 11920
PERLBREW_HOME = /home/david/.perlbrew
PERLBREW_MANPATH = /home/david/perl5/perlbrew/perls/perl-5.30.2/man
PERLBREW_PATH = /home/david/perl5/perlbrew/bin:/home/david/perl5/perlbrew/perls/perl-5.30.2/bin
PERLBREW_PERL = perl-5.30.2
PERLBREW_ROOT = /home/david/perl5/perlbrew
PERLBREW_SHELLRC_VERSION = 0.89
PERLBREW_VERSION = 0.89
PERLVER = 5.30.2-longdouble
PERL_INLINE_DIRECTORY = /home/david/.Inline-5.30.2-longdouble
PERL_MM_USE_DEFAULT = 1
PERL_USE_UNSAFE_INC = 0
SHELL = /bin/bash
TERM = screen
Perl special variables (and OS-specific diagnostics, for MSWin32):
$^X = /home/david/cpantesting/perl-5.30.2-longdouble/bin/perl
$UID/$EUID = 1000 / 1000
$GID = 1000 24 25 27 29 30 44 46 109 1000
$EGID = 1000 24 25 27 29 30 44 46 109 1000
Perl module toolchain versions installed:
Module Have
------------------- --------
CPAN 2.22
CPAN::Meta 2.150010
Cwd 3.78
ExtUtils::CBuilder 0.280231
ExtUtils::Command 7.34
ExtUtils::Install 2.14
ExtUtils::MakeMaker 7.34
ExtUtils::Manifest 1.72
ExtUtils::ParseXS 3.40
File::Spec 3.78
JSON n/a
JSON::PP 4.02
Module::Build 0.4231
Module::Signature n/a
Parse::CPAN::Meta 2.150010
Test::Harness 3.42
Test::More 1.302183
YAML n/a
YAML::Syck n/a
version 0.9924
--
Summary of my perl5 (revision 5 version 30 subversion 2) configuration:
Platform:
osname=linux
osvers=4.19.0-12-amd64
archname=x86_64-linux-ld
uname='linux cpantesting-linux 4.19.0-12-amd64 #1 smp debian 4.19.152-1 (2020-10-18) x86_64 gnulinux '
config_args='-de -Duselongdouble -Dprefix=/home/david/cpantesting/perl-5.30.2-longdouble'
hint=recommended
useposix=true
d_sigaction=define
useithreads=undef
usemultiplicity=undef
use64bitint=define
use64bitall=define
uselongdouble=define
usemymalloc=n
default_inc_excludes_dot=define
bincompat5005=undef
Compiler:
cc='cc'
ccflags ='-fwrapv -fno-strict-aliasing -pipe -fstack-protector-strong -I/usr/local/include -D_LARGEFILE_SOURCE -D_FILE_OFFSET_BITS=64 -D_FORTIFY_SOURCE=2'
optimize='-O2'
cppflags='-fwrapv -fno-strict-aliasing -pipe -fstack-protector-strong -I/usr/local/include'
ccversion=''
gccversion='8.3.0'
gccosandvers=''
intsize=4
longsize=8
ptrsize=8
doublesize=8
byteorder=12345678
doublekind=3
d_longlong=define
longlongsize=8
d_longdbl=define
longdblsize=16
longdblkind=3
ivtype='long'
ivsize=8
nvtype='long double'
nvsize=16
Off_t='off_t'
lseeksize=8
alignbytes=16
prototype=define
Linker and Libraries:
ld='cc'
ldflags =' -fstack-protector-strong -L/usr/local/lib'
libpth=/usr/local/lib /usr/lib/gcc/x86_64-linux-gnu/8/include-fixed /usr/include/x86_64-linux-gnu /usr/lib /lib/x86_64-linux-gnu /lib/../lib /usr/lib/x86_64-linux-gnu /usr/lib/../lib /lib /lib64 /usr/lib64
libs=-lpthread -lnsl -ldl -lm -lcrypt -lutil -lc
perllibs=-lpthread -lnsl -ldl -lm -lcrypt -lutil -lc
libc=libc-2.28.so
so=so
useshrplib=false
libperl=libperl.a
gnulibc_version='2.28'
Dynamic Linking:
dlsrc=dl_dlopen.xs
dlext=so
d_dlsymun=undef
ccdlflags='-Wl,-E'
cccdlflags='-fPIC'
lddlflags='-shared -O2 -L/usr/local/lib -fstack-protector-strong'
Characteristics of this binary (from libperl):
Compile-time options:
HAS_TIMES
PERLIO_LAYERS
PERL_COPY_ON_WRITE
PERL_DONT_CREATE_GVSV
PERL_MALLOC_WRAP
PERL_OP_PARENT
PERL_PRESERVE_IVUV
USE_64_BIT_ALL
USE_64_BIT_INT
USE_LARGE_FILES
USE_LOCALE
USE_LOCALE_COLLATE
USE_LOCALE_CTYPE
USE_LOCALE_NUMERIC
USE_LOCALE_TIME
USE_LONG_DOUBLE
USE_PERLIO
USE_PERL_ATOF
Built under linux
Compiled at Dec 5 2020 20:08:07
%ENV:
PERL="5.30.2-longdouble"
PERL5LIB=""
PERL5OPT=""
PERL5_CPANPLUS_IS_RUNNING="11920"
PERL5_CPAN_IS_RUNNING="11920"
PERLBREW_HOME="/home/david/.perlbrew"
PERLBREW_MANPATH="/home/david/perl5/perlbrew/perls/perl-5.30.2/man"
PERLBREW_PATH="/home/david/perl5/perlbrew/bin:/home/david/perl5/perlbrew/perls/perl-5.30.2/bin"
PERLBREW_PERL="perl-5.30.2"
PERLBREW_ROOT="/home/david/perl5/perlbrew"
PERLBREW_SHELLRC_VERSION="0.89"
PERLBREW_VERSION="0.89"
PERLVER="5.30.2-longdouble"
PERL_INLINE_DIRECTORY="/home/david/.Inline-5.30.2-longdouble"
PERL_MM_USE_DEFAULT="1"
PERL_USE_UNSAFE_INC="0"
@INC:
/home/david/cpantesting/perl-5.30.2-longdouble/lib/site_perl/5.30.2/x86_64-linux-ld
/home/david/cpantesting/perl-5.30.2-longdouble/lib/site_perl/5.30.2
/home/david/cpantesting/perl-5.30.2-longdouble/lib/5.30.2/x86_64-linux-ld
/home/david/cpantesting/perl-5.30.2-longdouble/lib/5.30.2