Back
From: metabase:user:9c36dc84-a30f-11e0-a9fc-0a18abbd4f2f
Subject: PASS Data-FormValidator-Constraints-DateTime-1.11 v5.20.2 OpenBSD
Date: 2016-05-08T18:42:53Z
This distribution has been tested as part of the CPAN Testers
project, supporting the Perl programming language. See
http://wiki.cpantesters.org/ for more information or email
questions to cpan-testers-discuss@perl.org
--
Dear Michael Peters,
This is a computer-generated report for Data-FormValidator-Constraints-DateTime-1.11
on perl 5.20.2, created by CPAN-Reporter-1.2017.
Thank you for uploading your work to CPAN. Congratulations!
All tests were successful.
Sections of this report:
* Tester comments
* Program output
* Prerequisites
* Environment and other context
------------------------------
TESTER COMMENTS
------------------------------
Additional comments from tester:
none provided
------------------------------
PROGRAM OUTPUT
------------------------------
Output from './Build test':
t/3x_databases.t ..... ok
t/3x_dates.t ......... ok
CGI::param called in list context from /home/arfreitas/perl5/lib/perl5/Data/FormValidator/Results.pm line 1074, this can lead to vulnerabilities. See the warning in "Fetching the value or values of a single named parameter" at /home/arfreitas/perl5/lib/perl5/CGI.pm line 407.
t/cgi_and_hashref.t .. ok
t/databases.t ........ ok
t/dates.t ............ ok
t/datetime_format.t .. ok
All tests successful.
Files=6, Tests=292, 1 wallclock secs ( 0.01 usr 0.31 sys + 0.81 cusr 0.33 csys = 1.46 CPU)
Result: PASS
------------------------------
PREREQUISITES
------------------------------
Prerequisite modules loaded:
requires:
Module Need Have
-------------------------- ------ --------
Data::FormValidator 3.61 4.81
DateTime 0.23 1.26
DateTime::Format::Strptime 1.00 1.67
Exporter 0 5.71
perl v5.6.1 5.020002
build_requires:
Module Need Have
-------------------------- ------ --------
DateTime::Format::Builder 0 0.81
configure_requires:
Module Need Have
-------------------------- ------ --------
Module::Build 0.36 0.4218
opt_requires:
Module Need Have
-------------------------- ------ --------
! DateTime::Format::MySQL 0.0301 n/a
! DateTime::Format::Pg 0.050 n/a
------------------------------
ENVIRONMENT AND OTHER CONTEXT
------------------------------
Environment variables:
PATH = /home/arfreitas/perl5/bin:/usr/bin:/bin:/usr/sbin:/sbin:/usr/X11R6/bin:/usr/local/bin:/usr/local/sbin
PERL5LIB = /home/arfreitas/perl5/lib/perl5
PERL5OPT =
PERL5_CPANPLUS_IS_RUNNING = 22833
PERL5_CPAN_IS_RUNNING = 22833
PERL_LOCAL_LIB_ROOT = /home/arfreitas/perl5
PERL_MB_OPT = --install_base "/home/arfreitas/perl5"
PERL_MM_OPT = INSTALL_BASE=/home/arfreitas/perl5
SHELL = /usr/local/bin/bash
TERM = xterm
Perl special variables (and OS-specific diagnostics, for MSWin32):
$^X = /usr/bin/perl
$UID/$EUID = 1000 / 1000
$GID = 1000 1000 0
$EGID = 1000 1000 0
Perl module toolchain versions installed:
Module Have
------------------- --------
CPAN 2.10
CPAN::Meta 2.150005
Cwd 3.48_02
ExtUtils::CBuilder 0.280217
ExtUtils::Command 1.18
ExtUtils::Install 1.67
ExtUtils::MakeMaker 6.98
ExtUtils::Manifest 1.63
ExtUtils::ParseXS 3.24
File::Spec 3.48_02
JSON 2.90
JSON::PP 2.27400
Module::Build 0.4218
Module::Signature n/a
Parse::CPAN::Meta 1.4414
Test::Harness 3.30
Test::More 1.001014
YAML n/a
YAML::Syck n/a
version 0.9909
--
Summary of my perl5 (revision 5 version 20 subversion 2) configuration:
Platform:
osname=openbsd, osvers=5.9, archname=amd64-openbsd
uname='openbsd'
config_args='-dsE -Dopenbsd_distribution=defined -Dccflags=-DNO_LOCALE_NUMERIC -DNO_LOCALE_COLLATE -Dmksymlinks'
hint=recommended, useposix=true, d_sigaction=define
useithreads=undef, usemultiplicity=undef
use64bitint=define, use64bitall=define, uselongdouble=undef
usemymalloc=n, bincompat5005=undef
Compiler:
cc='cc', ccflags ='-DNO_LOCALE_NUMERIC -DNO_LOCALE_COLLATE -fno-strict-aliasing -fno-delete-null-pointer-checks -pipe -fstack-protector -I/usr/local/include',
optimize='-O2',
cppflags='-DNO_LOCALE_NUMERIC -DNO_LOCALE_COLLATE -fno-strict-aliasing -fno-delete-null-pointer-checks -pipe -fstack-protector -I/usr/local/include'
ccversion='', gccversion='4.2.1 20070719 ', gccosandvers='openbsd5.9'
intsize=4, longsize=8, ptrsize=8, doublesize=8, byteorder=12345678
d_longlong=define, longlongsize=8, d_longdbl=define, longdblsize=16
ivtype='long', ivsize=8, nvtype='double', nvsize=8, Off_t='off_t', lseeksize=8
alignbytes=8, prototype=define
Linker and Libraries:
ld='cc', ldflags ='-Wl,-E -fstack-protector -L/usr/local/lib'
libpth=/usr/lib /usr/lib
libs=-lm -lutil -lc
perllibs=-lm -lutil -lc
libc=/usr/lib/libc.a, so=so, useshrplib=true, libperl=libperl.so.17.1
gnulibc_version=''
Dynamic Linking:
dlsrc=dl_dlopen.xs, dlext=so, d_dlsymun=undef, ccdlflags='-Wl,-R/usr/libdata/perl5/amd64-openbsd/5.20.2/CORE'
cccdlflags='-DPIC -fPIC ', lddlflags='-shared -fPIC -fstack-protector -L/usr/local/lib'
Characteristics of this binary (from libperl):
Compile-time options: HAS_TIMES PERLIO_LAYERS PERL_DONT_CREATE_GVSV
PERL_HASH_FUNC_ONE_AT_A_TIME_HARD PERL_MALLOC_WRAP
PERL_NEW_COPY_ON_WRITE PERL_PRESERVE_IVUV
USE_64_BIT_ALL USE_64_BIT_INT USE_LARGE_FILES
USE_LOCALE USE_LOCALE_CTYPE USE_PERLIO USE_PERL_ATOF
Built under openbsd
Compiled at Feb 26 2016 01:02:08
%ENV:
PERL5LIB="/home/arfreitas/perl5/lib/perl5"
PERL5OPT=""
PERL5_CPANPLUS_IS_RUNNING="22833"
PERL5_CPAN_IS_RUNNING="22833"
PERL_LOCAL_LIB_ROOT="/home/arfreitas/perl5"
PERL_MB_OPT="--install_base "/home/arfreitas/perl5""
PERL_MM_OPT="INSTALL_BASE=/home/arfreitas/perl5"
@INC:
/home/arfreitas/perl5/lib/perl5/5.20.2/amd64-openbsd
/home/arfreitas/perl5/lib/perl5/5.20.2
/home/arfreitas/perl5/lib/perl5/amd64-openbsd
/home/arfreitas/perl5/lib/perl5
/usr/local/libdata/perl5/site_perl/amd64-openbsd
/usr/libdata/perl5/site_perl/amd64-openbsd
/usr/local/libdata/perl5/site_perl
/usr/libdata/perl5/site_perl
/usr/libdata/perl5/amd64-openbsd/5.20.2
/usr/local/libdata/perl5/amd64-openbsd/5.20.2
/usr/libdata/perl5
/usr/local/libdata/perl5
.