XS-Parse-Keyword v0.48 Perl 5 v5.36.0 x86_64-linux

Status
Pass
From
Tom Molesworth
Dist
XS-Parse-Keyword v0.48
Platform
Perl 5 v5.36.0 x86_64-linux
Date
2025-02-10 21:19:12
ID
ac7b45c4-e7f4-11ef-bcad-c98f77e9331b
This distribution has been tested as part of the CPAN Testers
project, supporting the Perl programming language.  See
http://wiki.cpantesters.org/ for more information or email
questions to cpan-testers-discuss@perl.org


--
Dear PEVANS,

This is a computer-generated report for XS-Parse-Keyword-0.48
on perl 5.36.0, created by App::cpanminus::reporter 0.22 (1.7044).

Thank you for uploading your work to CPAN.  Congratulations!
All tests were successful.

Sections of this report:

    * Tester comments
    * Program output
    * Prerequisites
    * Environment and other context

------------------------------
TESTER COMMENTS
------------------------------

Additional comments from tester:

none provided

------------------------------
PROGRAM OUTPUT
------------------------------

Output from '':

Building and testing XS-Parse-Keyword-0.48
Building XS-Parse-Keyword
cc -Isrc/ -I/home/tom/perl5/perlbrew/perls/perl-5.36.0/lib/5.36.0/x86_64-linux/CORE -fPIC -Ishare-keyword/include -Ishare-infix/include -Ihax -c -fwrapv -fno-strict-aliasing -pipe -fstack-protector-strong -I/usr/local/include -D_LARGEFILE_SOURCE -D_FILE_OFFSET_BITS=64 -O2 -o src/infix.o src/infix.c
cc -Isrc/ -I/home/tom/perl5/perlbrew/perls/perl-5.36.0/lib/5.36.0/x86_64-linux/CORE -fPIC -Ishare-keyword/include -Ishare-infix/include -Ihax -c -fwrapv -fno-strict-aliasing -pipe -fstack-protector-strong -I/usr/local/include -D_LARGEFILE_SOURCE -D_FILE_OFFSET_BITS=64 -O2 -o src/keyword.o src/keyword.c
src/keyword.c: In function ‘my_keyword_plugin’:
src/keyword.c:1012:20: warning: field precision specifier ‘.*’ expects argument of type ‘int’, but argument 2 has type ‘STRLEN’ {aka ‘long unsigned int’} [-Wformat=]
 1012 |       croak("'my %.*s' is not permitted as a lexical keyword", kwlen, kw);
      |                  ~~^~                                          ~~~~~
      |                    |                                           |
      |                    int                                         STRLEN {aka long unsigned int}
cc -Isrc/ -I/home/tom/perl5/perlbrew/perls/perl-5.36.0/lib/5.36.0/x86_64-linux/CORE -DVERSION="0.48" -DXS_VERSION="0.48" -fPIC -Ishare-keyword/include -Ishare-infix/include -Ihax -c -fwrapv -fno-strict-aliasing -pipe -fstack-protector-strong -I/usr/local/include -D_LARGEFILE_SOURCE -D_FILE_OFFSET_BITS=64 -O2 -o lib/XS/Parse/Keyword.o lib/XS/Parse/Keyword.c
ExtUtils::Mkbootstrap::Mkbootstrap('blib/arch/auto/XS/Parse/Keyword/Keyword.bs')
cc -shared -O2 -L/usr/local/lib -fstack-protector-strong -o blib/arch/auto/XS/Parse/Keyword/Keyword.so lib/XS/Parse/Keyword.o src/infix.o src/keyword.o
cc -I/home/tom/perl5/perlbrew/perls/perl-5.36.0/lib/5.36.0/x86_64-linux/CORE -DVERSION="0.48" -DXS_VERSION="0.48" -fPIC -Ishare-keyword/include -Ishare-infix/include -Ihax -c -fwrapv -fno-strict-aliasing -pipe -fstack-protector-strong -I/usr/local/include -D_LARGEFILE_SOURCE -D_FILE_OFFSET_BITS=64 -O2 -o t/build.o t/build.c
ExtUtils::Mkbootstrap::Mkbootstrap('t/blib/arch/auto/t/build/build.bs')
cc -shared -O2 -L/usr/local/lib -fstack-protector-strong -o t/blib/arch/auto/t/build/build.so t/build.o
cc -I/home/tom/perl5/perlbrew/perls/perl-5.36.0/lib/5.36.0/x86_64-linux/CORE -DVERSION="0.48" -DXS_VERSION="0.48" -fPIC -Ishare-keyword/include -Ishare-infix/include -Ihax -c -fwrapv -fno-strict-aliasing -pipe -fstack-protector-strong -I/usr/local/include -D_LARGEFILE_SOURCE -D_FILE_OFFSET_BITS=64 -O2 -o t/flags.o t/flags.c
ExtUtils::Mkbootstrap::Mkbootstrap('t/blib/arch/auto/t/flags/flags.bs')
cc -shared -O2 -L/usr/local/lib -fstack-protector-strong -o t/blib/arch/auto/t/flags/flags.so t/flags.o
cc -I/home/tom/perl5/perlbrew/perls/perl-5.36.0/lib/5.36.0/x86_64-linux/CORE -DVERSION="0.48" -DXS_VERSION="0.48" -fPIC -Ishare-keyword/include -Ishare-infix/include -Ihax -c -fwrapv -fno-strict-aliasing -pipe -fstack-protector-strong -I/usr/local/include -D_LARGEFILE_SOURCE -D_FILE_OFFSET_BITS=64 -O2 -o t/infix.o t/infix.c
ExtUtils::Mkbootstrap::Mkbootstrap('t/blib/arch/auto/t/infix/infix.bs')
cc -shared -O2 -L/usr/local/lib -fstack-protector-strong -o t/blib/arch/auto/t/infix/infix.so t/infix.o
cc -I/home/tom/perl5/perlbrew/perls/perl-5.36.0/lib/5.36.0/x86_64-linux/CORE -DVERSION="0.48" -DXS_VERSION="0.48" -fPIC -Ishare-keyword/include -Ishare-infix/include -Ihax -c -fwrapv -fno-strict-aliasing -pipe -fstack-protector-strong -I/usr/local/include -D_LARGEFILE_SOURCE -D_FILE_OFFSET_BITS=64 -O2 -o t/line.o t/line.c
ExtUtils::Mkbootstrap::Mkbootstrap('t/blib/arch/auto/t/line/line.bs')
cc -shared -O2 -L/usr/local/lib -fstack-protector-strong -o t/blib/arch/auto/t/line/line.so t/line.o
cc -I/home/tom/perl5/perlbrew/perls/perl-5.36.0/lib/5.36.0/x86_64-linux/CORE -DVERSION="0.48" -DXS_VERSION="0.48" -fPIC -Ishare-keyword/include -Ishare-infix/include -Ihax -c -fwrapv -fno-strict-aliasing -pipe -fstack-protector-strong -I/usr/local/include -D_LARGEFILE_SOURCE -D_FILE_OFFSET_BITS=64 -O2 -o t/pieces.o t/pieces.c
ExtUtils::Mkbootstrap::Mkbootstrap('t/blib/arch/auto/t/pieces/pieces.bs')
cc -shared -O2 -L/usr/local/lib -fstack-protector-strong -o t/blib/arch/auto/t/pieces/pieces.so t/pieces.o
cc -I/home/tom/perl5/perlbrew/perls/perl-5.36.0/lib/5.36.0/x86_64-linux/CORE -DVERSION="0.48" -DXS_VERSION="0.48" -fPIC -Ishare-keyword/include -Ishare-infix/include -Ihax -c -fwrapv -fno-strict-aliasing -pipe -fstack-protector-strong -I/usr/local/include -D_LARGEFILE_SOURCE -D_FILE_OFFSET_BITS=64 -O2 -o t/probing.o t/probing.c
ExtUtils::Mkbootstrap::Mkbootstrap('t/blib/arch/auto/t/probing/probing.bs')
cc -shared -O2 -L/usr/local/lib -fstack-protector-strong -o t/blib/arch/auto/t/probing/probing.so t/probing.o
cc -I/home/tom/perl5/perlbrew/perls/perl-5.36.0/lib/5.36.0/x86_64-linux/CORE -DVERSION="0.48" -DXS_VERSION="0.48" -fPIC -Ishare-keyword/include -Ishare-infix/include -Ihax -c -fwrapv -fno-strict-aliasing -pipe -fstack-protector-strong -I/usr/local/include -D_LARGEFILE_SOURCE -D_FILE_OFFSET_BITS=64 -O2 -o t/stages.o t/stages.c
ExtUtils::Mkbootstrap::Mkbootstrap('t/blib/arch/auto/t/stages/stages.bs')
cc -shared -O2 -L/usr/local/lib -fstack-protector-strong -o t/blib/arch/auto/t/stages/stages.so t/stages.o
cc -I/home/tom/perl5/perlbrew/perls/perl-5.36.0/lib/5.36.0/x86_64-linux/CORE -DVERSION="0.48" -DXS_VERSION="0.48" -fPIC -Ishare-keyword/include -Ishare-infix/include -Ihax -c -fwrapv -fno-strict-aliasing -pipe -fstack-protector-strong -I/usr/local/include -D_LARGEFILE_SOURCE -D_FILE_OFFSET_BITS=64 -O2 -o t/structures.o t/structures.c
ExtUtils::Mkbootstrap::Mkbootstrap('t/blib/arch/auto/t/structures/structures.bs')
cc -shared -O2 -L/usr/local/lib -fstack-protector-strong -o t/blib/arch/auto/t/structures/structures.so t/structures.o
t/00use.t ............... ok
t/10stages-permit.t ..... ok
t/11stages-check.t ...... ok
t/30pieces-literal.t .... ok
t/31pieces-block.t ...... ok
t/32pieces-anonsub.t .... ok
t/33pieces-arithexpr.t .. ok
t/33pieces-listexpr.t ... ok
t/33pieces-termexpr.t ... ok
t/34pieces-ident.t ...... ok
t/35pieces-lexvar.t ..... ok
t/36pieces-attrs.t ...... ok
t/37pieces-vstring.t .... ok
t/38pieces-infix.t ...... ok
t/39pieces-warning.t .... ok
t/40build.t ............. ok
t/41structures.t ........ ok
t/42containers.t ........ ok
t/43probing.t ........... ok
t/50flags-autosemi.t .... ok
t/51flags-lexical.t ..... ok
t/60line.t .............. ok
t/70infix.t ............. skipped: No PL_infix_plugin
t/71infix-wrapper.t ..... ok
t/99pod.t ............... ok
All tests successful.
Files=25, Tests=175,  2 wallclock secs ( 0.03 usr  0.04 sys +  1.22 cusr  0.29 csys =  1.58 CPU)
Result: PASS

------------------------------
PREREQUISITES
------------------------------

Prerequisite modules loaded:

runtime:

    Module             Need   Have    
    ------------------ ------ --------
    File::ShareDir     1.00   1.118   
    perl               5.014  5.036000

build:

    Module             Need   Have    
    ------------------ ------ --------
    ExtUtils::CBuilder 0      0.280236
    ExtUtils::ParseXS  3.16   3.51    

configure:

    Module             Need   Have    
    ------------------ ------ --------
    ExtUtils::CChecker 0.11   0.12    
    Module::Build      0.4004 0.4234  


------------------------------
ENVIRONMENT AND OTHER CONTEXT
------------------------------

Environment variables:

    LANG = en_GB.UTF-8
    LC_ADDRESS = ms_MY.UTF-8
    LC_IDENTIFICATION = ms_MY.UTF-8
    LC_MEASUREMENT = ms_MY.UTF-8
    LC_MONETARY = ms_MY.UTF-8
    LC_NAME = ms_MY.UTF-8
    LC_NUMERIC = ms_MY.UTF-8
    LC_PAPER = ms_MY.UTF-8
    LC_TELEPHONE = ms_MY.UTF-8
    LD_LIBRARY_PATH = /home/tom/local/lib:/usr/local/lib/nuitrack
    PATH = /home/tom/.local/bin:/home/tom/perl5/perlbrew/bin:/home/tom/perl5/perlbrew/perls/perl-5.36.0/bin:/home/tom/local/bin:/usr/src/linux-headers-6.12.13-2-liquorix-amd64/tools/power/x86/x86_energy_perf_policy:/usr/src/linux-headers-6.12.13-2-liquorix-amd64/tools/power/x86/turbostat:/usr/src/linux-headers-6.12.13-2-liquorix-amd64/tools/power/cpupower:/usr/src/linux-headers-6.12.13-2-liquorix-amd64/tools/perf:/home/tom/.local/bin:/home/tom/local/miniconda3/bin:/home/tom/local/miniconda3/condabin:/home/tom/local/bin:/usr/src/linux-headers-6.12.13-2-liquorix-amd64/tools/power/x86/x86_energy_perf_policy:/usr/src/linux-headers-6.12.13-2-liquorix-amd64/tools/power/x86/turbostat:/usr/src/linux-headers-6.12.13-2-liquorix-amd64/tools/power/cpupower:/usr/src/linux-headers-6.12.13-2-liquorix-amd64/tools/perf:/usr/local/sbin:/usr/local/bin:/usr/sbin:/usr/bin:/sbin:/bin:/usr/games:/usr/local/games:/snap/bin:/home/tom/android/sdk/platform-tools:/home/tom/android/sdk/tools:/home/tom/android/flutter/bin:/home/tom/android/sdk/platform-tools:/home/tom/android/sdk/tools:/home/tom/android/flutter/bin
    PERLBREW_HOME = /home/tom/.perlbrew
    PERLBREW_MANPATH = /home/tom/perl5/perlbrew/perls/perl-5.36.0/man
    PERLBREW_PATH = /home/tom/perl5/perlbrew/bin:/home/tom/perl5/perlbrew/perls/perl-5.36.0/bin
    PERLBREW_PERL = perl-5.36.0
    PERLBREW_ROOT = /home/tom/perl5/perlbrew
    PERLBREW_SHELLRC_VERSION = 0.82
    PERLBREW_VERSION = 0.94
    PERL_LWP_SSL_VERIFY_HOSTNAME = 0
    PERL_MM_USE_DEFAULT = 1
    SHELL = /bin/bash
    TERM = screen-256color

Perl special variables (and OS-specific diagnostics, for MSWin32):

    EGID = 1000 4 6 24 27 29 30 44 46 115 119 120 127 131 143 147 997 999 1000 1001
    EUID = 1000
    EXECUTABLE_NAME = /home/tom/perl5/perlbrew/perls/perl-5.36.0/bin/perl
    GID = 1000 4 6 24 27 29 30 44 46 115 119 120 127 131 143 147 997 999 1000 1001
    UID = 1000

Perl module toolchain versions installed:

    Module              Have    
    ------------------- --------
    CPAN                2.38    
    CPAN::Meta          2.150010
    Cwd                 3.84    
    ExtUtils::CBuilder  0.280236
    ExtUtils::Command   7.70    
    ExtUtils::Install   2.22    
    ExtUtils::MakeMaker 7.70    
    ExtUtils::Manifest  1.75    
    ExtUtils::ParseXS   3.51    
    File::Spec          3.84    
    JSON                n/a     
    JSON::PP            4.16    
    Module::Build       0.4234  
    Module::Signature   0.89    
    Parse::CPAN::Meta   2.150010
    Test::Harness       3.50    
    Test::More          1.302209
    YAML                1.31    
    YAML::Syck          n/a     
    version             0.9933  


--

Summary of my perl5 (revision 5 version 36 subversion 0) configuration:
   
  Platform:
    osname=linux
    osvers=5.19.0-4.2-liquorix-amd64
    archname=x86_64-linux
    uname='linux besar.rumah 5.19.0-4.2-liquorix-amd64 #1 zen smp preempt_dynamic liquorix 5.19-5ubuntu1~jammy (2022-08 x86_64 x86_64 x86_64 gnulinux '
    config_args='-de -Dprefix=/home/tom/perl5/perlbrew/perls/perl-5.36.0 -DSILENT_NO_TAINT_SUPPORT -Dman1dir=none -Dman3dir=none -Aeval:scriptdir=/home/tom/perl5/perlbrew/perls/perl-5.36.0/bin'
    hint=recommended
    useposix=true
    d_sigaction=define
    useithreads=undef
    usemultiplicity=undef
    use64bitint=define
    use64bitall=define
    uselongdouble=undef
    usemymalloc=n
    default_inc_excludes_dot=define
  Compiler:
    cc='cc'
    ccflags ='-fwrapv -fno-strict-aliasing -pipe -fstack-protector-strong -I/usr/local/include -D_LARGEFILE_SOURCE -D_FILE_OFFSET_BITS=64'
    optimize='-O2'
    cppflags='-fwrapv -fno-strict-aliasing -pipe -fstack-protector-strong -I/usr/local/include'
    ccversion=''
    gccversion='11.2.0'
    gccosandvers=''
    intsize=4
    longsize=8
    ptrsize=8
    doublesize=8
    byteorder=12345678
    doublekind=3
    d_longlong=define
    longlongsize=8
    d_longdbl=define
    longdblsize=16
    longdblkind=3
    ivtype='long'
    ivsize=8
    nvtype='double'
    nvsize=8
    Off_t='off_t'
    lseeksize=8
    alignbytes=8
    prototype=define
  Linker and Libraries:
    ld='cc'
    ldflags =' -fstack-protector-strong -L/usr/local/lib'
    libpth=/usr/local/lib /usr/lib/x86_64-linux-gnu /usr/lib /usr/lib64
    libs=-lpthread -lnsl -ldb -ldl -lm -lcrypt -lutil -lc
    perllibs=-lpthread -lnsl -ldl -lm -lcrypt -lutil -lc
    libc=/lib/x86_64-linux-gnu/libc.so.6
    so=so
    useshrplib=false
    libperl=libperl.a
    gnulibc_version='2.35'
  Dynamic Linking:
    dlsrc=dl_dlopen.xs
    dlext=so
    d_dlsymun=undef
    ccdlflags='-Wl,-E'
    cccdlflags='-fPIC'
    lddlflags='-shared -O2 -L/usr/local/lib -fstack-protector-strong'


Characteristics of this binary (from libperl): 
  Compile-time options:
    HAS_TIMES
    PERLIO_LAYERS
    PERL_COPY_ON_WRITE
    PERL_DONT_CREATE_GVSV
    PERL_MALLOC_WRAP
    PERL_OP_PARENT
    PERL_PRESERVE_IVUV
    USE_64_BIT_ALL
    USE_64_BIT_INT
    USE_LARGE_FILES
    USE_LOCALE
    USE_LOCALE_COLLATE
    USE_LOCALE_CTYPE
    USE_LOCALE_NUMERIC
    USE_LOCALE_TIME
    USE_PERLIO
    USE_PERL_ATOF
  Built under linux
  Compiled at Aug 31 2022 21:22:59
  %ENV:
    PERLBREW_HOME="/home/tom/.perlbrew"
    PERLBREW_MANPATH="/home/tom/perl5/perlbrew/perls/perl-5.36.0/man"
    PERLBREW_PATH="/home/tom/perl5/perlbrew/bin:/home/tom/perl5/perlbrew/perls/perl-5.36.0/bin"
    PERLBREW_PERL="perl-5.36.0"
    PERLBREW_ROOT="/home/tom/perl5/perlbrew"
    PERLBREW_SHELLRC_VERSION="0.82"
    PERLBREW_VERSION="0.94"
    PERL_LWP_SSL_VERIFY_HOSTNAME="0"
    PERL_MM_USE_DEFAULT="1"
  @INC:
    /home/tom/perl5/perlbrew/perls/perl-5.36.0/lib/site_perl/5.36.0/x86_64-linux
    /home/tom/perl5/perlbrew/perls/perl-5.36.0/lib/site_perl/5.36.0
    /home/tom/perl5/perlbrew/perls/perl-5.36.0/lib/5.36.0/x86_64-linux
    /home/tom/perl5/perlbrew/perls/perl-5.36.0/lib/5.36.0