Back
From: metabase:user:b90914ec-0321-11e4-9765-a53fc2c19918
Subject: PASS Dist-Zilla-Stash-PodWeaver-1.005 v5.8.9 GNU/Linux
Date: 2014-07-30T00:08:45Z
This distribution has been tested as part of the CPAN Testers
project, supporting the Perl programming language. See
http://wiki.cpantesters.org/ for more information or email
questions to cpan-testers-discuss@perl.org
--
Dear Randy Stauner,
This is a computer-generated report for Dist-Zilla-Stash-PodWeaver-1.005
on perl 5.8.9, created by CPAN-Reporter-1.2011.
Thank you for uploading your work to CPAN. Congratulations!
All tests were successful.
Sections of this report:
* Tester comments
* Program output
* Prerequisites
* Environment and other context
------------------------------
TESTER COMMENTS
------------------------------
Additional comments from tester:
this report is from an automated smoke testing program
and was not reviewed by a human for accuracy
------------------------------
PROGRAM OUTPUT
------------------------------
Output from '/usr/bin/make test':
PERL_DL_NONLAZY=1 /opt/perl430-27-O0-5.8.9/bin/perl "-MExtUtils::Command::MM" "-MTest::Harness" "-e" "undef *Test::Harness::Switches; test_harness(0, 'blib/lib', 'blib/arch')" t/*.t
t/00-compile.t ......... ok
# Prerequisite Report:
# Version Module
# ---------- ---------------------------------
# 1.006 Dist::Zilla::Role::Stash::Plugins
# 5.020 Dist::Zilla::Tester
# 6.98 ExtUtils::MakeMaker
# 1.13 File::Find
# 3.47 File::Spec::Functions
# 0.2304 File::Temp
# 1.39 List::Util
# 2.1210 Moose
# 0.100003 Pod::Coverage::TrustPod
# 4.006 Pod::Weaver::Config::Assembler
# 0.23 Test::CPAN::Meta
# 1.20140408 Test::MockObject
# 1.001003 Test::More
# 1.48 Test::Pod
# 1.08 Test::Pod::Coverage
# 1.03 strict
# 1.05_01 warnings
t/00-report-prereqs.t .. ok
t/ini-config.t ......... ok
All tests successful.
Files=3, Tests=17, 35 wallclock secs ( 0.12 usr 0.02 sys + 21.03 cusr 0.95 csys = 22.12 CPU)
Result: PASS
------------------------------
PREREQUISITES
------------------------------
Prerequisite modules loaded:
requires:
Module Need Have
--------------------------------- ----- ----------
Dist::Zilla::Role::Stash::Plugins 1.006 1.006
Moose 0 2.1210
Pod::Weaver::Config::Assembler 0 4.006
strict 0 1.03
warnings 0 1.05_01
build_requires:
Module Need Have
--------------------------------- ----- ----------
Dist::Zilla::Tester 0 5.020
ExtUtils::MakeMaker 0 6.98
File::Find 0 1.13
File::Spec::Functions 0 3.47
File::Temp 0 0.2304
List::Util 0 1.39
Test::MockObject 0 1.20140408
Test::More 0 1.001003
configure_requires:
Module Need Have
--------------------------------- ----- ----------
ExtUtils::MakeMaker 6.30 6.98
------------------------------
ENVIRONMENT AND OTHER CONTEXT
------------------------------
Environment variables:
AUTOMATED_TESTING = 1
LANG = en_US.utf8
PATH = /usr/lib/qt-3.3/bin:/usr/kerberos/sbin:/usr/kerberos/bin:/usr/local/sbin:/usr/sbin:/sbin:/usr/local/bin:/usr/bin:/bin:/root/bin
PERL5LIB =
PERL5OPT =
PERL5_CPANPLUS_IS_RUNNING = 21092
PERL5_CPAN_IS_RUNNING = 21092
PERL_MM_USE_DEFAULT = 1
SHELL = /bin/bash
TERM = xterm
Perl special variables (and OS-specific diagnostics, for MSWin32):
$^X = /opt/perl430-27-O0-5.8.9/bin/perl
$UID/$EUID = 0 / 0
$GID = 0 0 1 2 3 4 6 10
$EGID = 0 0 1 2 3 4 6 10
Perl module toolchain versions installed:
Module Have
------------------- --------
CPAN 2.05
CPAN::Meta 2.142060
Cwd 3.47
ExtUtils::CBuilder 0.280216
ExtUtils::Command 1.16
ExtUtils::Install 1.68
ExtUtils::MakeMaker 6.98
ExtUtils::Manifest 1.64
ExtUtils::ParseXS 3.24
File::Spec 3.47
JSON 2.90
JSON::PP 2.27203
Module::Build 0.4206
Module::Signature n/a
Parse::CPAN::Meta 1.4414
Test::Harness 3.32
Test::More 1.001003
YAML 0.95
YAML::Syck 1.27
version 0.9908
--
Summary of my perl5 (revision 5 version 8 subversion 9) configuration:
Platform:
osname=linux, osvers=2.6.27.25-78.2.56.fc9.i686, archname=i686-linux-thread-multi-64int-ld
uname='linux localhost.localdomain 2.6.27.25-78.2.56.fc9.i686 #1 smp thu jun 18 12:47:50 edt 2009 i686 i686 i386 gnulinux '
config_args='-Dcc=gcc -Dprefix=/opt/perl430-27-O0-5.8.9 -DDEBUGGING'
hint=recommended, useposix=true, d_sigaction=define
usethreads=define use5005threads=undef useithreads=define usemultiplicity=define
useperlio=define d_sfio=undef uselargefiles=define usesocks=undef
use64bitint=define use64bitall=undef uselongdouble=define
usemymalloc=y, bincompat5005=undef
Compiler:
cc='gcc', ccflags ='-D_REENTRANT -D_GNU_SOURCE -DTHREADS_HAVE_PIDS -DDEBUGGING -fno-strict-aliasing -pipe -I/usr/local/include -D_LARGEFILE_SOURCE -D_FILE_OFFSET_BITS=64 -I/usr/include/gdbm',
optimize='-O0 -g',
cppflags='-D_REENTRANT -D_GNU_SOURCE -DTHREADS_HAVE_PIDS -DDEBUGGING -fno-strict-aliasing -pipe -I/usr/local/include -I/usr/include/gdbm'
ccversion='', gccversion='4.3.0 20080428 (Red Hat 4.3.0-8)', gccosandvers=''
intsize=4, longsize=4, ptrsize=4, doublesize=8, byteorder=12345678
d_longlong=define, longlongsize=8, d_longdbl=define, longdblsize=12
ivtype='long long', ivsize=8, nvtype='long double', nvsize=12, Off_t='off_t', lseeksize=8
alignbytes=4, prototype=define
Linker and Libraries:
ld='gcc', ldflags =' -L/usr/local/lib'
libpth=/usr/local/lib /lib /usr/lib
libs=-lnsl -lgdbm -ldb -ldl -lm -lcrypt -lutil -lpthread -lc
perllibs=-lnsl -ldl -lm -lcrypt -lutil -lpthread -lc
libc=/lib/libc-2.8.so, so=so, useshrplib=true, libperl=libperl.so
gnulibc_version='2.8'
Dynamic Linking:
dlsrc=dl_dlopen.xs, dlext=so, d_dlsymun=undef, ccdlflags='-Wl,-E -Wl,-rpath,/opt/perl430-27-O0-5.8.9/lib/5.8.9/i686-linux-thread-multi-64int-ld/CORE'
cccdlflags='-fPIC', lddlflags='-shared -O0 -g -L/usr/local/lib'
Characteristics of this binary (from libperl):
Compile-time options: DEBUGGING MULTIPLICITY MYMALLOC PERL_IMPLICIT_CONTEXT
PERL_MALLOC_WRAP THREADS_HAVE_PIDS USE_64_BIT_INT
USE_FAST_STDIO USE_ITHREADS USE_LARGE_FILES
USE_LONG_DOUBLE USE_PERLIO USE_REENTRANT_API
Built under linux
Compiled at Jul 11 2014 11:39:45
%ENV:
PERL5LIB=""
PERL5OPT=""
PERL5_CPANPLUS_IS_RUNNING="21092"
PERL5_CPAN_IS_RUNNING="21092"
PERL_MM_USE_DEFAULT="1"
@INC:
/opt/perl430-27-O0-5.8.9/lib/5.8.9/i686-linux-thread-multi-64int-ld
/opt/perl430-27-O0-5.8.9/lib/5.8.9
/opt/perl430-27-O0-5.8.9/lib/site_perl/5.8.9/i686-linux-thread-multi-64int-ld
/opt/perl430-27-O0-5.8.9/lib/site_perl/5.8.9
.