Class-Method-Modifiers v2.15 Perl 5 v5.32.0 x86_64-linux-ld

Status
Pass
From
Nigel Horne
Dist
Class-Method-Modifiers v2.15
Platform
Perl 5 v5.32.0 x86_64-linux-ld
Date
2025-10-10 14:16:11
ID
ac67bc22-a5e3-11f0-bc73-edf1196f009e
This distribution has been tested as part of the CPAN Testers
project, supporting the Perl programming language.  See
http://wiki.cpantesters.org/ for more information or email
questions to cpan-testers-discuss@perl.org


--
Dear Karen Etheridge,

This is a computer-generated report for Class-Method-Modifiers-2.15
on perl 5.32.0, created by CPAN-Reporter-1.2020.

Thank you for uploading your work to CPAN.  Congratulations!
All tests were successful.

Sections of this report:

    * Tester comments
    * Program output
    * Prerequisites
    * Environment and other context

------------------------------
TESTER COMMENTS
------------------------------

Additional comments from tester:

this report is from an automated smoke testing program
and was not reviewed by a human for accuracy

------------------------------
PROGRAM OUTPUT
------------------------------

Output from '/usr/bin/make test':

PERL_DL_NONLAZY=1 "/home/njh/perl5/perlbrew/perls/perl-5.32.0-ld/bin/perl5.32.0" "-MExtUtils::Command::MM" "-MTest::Harness" "-e" "undef *Test::Harness::Switches; test_harness(0, 'blib/lib', 'blib/arch')" t/*.t
t/000-load.t ........................ ok
t/001-error.t ....................... ok
t/002-cache.t ....................... ok
t/003-basic.t ....................... ok
t/004-around.t ...................... ok
t/005-return.t ...................... ok
t/010-before-args.t ................. ok
t/011-after-args.t .................. ok
# 
# Versions for all modules listed in MYMETA.json (including optional ones):
# 
# === Configure Requires ===
# 
#     Module               Want     Have
#     ------------------- ----- --------
#     ExtUtils::MakeMaker   any     7.64
#     perl                5.006 5.032000
# 
# === Build Requires ===
# 
#     Module              Want Have
#     ------------------- ---- ----
#     ExtUtils::MakeMaker  any 7.64
# 
# === Test Requires ===
# 
#     Module               Want     Have
#     ------------------- ----- --------
#     ExtUtils::MakeMaker   any     7.64
#     File::Spec            any     3.78
#     Test::More           0.88 1.302186
#     if                    any   0.0608
#     perl                5.006 5.032000
# 
# === Test Recommends ===
# 
#     Module         Want     Have
#     ---------- -------- --------
#     CPAN::Meta 2.120900 2.150010
# 
# === Runtime Requires ===
# 
#     Module    Want     Have
#     -------- ----- --------
#     B          any     1.80
#     Carp       any     1.50
#     Exporter   any     5.74
#     base       any     2.27
#     perl     5.006 5.032000
#     strict     any     1.11
#     warnings   any     1.47
# 
# === Other Modules ===
# 
#     Module                  Have
#     -------------------- -------
#     Encode                  3.06
#     File::Temp            0.2309
#     JSON::PP                4.04
#     Module::Runtime        0.016
#     Moo                  missing
#     Moose                missing
#     Pod::Coverage        missing
#     Role::Tiny           missing
#     Sub::Install           0.928
#     Sub::Name            missing
#     YAML                    1.31
#     autodie                 2.32
#     namespace::autoclean missing
#     namespace::clean        0.27
# 
t/00-report-prereqs.t ............... ok
t/012-around-args.t ................. ok
t/020-multiple-inheritance.t ........ ok
t/030-multiple-before.t ............. ok
t/031-multiple-after.t .............. ok
t/032-multiple-around.t ............. ok
t/034-multiple-everything.t ......... ok
t/040-twice-orig.t .................. ok
t/035-multiple-everything-twice.t ... ok
t/051-undef-list-ctxt.t ............. ok
t/041-modify-parent.t ............... ok
t/060-caller.t ...................... ok
t/070-modify-multiple-at-once.t ..... ok
t/080-multiple-modifiers.t .......... ok
t/090-diamond.t ..................... ok
t/081-sub-and-modifier.t ............ ok
t/100-class-mop-method-modifiers.t .. ok
t/110-namespace-clean.t ............. ok
t/120-fresh.t ....................... ok
t/130-clean-underscore.t ............ ok
t/140-lvalue.t ...................... ok
All tests successful.
Files=29, Tests=131,  1 wallclock secs ( 0.08 usr  0.02 sys +  1.17 cusr  0.48 csys =  1.75 CPU)
Result: PASS

------------------------------
PREREQUISITES
------------------------------

Prerequisite modules loaded:

requires:

    Module              Need  Have    
    ------------------- ----- --------
    B                   0     1.80    
    base                0     2.27    
    Carp                0     1.50    
    Exporter            0     5.74    
    perl                5.006 5.032000
    strict              0     1.11    
    warnings            0     1.47    

build_requires:

    Module              Need  Have    
    ------------------- ----- --------
    ExtUtils::MakeMaker 0     7.64    
    File::Spec          0     3.78    
    if                  0     0.0608  
    Test::More          0.88  1.302186

configure_requires:

    Module              Need  Have    
    ------------------- ----- --------
    ExtUtils::MakeMaker 0     7.64    
    perl                5.006 5.032000


------------------------------
ENVIRONMENT AND OTHER CONTEXT
------------------------------

Environment variables:

    AUTOMATED_TESTING = 1
    HARNESS_OPTIONS = j4
    LANG = en_US.UTF-8
    PATH = /home/njh/perl5/perlbrew/bin:/home/njh/perl5/perlbrew/perls/perl-5.32.0-ld/bin:/home/njh/perl5/perlbrew/bin:/home/njh/src/njh/smoker/bin:/usr/bin:/bin
    PERL5LIB = /tmp/user/1000/build/File-Find-Rule-0.35-0/blib/arch:/tmp/user/1000/build/File-Find-Rule-0.35-0/blib/lib:/tmp/user/1000/build/Text-Glob-0.11-0/blib/arch:/tmp/user/1000/build/Text-Glob-0.11-0/blib/lib:/tmp/user/1000/build/Number-Compare-0.03-0/blib/arch:/tmp/user/1000/build/Number-Compare-0.03-0/blib/lib:/tmp/user/1000/build/Class-XSAccessor-1.19-0/blib/arch:/tmp/user/1000/build/Class-XSAccessor-1.19-0/blib/lib:/tmp/user/1000/build/Schedule-Activity-0.1.1-0/blib/arch:/tmp/user/1000/build/Schedule-Activity-0.1.1-0/blib/lib:/tmp/user/1000/build/Ref-Util-0.204-0/blib/arch:/tmp/user/1000/build/Ref-Util-0.204-0/blib/lib:/tmp/user/1000/build/Ref-Util-XS-0.117-0/blib/arch:/tmp/user/1000/build/Ref-Util-XS-0.117-0/blib/lib
    PERL5OPT = 
    PERL5_CPANPLUS_IS_RUNNING = 150431
    PERL5_CPAN_IS_RUNNING = 150431
    PERL5_CPAN_IS_RUNNING_IN_RECURSION = 150421,150431
    PERLBREW_LIB = 
    PERLBREW_MANPATH = /home/njh/perl5/perlbrew/perls/perl-5.32.0-ld/man
    PERLBREW_PATH = /home/njh/perl5/perlbrew/bin:/home/njh/perl5/perlbrew/perls/perl-5.32.0-ld/bin
    PERLBREW_PERL = perl-5.32.0-ld
    PERLBREW_ROOT = /home/njh/perl5/perlbrew
    PERLBREW_SHELLRC_VERSION = 0.91
    PERLBREW_VERSION = 0.91
    PERL_LOCAL_LIB_ROOT = 
    PERL_MM_USE_DEFAULT = 1
    PERL_USE_UNSAFE_INC = 1
    SHELL = /bin/sh
    TEMP = /tmp/user/1000
    TMPDIR = /tmp/user/1000/testwrapper.150424

Perl special variables (and OS-specific diagnostics, for MSWin32):

    $^X = /home/njh/perl5/perlbrew/perls/perl-5.32.0-ld/bin/perl5.32.0
    $UID/$EUID = 1000 / 1000
    $GID = 1000 4 24 25 29 30 44 46 103 108 115 123 996 1000
    $EGID = 1000 4 24 25 29 30 44 46 103 108 115 123 996 1000

Perl module toolchain versions installed:

    Module              Have    
    ------------------- --------
    CPAN                2.28    
    CPAN::Meta          2.150010
    Cwd                 3.78    
    ExtUtils::CBuilder  0.280234
    ExtUtils::Command   7.64    
    ExtUtils::Install   2.16    
    ExtUtils::MakeMaker 7.64    
    ExtUtils::Manifest  1.72    
    ExtUtils::ParseXS   3.40    
    File::Spec          3.78    
    JSON                4.02    
    JSON::PP            4.04    
    Module::Build       0.4231  
    Module::Signature   n/a     
    Parse::CPAN::Meta   2.150010
    Test2               1.302186
    Test::Harness       3.42    
    Test::More          1.302186
    YAML                1.31    
    YAML::Syck          1.34    
    version             0.9924  


--

Summary of my perl5 (revision 5 version 32 subversion 0) configuration:
   
  Platform:
    osname=linux
    osvers=4.16.0-2-amd64
    archname=x86_64-linux-ld
    uname='linux amelia 4.16.0-2-amd64 #1 smp debian 4.16.16-2 (2018-06-22) x86_64 gnulinux '
    config_args='-de -Dprefix=/home/njh/perl5/perlbrew/perls/perl-5.32.0-ld -Dusedevel -Duselongdouble -Accflags= -Aeval:scriptdir=/home/njh/perl5/perlbrew/perls/perl-5.32.0-ld/bin'
    hint=recommended
    useposix=true
    d_sigaction=define
    useithreads=undef
    usemultiplicity=undef
    use64bitint=define
    use64bitall=define
    uselongdouble=define
    usemymalloc=n
    default_inc_excludes_dot=define
    bincompat5005=undef
  Compiler:
    cc='cc'
    ccflags ='-fwrapv -fno-strict-aliasing -pipe -fstack-protector-strong -I/usr/local/include -D_LARGEFILE_SOURCE -D_FILE_OFFSET_BITS=64 -D_FORTIFY_SOURCE=2'
    optimize='-O2'
    cppflags='-fwrapv -fno-strict-aliasing -pipe -fstack-protector-strong -I/usr/local/include'
    ccversion=''
    gccversion='9.3.0'
    gccosandvers=''
    intsize=4
    longsize=8
    ptrsize=8
    doublesize=8
    byteorder=12345678
    doublekind=3
    d_longlong=define
    longlongsize=8
    d_longdbl=define
    longdblsize=16
    longdblkind=3
    ivtype='long'
    ivsize=8
    nvtype='long double'
    nvsize=16
    Off_t='off_t'
    lseeksize=8
    alignbytes=16
    prototype=define
  Linker and Libraries:
    ld='cc'
    ldflags =' -fstack-protector-strong -L/usr/local/lib'
    libpth=/usr/local/lib /usr/include/x86_64-linux-gnu /usr/lib /lib/x86_64-linux-gnu /lib/../lib /usr/lib/x86_64-linux-gnu /usr/lib/../lib /lib
    libs=-lpthread -lnsl -lgdbm -ldb -ldl -lm -lcrypt -lutil -lc
    perllibs=-lpthread -lnsl -ldl -lm -lcrypt -lutil -lc
    libc=libc-2.30.so
    so=so
    useshrplib=false
    libperl=libperl.a
    gnulibc_version='2.30'
  Dynamic Linking:
    dlsrc=dl_dlopen.xs
    dlext=so
    d_dlsymun=undef
    ccdlflags='-Wl,-E'
    cccdlflags='-fPIC'
    lddlflags='-shared -O2 -L/usr/local/lib -fstack-protector-strong'


Characteristics of this binary (from libperl): 
  Compile-time options:
    HAS_TIMES
    PERLIO_LAYERS
    PERL_COPY_ON_WRITE
    PERL_DONT_CREATE_GVSV
    PERL_MALLOC_WRAP
    PERL_OP_PARENT
    PERL_PRESERVE_IVUV
    PERL_USE_DEVEL
    USE_64_BIT_ALL
    USE_64_BIT_INT
    USE_LARGE_FILES
    USE_LOCALE
    USE_LOCALE_COLLATE
    USE_LOCALE_CTYPE
    USE_LOCALE_NUMERIC
    USE_LOCALE_TIME
    USE_LONG_DOUBLE
    USE_PERLIO
    USE_PERL_ATOF
  Locally applied patches:
    Devel::PatchPerl 1.48
  Built under linux
  Compiled at Jun 22 2020 01:04:41
  %ENV:
    PERL5LIB="/tmp/user/1000/build/File-Find-Rule-0.35-0/blib/arch:/tmp/user/1000/build/File-Find-Rule-0.35-0/blib/lib:/tmp/user/1000/build/Text-Glob-0.11-0/blib/arch:/tmp/user/1000/build/Text-Glob-0.11-0/blib/lib:/tmp/user/1000/build/Number-Compare-0.03-0/blib/arch:/tmp/user/1000/build/Number-Compare-0.03-0/blib/lib:/tmp/user/1000/build/Class-XSAccessor-1.19-0/blib/arch:/tmp/user/1000/build/Class-XSAccessor-1.19-0/blib/lib:/tmp/user/1000/build/Schedule-Activity-0.1.1-0/blib/arch:/tmp/user/1000/build/Schedule-Activity-0.1.1-0/blib/lib:/tmp/user/1000/build/Ref-Util-0.204-0/blib/arch:/tmp/user/1000/build/Ref-Util-0.204-0/blib/lib:/tmp/user/1000/build/Ref-Util-XS-0.117-0/blib/arch:/tmp/user/1000/build/Ref-Util-XS-0.117-0/blib/lib"
    PERL5OPT=""
    PERL5_CPANPLUS_IS_RUNNING="150431"
    PERL5_CPAN_IS_RUNNING="150431"
    PERL5_CPAN_IS_RUNNING_IN_RECURSION="150421,150431"
    PERLBREW_LIB=""
    PERLBREW_MANPATH="/home/njh/perl5/perlbrew/perls/perl-5.32.0-ld/man"
    PERLBREW_PATH="/home/njh/perl5/perlbrew/bin:/home/njh/perl5/perlbrew/perls/perl-5.32.0-ld/bin"
    PERLBREW_PERL="perl-5.32.0-ld"
    PERLBREW_ROOT="/home/njh/perl5/perlbrew"
    PERLBREW_SHELLRC_VERSION="0.91"
    PERLBREW_VERSION="0.91"
    PERL_LOCAL_LIB_ROOT=""
    PERL_MM_USE_DEFAULT="1"
    PERL_USE_UNSAFE_INC="1"
  @INC:
    /tmp/user/1000/build/File-Find-Rule-0.35-0/blib/arch
    /tmp/user/1000/build/File-Find-Rule-0.35-0/blib/lib
    /tmp/user/1000/build/Text-Glob-0.11-0/blib/arch
    /tmp/user/1000/build/Text-Glob-0.11-0/blib/lib
    /tmp/user/1000/build/Number-Compare-0.03-0/blib/arch
    /tmp/user/1000/build/Number-Compare-0.03-0/blib/lib
    /tmp/user/1000/build/Class-XSAccessor-1.19-0/blib/arch
    /tmp/user/1000/build/Class-XSAccessor-1.19-0/blib/lib
    /tmp/user/1000/build/Schedule-Activity-0.1.1-0/blib/arch
    /tmp/user/1000/build/Schedule-Activity-0.1.1-0/blib/lib
    /tmp/user/1000/build/Ref-Util-0.204-0/blib/arch
    /tmp/user/1000/build/Ref-Util-0.204-0/blib/lib
    /tmp/user/1000/build/Ref-Util-XS-0.117-0/blib/arch
    /tmp/user/1000/build/Ref-Util-XS-0.117-0/blib/lib
    /home/njh/perl5/perlbrew/perls/perl-5.32.0-ld/lib/site_perl/5.32.0/x86_64-linux-ld
    /home/njh/perl5/perlbrew/perls/perl-5.32.0-ld/lib/site_perl/5.32.0
    /home/njh/perl5/perlbrew/perls/perl-5.32.0-ld/lib/5.32.0/x86_64-linux-ld
    /home/njh/perl5/perlbrew/perls/perl-5.32.0-ld/lib/5.32.0
    .