MARC-Convert-Wikidata-Object v0.13 Perl 5 v5.14.4 x86_64-linux-thread-multi-ld

Status
Pass
From
Andreas J. König (ANDK)
Dist
MARC-Convert-Wikidata-Object v0.13
Platform
Perl 5 v5.14.4 x86_64-linux-thread-multi-ld
Date
2025-04-11 10:49:41
ID
ac48775a-16c2-11f0-8a32-c06b9f4a3a68
This distribution has been tested as part of the CPAN Testers
project, supporting the Perl programming language.  See
http://wiki.cpantesters.org/ for more information or email
questions to cpan-testers-discuss@perl.org


--
Dear Michal Josef Spacek,

This is a computer-generated report for MARC-Convert-Wikidata-Object-0.13
on perl 5.14.4, created by CPAN-Reporter-1.2020.

Thank you for uploading your work to CPAN.  Congratulations!
All tests were successful.

Sections of this report:

    * Tester comments
    * Program output
    * Prerequisites
    * Environment and other context

------------------------------
TESTER COMMENTS
------------------------------

Additional comments from tester:

this report is from an automated smoke testing program
and was not reviewed by a human for accuracy

------------------------------
PROGRAM OUTPUT
------------------------------

Output from '/usr/bin/make test':

PERL_DL_NONLAZY=1 "/home/sand/src/perl/repoperls/installed-perls/host/k93msid/v5.14.4/ac75/bin/perl" "-MExtUtils::Command::MM" "-MTest::Harness" "-e" "undef *Test::Harness::Switches; test_harness(0, 'inc', 'blib/lib', 'blib/arch')" t/MARC-Convert-Wikidata-Object-ExternalId/*.t t/MARC-Convert-Wikidata-Object-ISBN/*.t t/MARC-Convert-Wikidata-Object-Kramerius/*.t t/MARC-Convert-Wikidata-Object-People/*.t t/MARC-Convert-Wikidata-Object-PublicationDate/*.t t/MARC-Convert-Wikidata-Object-Publisher/*.t t/MARC-Convert-Wikidata-Object-Series/*.t t/MARC-Convert-Wikidata-Object-Work/*.t t/MARC-Convert-Wikidata-Object/*.t
t/MARC-Convert-Wikidata-Object-ExternalId/01-use.t .......................... ok
t/MARC-Convert-Wikidata-Object-ExternalId/02-version.t ...................... ok
t/MARC-Convert-Wikidata-Object-ExternalId/03-new.t .......................... ok
t/MARC-Convert-Wikidata-Object-ExternalId/04-deprecated.t ................... ok
t/MARC-Convert-Wikidata-Object-ExternalId/05-name.t ......................... ok
t/MARC-Convert-Wikidata-Object-ExternalId/06-value.t ........................ ok
t/MARC-Convert-Wikidata-Object-ISBN/01-use.t ................................ ok
t/MARC-Convert-Wikidata-Object-ISBN/02-version.t ............................ ok
t/MARC-Convert-Wikidata-Object-ISBN/03-new.t ................................ ok
t/MARC-Convert-Wikidata-Object-ISBN/04-collective.t ......................... ok
t/MARC-Convert-Wikidata-Object-ISBN/05-cover.t .............................. ok
t/MARC-Convert-Wikidata-Object-ISBN/06-isbn.t ............................... ok
t/MARC-Convert-Wikidata-Object-ISBN/07-type.t ............................... ok
t/MARC-Convert-Wikidata-Object-ISBN/08-valid.t .............................. ok
t/MARC-Convert-Wikidata-Object-Kramerius/01-use.t ........................... ok
t/MARC-Convert-Wikidata-Object-Kramerius/02-version.t ....................... ok
t/MARC-Convert-Wikidata-Object-Kramerius/03-new.t ........................... ok
t/MARC-Convert-Wikidata-Object-Kramerius/04-kramerius_id.t .................. ok
t/MARC-Convert-Wikidata-Object-Kramerius/05-object_id.t ..................... ok
t/MARC-Convert-Wikidata-Object-Kramerius/06-url.t ........................... ok
t/MARC-Convert-Wikidata-Object-People/01-use.t .............................. ok
t/MARC-Convert-Wikidata-Object-People/02-version.t .......................... ok
t/MARC-Convert-Wikidata-Object-People/03-new.t .............................. ok
t/MARC-Convert-Wikidata-Object-People/04-date_of_birth.t .................... ok
t/MARC-Convert-Wikidata-Object-People/05-date_of_death.t .................... ok
t/MARC-Convert-Wikidata-Object-People/06-external_ids.t ..................... ok
t/MARC-Convert-Wikidata-Object-People/07-full_name.t ........................ ok
t/MARC-Convert-Wikidata-Object-People/08-name.t ............................. ok
t/MARC-Convert-Wikidata-Object-People/09-surname.t .......................... ok
t/MARC-Convert-Wikidata-Object-People/10-work_period_start.t ................ ok
t/MARC-Convert-Wikidata-Object-People/11-work_period_end.t .................. ok
t/MARC-Convert-Wikidata-Object-PublicationDate/01-use.t ..................... ok
t/MARC-Convert-Wikidata-Object-PublicationDate/02-version.t ................. ok
t/MARC-Convert-Wikidata-Object-PublicationDate/03-new.t ..................... ok
t/MARC-Convert-Wikidata-Object-PublicationDate/04-copyright.t ............... ok
t/MARC-Convert-Wikidata-Object-PublicationDate/05-date.t .................... ok
t/MARC-Convert-Wikidata-Object-PublicationDate/06-earliest_date.t ........... ok
t/MARC-Convert-Wikidata-Object-PublicationDate/07-end_time.t ................ ok
t/MARC-Convert-Wikidata-Object-PublicationDate/08-latest_date.t ............. ok
t/MARC-Convert-Wikidata-Object-PublicationDate/09-precision.t ............... ok
t/MARC-Convert-Wikidata-Object-PublicationDate/10-sourcing_circumstances.t .. ok
t/MARC-Convert-Wikidata-Object-PublicationDate/11-start_time.t .............. ok
t/MARC-Convert-Wikidata-Object-Publisher/01-use.t ........................... ok
t/MARC-Convert-Wikidata-Object-Publisher/02-version.t ....................... ok
t/MARC-Convert-Wikidata-Object-Publisher/03-new.t ........................... ok
t/MARC-Convert-Wikidata-Object-Publisher/04-external_ids.t .................. ok
t/MARC-Convert-Wikidata-Object-Publisher/05-id.t ............................ ok
t/MARC-Convert-Wikidata-Object-Publisher/06-name.t .......................... ok
t/MARC-Convert-Wikidata-Object-Publisher/07-place.t ......................... ok
t/MARC-Convert-Wikidata-Object-Series/01-use.t .............................. ok
t/MARC-Convert-Wikidata-Object-Series/02-version.t .......................... ok
t/MARC-Convert-Wikidata-Object-Series/03-new.t .............................. ok
t/MARC-Convert-Wikidata-Object-Series/04-issn.t ............................. ok
t/MARC-Convert-Wikidata-Object-Series/05-name.t ............................. ok
t/MARC-Convert-Wikidata-Object-Series/06-publisher.t ........................ ok
t/MARC-Convert-Wikidata-Object-Series/07-series_ordinal.t ................... ok
t/MARC-Convert-Wikidata-Object-Work/01-use.t ................................ ok
t/MARC-Convert-Wikidata-Object-Work/02-version.t ............................ ok
t/MARC-Convert-Wikidata-Object-Work/03-new.t ................................ ok
t/MARC-Convert-Wikidata-Object/01-use.t ..................................... ok
t/MARC-Convert-Wikidata-Object/02-version.t ................................. ok
t/MARC-Convert-Wikidata-Object/03-new.t ..................................... ok
t/MARC-Convert-Wikidata-Object/04-authors.t ................................. ok
t/MARC-Convert-Wikidata-Object/05-authors_of_afterword.t .................... ok
t/MARC-Convert-Wikidata-Object/06-authors_of_introduction.t ................. ok
t/MARC-Convert-Wikidata-Object/07-compilers.t ............................... ok
t/MARC-Convert-Wikidata-Object/08-cover.t ................................... ok
t/MARC-Convert-Wikidata-Object/09-covers.t .................................. ok
t/MARC-Convert-Wikidata-Object/10-cycles.t .................................. ok
t/MARC-Convert-Wikidata-Object/11-directors.t ............................... ok
t/MARC-Convert-Wikidata-Object/12-dml.t ..................................... ok
t/MARC-Convert-Wikidata-Object/12-end_time.t ................................ ok
t/MARC-Convert-Wikidata-Object/13-edition_number.t .......................... ok
t/MARC-Convert-Wikidata-Object/14-editors.t ................................. ok
t/MARC-Convert-Wikidata-Object/15-external_ids.t ............................ ok
t/MARC-Convert-Wikidata-Object/16-full_name.t ............................... ok
t/MARC-Convert-Wikidata-Object/17-illustrators.t ............................ ok
t/MARC-Convert-Wikidata-Object/18-isbns.t ................................... ok
t/MARC-Convert-Wikidata-Object/19-issn.t .................................... ok
t/MARC-Convert-Wikidata-Object/20-krameriuses.t ............................. ok
t/MARC-Convert-Wikidata-Object/21-languages.t ............................... ok
t/MARC-Convert-Wikidata-Object/22-narrators.t ............................... ok
t/MARC-Convert-Wikidata-Object/23-number_of_pages.t ......................... ok
t/MARC-Convert-Wikidata-Object/24-photographers.t ........................... ok
t/MARC-Convert-Wikidata-Object/25-publication_date.t ........................ ok
t/MARC-Convert-Wikidata-Object/26-publishers.t .............................. ok
t/MARC-Convert-Wikidata-Object/27-series.t .................................. ok
t/MARC-Convert-Wikidata-Object/28-start_time.t .............................. ok
t/MARC-Convert-Wikidata-Object/29-subtitles.t ............................... ok
t/MARC-Convert-Wikidata-Object/30-title.t ................................... ok
t/MARC-Convert-Wikidata-Object/31-translators.t ............................. ok
All tests successful.
Files=91, Tests=308, 20 wallclock secs ( 0.24 usr  0.09 sys + 11.25 cusr  2.33 csys = 13.91 CPU)
Result: PASS

------------------------------
PREREQUISITES
------------------------------

Prerequisite modules loaded:

requires:

    Module              Need     Have    
    ------------------- -------- --------
    Business::ISBN      0        3.009   
    Error::Pure         0        0.31    
    List::MoreUtils     0        0.430   
    List::Util          0        1.68    
    Mo                  0        0.40    
    Mo::utils           0.26     0.29    
    Mo::utils::Date     0.04     0.04    
    perl                5.006002 5.014004
    Readonly            0        2.05    

build_requires:

    Module              Need     Have    
    ------------------- -------- --------
    ExtUtils::MakeMaker 6.59     7.70    
    Test::More          0        1.302195
    Test::NoWarnings    0        1.06    
    Unicode::UTF8       0        0.62    

configure_requires:

    Module              Need     Have    
    ------------------- -------- --------
    ExtUtils::MakeMaker 6.59     7.70    


------------------------------
ENVIRONMENT AND OTHER CONTEXT
------------------------------

Environment variables:

    AUTOMATED_TESTING = 1
    LANG = en_US.UTF-8
    LANGUAGE = en_US:en
    PATH = /home/sand/bin:/usr/local/bin:/usr/bin:/bin:/usr/games:/usr/local/perl/bin:/usr/X11/bin:/sbin:/usr/sbin
    PERL5LIB = 
    PERL5OPT = 
    PERL5_CPANPLUS_IS_RUNNING = 2202485
    PERL5_CPAN_IS_RUNNING = 2202485
    PERL_CANARY_STABILITY_NOPROMPT = 1
    PERL_MM_USE_DEFAULT = 1
    PERL_USE_UNSAFE_INC = 1
    SHELL = /usr/bin/zsh
    TERM = screen

Perl special variables (and OS-specific diagnostics, for MSWin32):

    $^X = /home/sand/src/perl/repoperls/installed-perls/host/k93msid/v5.14.4/ac75/bin/perl
    $UID/$EUID = 1005 / 1005
    $GID = 1005 1005
    $EGID = 1005 1005

Perl module toolchain versions installed:

    Module              Have    
    ------------------- --------
    CPAN                2.38    
    CPAN::Meta          2.150010
    Cwd                 3.75    
    ExtUtils::CBuilder  0.280236
    ExtUtils::Command   7.70    
    ExtUtils::Install   2.22    
    ExtUtils::MakeMaker 7.70    
    ExtUtils::Manifest  1.70    
    ExtUtils::ParseXS   3.51    
    File::Spec          3.75    
    JSON                4.10    
    JSON::PP            4.16    
    Module::Build       0.4234  
    Module::Signature   0.88    
    Parse::CPAN::Meta   2.150010
    Test2               1.302195
    Test::Harness       3.49_01 
    Test::More          1.302195
    YAML                1.30    
    YAML::Syck          1.34    
    version             0.9929  


--

Summary of my perl5 (revision 5 version 14 subversion 4) configuration:
  Derived from: 26c5c13a4ece9084f310610bb17fb2f24c72a73e
  Platform:
    osname=linux, osvers=6.1.0-7-amd64, archname=x86_64-linux-thread-multi-ld
    uname='linux k93msid 6.1.0-7-amd64 #1 smp preempt_dynamic debian 6.1.20-1 (2023-03-19) x86_64 gnulinux '
    config_args='-Dprefix=/home/sand/src/perl/repoperls/installed-perls/host/k93msid/v5.14.4/ac75 -Dmyhostname=k93msid -Dinstallusrbinperl=n -Uversiononly -Dusedevel -des -Ui_db -Dlibswanted=cl pthread socket inet nsl gdbm dbm malloc dl ld sun m crypt sec util c cposix posix ucb BSD gdbm_compat -Duseithreads -Duselongdouble -DEBUGGING=both'
    hint=recommended, useposix=true, d_sigaction=define
    useithreads=define, usemultiplicity=define
    useperlio=define, d_sfio=undef, uselargefiles=define, usesocks=undef
    use64bitint=define, use64bitall=define, uselongdouble=define
    usemymalloc=n, bincompat5005=undef
  Compiler:
    cc='cc', ccflags ='-D_REENTRANT -D_GNU_SOURCE -fwrapv -DDEBUGGING -fno-strict-aliasing -pipe -fstack-protector -I/usr/local/include -D_LARGEFILE_SOURCE -D_FILE_OFFSET_BITS=64',
    optimize='-O2 -g',
    cppflags='-D_REENTRANT -D_GNU_SOURCE -fwrapv -DDEBUGGING -fno-strict-aliasing -pipe -fstack-protector -I/usr/local/include'
    ccversion='', gccversion='12.2.0', gccosandvers=''
    intsize=4, longsize=8, ptrsize=8, doublesize=8, byteorder=12345678
    d_longlong=define, longlongsize=8, d_longdbl=define, longdblsize=16
    ivtype='long', ivsize=8, nvtype='long double', nvsize=16, Off_t='off_t', lseeksize=8
    alignbytes=16, prototype=define
  Linker and Libraries:
    ld='cc', ldflags =' -fstack-protector -L/usr/local/lib'
    libpth=/usr/local/lib /lib/x86_64-linux-gnu /lib/../lib /usr/lib/x86_64-linux-gnu /usr/lib/../lib /lib /usr/lib /lib64 /usr/lib64
    libs=-lpthread -lnsl -ldl -lm -lcrypt -lutil -lc
    perllibs=-lpthread -lnsl -ldl -lm -lcrypt -lutil -lc
    libc=/lib/x86_64-linux-gnu/libc.so.6, so=so, useshrplib=false, libperl=libperl.a
    gnulibc_version='2.36'
  Dynamic Linking:
    dlsrc=dl_dlopen.xs, dlext=so, d_dlsymun=undef, ccdlflags='-Wl,-E'
    cccdlflags='-fPIC', lddlflags='-shared -O2 -g -L/usr/local/lib -fstack-protector'


Characteristics of this binary (from libperl): 
  Compile-time options: DEBUGGING MULTIPLICITY PERL_DONT_CREATE_GVSV
                        PERL_IMPLICIT_CONTEXT PERL_MALLOC_WRAP
                        PERL_PRESERVE_IVUV PERL_TRACK_MEMPOOL PERL_USE_DEVEL
                        USE_64_BIT_ALL USE_64_BIT_INT USE_ITHREADS
                        USE_LARGE_FILES USE_LONG_DOUBLE USE_PERLIO
                        USE_PERL_ATOF USE_REENTRANT_API
  Locally applied patches:
	uncommitted-changes
  Built under linux
  Compiled at Jun 17 2023 08:27:44
  %ENV:
    PERL5LIB=""
    PERL5OPT=""
    PERL5_CPANPLUS_IS_RUNNING="2202485"
    PERL5_CPAN_IS_RUNNING="2202485"
    PERL_CANARY_STABILITY_NOPROMPT="1"
    PERL_MM_USE_DEFAULT="1"
    PERL_USE_UNSAFE_INC="1"
  @INC:
    /home/sand/src/perl/repoperls/installed-perls/host/k93msid/v5.14.4/ac75/lib/site_perl/5.14.4/x86_64-linux-thread-multi-ld
    /home/sand/src/perl/repoperls/installed-perls/host/k93msid/v5.14.4/ac75/lib/site_perl/5.14.4
    /home/sand/src/perl/repoperls/installed-perls/host/k93msid/v5.14.4/ac75/lib/5.14.4/x86_64-linux-thread-multi-ld
    /home/sand/src/perl/repoperls/installed-perls/host/k93msid/v5.14.4/ac75/lib/5.14.4
    .