NetSDS-Util v1.045 Perl 5 v5.14.2 x86_64-linux-thread-multi-ld
- Status
- Pass
- From
- Andreas J. König (ANDK)
- Dist
-
NetSDS-Util v1.045
- Platform
- Perl 5 v5.14.2 x86_64-linux-thread-multi-ld
- Date
- 2017-11-16 02:34:29
- ID
- ac0ac6ee-ca76-11e7-95a9-2efaf9dfd12c
This distribution has been tested as part of the CPAN Testers
project, supporting the Perl programming language. See
http://wiki.cpantesters.org/ for more information or email
questions to cpan-testers-discuss@perl.org
--
Dear Michael Bochkaryov,
This is a computer-generated report for NetSDS-Util-1.045
on perl 5.14.2, created by CPAN-Reporter-1.2018.
Thank you for uploading your work to CPAN. Congratulations!
All tests were successful.
Sections of this report:
* Tester comments
* Program output
* Prerequisites
* Environment and other context
------------------------------
TESTER COMMENTS
------------------------------
Additional comments from tester:
this report is from an automated smoke testing program
and was not reviewed by a human for accuracy
------------------------------
PROGRAM OUTPUT
------------------------------
Output from './Build test':
t/01_load.t .......... ok
t/02_pod.t ........... ok
t/03_pod_coverage.t .. ok
All tests successful.
Files=3, Tests=30, 1 wallclock secs ( 0.03 usr 0.02 sys + 0.59 cusr 0.17 csys = 0.81 CPU)
Result: PASS
------------------------------
PREREQUISITES
------------------------------
Prerequisite modules loaded:
requires:
Module Need Have
------------------- ----- --------
Data::UUID 1.000 1.221
Date::Format 0 2.24
Date::Parse 0 2.30
Encode 2.000 2.93
File::Copy 0 2.21
File::MMagic 1.000 1.30
File::Path 0 2.15
File::Spec 0 3.62
File::Temp 0 0.2304
Getopt::Long 0 2.5
HTTP::Date 0 6.02
IO::File 0 1.15
MIME::Base64 0 3.15
perl 5.008 5.014002
Pod::Usage 0 1.69
POSIX 0 1.24
Scalar::Util 0 1.49
Spreadsheet::Read 0.30 0.75
Time::HiRes 0 1.9746
Time::Local 0 1.2000
URI 1.00 1.72
URI::Escape 1.00 3.31
version 0 0.9918
build_requires:
Module Need Have
------------------- ----- --------
Module::Build 0 0.4224
Test::More 0 1.302106
Test::Pod 1.20 1.51
Test::Pod::Coverage 1.08 1.10
configure_requires:
Module Need Have
------------------- ----- --------
Module::Build 0.39 0.4224
------------------------------
ENVIRONMENT AND OTHER CONTEXT
------------------------------
Environment variables:
AUTOMATED_TESTING = 1
LANG = en_US.UTF-8
PATH = /home/sand/bin:/usr/local/bin:/usr/bin:/bin:/usr/games:/usr/local/perl/bin:/usr/X11/bin:/sbin:/usr/sbin
PERL5LIB = /tmp/loop_over_bdir-4694-MIdMrb/Spreadsheet-Read-0.75-0/blib/arch:/tmp/loop_over_bdir-4694-MIdMrb/Spreadsheet-Read-0.75-0/blib/lib:/tmp/loop_over_bdir-4694-MIdMrb/File-MMagic-1.30-0/blib/arch:/tmp/loop_over_bdir-4694-MIdMrb/File-MMagic-1.30-0/blib/lib:/tmp/loop_over_bdir-4694-MIdMrb/HTML-Template-Pro-0.9510-0/blib/arch:/tmp/loop_over_bdir-4694-MIdMrb/HTML-Template-Pro-0.9510-0/blib/lib:/tmp/loop_over_bdir-4694-MIdMrb/FCGI-0.78-0/blib/arch:/tmp/loop_over_bdir-4694-MIdMrb/FCGI-0.78-0/blib/lib:/tmp/loop_over_bdir-4694-MIdMrb/Data-Structure-Util-0.16-0/blib/arch:/tmp/loop_over_bdir-4694-MIdMrb/Data-Structure-Util-0.16-0/blib/lib:/tmp/loop_over_bdir-4694-MIdMrb/Class-Accessor-Class-0.503-0/blib/arch:/tmp/loop_over_bdir-4694-MIdMrb/Class-Accessor-Class-0.503-0/blib/lib
PERL5OPT =
PERL5_CPANPLUS_IS_RUNNING = 4695
PERL5_CPAN_IS_RUNNING = 4695
PERL5_CPAN_IS_RUNNING_IN_RECURSION = 20021,4695
PERL_CANARY_STABILITY_NOPROMPT = 1
PERL_MM_USE_DEFAULT = 1
PERL_USE_UNSAFE_INC = 1
SHELL = /usr/bin/zsh
TERM = screen
Perl special variables (and OS-specific diagnostics, for MSWin32):
$^X = /home/sand/src/perl/repoperls/installed-perls/host/k93msid/v5.14.2/a1a1/bin/perl
$UID/$EUID = 1005 / 1005
$GID = 1005 1005
$EGID = 1005 1005
Perl module toolchain versions installed:
Module Have
------------------- --------
CPAN 2.18
CPAN::Meta 2.150010
Cwd 3.62
ExtUtils::CBuilder 0.280226
ExtUtils::Command 7.31_04
ExtUtils::Install 2.06
ExtUtils::MakeMaker 7.31_04
ExtUtils::Manifest 1.70
ExtUtils::ParseXS 3.35
File::Spec 3.62
JSON 2.94
JSON::PP 2.94
Module::Build 0.4224
Module::Signature 0.81
Parse::CPAN::Meta 2.150010
Test::Harness 3.39
Test::More 1.302106
YAML 1.24
YAML::Syck 1.30
version 0.9918
--
Summary of my perl5 (revision 5 version 14 subversion 2) configuration:
Derived from: dc281e6088d189558b79a5121119b7196c8b3db0
Platform:
osname=linux, osvers=4.12.0-2-amd64, archname=x86_64-linux-thread-multi-ld
uname='linux k93msid 4.12.0-2-amd64 #1 smp debian 4.12.13-1 (2017-09-19) x86_64 gnulinux '
config_args='-Dprefix=/home/sand/src/perl/repoperls/installed-perls/host/k93msid/v5.14.2/a1a1 -Dmyhostname=k93msid -Dinstallusrbinperl=n -Uversiononly -Dusedevel -des -Ui_db -Dlibswanted=cl pthread socket inet nsl gdbm dbm malloc dl ld sun m crypt sec util c cposix posix ucb BSD gdbm_compat -Duseithreads -Duselongdouble -DDEBUGGING=both'
hint=recommended, useposix=true, d_sigaction=define
useithreads=define, usemultiplicity=define
useperlio=define, d_sfio=undef, uselargefiles=define, usesocks=undef
use64bitint=define, use64bitall=define, uselongdouble=define
usemymalloc=n, bincompat5005=undef
Compiler:
cc='cc', ccflags ='-D_REENTRANT -D_GNU_SOURCE -DDEBUGGING -fno-strict-aliasing -pipe -fstack-protector -I/usr/local/include -D_LARGEFILE_SOURCE -D_FILE_OFFSET_BITS=64',
optimize='-O2 -g',
cppflags='-D_REENTRANT -D_GNU_SOURCE -DDEBUGGING -fno-strict-aliasing -pipe -fstack-protector -I/usr/local/include'
ccversion='', gccversion='7.2.0', gccosandvers=''
intsize=4, longsize=8, ptrsize=8, doublesize=8, byteorder=12345678
d_longlong=define, longlongsize=8, d_longdbl=define, longdblsize=16
ivtype='long', ivsize=8, nvtype='long double', nvsize=16, Off_t='off_t', lseeksize=8
alignbytes=16, prototype=define
Linker and Libraries:
ld='cc', ldflags =' -fstack-protector -L/usr/local/lib'
libpth=/usr/local/lib /lib/x86_64-linux-gnu /lib/../lib /usr/lib/x86_64-linux-gnu /usr/lib/../lib /lib /usr/lib
libs=-lpthread -lnsl -ldl -lm -lcrypt -lutil -lc
perllibs=-lpthread -lnsl -ldl -lm -lcrypt -lutil -lc
libc=libc-2.24.so, so=so, useshrplib=false, libperl=libperl.a
gnulibc_version='2.24'
Dynamic Linking:
dlsrc=dl_dlopen.xs, dlext=so, d_dlsymun=undef, ccdlflags='-Wl,-E'
cccdlflags='-fPIC', lddlflags='-shared -O2 -g -L/usr/local/lib -fstack-protector'
Characteristics of this binary (from libperl):
Compile-time options: DEBUGGING MULTIPLICITY PERL_DONT_CREATE_GVSV
PERL_IMPLICIT_CONTEXT PERL_MALLOC_WRAP
PERL_PRESERVE_IVUV PERL_TRACK_MEMPOOL PERL_USE_DEVEL
USE_64_BIT_ALL USE_64_BIT_INT USE_ITHREADS
USE_LARGE_FILES USE_LONG_DOUBLE USE_PERLIO
USE_PERL_ATOF USE_REENTRANT_API
Locally applied patches:
uncommitted-changes
Built under linux
Compiled at Oct 4 2017 06:56:01
%ENV:
PERL5LIB="/tmp/loop_over_bdir-4694-MIdMrb/Spreadsheet-Read-0.75-0/blib/arch:/tmp/loop_over_bdir-4694-MIdMrb/Spreadsheet-Read-0.75-0/blib/lib:/tmp/loop_over_bdir-4694-MIdMrb/File-MMagic-1.30-0/blib/arch:/tmp/loop_over_bdir-4694-MIdMrb/File-MMagic-1.30-0/blib/lib:/tmp/loop_over_bdir-4694-MIdMrb/HTML-Template-Pro-0.9510-0/blib/arch:/tmp/loop_over_bdir-4694-MIdMrb/HTML-Template-Pro-0.9510-0/blib/lib:/tmp/loop_over_bdir-4694-MIdMrb/FCGI-0.78-0/blib/arch:/tmp/loop_over_bdir-4694-MIdMrb/FCGI-0.78-0/blib/lib:/tmp/loop_over_bdir-4694-MIdMrb/Data-Structure-Util-0.16-0/blib/arch:/tmp/loop_over_bdir-4694-MIdMrb/Data-Structure-Util-0.16-0/blib/lib:/tmp/loop_over_bdir-4694-MIdMrb/Class-Accessor-Class-0.503-0/blib/arch:/tmp/loop_over_bdir-4694-MIdMrb/Class-Accessor-Class-0.503-0/blib/lib"
PERL5OPT=""
PERL5_CPANPLUS_IS_RUNNING="4695"
PERL5_CPAN_IS_RUNNING="4695"
PERL5_CPAN_IS_RUNNING_IN_RECURSION="20021,4695"
PERL_CANARY_STABILITY_NOPROMPT="1"
PERL_MM_USE_DEFAULT="1"
PERL_USE_UNSAFE_INC="1"
@INC:
/tmp/loop_over_bdir-4694-MIdMrb/Spreadsheet-Read-0.75-0/blib/arch
/tmp/loop_over_bdir-4694-MIdMrb/Spreadsheet-Read-0.75-0/blib/lib
/tmp/loop_over_bdir-4694-MIdMrb/File-MMagic-1.30-0/blib/arch
/tmp/loop_over_bdir-4694-MIdMrb/File-MMagic-1.30-0/blib/lib
/tmp/loop_over_bdir-4694-MIdMrb/HTML-Template-Pro-0.9510-0/blib/arch
/tmp/loop_over_bdir-4694-MIdMrb/HTML-Template-Pro-0.9510-0/blib/lib
/tmp/loop_over_bdir-4694-MIdMrb/FCGI-0.78-0/blib/arch
/tmp/loop_over_bdir-4694-MIdMrb/FCGI-0.78-0/blib/lib
/tmp/loop_over_bdir-4694-MIdMrb/Data-Structure-Util-0.16-0/blib/arch
/tmp/loop_over_bdir-4694-MIdMrb/Data-Structure-Util-0.16-0/blib/lib
/tmp/loop_over_bdir-4694-MIdMrb/Class-Accessor-Class-0.503-0/blib/arch
/tmp/loop_over_bdir-4694-MIdMrb/Class-Accessor-Class-0.503-0/blib/lib
/home/sand/src/perl/repoperls/installed-perls/host/k93msid/v5.14.2/a1a1/lib/site_perl/5.14.2/x86_64-linux-thread-multi-ld
/home/sand/src/perl/repoperls/installed-perls/host/k93msid/v5.14.2/a1a1/lib/site_perl/5.14.2
/home/sand/src/perl/repoperls/installed-perls/host/k93msid/v5.14.2/a1a1/lib/5.14.2/x86_64-linux-thread-multi-ld
/home/sand/src/perl/repoperls/installed-perls/host/k93msid/v5.14.2/a1a1/lib/5.14.2
.