Web-Components v0.10.1 Perl 5 v5.27.11 MSWin32-x86-multi-thread-64int
- Status
- Pass
- From
- Alexandr Ciornii (CHORNY)
- Dist
-
Web-Components v0.10.1
- Platform
- Perl 5 v5.27.11 MSWin32-x86-multi-thread-64int
- Date
- 2018-05-12 23:03:22
- ID
- ac09b385-6c1c-1014-a36a-d1753d6665f9
This distribution has been tested as part of the CPAN Testers
project, supporting the Perl programming language. See
http://wiki.cpantesters.org/ for more information or email
questions to cpan-testers-discuss@perl.org
--
Dear Peter Flanigan,
This is a computer-generated report for Web-Components-0.10.1
on perl 5.27.11, created by CPAN-Reporter-1.2018.
Thank you for uploading your work to CPAN. Congratulations!
All tests were successful.
Sections of this report:
* Tester comments
* Program output
* Prerequisites
* Environment and other context
------------------------------
TESTER COMMENTS
------------------------------
Additional comments from tester:
this report is from an automated smoke testing program
and was not reviewed by a human for accuracy
------------------------------
PROGRAM OUTPUT
------------------------------
Output from 'C:\Strawberry2711\perl\bin\perl.exe ./Build test':
OS: mswin32, Host: a-cd59806361b64
=== Environment variables ===
$AUTHOR_TESTING undef
$AUTOMATED_TESTING 1
$EXTENDED_TESTING undef
$NONINTERACTIVE_TESTING undef
$PERL_CPAN_REPORTER_CONFIG undef
$PERL_CR_SMOKER_CURRENT Web-Components-0.10.1
$PERL5_CPAN_IS_RUNNING 296
$PERL5_CPANPLUS_IS_VERSION undef
$TEST_CRITIC undef
$TEST_SPELLING undef
Versions for all modules listed in MYMETA.json (including optional ones):
=== Configure Requires ===
Module Want Have
------------- ------ ------
Module::Build 0.4004 0.4224
version 0.88 0.9924
=== Build Requires ===
Module Want Have
------------- ------ ------
Module::Build 0.4004 0.4224
version 0.88 0.9924
=== Test Requires ===
Module Want Have
---------------- ------- --------
Class::Null any 2.110730
Class::Usul v0.65.0 0.84.1
File::Spec any 3.74
Module::Build 0.4004 0.4224
Module::Metadata any 1.000033
Sys::Hostname any 1.22
Test::Requires 0.06 0.10
version 0.88 0.9924
=== Test Recommends ===
Module Want Have
---------- -------- --------
CPAN::Meta 2.120900 2.150010
=== Runtime Requires ===
Module Want Have
---------------------- -------- --------
Exporter::Tiny 0.042 1.000000
HTTP::Message 6.06 6.16
Module::Pluggable 5.1 5.2
Moo 2.000001 2.003004
Try::Tiny 0.22 0.30
Unexpected v0.39.0 1.0.1
Web::ComposableRequest v0.6.0 0.20.1
Web::Simple 0.030 0.033
namespace::autoclean 0.26 0.28
strictures 2 2.000003
t\00report-metadata.t .. ok
t\02pod.t .............. skipped: POD test only for developers
t\03podcoverage.t ...... skipped: POD coverage test only for developers
t\05kwalitee.t ......... skipped: Kwalitee test only for developers
t\06yaml.t ............. skipped: YAML test only for developers
t\07podspelling.t ...... skipped: POD spelling test only for developers
t\10test_script.t ...... ok
All tests successful.
Files=7, Tests=18, 6 wallclock secs ( 0.05 usr + 0.06 sys = 0.11 CPU)
Result: PASS
------------------------------
PREREQUISITES
------------------------------
Prerequisite modules loaded:
requires:
Module Need Have
---------------------- -------- --------
Exporter::Tiny 0.042 1.000000
HTTP::Message 6.06 6.16
Module::Pluggable 5.1 5.2
Moo 2.000001 2.003004
namespace::autoclean 0.26 0.28
perl 5.010001 5.027011
strictures 2 2.000003
Try::Tiny 0.22 0.30
Unexpected v0.39.0 1.0.1
Web::ComposableRequest v0.6.0 0.20.1
Web::Simple 0.030 0.033
build_requires:
Module Need Have
---------------------- -------- --------
Class::Null 0 2.110730
Class::Usul v0.65.0 0.84.1
File::Spec 0 3.74
Module::Build 0.4004 0.4224
Module::Metadata 0 1.000033
Sys::Hostname 0 1.22
Test::Requires 0.06 0.10
version 0.88 0.9924
configure_requires:
Module Need Have
---------------------- -------- --------
Module::Build 0.4004 0.4224
version 0.88 0.9924
------------------------------
ENVIRONMENT AND OTHER CONTEXT
------------------------------
Environment variables:
AUTOMATED_TESTING = 1
COMSPEC = C:\WINDOWS\system32\cmd.exe
NUMBER_OF_PROCESSORS = 1
PATH = C:\WINDOWS\system32;C:\WINDOWS;C:\WINDOWS\System32\Wbem;C:\Git\cmd;C:\Strawberry2711\c\bin;C:\Strawberry2711\perl\site\bin;C:\Strawberry2711\perl\bin
PERL5LIB = C:\STRAWB~1\cpan\build\Web-ComposableRequest-0.20.1-0/blib/arch;C:\STRAWB~1\cpan\build\Web-ComposableRequest-0.20.1-0/blib/lib;C:\STRAWB~1\cpan\build\Class-Usul-0.84.1-0/blib/arch;C:\STRAWB~1\cpan\build\Class-Usul-0.84.1-0/blib/lib;C:\STRAWB~1\cpan\build\File-Gettext-0.33.1-0/blib/arch;C:\STRAWB~1\cpan\build\File-Gettext-0.33.1-0/blib/lib
PERL5OPT =
PERL5_CPANPLUS_IS_RUNNING = 296
PERL5_CPAN_IS_RUNNING = 296
PERL5_CPAN_IS_RUNNING_IN_RECURSION = 1304,296
PERL_CR_SMOKER_CURRENT = Web-Components-0.10.1
PERL_CR_SMOKER_RUNONCE = 1
PERL_EXTUTILS_AUTOINSTALL = --defaultdeps
PERL_HASH_SEED = 0x11111111
PERL_MM_USE_DEFAULT = 1
PERL_USE_UNSAFE_INC = 1
PROCESSOR_IDENTIFIER = x86 Family 16 Model 5 Stepping 3, AuthenticAMD
TEMP = C:\DOCUME~1\a\LOCALS~1\Temp
Perl special variables (and OS-specific diagnostics, for MSWin32):
$^X = C:\Strawberry2711\perl\bin\perl.exe
$UID/$EUID = 0 / 0
$GID = 0
$EGID = 0
Win32::GetOSName = WinXP/.Net
Win32::GetOSVersion = Service Pack 3, 5, 1, 2600, 2, 3, 0, 256, 1
Win32::FsType = NTFS
Win32::IsAdminUser = 1
Perl module toolchain versions installed:
Module Have
------------------- --------
CPAN 2.20
CPAN::Meta 2.150010
Cwd 3.74
ExtUtils::CBuilder 0.280230
ExtUtils::Command 7.34
ExtUtils::Install 2.14
ExtUtils::MakeMaker 7.34
ExtUtils::Manifest 1.70
ExtUtils::ParseXS 3.39
File::Spec 3.74
JSON 2.97001
JSON::PP 2.97001
Module::Build 0.4224
Module::Signature 0.81
Parse::CPAN::Meta 2.150010
Test::Harness 3.42
Test::More 1.302136
YAML 1.24
YAML::Syck 1.30
version 0.9924
--
Summary of my perl5 (revision 5 version 27 subversion 11) configuration:
Platform:
osname=MSWin32
osvers=5.1.2600
archname=MSWin32-x86-multi-thread-64int
uname='Win32 strawberry-perl 5.27.11.1-beta1 #1 Sat Apr 21 21:04:44 2018 i386'
config_args='undef'
hint=recommended
useposix=true
d_sigaction=undef
useithreads=define
usemultiplicity=define
use64bitint=define
use64bitall=undef
uselongdouble=undef
usemymalloc=n
default_inc_excludes_dot=define
bincompat5005=undef
Compiler:
cc='gcc'
ccflags =' -s -O2 -DWIN32 -D__USE_MINGW_ANSI_STDIO -DPERL_TEXTMODE_SCRIPTS -DPERL_IMPLICIT_CONTEXT -DPERL_IMPLICIT_SYS -DUSE_PERLIO -fwrapv -fno-strict-aliasing -mms-bitfields'
optimize='-s -O2'
cppflags='-DWIN32'
ccversion=''
gccversion='7.1.0'
gccosandvers=''
intsize=4
longsize=4
ptrsize=4
doublesize=8
byteorder=12345678
doublekind=3
d_longlong=define
longlongsize=8
d_longdbl=define
longdblsize=12
longdblkind=3
ivtype='long long'
ivsize=8
nvtype='double'
nvsize=8
Off_t='long long'
lseeksize=8
alignbytes=8
prototype=define
Linker and Libraries:
ld='g++'
ldflags ='-s -L"C:\STRAWB~1\perl\lib\CORE" -L"C:\STRAWB~1\c\lib"'
libpth=C:\STRAWB~1\c\lib C:\STRAWB~1\c\i686-w64-mingw32\lib C:\STRAWB~1\c\lib\gcc\i686-w64-mingw32\7.1.0
libs= -lmoldname -lkernel32 -luser32 -lgdi32 -lwinspool -lcomdlg32 -ladvapi32 -lshell32 -lole32 -loleaut32 -lnetapi32 -luuid -lws2_32 -lmpr -lwinmm -lversion -lodbc32 -lodbccp32 -lcomctl32
perllibs= -lmoldname -lkernel32 -luser32 -lgdi32 -lwinspool -lcomdlg32 -ladvapi32 -lshell32 -lole32 -loleaut32 -lnetapi32 -luuid -lws2_32 -lmpr -lwinmm -lversion -lodbc32 -lodbccp32 -lcomctl32
libc=
so=dll
useshrplib=true
libperl=libperl527.a
gnulibc_version=''
Dynamic Linking:
dlsrc=dl_win32.xs
dlext=xs.dll
d_dlsymun=undef
ccdlflags=' '
cccdlflags=' '
lddlflags='-mdll -s -L"C:\STRAWB~1\perl\lib\CORE" -L"C:\STRAWB~1\c\lib"'
Characteristics of this binary (from libperl):
Compile-time options:
HAS_TIMES
HAVE_INTERP_INTERN
MULTIPLICITY
PERLIO_LAYERS
PERL_COPY_ON_WRITE
PERL_DONT_CREATE_GVSV
PERL_IMPLICIT_CONTEXT
PERL_IMPLICIT_SYS
PERL_MALLOC_WRAP
PERL_OP_PARENT
PERL_PRESERVE_IVUV
USE_64_BIT_INT
USE_ITHREADS
USE_LARGE_FILES
USE_LOCALE
USE_LOCALE_COLLATE
USE_LOCALE_CTYPE
USE_LOCALE_NUMERIC
USE_LOCALE_TIME
USE_PERLIO
USE_PERL_ATOF
Built under MSWin32
Compiled at Apr 21 2018 21:15:44
%ENV:
PERL5LIB="C:\STRAWB~1\cpan\build\Web-ComposableRequest-0.20.1-0/blib/arch;C:\STRAWB~1\cpan\build\Web-ComposableRequest-0.20.1-0/blib/lib;C:\STRAWB~1\cpan\build\Class-Usul-0.84.1-0/blib/arch;C:\STRAWB~1\cpan\build\Class-Usul-0.84.1-0/blib/lib;C:\STRAWB~1\cpan\build\File-Gettext-0.33.1-0/blib/arch;C:\STRAWB~1\cpan\build\File-Gettext-0.33.1-0/blib/lib"
PERL5_CPANPLUS_IS_RUNNING="296"
PERL5_CPAN_IS_RUNNING="296"
PERL5_CPAN_IS_RUNNING_IN_RECURSION="1304,296"
PERL_CR_SMOKER_CURRENT="Web-Components-0.10.1"
PERL_CR_SMOKER_RUNONCE="1"
PERL_EXTUTILS_AUTOINSTALL="--defaultdeps"
PERL_HASH_SEED="0x11111111"
PERL_MM_USE_DEFAULT="1"
PERL_USE_UNSAFE_INC="1"
@INC:
C:\STRAWB~1\cpan\build\Web-ComposableRequest-0.20.1-0/blib/arch
C:\STRAWB~1\cpan\build\Web-ComposableRequest-0.20.1-0/blib/lib
C:\STRAWB~1\cpan\build\Class-Usul-0.84.1-0/blib/arch
C:\STRAWB~1\cpan\build\Class-Usul-0.84.1-0/blib/lib
C:\STRAWB~1\cpan\build\File-Gettext-0.33.1-0/blib/arch
C:\STRAWB~1\cpan\build\File-Gettext-0.33.1-0/blib/lib
C:/Strawberry2711/perl/site/lib/MSWin32-x86-multi-thread-64int
C:/Strawberry2711/perl/site/lib
C:/Strawberry2711/perl/vendor/lib
C:/Strawberry2711/perl/lib
.