Report for Catalyst-View-HTML-Zoom-0.003

Back
From: metabase:user:a0e144f2-373b-11e6-8edd-c6848980b093
Subject: PASS Catalyst-View-HTML-Zoom-0.003 v5.26.0 GNU/Linux
Date: 2017-04-22T03:42:13Z

This distribution has been tested as part of the CPAN Testers
project, supporting the Perl programming language.  See
http://wiki.cpantesters.org/ for more information or email
questions to cpan-testers-discuss@perl.org


--
Dear Oliver Charles,

This is a computer-generated report for Catalyst-View-HTML-Zoom-0.003
on perl 5.26.0, created by CPAN-Reporter-1.2018.

Thank you for uploading your work to CPAN.  Congratulations!
All tests were successful.

Sections of this report:

    * Tester comments
    * Program output
    * Prerequisites
    * Environment and other context

------------------------------
TESTER COMMENTS
------------------------------

Additional comments from tester:

this report is from an automated smoke testing program
and was not reviewed by a human for accuracy

------------------------------
PROGRAM OUTPUT
------------------------------

Output from '/usr/bin/make test':

PERL_DL_NONLAZY=1 "/home/cpan1/install/bin/perl" "-MExtUtils::Command::MM" "-MTest::Harness" "-e" "undef *Test::Harness::Switches; test_harness(0, 'blib/lib', 'blib/arch')" t/*.t
t/author-pod-coverage.t ... skipped: these tests are for testing by the author
t/author-pod.t ............ skipped: these tests are for testing by the author
t/00-load.t ............... ok
t/release-pod-coverage.t .. skipped: these tests are for release candidate testing
t/release-pod-syntax.t .... skipped: these tests are for release candidate testing
Class::MOP::load_class is deprecated at /home/cpan1/install/lib/perl5/site_perl/5.26.0/x86_64-linux-thread-multi/Class/MOP.pm line 69, <> line 1.
	Class::MOP::load_class("TestAppAltRoot::View::HTML::Root") called at /home/cpan1/.cpan/build/Catalyst-View-HTML-Zoom-0.003-0/blib/lib/Catalyst/View/HTML/Zoom.pm line 138
	Catalyst::View::HTML::Zoom::_zoomer_class_from_context(TestAppAltRoot::View::HTML=HASH(0x590aa78), TestAppAltRoot=HASH(0x5c05e78)) called at /home/cpan1/.cpan/build/Catalyst-View-HTML-Zoom-0.003-0/blib/lib/Catalyst/View/HTML/Zoom.pm line 90
	Catalyst::View::HTML::Zoom::_build_renderer_from_zoomer_class(TestAppAltRoot::View::HTML=HASH(0x590aa78), TestAppAltRoot=HASH(0x5c05e78)) called at /home/cpan1/.cpan/build/Catalyst-View-HTML-Zoom-0.003-0/blib/lib/Catalyst/View/HTML/Zoom.pm line 76
	Catalyst::View::HTML::Zoom::_build_renderer_from(TestAppAltRoot::View::HTML=HASH(0x590aa78), TestAppAltRoot=HASH(0x5c05e78), undef) called at /home/cpan1/.cpan/build/Catalyst-View-HTML-Zoom-0.003-0/blib/lib/Catalyst/View/HTML/Zoom.pm line 67
	Catalyst::View::HTML::Zoom::render(TestAppAltRoot::View::HTML=HASH(0x590aa78), TestAppAltRoot=HASH(0x5c05e78), "/main") called at /home/cpan1/.cpan/build/Catalyst-View-HTML-Zoom-0.003-0/blib/lib/Catalyst/View/HTML/Zoom.pm line 41
	Catalyst::View::HTML::Zoom::process(TestAppAltRoot::View::HTML=HASH(0x590aa78), TestAppAltRoot=HASH(0x5c05e78)) called at /home/cpan1/install/lib/perl5/site_perl/5.26.0/Catalyst/Action.pm line 358
	Catalyst::Action::execute(Catalyst::Action=HASH(0x5c12a28), TestAppAltRoot::View::HTML=HASH(0x590aa78), TestAppAltRoot=HASH(0x5c05e78)) called at /home/cpan1/install/lib/perl5/site_perl/5.26.0/Catalyst.pm line 2057
	eval {...} called at /home/cpan1/install/lib/perl5/site_perl/5.26.0/Catalyst.pm line 2057
	Catalyst::execute(TestAppAltRoot=HASH(0x5c05e78), "TestAppAltRoot::View::HTML", Catalyst::Action=HASH(0x5c12a28)) called at /home/cpan1/install/lib/perl5/site_perl/5.26.0/Catalyst/Action.pm line 353
	Catalyst::Action::dispatch(Catalyst::Action=HASH(0x5c12a28), TestAppAltRoot=HASH(0x5c05e78)) called at /home/cpan1/install/lib/perl5/site_perl/5.26.0/Catalyst/Dispatcher.pm line 262
	Catalyst::Dispatcher::_do_forward(Catalyst::Dispatcher=HASH(0x444ef20), "forward", TestAppAltRoot=HASH(0x5c05e78), TestAppAltRoot::View::HTML=HASH(0x590aa78)) called at /home/cpan1/install/lib/perl5/site_perl/5.26.0/Catalyst/Dispatcher.pm line 242
	Catalyst::Dispatcher::forward(Catalyst::Dispatcher=HASH(0x444ef20), TestAppAltRoot=HASH(0x5c05e78), TestAppAltRoot::View::HTML=HASH(0x590aa78)) called at /home/cpan1/install/lib/perl5/site_perl/5.26.0/Catalyst.pm line 482
	Catalyst::forward(TestAppAltRoot=HASH(0x5c05e78), TestAppAltRoot::View::HTML=HASH(0x590aa78)) called at /home/cpan1/install/lib/perl5/site_perl/5.26.0/Catalyst/Action/RenderView.pm line 57
	Catalyst::Action::RenderView::execute(Catalyst::Action::RenderView=HASH(0x5a819d8), TestAppAltRoot::Controller::Root=HASH(0x590aad8), TestAppAltRoot=HASH(0x5c05e78)) called at /home/cpan1/install/lib/perl5/site_perl/5.26.0/Catalyst.pm line 2057
	eval {...} called at /home/cpan1/install/lib/perl5/site_perl/5.26.0/Catalyst.pm line 2057
	Catalyst::execute(TestAppAltRoot=HASH(0x5c05e78), "TestAppAltRoot::Controller::Root", Catalyst::Action::RenderView=HASH(0x5a819d8)) called at /home/cpan1/install/lib/perl5/site_perl/5.26.0/Catalyst/Action.pm line 353
	Catalyst::Action::dispatch(Catalyst::Action::RenderView=HASH(0x5a819d8), TestAppAltRoot=HASH(0x5c05e78)) called at /home/cpan1/install/lib/perl5/site_perl/5.26.0/Catalyst/Controller.pm line 189
	Catalyst::Controller::_END(TestAppAltRoot::Controller::Root=HASH(0x590aad8), TestAppAltRoot=HASH(0x5c05e78)) called at /home/cpan1/install/lib/perl5/site_perl/5.26.0/Catalyst/Action.pm line 358
	Catalyst::Action::execute(Catalyst::Action=HASH(0x5a7d048), TestAppAltRoot::Controller::Root=HASH(0x590aad8), TestAppAltRoot=HASH(0x5c05e78)) called at /home/cpan1/install/lib/perl5/site_perl/5.26.0/Catalyst.pm line 2057
	eval {...} called at /home/cpan1/install/lib/perl5/site_perl/5.26.0/Catalyst.pm line 2057
	Catalyst::execute(TestAppAltRoot=HASH(0x5c05e78), "TestAppAltRoot::Controller::Root", Catalyst::Action=HASH(0x5a7d048)) called at /home/cpan1/install/lib/perl5/site_perl/5.26.0/Catalyst/Action.pm line 353
	Catalyst::Action::dispatch(Catalyst::Action=HASH(0x5a7d048), TestAppAltRoot=HASH(0x5c05e78)) called at /home/cpan1/install/lib/perl5/site_perl/5.26.0/Catalyst/Dispatcher.pm line 262
	Catalyst::Dispatcher::_do_forward(Catalyst::Dispatcher=HASH(0x444ef20), "forward", TestAppAltRoot=HASH(0x5c05e78), "_END") called at /home/cpan1/install/lib/perl5/site_perl/5.26.0/Catalyst/Dispatcher.pm line 242
	Catalyst::Dispatcher::forward(Catalyst::Dispatcher=HASH(0x444ef20), TestAppAltRoot=HASH(0x5c05e78), "_END") called at /home/cpan1/install/lib/perl5/site_perl/5.26.0/Catalyst.pm line 482
	Catalyst::forward(TestAppAltRoot=HASH(0x5c05e78), "_END") called at /home/cpan1/install/lib/perl5/site_perl/5.26.0/Catalyst/Controller.pm line 138
	Catalyst::Controller::_DISPATCH(TestAppAltRoot::Controller::Root=HASH(0x590aad8), TestAppAltRoot=HASH(0x5c05e78)) called at /home/cpan1/install/lib/perl5/site_perl/5.26.0/Catalyst/Action.pm line 358
	Catalyst::Action::execute(Catalyst::Action=HASH(0x5a51cb8), TestAppAltRoot::Controller::Root=HASH(0x590aad8), TestAppAltRoot=HASH(0x5c05e78)) called at /home/cpan1/install/lib/perl5/site_perl/5.26.0/Catalyst.pm line 2057
	eval {...} called at /home/cpan1/install/lib/perl5/site_perl/5.26.0/Catalyst.pm line 2057
	Catalyst::execute(TestAppAltRoot=HASH(0x5c05e78), "TestAppAltRoot::Controller::Root", Catalyst::Action=HASH(0x5a51cb8)) called at /home/cpan1/install/lib/perl5/site_perl/5.26.0/Catalyst/Action.pm line 353
	Catalyst::Action::dispatch(Catalyst::Action=HASH(0x5a51cb8), TestAppAltRoot=HASH(0x5c05e78)) called at /home/cpan1/install/lib/perl5/site_perl/5.26.0/Catalyst/Dispatcher.pm line 262
	Catalyst::Dispatcher::_do_forward(Catalyst::Dispatcher=HASH(0x444ef20), "forward", TestAppAltRoot=HASH(0x5c05e78), "//_DISPATCH") called at /home/cpan1/install/lib/perl5/site_perl/5.26.0/Catalyst/Dispatcher.pm line 242
	Catalyst::Dispatcher::forward(Catalyst::Dispatcher=HASH(0x444ef20), TestAppAltRoot=HASH(0x5c05e78), "//_DISPATCH") called at /home/cpan1/install/lib/perl5/site_perl/5.26.0/Catalyst.pm line 482
	Catalyst::forward(TestAppAltRoot=HASH(0x5c05e78), "//_DISPATCH") called at /home/cpan1/install/lib/perl5/site_perl/5.26.0/Catalyst/Dispatcher.pm line 108
	Catalyst::Dispatcher::dispatch(Catalyst::Dispatcher=HASH(0x444ef20), TestAppAltRoot=HASH(0x5c05e78)) called at /home/cpan1/install/lib/perl5/site_perl/5.26.0/Catalyst.pm line 2003
	Catalyst::dispatch(TestAppAltRoot=HASH(0x5c05e78)) called at /home/cpan1/install/lib/perl5/site_perl/5.26.0/x86_64-linux-thread-multi/Class/MOP/Method/Wrapped.pm line 56
	TestAppAltRoot::_wrapped_dispatch(TestAppAltRoot=HASH(0x5c05e78)) called at /home/cpan1/install/lib/perl5/site_perl/5.26.0/x86_64-linux-thread-multi/Class/MOP/Method/Wrapped.pm line 95
	TestAppAltRoot::dispatch(TestAppAltRoot=HASH(0x5c05e78)) called at /home/cpan1/install/lib/perl5/site_perl/5.26.0/Catalyst.pm line 2394
	Catalyst::try {...} () called at /home/cpan1/install/lib/perl5/site_perl/5.26.0/Try/Tiny.pm line 103
	eval {...} called at /home/cpan1/install/lib/perl5/site_perl/5.26.0/Try/Tiny.pm line 94
	Try::Tiny::try(CODE(0x5c058f0), Try::Tiny::Catch=REF(0x5c05758)) called at /home/cpan1/install/lib/perl5/site_perl/5.26.0/Catalyst.pm line 2403
	Catalyst::handle_request("TestAppAltRoot", "env", HASH(0x592da18), "response_cb", CODE(0x5c057b8)) called at /home/cpan1/install/lib/perl5/site_perl/5.26.0/Catalyst/Engine.pm line 800
	Catalyst::Engine::__ANON__(CODE(0x5c057b8)) called at /home/cpan1/install/lib/perl5/site_perl/5.26.0/Plack/Middleware/HTTPExceptions.pm line 32
	Plack::Middleware::HTTPExceptions::try {...} () called at /home/cpan1/install/lib/perl5/site_perl/5.26.0/Try/Tiny.pm line 103
	eval {...} called at /home/cpan1/install/lib/perl5/site_perl/5.26.0/Try/Tiny.pm line 94
	Try::Tiny::try(CODE(0x5c055f0), Try::Tiny::Catch=REF(0x5bf8e48)) called at /home/cpan1/install/lib/perl5/site_perl/5.26.0/Plack/Middleware/HTTPExceptions.pm line 41
	Plack::Middleware::HTTPExceptions::__ANON__(CODE(0x5b95a38)) called at /home/cpan1/install/lib/perl5/site_perl/5.26.0/Plack/Util.pm line 339
	Plack::Util::__ANON__(CODE(0x5b95060)) called at /home/cpan1/install/lib/perl5/site_perl/5.26.0/Plack/Util.pm line 339
	Plack::Util::__ANON__(CODE(0x5b80228)) called at /home/cpan1/install/lib/perl5/site_perl/5.26.0/Plack/Util.pm line 339
	Plack::Util::__ANON__(CODE(0x5226668)) called at /home/cpan1/install/lib/perl5/site_perl/5.26.0/HTTP/Message/PSGI.pm line 100
	HTTP::Message::PSGI::res_from_psgi(CODE(0x5bf9358)) called at /home/cpan1/install/lib/perl5/site_perl/5.26.0/HTTP/Message/PSGI.pm line 156
	HTTP::Response::from_psgi("HTTP::Response", CODE(0x5bf9358)) called at /home/cpan1/install/lib/perl5/site_perl/5.26.0/Plack/Test/MockHTTP.pm line 24
	Plack::Test::MockHTTP::try {...} () called at /home/cpan1/install/lib/perl5/site_perl/5.26.0/Try/Tiny.pm line 101
	eval {...} called at /home/cpan1/install/lib/perl5/site_perl/5.26.0/Try/Tiny.pm line 94
	Try::Tiny::try(CODE(0x57a71e8), Try::Tiny::Catch=REF(0x5a89678)) called at /home/cpan1/install/lib/perl5/site_perl/5.26.0/Plack/Test/MockHTTP.pm line 27
	Plack::Test::MockHTTP::request(Plack::Test::MockHTTP=HASH(0x5b955e8), HTTP::Request=HASH(0x5b951f8)) called at /home/cpan1/install/lib/perl5/site_perl/5.26.0/Plack/Test.pm line 38
	Plack::Test::__ANON__(HTTP::Request=HASH(0x5b951f8)) called at /home/cpan1/install/lib/perl5/site_perl/5.26.0/Catalyst/Test.pm line 281
	Catalyst::Test::__ANON__(CODE(0x5b954c8)) called at /home/cpan1/install/lib/perl5/site_perl/5.26.0/Plack/Test.pm line 38
	Plack::Test::test_psgi("mangle_response", CODE(0x44350c0), "app", CODE(0x293feb0), "app", CODE(0x5a81708), "client", CODE(0x5b95390)) called at /home/cpan1/install/lib/perl5/site_perl/5.26.0/Catalyst/Test.pm line 284
	Catalyst::Test::_request(HASH(0x5b94f88), "/") called at /home/cpan1/install/lib/perl5/site_perl/5.26.0/Catalyst/Test.pm line 327
	Catalyst::Test::_local_request("TestAppAltRoot", "/") called at /home/cpan1/install/lib/perl5/site_perl/5.26.0/Catalyst/Test.pm line 32
	Catalyst::Test::__ANON__("/") called at /home/cpan1/install/lib/perl5/site_perl/5.26.0/Catalyst/Test.pm line 72
	Catalyst::Test::__ANON__("/") called at t/live-test-alt-root.t line 14
Class::MOP::load_class is deprecated at /home/cpan1/install/lib/perl5/site_perl/5.26.0/x86_64-linux-thread-multi/Class/MOP.pm line 69, <> line 1.
	Class::MOP::load_class("TestApp::View::HTML::Root") called at /home/cpan1/.cpan/build/Catalyst-View-HTML-Zoom-0.003-0/blib/lib/Catalyst/View/HTML/Zoom.pm line 138
	Catalyst::View::HTML::Zoom::_zoomer_class_from_context(TestApp::View::HTML=HASH(0x3a74690), TestApp=HASH(0x3c1ce40)) called at /home/cpan1/.cpan/build/Catalyst-View-HTML-Zoom-0.003-0/blib/lib/Catalyst/View/HTML/Zoom.pm line 90
	Catalyst::View::HTML::Zoom::_build_renderer_from_zoomer_class(TestApp::View::HTML=HASH(0x3a74690), TestApp=HASH(0x3c1ce40)) called at /home/cpan1/.cpan/build/Catalyst-View-HTML-Zoom-0.003-0/blib/lib/Catalyst/View/HTML/Zoom.pm line 76
	Catalyst::View::HTML::Zoom::_build_renderer_from(TestApp::View::HTML=HASH(0x3a74690), TestApp=HASH(0x3c1ce40), undef) called at /home/cpan1/.cpan/build/Catalyst-View-HTML-Zoom-0.003-0/blib/lib/Catalyst/View/HTML/Zoom.pm line 67
	Catalyst::View::HTML::Zoom::render(TestApp::View::HTML=HASH(0x3a74690), TestApp=HASH(0x3c1ce40), "/main") called at /home/cpan1/.cpan/build/Catalyst-View-HTML-Zoom-0.003-0/blib/lib/Catalyst/View/HTML/Zoom.pm line 41
	Catalyst::View::HTML::Zoom::process(TestApp::View::HTML=HASH(0x3a74690), TestApp=HASH(0x3c1ce40)) called at /home/cpan1/install/lib/perl5/site_perl/5.26.0/Catalyst/Action.pm line 358
	Catalyst::Action::execute(Catalyst::Action=HASH(0x3c92ef8), TestApp::View::HTML=HASH(0x3a74690), TestApp=HASH(0x3c1ce40)) called at /home/cpan1/install/lib/perl5/site_perl/5.26.0/Catalyst.pm line 2057
	eval {...} called at /home/cpan1/install/lib/perl5/site_perl/5.26.0/Catalyst.pm line 2057
	Catalyst::execute(TestApp=HASH(0x3c1ce40), "TestApp::View::HTML", Catalyst::Action=HASH(0x3c92ef8)) called at /home/cpan1/install/lib/perl5/site_perl/5.26.0/Catalyst/Action.pm line 353
	Catalyst::Action::dispatch(Catalyst::Action=HASH(0x3c92ef8), TestApp=HASH(0x3c1ce40)) called at /home/cpan1/install/lib/perl5/site_perl/5.26.0/Catalyst/Dispatcher.pm line 262
	Catalyst::Dispatcher::_do_forward(Catalyst::Dispatcher=HASH(0x248a450), "forward", TestApp=HASH(0x3c1ce40), TestApp::View::HTML=HASH(0x3a74690)) called at /home/cpan1/install/lib/perl5/site_perl/5.26.0/Catalyst/Dispatcher.pm line 242
	Catalyst::Dispatcher::forward(Catalyst::Dispatcher=HASH(0x248a450), TestApp=HASH(0x3c1ce40), TestApp::View::HTML=HASH(0x3a74690)) called at /home/cpan1/install/lib/perl5/site_perl/5.26.0/Catalyst.pm line 482
	Catalyst::forward(TestApp=HASH(0x3c1ce40), TestApp::View::HTML=HASH(0x3a74690)) called at /home/cpan1/install/lib/perl5/site_perl/5.26.0/Catalyst/Action/RenderView.pm line 57
	Catalyst::Action::RenderView::execute(Catalyst::Action::RenderView=HASH(0x3bd2508), TestApp::Controller::Root=HASH(0x3a99268), TestApp=HASH(0x3c1ce40)) called at /home/cpan1/install/lib/perl5/site_perl/5.26.0/Catalyst.pm line 2057
	eval {...} called at /home/cpan1/install/lib/perl5/site_perl/5.26.0/Catalyst.pm line 2057
	Catalyst::execute(TestApp=HASH(0x3c1ce40), "TestApp::Controller::Root", Catalyst::Action::RenderView=HASH(0x3bd2508)) called at /home/cpan1/install/lib/perl5/site_perl/5.26.0/Catalyst/Action.pm line 353
	Catalyst::Action::dispatch(Catalyst::Action::RenderView=HASH(0x3bd2508), TestApp=HASH(0x3c1ce40)) called at /home/cpan1/install/lib/perl5/site_perl/5.26.0/Catalyst/Controller.pm line 189
	Catalyst::Controller::_END(TestApp::Controller::Root=HASH(0x3a99268), TestApp=HASH(0x3c1ce40)) called at /home/cpan1/install/lib/perl5/site_perl/5.26.0/Catalyst/Action.pm line 358
	Catalyst::Action::execute(Catalyst::Action=HASH(0x3af3860), TestApp::Controller::Root=HASH(0x3a99268), TestApp=HASH(0x3c1ce40)) called at /home/cpan1/install/lib/perl5/site_perl/5.26.0/Catalyst.pm line 2057
	eval {...} called at /home/cpan1/install/lib/perl5/site_perl/5.26.0/Catalyst.pm line 2057
	Catalyst::execute(TestApp=HASH(0x3c1ce40), "TestApp::Controller::Root", Catalyst::Action=HASH(0x3af3860)) called at /home/cpan1/install/lib/perl5/site_perl/5.26.0/Catalyst/Action.pm line 353
	Catalyst::Action::dispatch(Catalyst::Action=HASH(0x3af3860), TestApp=HASH(0x3c1ce40)) called at /home/cpan1/install/lib/perl5/site_perl/5.26.0/Catalyst/Dispatcher.pm line 262
	Catalyst::Dispatcher::_do_forward(Catalyst::Dispatcher=HASH(0x248a450), "forward", TestApp=HASH(0x3c1ce40), "_END") called at /home/cpan1/install/lib/perl5/site_perl/5.26.0/Catalyst/Dispatcher.pm line 242
	Catalyst::Dispatcher::forward(Catalyst::Dispatcher=HASH(0x248a450), TestApp=HASH(0x3c1ce40), "_END") called at /home/cpan1/install/lib/perl5/site_perl/5.26.0/Catalyst.pm line 482
	Catalyst::forward(TestApp=HASH(0x3c1ce40), "_END") called at /home/cpan1/install/lib/perl5/site_perl/5.26.0/Catalyst/Controller.pm line 138
	Catalyst::Controller::_DISPATCH(TestApp::Controller::Root=HASH(0x3a99268), TestApp=HASH(0x3c1ce40)) called at /home/cpan1/install/lib/perl5/site_perl/5.26.0/Catalyst/Action.pm line 358
	Catalyst::Action::execute(Catalyst::Action=HASH(0x3af3788), TestApp::Controller::Root=HASH(0x3a99268), TestApp=HASH(0x3c1ce40)) called at /home/cpan1/install/lib/perl5/site_perl/5.26.0/Catalyst.pm line 2057
	eval {...} called at /home/cpan1/install/lib/perl5/site_perl/5.26.0/Catalyst.pm line 2057
	Catalyst::execute(TestApp=HASH(0x3c1ce40), "TestApp::Controller::Root", Catalyst::Action=HASH(0x3af3788)) called at /home/cpan1/install/lib/perl5/site_perl/5.26.0/Catalyst/Action.pm line 353
	Catalyst::Action::dispatch(Catalyst::Action=HASH(0x3af3788), TestApp=HASH(0x3c1ce40)) called at /home/cpan1/install/lib/perl5/site_perl/5.26.0/Catalyst/Dispatcher.pm line 262
	Catalyst::Dispatcher::_do_forward(Catalyst::Dispatcher=HASH(0x248a450), "forward", TestApp=HASH(0x3c1ce40), "//_DISPATCH") called at /home/cpan1/install/lib/perl5/site_perl/5.26.0/Catalyst/Dispatcher.pm line 242
	Catalyst::Dispatcher::forward(Catalyst::Dispatcher=HASH(0x248a450), TestApp=HASH(0x3c1ce40), "//_DISPATCH") called at /home/cpan1/install/lib/perl5/site_perl/5.26.0/Catalyst.pm line 482
	Catalyst::forward(TestApp=HASH(0x3c1ce40), "//_DISPATCH") called at /home/cpan1/install/lib/perl5/site_perl/5.26.0/Catalyst/Dispatcher.pm line 108
	Catalyst::Dispatcher::dispatch(Catalyst::Dispatcher=HASH(0x248a450), TestApp=HASH(0x3c1ce40)) called at /home/cpan1/install/lib/perl5/site_perl/5.26.0/Catalyst.pm line 2003
	Catalyst::dispatch(TestApp=HASH(0x3c1ce40)) called at /home/cpan1/install/lib/perl5/site_perl/5.26.0/x86_64-linux-thread-multi/Class/MOP/Method/Wrapped.pm line 56
	TestApp::_wrapped_dispatch(TestApp=HASH(0x3c1ce40)) called at /home/cpan1/install/lib/perl5/site_perl/5.26.0/x86_64-linux-thread-multi/Class/MOP/Method/Wrapped.pm line 95
	TestApp::dispatch(TestApp=HASH(0x3c1ce40)) called at /home/cpan1/install/lib/perl5/site_perl/5.26.0/Catalyst.pm line 2394
	Catalyst::try {...} () called at /home/cpan1/install/lib/perl5/site_perl/5.26.0/Try/Tiny.pm line 103
	eval {...} called at /home/cpan1/install/lib/perl5/site_perl/5.26.0/Try/Tiny.pm line 94
	Try::Tiny::try(CODE(0x3c1c8b8), Try::Tiny::Catch=REF(0x3c1c720)) called at /home/cpan1/install/lib/perl5/site_perl/5.26.0/Catalyst.pm line 2403
	Catalyst::handle_request("TestApp", "env", HASH(0x366f2f0), "response_cb", CODE(0x3c1c780)) called at /home/cpan1/install/lib/perl5/site_perl/5.26.0/Catalyst/Engine.pm line 800
	Catalyst::Engine::__ANON__(CODE(0x3c1c780)) called at /home/cpan1/install/lib/perl5/site_perl/5.26.0/Plack/Middleware/HTTPExceptions.pm line 32
	Plack::Middleware::HTTPExceptions::try {...} () called at /home/cpan1/install/lib/perl5/site_perl/5.26.0/Try/Tiny.pm line 103
	eval {...} called at /home/cpan1/install/lib/perl5/site_perl/5.26.0/Try/Tiny.pm line 94
	Try::Tiny::try(CODE(0x3c1c5b8), Try::Tiny::Catch=REF(0x3a04540)) called at /home/cpan1/install/lib/perl5/site_perl/5.26.0/Plack/Middleware/HTTPExceptions.pm line 41
	Plack::Middleware::HTTPExceptions::__ANON__(CODE(0x3a04d80)) called at /home/cpan1/install/lib/perl5/site_perl/5.26.0/Plack/Util.pm line 339
	Plack::Util::__ANON__(CODE(0x3bc5138)) called at /home/cpan1/install/lib/perl5/site_perl/5.26.0/Plack/Util.pm line 339
	Plack::Util::__ANON__(CODE(0x3af8628)) called at /home/cpan1/install/lib/perl5/site_perl/5.26.0/Plack/Util.pm line 339
	Plack::Util::__ANON__(CODE(0x3a75338)) called at /home/cpan1/install/lib/perl5/site_perl/5.26.0/HTTP/Message/PSGI.pm line 100
	HTTP::Message::PSGI::res_from_psgi(CODE(0x3c757f0)) called at /home/cpan1/install/lib/perl5/site_perl/5.26.0/HTTP/Message/PSGI.pm line 156
	HTTP::Response::from_psgi("HTTP::Response", CODE(0x3c757f0)) called at /home/cpan1/install/lib/perl5/site_perl/5.26.0/Plack/Test/MockHTTP.pm line 24
	Plack::Test::MockHTTP::try {...} () called at /home/cpan1/install/lib/perl5/site_perl/5.26.0/Try/Tiny.pm line 101
	eval {...} called at /home/cpan1/install/lib/perl5/site_perl/5.26.0/Try/Tiny.pm line 94
	Try::Tiny::try(CODE(0x3940de8), Try::Tiny::Catch=REF(0x976ea0)) called at /home/cpan1/install/lib/perl5/site_perl/5.26.0/Plack/Test/MockHTTP.pm line 27
	Plack::Test::MockHTTP::request(Plack::Test::MockHTTP=HASH(0x3c115b8), HTTP::Request=HASH(0x3c111c8)) called at /home/cpan1/install/lib/perl5/site_perl/5.26.0/Plack/Test.pm line 38
	Plack::Test::__ANON__(HTTP::Request=HASH(0x3c111c8)) called at /home/cpan1/install/lib/perl5/site_perl/5.26.0/Catalyst/Test.pm line 281
	Catalyst::Test::__ANON__(CODE(0x3c11498)) called at /home/cpan1/install/lib/perl5/site_perl/5.26.0/Plack/Test.pm line 38
	Plack::Test::test_psgi("mangle_response", CODE(0x2469ae0), "app", CODE(0x3c00268), "app", CODE(0x3af8118), "client", CODE(0x3c11360)) called at /home/cpan1/install/lib/perl5/site_perl/5.26.0/Catalyst/Test.pm line 284
	Catalyst::Test::_request(HASH(0x9765b8), "/") called at /home/cpan1/install/lib/perl5/site_perl/5.26.0/Catalyst/Test.pm line 327
	Catalyst::Test::_local_request("TestApp", "/") called at /home/cpan1/install/lib/perl5/site_perl/5.26.0/Catalyst/Test.pm line 32
	Catalyst::Test::__ANON__("/") called at /home/cpan1/install/lib/perl5/site_perl/5.26.0/Catalyst/Test.pm line 72
	Catalyst::Test::__ANON__("/") called at t/live-test.t line 14
t/live-test-alt-root.t .... ok
t/live-test.t ............. ok
All tests successful.
Files=7, Tests=17,  1 wallclock secs ( 0.02 usr  0.02 sys +  3.24 cusr  0.14 csys =  3.42 CPU)
Result: PASS

------------------------------
PREREQUISITES
------------------------------

Prerequisite modules loaded:

requires:

    Module                       Need  Have    
    ---------------------------- ----- --------
    Class::MOP                   1.12  2.2004  
    HTML::Zoom                   0.009 0.009009
    Moose                        1.21  2.2004  
    namespace::autoclean         0.09  0.28    
    Path::Class                  0.23  0.37    

build_requires:

    Module                       Need  Have    
    ---------------------------- ----- --------
    Catalyst::Action::RenderView 0.14  0.16    
    Catalyst::Runtime            5.8   5.90114 
    Test::More                   0.96  1.302078

configure_requires:

    Module                       Need  Have    
    ---------------------------- ----- --------
    ExtUtils::MakeMaker          6.31  7.24    


------------------------------
ENVIRONMENT AND OTHER CONTEXT
------------------------------

Environment variables:

    AUTOMATED_TESTING = 1
    HARNESS_OPTIONS = j3
    LANG = en_US.UTF-8
    PATH = /usr/local/bin:/usr/bin:/bin:/usr/local/games:/usr/games
    PERL5LIB = 
    PERL5OPT = 
    PERL5_CPANPLUS_IS_RUNNING = 26967
    PERL5_CPAN_IS_RUNNING = 26967
    PERL5_CPAN_IS_RUNNING_IN_RECURSION = 28751,26967
    PERL_CR_SMOKER_CURRENT = Catalyst-View-HTML-Zoom-0.003
    PERL_CR_SMOKER_RUNONCE = 1
    PERL_EXTUTILS_AUTOINSTALL = --defaultdeps
    PERL_MM_USE_DEFAULT = 1
    SHELL = /bin/bash
    TERM = putty-256color

Perl special variables (and OS-specific diagnostics, for MSWin32):

    $^X = /home/cpan1/install/bin/perl
    $UID/$EUID = 1002 / 1002
    $GID = 1002 1002
    $EGID = 1002 1002

Perl module toolchain versions installed:

    Module              Have    
    ------------------- --------
    CPAN                2.16    
    CPAN::Meta          2.150010
    Cwd                 3.62    
    ExtUtils::CBuilder  0.280224
    ExtUtils::Command   7.24    
    ExtUtils::Install   2.04    
    ExtUtils::MakeMaker 7.24    
    ExtUtils::Manifest  1.70    
    ExtUtils::ParseXS   3.30    
    File::Spec          3.62    
    JSON                2.91_04 
    JSON::PP            2.27400 
    Module::Build       0.4222  
    Module::Signature   0.81    
    Parse::CPAN::Meta   2.150010
    Test::Harness       3.39    
    Test::More          1.302078
    YAML                1.23    
    YAML::Syck          1.29    
    version             0.9917  


--

Summary of my perl5 (revision 5 version 26 subversion 0) configuration:
  Commit id: f57d8456e7b8d6b2dad0bb49899cfdc68007b794
  Platform:
    osname=linux
    osvers=3.16.0-4-amd64
    archname=x86_64-linux-thread-multi
    uname='linux digitalis 3.16.0-4-amd64 #1 smp debian 3.16.36-1+deb8u2 (2016-10-19) x86_64 gnulinux '
    config_args='-Dusedevel -DDEBUGGING -Dusethreads -Dprefix=/home/cpan1/install -Uversiononly -des'
    hint=recommended
    useposix=true
    d_sigaction=define
    useithreads=define
    usemultiplicity=define
    use64bitint=define
    use64bitall=define
    uselongdouble=undef
    usemymalloc=n
    default_inc_excludes_dot=define
    bincompat5005=undef
  Compiler:
    cc='cc'
    ccflags ='-D_REENTRANT -D_GNU_SOURCE -fwrapv -DDEBUGGING -fno-strict-aliasing -pipe -fstack-protector-strong -I/usr/local/include -D_LARGEFILE_SOURCE -D_FILE_OFFSET_BITS=64 -D_FORTIFY_SOURCE=2'
    optimize='-O2 -g'
    cppflags='-D_REENTRANT -D_GNU_SOURCE -fwrapv -DDEBUGGING -fno-strict-aliasing -pipe -fstack-protector-strong -I/usr/local/include'
    ccversion=''
    gccversion='4.9.2'
    gccosandvers=''
    intsize=4
    longsize=8
    ptrsize=8
    doublesize=8
    byteorder=12345678
    doublekind=3
    d_longlong=define
    longlongsize=8
    d_longdbl=define
    longdblsize=16
    longdblkind=3
    ivtype='long'
    ivsize=8
    nvtype='double'
    nvsize=8
    Off_t='off_t'
    lseeksize=8
    alignbytes=8
    prototype=define
  Linker and Libraries:
    ld='cc'
    ldflags =' -fstack-protector-strong -L/usr/local/lib'
    libpth=/usr/local/lib /usr/lib/gcc/x86_64-linux-gnu/4.9/include-fixed /usr/include/x86_64-linux-gnu /usr/lib /lib/x86_64-linux-gnu /lib/../lib /usr/lib/x86_64-linux-gnu /usr/lib/../lib /lib /lib64 /usr/lib64
    libs=-lpthread -lnsl -ldl -lm -lcrypt -lutil -lc
    perllibs=-lpthread -lnsl -ldl -lm -lcrypt -lutil -lc
    libc=libc-2.19.so
    so=so
    useshrplib=false
    libperl=libperl.a
    gnulibc_version='2.19'
  Dynamic Linking:
    dlsrc=dl_dlopen.xs
    dlext=so
    d_dlsymun=undef
    ccdlflags='-Wl,-E'
    cccdlflags='-fPIC'
    lddlflags='-shared -O2 -g -L/usr/local/lib -fstack-protector-strong'


Characteristics of this binary (from libperl): 
  Compile-time options:
    DEBUGGING
    HAS_TIMES
    MULTIPLICITY
    PERLIO_LAYERS
    PERL_COPY_ON_WRITE
    PERL_DONT_CREATE_GVSV
    PERL_IMPLICIT_CONTEXT
    PERL_MALLOC_WRAP
    PERL_OP_PARENT
    PERL_PRESERVE_IVUV
    PERL_TRACK_MEMPOOL
    PERL_USE_DEVEL
    USE_64_BIT_ALL
    USE_64_BIT_INT
    USE_ITHREADS
    USE_LARGE_FILES
    USE_LOCALE
    USE_LOCALE_COLLATE
    USE_LOCALE_CTYPE
    USE_LOCALE_NUMERIC
    USE_LOCALE_TIME
    USE_PERLIO
    USE_PERL_ATOF
    USE_REENTRANT_API
  Built under linux
  Compiled at Apr 11 2017 21:42:25
  %ENV:
    PERL5LIB=""
    PERL5OPT=""
    PERL5_CPANPLUS_IS_RUNNING="26967"
    PERL5_CPAN_IS_RUNNING="26967"
    PERL5_CPAN_IS_RUNNING_IN_RECURSION="28751,26967"
    PERL_CR_SMOKER_CURRENT="Catalyst-View-HTML-Zoom-0.003"
    PERL_CR_SMOKER_RUNONCE="1"
    PERL_EXTUTILS_AUTOINSTALL="--defaultdeps"
    PERL_MM_USE_DEFAULT="1"
  @INC:
    /home/cpan1/install/lib/perl5/site_perl/5.26.0/x86_64-linux-thread-multi
    /home/cpan1/install/lib/perl5/site_perl/5.26.0
    /home/cpan1/install/lib/perl5/5.26.0/x86_64-linux-thread-multi
    /home/cpan1/install/lib/perl5/5.26.0